{"text_format":"1","workbook":"xlsx","n_sheets":56,"sheets":["Панель управления","Титул","Содержание","Ошибки","#","1.СБИ","2.СБП","3.БКС","4.СБО","5.ТП_ОВИЗ","6.БОЛ","#_","01. СБИ_B","02. СБП_В","03. БКС_В","##","7.СМР","8.ОСС","9.ПИР","10.БКП","11.ПЗС","12.ТП_БЭФ","13.ТП_СЭФ","14.ОВИЗ","15.ГРР","16.НИОКР","17.НМА","18.ПКЗ","19.БФИ","##_","04.РИП","05.РКС","06.БПД","###","1.Виды КС","2.Оборудование КС","3.Виды оборудов.","4.Проекты по переделам ","5.Происхождение","6.Приоритеты","7.Лизинг","8.Виды ПЗС","9.Виды ДФВ","10.Виды ПНА","11.Площадки КС","12.Виды НМА","13. Авансы","14. Виды ТП","15.Статус оборуд.","16. Причины замены","17. Периоды","Обоснование (да_нет)","Лист2","18.Признак иннов.","Лист1","Комментарии"],"not_rendered":{"charts":0,"images":0,"macros":1,"external_links":4,"defined_names":117,"comments":0,"pivot_tables":0},"unopened":[],"bounds":{"document_bytes":16777216,"sheet_cells":100000,"rows_first":2000,"rows_last":500,"rows_between":2000,"halvings":0,"cell_chars":16384,"cell_head_chars":4096},"cells_cut":0,"cells_raw":0,"read":"whole","date_system":"1900"}

{"sheet":"Панель управления","index":0,"n_rows":49,"n_cols":5,"rows_kept":49,"cut":false,"hidden":false,"merged":[[13,2,13,3],[18,2,23,3],[24,2,24,3],[36,2,36,3],[44,2,44,3],[30,2,30,3],[33,2,33,3],[39,2,39,3]]}
[]
[]
[]
[null,null,null,null,"         Приложение № 2 "]
[null,null,"                       к \"Положению об инвестиционном  бюджете АК \"АЛРОСА\" (ПАО)"]
[]
[]
[]
[]
[]
[]
[]
[]
[null,null,"ПАНЕЛЬ УПРАВЛЕНИЯ"]
[]
[null,null,"              Для установления Общества/ СП, периода, режима ввода"]
[null,null,"             и проверки корретности вводимых и формируемых данных"]
[null,null," по всем листам Альбома форм"]
[null,null,"Альбом форм                               к \"Положению об инвестиционном бюджете  "]
[]
[]
[]
[]
[]
[null,null,"АО \"Вилюйская ГЭС-3\""]
[]
[]
[]
[]
[]
[null,"Год:",2017]
[]
[]
[null,"Период:","12 месяцев"]
[]
[]
[null,"Период:",{"$f":"C34& \" \" & C31","v":"12 месяцев 2017"}]
[]
[]
[null,"Режим ввода:",2]
[]
[]
[]
[]
[null,"Проверка:",{"$f":"SUM(Ошибки!H3:H32)","v":0.19300000178014898}]
[]
[]
[null,null,"                                           г. Москва "]
[null,null,"                                              2015 г."]

{"sheet":"Титул","index":1,"n_rows":48,"n_cols":5,"rows_kept":48,"cut":false,"hidden":false,"merged":[[14,2,19,3],[20,2,20,3],[22,2,22,3]]}
[]
[]
[]
[null,null,null,null,"         Приложение № 2 "]
[null,null,"              к \"Положению об инвестиционном  бюджете АК \"АЛРОСА\" (ПАО)\""]
[]
[]
[]
[]
[]
[]
[]
[]
[]
[null,null,"Альбом форм                               к \"Положению об инвестиционном бюджете  "]
[]
[]
[]
[]
[]
[]
[]
[null,null,{"$f":"org","v":"АО \"Вилюйская ГЭС-3\""}]
[]
[]
[]
[null,"Год:",{"$f":"year","v":2017}]
[]
[null,"Период:",{"$f":"period","v":"12 месяцев"}]
[]
[]
[]
[]
[]
[]
[]
[]
[]
[]
[]
[]
[]
[]
[]
[]
[]
[null,null,"                           г. Москва "]
[null,null,"                                2015 г."]

{"sheet":"Содержание","index":2,"n_rows":56,"n_cols":3,"rows_kept":56,"cut":false,"hidden":false,"merged":[]}
[]
[null,null,"                   Содержание"]
[]
["I.",null,"Формы инвестиционного бюджета"]
[]
["№","Код\n формы","Наимененование"]
[null,null,"Сводные бюджеты"]
[1,"СБИ","Сводный бюджет инвестиций"]
[2,"СБП","Сводный бюджет инвестиций по проектам"]
[3,"БКС","Бюджет капитального строительства"]
[4,"СБО","Сводный бюджет инвестиций в оборудование"]
[5,"ТП_ОВИЗ","Сводный бюджет инвестиций в ТП и ОВИЗ"]
[6,"БОЛ","Бюджет инвестиций в оборудование, приобретаемое в лизинг"]
[null,null,"Вспомогательные  бюджеты"]
["01.","СБИ/В","Сводный бюджет инвестиций (детализация по кварталам прошлых периодов)"]
["02.","СБП/В","Бюджет инвестиций по проекту"]
["03.","БКС/В","Бюджет объекта КС"]
[null,null,"Функциональные бюджеты"]
[7,"СМР","Бюджет строительно-монтажных работ"]
[8,"ОСС","Бюджет инвестиций в оборудование  в смете на строительство"]
[9,"ПИР","Бюджет проектно-изыскательских работ"]
[10,"БКП","Бюджет  капитализируемых процентов"]
[11,"ПЗС","Бюджет прочих затрат на капитальное строительство"]
[12,"ТП_БЭФ","Бюджет инвестиций в ТП по проекту и в оборудование без прямого экономического эффекта"]
[13,"ТП_СЭФ","Бюджет инвестиций в ТП с прямым экономическим эффектом"]
[14,"ОВИЗ","Бюджет инвестиций в оборудование взамен изношенного"]
[15,"ГРР","Бюджет инвестиций в геолого-разведочные работы"]
[16,"НИОКР","Бюджет научно-исследовательских и опытно-конструкторских разработок"]
[17,"НМА","Бюджет нематериальных активов"]
[18,"ПКЗ","Бюджет прочих капитальных затрат"]
[19,"БФИ","Бюджет финансовых инвестиций (вложений)"]
[null,null,"Вспомогательные  бюджеты"]
["04.","РИП","Реестр инвестиционных проектов"]
["05.","РКС","Реестр объектов капитального строительства"]
["06.","БПД","Бюджет прочих движений по 08 счёту* (кроме инвестиций)"]
[]
[]
["II. ",null,"Справочники"]
[1,null,"Группы основных инвестиций в КС"]
[2,null,"Группы оборудования для КС"]
[3,null,"Виды оборудования"]
[4,null,"Виды проектов по переделам"]
[5,null,"Происхождение оборудования"]
[6,null,"Приоритетность инвестиционных расходов "]
[7,null,"Формы приобретения оборудования"]
[8,null,"Виды прочих инвестиций КС"]
[9,null,"Виды ДФВ"]
[10,null,"Виды прочих нефинансовых активов"]
[11,null,"Строительные площадки"]
[12,null,"Виды нематериальных активов"]
[13,null,"Авансы"]
[14,null,"Виды ТП и ОВИЗ"]
[15,null,"Текущий статус заменяемого оборудования"]
[16,null,"Причины замены оборудования"]
[17,null,"Периоды"]
[18,null,"Признак инновационности"]

{"sheet":"Ошибки","index":3,"n_rows":32,"n_cols":8,"rows_kept":32,"cut":false,"hidden":false,"merged":[]}
[]
[null,"Лист","Диапазон",null,null,null,null,"Проверка"]
[null,{"$f":"MID(G3,D3+1,E3-D3-1)","v":{"$error":"#NAME?"}},{"$f":"MID(G3,E3+1,F3-E3-1)","v":{"$error":"#NAME?"}},{"$f":"SEARCH(\"(\",G3,1)","v":{"$error":"#NAME?"}},{"$f":"SEARCH(\"!\",G3,1)","v":{"$error":"#NAME?"}},{"$f":"LEN(G3)","v":{"$error":"#NAME?"}},{"$f":"_xlfn.FORMULATEXT(H3)","v":{"$error":"#NAME?"}},{"$f":"SUM('1.СБИ'!E92:AH92)","v":0.19300000062787603}]
[null,{"$f":"MID(G4,D4+1,E4-D4-1)","v":{"$error":"#NAME?"}},{"$f":"MID(G4,E4+1,F4-E4-1)","v":{"$error":"#NAME?"}},{"$f":"SEARCH(\"(\",G4,1)","v":{"$error":"#NAME?"}},{"$f":"SEARCH(\"!\",G4,1)","v":{"$error":"#NAME?"}},{"$f":"LEN(G4)","v":{"$error":"#NAME?"}},{"$f":"_xlfn.FORMULATEXT(H4)","v":{"$error":"#NAME?"}},{"$f":"SUM('1.СБИ'!AI17:AI89)","v":7.8216544352471828E-10}]
[null,{"$f":"MID(G5,D5+1,E5-D5-1)","v":{"$error":"#NAME?"}},{"$f":"MID(G5,E5+1,F5-E5-1)","v":{"$error":"#NAME?"}},{"$f":"SEARCH(\"(\",G5,1)","v":{"$error":"#NAME?"}},{"$f":"SEARCH(\"!\",G5,1)","v":{"$error":"#NAME?"}},{"$f":"LEN(G5)","v":{"$error":"#NAME?"}},{"$error":"#NAME?"},{"$f":"SUM('2.СБП'!AG17:AG45)","v":1.7462298274040222E-10}]
[null,{"$error":"#NAME?"},{"$error":"#NAME?"},{"$error":"#NAME?"},{"$error":"#NAME?"},{"$error":"#NAME?"},{"$error":"#NAME?"},{"$f":"SUM('2.СБП'!G46:AF46)","v":0}]
[null,{"$error":"#NAME?"},{"$error":"#NAME?"},{"$error":"#NAME?"},{"$error":"#NAME?"},{"$error":"#NAME?"},{"$error":"#NAME?"},{"$f":"SUM('02. СБП_В'!AE17:AE35)","v":0}]
[null,{"$error":"#NAME?"},{"$error":"#NAME?"},{"$error":"#NAME?"},{"$error":"#NAME?"},{"$error":"#NAME?"},{"$error":"#NAME?"},{"$f":"SUM('02. СБП_В'!F37:O37)","v":0}]
[null,{"$error":"#NAME?"},{"$error":"#NAME?"},{"$error":"#NAME?"},{"$error":"#NAME?"},{"$error":"#NAME?"},{"$error":"#NAME?"},{"$f":"SUM('3.БКС'!K69:T69)","v":0}]
[null,{"$error":"#NAME?"},{"$error":"#NAME?"},{"$error":"#NAME?"},{"$error":"#NAME?"},{"$error":"#NAME?"},{"$error":"#NAME?"},{"$f":"SUM('3.БКС'!AR17:AR67)","v":2.9103830456733704E-11}]
[null,{"$error":"#NAME?"},{"$error":"#NAME?"},{"$error":"#NAME?"},{"$error":"#NAME?"},{"$error":"#NAME?"},{"$error":"#NAME?"},{"$f":"SUM('03. БКС_В'!E37:AD37)","v":0}]
[null,{"$error":"#NAME?"},{"$error":"#NAME?"},{"$error":"#NAME?"},{"$error":"#NAME?"},{"$error":"#NAME?"},{"$error":"#NAME?"},{"$f":"SUM('03. БКС_В'!AF31:AF36)","v":0}]
[null,{"$error":"#NAME?"},{"$error":"#NAME?"},{"$error":"#NAME?"},{"$error":"#NAME?"},{"$error":"#NAME?"},{"$error":"#NAME?"},{"$f":"SUM('4.СБО'!AE17:AE44)","v":7.2759576141834259E-11}]
[null,{"$error":"#NAME?"},{"$error":"#NAME?"},{"$error":"#NAME?"},{"$error":"#NAME?"},{"$error":"#NAME?"},{"$error":"#NAME?"},{"$f":"SUM('4.СБО'!E47:N47)","v":2.2396307031158358E-11}]
[null,{"$error":"#NAME?"},{"$error":"#NAME?"},{"$error":"#NAME?"},{"$error":"#NAME?"},{"$error":"#NAME?"},{"$error":"#NAME?"},{"$f":"SUM('5.ТП_ОВИЗ'!E60:N60)","v":1.4836132322670892E-11}]
[null,{"$error":"#NAME?"},{"$error":"#NAME?"},{"$error":"#NAME?"},{"$error":"#NAME?"},{"$error":"#NAME?"},{"$error":"#NAME?"},{"$f":"SUM('5.ТП_ОВИЗ'!AE17:AE59)","v":2.5465851649641991E-11}]
[null,{"$error":"#NAME?"},{"$error":"#NAME?"},{"$error":"#NAME?"},{"$error":"#NAME?"},{"$error":"#NAME?"},{"$error":"#NAME?"},{"$f":"SUM('6.БОЛ'!E27:AD27)","v":0}]
[null,{"$error":"#NAME?"},{"$error":"#NAME?"},{"$error":"#NAME?"},{"$error":"#NAME?"},{"$error":"#NAME?"},{"$error":"#NAME?"},{"$f":"SUM('6.БОЛ'!AE17:AE25)","v":0}]
[null,{"$error":"#NAME?"},{"$error":"#NAME?"},{"$error":"#NAME?"},{"$error":"#NAME?"},{"$error":"#NAME?"},{"$error":"#NAME?"},{"$f":"SUM('7.СМР'!AJ:AJ)","v":2.9103830456733704E-11}]
[null,{"$error":"#NAME?"},{"$error":"#NAME?"},{"$error":"#NAME?"},{"$error":"#NAME?"},{"$error":"#NAME?"},{"$error":"#NAME?"},{"$f":"SUM('8.ОСС'!BC:BC)","v":0}]
[null,{"$error":"#NAME?"},{"$error":"#NAME?"},{"$error":"#NAME?"},{"$error":"#NAME?"},{"$error":"#NAME?"},{"$error":"#NAME?"},{"$f":"SUM('9.ПИР'!AJ:AJ)","v":0}]
[null,{"$error":"#NAME?"},{"$error":"#NAME?"},{"$error":"#NAME?"},{"$error":"#NAME?"},{"$error":"#NAME?"},{"$error":"#NAME?"},{"$f":"SUM('10.БКП'!AI:AI)","v":0}]
[null,{"$error":"#NAME?"},{"$error":"#NAME?"},{"$error":"#NAME?"},{"$error":"#NAME?"},{"$error":"#NAME?"},{"$error":"#NAME?"},{"$f":"SUM('11.ПЗС'!AK:AK)","v":0}]
[null,{"$error":"#NAME?"},{"$error":"#NAME?"},{"$error":"#NAME?"},{"$error":"#NAME?"},{"$error":"#NAME?"},{"$error":"#NAME?"},{"$f":"SUM('12.ТП_БЭФ'!BL:BL)","v":1.8189894035458565E-12}]
[null,{"$error":"#NAME?"},{"$error":"#NAME?"},{"$error":"#NAME?"},{"$error":"#NAME?"},{"$error":"#NAME?"},{"$error":"#NAME?"},{"$f":"SUM('13.ТП_СЭФ'!BW:BW)","v":0}]
[null,{"$error":"#NAME?"},{"$error":"#NAME?"},{"$error":"#NAME?"},{"$error":"#NAME?"},{"$error":"#NAME?"},{"$error":"#NAME?"},{"$f":"SUM('14.ОВИЗ'!BT:BT)","v":0}]
[null,{"$error":"#NAME?"},{"$error":"#NAME?"},{"$error":"#NAME?"},{"$error":"#NAME?"},{"$error":"#NAME?"},{"$error":"#NAME?"},{"$f":"SUM('15.ГРР'!AP:AP)","v":0}]
[null,{"$error":"#NAME?"},{"$error":"#NAME?"},{"$error":"#NAME?"},{"$error":"#NAME?"},{"$error":"#NAME?"},{"$error":"#NAME?"},{"$f":"SUM('16.НИОКР'!AP:AP)","v":0}]
[null,{"$error":"#NAME?"},{"$error":"#NAME?"},{"$error":"#NAME?"},{"$error":"#NAME?"},{"$error":"#NAME?"},{"$error":"#NAME?"},{"$f":"SUM('17.НМА'!AL:AL)","v":0}]
[null,{"$error":"#NAME?"},{"$error":"#NAME?"},{"$error":"#NAME?"},{"$error":"#NAME?"},{"$error":"#NAME?"},{"$error":"#NAME?"},{"$f":"SUM('18.ПКЗ'!AL:AL)","v":0}]
[null,{"$error":"#NAME?"},{"$error":"#NAME?"},{"$error":"#NAME?"},{"$error":"#NAME?"},{"$error":"#NAME?"},{"$error":"#NAME?"},{"$f":"SUM('19.БФИ'!AL:AL)","v":0}]
[null,{"$error":"#NAME?"},{"$error":"#NAME?"},{"$error":"#NAME?"},{"$error":"#NAME?"},{"$error":"#NAME?"},{"$error":"#NAME?"},{"$f":"SUM('06.БПД'!AG:AG)","v":0}]

{"sheet":"#","index":4,"n_rows":47,"n_cols":5,"rows_kept":47,"cut":false,"hidden":false,"merged":[[17,2,22,3],[23,2,23,3]]}
[]
[]
[]
[null,null,null,null,"         Приложение № 2 "]
[null,null,"                                    к \"Положению об инвестиционном  бюджете АК \"АЛРОСА\" (ПАО)\""]
[]
[]
[]
[]
[]
[]
[]
[]
[]
[]
[]
[]
[null,null,"Сводные \nинвестиционные бюджеты  "]
[]
[]
[]
[]
[]
[]
[]
[]
[]
[]
[]
[]
[]
[]
[]
[]
[]
[]
[]
[]
[]
[]
[]
[]
[]
[]
[]
[null,null,"                                           г. Москва "]
[null,null,"                                              2015 г."]

{"sheet":"1.СБИ","index":5,"n_rows":122,"n_cols":40,"rows_kept":122,"cut":false,"hidden":false,"merged":[[115,1,115,33],[11,33,14,33],[13,27,14,27],[13,28,14,28],[13,29,14,29],[13,30,14,30],[11,26,11,30],[11,31,14,31],[11,32,14,32],[12,27,12,30],[13,26,14,26],[11,18,11,19],[11,20,14,20],[11,21,12,25],[12,7,12,10],[12,12,12,15],[13,23,13,25],[13,18,14,18],[13,19,14,19],[11,6,11,15],[13,6,14,6],[13,7,14,7],[13,15,14,15],[12,18,12,19],[13,16,14,16],[13,17,14,17],[13,21,13,22],[0,1,0,7],[11,3,14,3],[11,1,14,1],[13,13,14,13],[13,14,14,14],[5,2,5,4],[7,2,7,4],[11,2,14,2],[11,4,14,4],[11,5,14,5],[13,8,14,8],[13,9,14,9],[13,10,14,10],[13,11,14,11],[13,12,14,12]]}
[null,"Назад к оглавлению",null,null,null,null,null,null,null,null,null,"base_fact","base_fact","base_fact","base_fact","base_fact","fact_fields","fact_fields","fact_fields","fact_fields","fact_fields","corr_fields","corr_fields","corr_fields","corr_fields","corr_fields","corr_fields","corr_fields","corr_fields","corr_fields","corr_fields","corr_fields","plan_fields","plan_fields"]
[]
[null,"Приложение № 2 к \"Положению об инвестиционном бюджете АК \"АЛРОСА\"\""]
[null,"Код формы: СБИ"]
[]
[null,null,{"$f":"org","v":"АО \"Вилюйская ГЭС-3\""}]
[null,null,"Организационно-правовая форма и название Общества/структурного подразделения"]
[null,null,{"$f":"period_txt","v":"12 месяцев 2017"}]
[null,null," Плановый / отчётный период "]
[null,null,"Сводный бюджет инвестиций"]
[null,"Тыс. руб. без НДС 1"]
[null,"№","Общество / cтруктурное подразделение","Наименование ",{"$f":"\"ФАКТ \" & year - 2","v":"ФАКТ 2015"},{"$f":"IF(mode=budget_mode, \"ОЖИДАНИЕ \" & year - 1, \"ФАКТ \" & year - 1)","v":"ФАКТ 2016"},"Плановый / отчётный период2",null,null,null,null,null,null,null,null,null,"ПЛАН за","ФАКТ за","Отклонение за период3",null,"Комментарии по отклонениям4","Изменения к утверждённому плану по году",null,null,null,null,"Скорректированный план",null,null,null,null,"Комментарии по изменениям плана",{"$f":"\"ПЛАН   \" & year + 1","v":"ПЛАН   2018"},{"$f":"\"ПЛАН   \" & year + 2","v":"ПЛАН   2019"},"Сверка"]
[null,null,null,null,null,null,{"$f":"\"ПЛАН \" & year","v":"ПЛАН 2017"},"в т.ч. по кварталам:",null,null,null,{"$f":"\"ФАКТ \" & year","v":"ФАКТ 2017"},"в т.ч. по кварталам:",null,null,null,{"$f":"period","v":"12 месяцев"},{"$f":"Q13","v":"12 месяцев"},"12 месяцев",null,null,null,null,null,null,null,"ПЛАН    ","в т.ч. по кварталам:"]
[null,null,null,null,null,null,"Год   всего","1 кв.","2 кв.","3 кв.","4 кв.","Год   всего","1 кв.","2 кв.","3 кв.","4 кв.","Тыс.    руб.","Тыс.    руб.","Тыс.    руб.","% ",null,"Изменение всего",null,"В т.ч.",null,null,"Год   всего","1 кв.","2 кв.","3 кв.","4 кв."]
[null,null,null,null,null,null,null,null,null,null,null,null,null,null,null,null,null,null,null,null,null,"Тыс.    руб.","%","Вновь добавлено\n(указывается со знаком \"+\")","Исключено (указывается со знаком \"-\")","Изменение стоимости\n(удорожание \"+\", удешвление \"-\")"]
[null,1,{"$f":"B16+1","v":2},3,4,5,6,7,8,9,10,11,12,13,14,15,16,17,18,19,20,21,22,23,24,25,26,27,28,29,30,31,32,33]
[null,"I.",null,"СТРУКТУРА ИНВЕСТИЦИЙ ПО ВИДАМ ВЛОЖЕНИЙ (включая лизинг)",{"$f":"'01. СБИ_B'!E17","v":329619},{"$f":"'01. СБИ_B'!J17","v":130863.43699999999},{"$f":"G19+G39","v":283519.83546624635},3824.65,7061.9210000000003,169546.11292672096,103087.15153952542,202896.92103,3824.63,7063.1680299999998,70424.338000000003,121584.785,{"$f":"IF(period=period_1Q, H17, IF(period=period_1H, SUM(H17:I17), IF(period=period_9M, SUM(H17:J17), IF(period=period_1Y,SUM(H17:K17),0))))","v":283519.83546624635},{"$f":"IF(period=period_1Q, M17, IF(period=period_1H, SUM(M17:N17), IF(period=period_9M, SUM(M17:O17), IF(period=period_1Y,SUM(M17:P17),0))))","v":202896.92103000003},{"$f":"R17-Q17","v":-80622.914436246327},{"$f":"IFERROR(S17/Q17, 0)","v":-0.28436428196871133},null,{"$f":"SUM(X17:Z17)","v":31.761400000003306},{"$f":"IFERROR(V17/G17, 0)","v":1.120253189614473E-4},{"$f":"X19+X39","v":0},0,31.761400000003306,283551.59686624637,3824.63,7062.1449999999995,169546.501526721,103118.32033952544,null,{"$f":"'01. СБИ_B'!Y17","v":350000},{"$f":"'01. СБИ_B'!Z17","v":187048},{"$f":"SUM(ABS(G17-SUM(H17:K17)), ABS(L17-SUM(M17:P17)),ABS(V17-SUM(X17:Z17)), ABS(AA17-SUM(AB17:AE17)))","v":8.7311491370201111E-11},{"$f":"'[2]1.СБИ'!AA17-AA17","v":2447.7894067796879},{"$f":"'[2]1.СБИ'!AB17-AB17","v":0},{"$f":"'[2]1.СБИ'!AC17-AC17","v":13461.91},{"$f":"'[2]1.СБИ'!AD17-AD17","v":16860.551406779676},{"$f":"'[2]1.СБИ'!AE17-AE17","v":-27874.67200000002}]
[null,null,null,null,{"$f":"'01. СБИ_B'!E18","v":0},{"$f":"'01. СБИ_B'!J18","v":0},null,null,null,null,null,null,null,null,null,null,0,0,0,0,null,0,0,null,null,null,null,null,null,null,null,null,{"$f":"'01. СБИ_B'!Y18","v":0},{"$f":"'01. СБИ_B'!Z18","v":0},0,{"$f":"'[2]1.СБИ'!AA18-AA18","v":0},{"$f":"'[2]1.СБИ'!AB18-AB18","v":0},{"$f":"'[2]1.СБИ'!AC18-AC18","v":0},{"$f":"'[2]1.СБИ'!AD18-AD18","v":0},{"$f":"'[2]1.СБИ'!AE18-AE18","v":0}]
[null,"1.",null,"Инвестиции в капитальные затраты - всего",{"$f":"'01. СБИ_B'!E19","v":329619},{"$f":"'01. СБИ_B'!J19","v":130863.43699999999},{"$f":"G21+G28+G31+G33+G35+G37","v":283519.83546624635},3824.65,7061.9210000000003,169546.11292672096,103087.15153952542,202896.92103,3824.63,7063.1680299999998,70424.338000000003,121584.785,283519.83546624635,202896.92103000003,-80622.914436246327,-0.28436428196871133,null,31.761400000003306,1.120253189614473E-4,{"$f":"X21+X28+X31+X33+X35+X37","v":0},0,31.761400000003306,283551.59686624637,3824.63,7062.1449999999995,169546.501526721,103118.32033952544,null,{"$f":"'01. СБИ_B'!Y19","v":350000},{"$f":"'01. СБИ_B'!Z19","v":187048},8.7311491370201111E-11,{"$f":"'[2]1.СБИ'!AA19-AA19","v":2447.7894067796879},{"$f":"'[2]1.СБИ'!AB19-AB19","v":0},{"$f":"'[2]1.СБИ'!AC19-AC19","v":13461.91},{"$f":"'[2]1.СБИ'!AD19-AD19","v":16860.551406779676},{"$f":"'[2]1.СБИ'!AE19-AE19","v":-27874.67200000002}]
[null,null,null,null,{"$f":"'01. СБИ_B'!E20","v":0},{"$f":"'01. СБИ_B'!J20","v":0},null,null,null,null,null,null,null,null,null,null,0,0,0,0,null,0,0,null,null,null,null,null,null,null,null,null,{"$f":"'01. СБИ_B'!Y20","v":0},{"$f":"'01. СБИ_B'!Z20","v":0},0,{"$f":"'[2]1.СБИ'!AA20-AA20","v":0},{"$f":"'[2]1.СБИ'!AB20-AB20","v":0},{"$f":"'[2]1.СБИ'!AC20-AC20","v":0},{"$f":"'[2]1.СБИ'!AD20-AD20","v":0},{"$f":"'[2]1.СБИ'!AE20-AE20","v":0}]
[null,"1.1.",null,"Строительство - всего, ",{"$f":"'01. СБИ_B'!E21","v":279293},{"$f":"'01. СБИ_B'!J21","v":90413.827999999994},{"$f":"SUM(G22,G23,G25,G26,G27)","v":253224.19099999999},3417.25,6647.0410000000002,158077.04999999999,85082.85,170440.89803000001,3417.23,6647.9350299999996,62039.358,98336.375,253224.19099999999,170440.89802999998,-82783.29297000001,-0.32691700047725697,null,31.761400000003306,1.2542798488002004E-4,{"$f":"SUM(X22,X23,X25,X26,X27)","v":0},0,31.761400000003306,253255.95239999998,3417.23,6647.2649999999994,158077.43860000002,85114.018800000005,null,{"$f":"'01. СБИ_B'!Y21","v":290000},{"$f":"'01. СБИ_B'!Z21","v":144048},5.8207660913467407E-11,{"$f":"'[2]1.СБИ'!AA21-AA21","v":-30.074999999982538},{"$f":"'[2]1.СБИ'!AB21-AB21","v":0},{"$f":"'[2]1.СБИ'!AC21-AC21","v":13644.21},{"$f":"'[2]1.СБИ'!AD21-AD21","v":14200.387000000017},{"$f":"'[2]1.СБИ'!AE21-AE21","v":-27874.672000000006}]
[null,"1.1.1.",null,"СМР ",{"$f":"'01. СБИ_B'!E22","v":224948},{"$f":"'01. СБИ_B'!J22","v":64945.838000000003},{"$f":"'7.СМР'!G17","v":196120.25},{"$f":"'7.СМР'!H17","v":6.25},{"$f":"'7.СМР'!I17","v":3013},{"$f":"'7.СМР'!J17","v":142341},{"$f":"'7.СМР'!K17","v":50760},{"$f":"'7.СМР'!L17","v":126661.98534},{"$f":"'7.СМР'!M17","v":6.25},{"$f":"'7.СМР'!N17","v":3013.5923399999997},{"$f":"'7.СМР'!O17","v":57239.697},{"$f":"'7.СМР'!P17","v":66402.445999999996},196120.25,126661.98534,-69458.264660000001,-0.35416161594735884,null,0.50540000000160035,2.5769903923822265E-6,{"$f":"'7.СМР'!X17","v":0},{"$f":"'7.СМР'!Y17","v":0},{"$f":"'7.СМР'!Z17","v":0.50540000000160035},{"$f":"'7.СМР'!AA17","v":196120.75539999999},{"$f":"'7.СМР'!AB17","v":6.25},{"$f":"'7.СМР'!AC17","v":3013.4219999999996},{"$f":"'7.СМР'!AD17","v":142340.94460000002},{"$f":"'7.СМР'!AE17","v":50760.138800000001},null,{"$f":"'01. СБИ_B'!Y22","v":249815},{"$f":"'01. СБИ_B'!Z22","v":121280},2.9103830456733704E-11,{"$f":"'[2]1.СБИ'!AA22-AA22","v":28589.207000000024},{"$f":"'[2]1.СБИ'!AB22-AB22","v":0},{"$f":"'[2]1.СБИ'!AC22-AC22","v":13644.21},{"$f":"'[2]1.СБИ'!AD22-AD22","v":19297.877000000008},{"$f":"'[2]1.СБИ'!AE22-AE22","v":-4352.8799999999974}]
[null,"1.1.2.",null,"Оборудование на строительство:",{"$f":"'01. СБИ_B'!E23","v":30146},{"$f":"'01. СБИ_B'!J23","v":0},{"$f":"'4.СБО'!E21","v":28589},{"$f":"'4.СБО'!F21","v":0},{"$f":"'4.СБО'!G21","v":0},{"$f":"'4.СБО'!H21","v":4576},{"$f":"'4.СБО'!I21","v":24013},{"$f":"'4.СБО'!J21","v":20076.329000000002},{"$f":"'4.СБО'!K21","v":0},{"$f":"'4.СБО'!L21","v":0},{"$f":"'4.СБО'!M21","v":0},{"$f":"'4.СБО'!N21","v":20076.329000000002},28589,20076.329000000002,-8512.6709999999985,-0.29776036237713799,null,0,0,{"$f":"'4.СБО'!V21","v":0},{"$f":"'4.СБО'!W21","v":0},{"$f":"'4.СБО'!X21","v":0},{"$f":"'4.СБО'!Y21","v":28589},{"$f":"'4.СБО'!Z21","v":0},{"$f":"'4.СБО'!AA21","v":0},{"$f":"'4.СБО'!AB21","v":4576},{"$f":"'4.СБО'!AC21","v":24013},null,{"$f":"'01. СБИ_B'!Y23","v":0},{"$f":"'01. СБИ_B'!Z23","v":0},0,{"$f":"'[2]1.СБИ'!AA23-AA23","v":-28589},{"$f":"'[2]1.СБИ'!AB23-AB23","v":0},{"$f":"'[2]1.СБИ'!AC23-AC23","v":0},{"$f":"'[2]1.СБИ'!AD23-AD23","v":-4576},{"$f":"'[2]1.СБИ'!AE23-AE23","v":-24013}]
[null,"1.1.2.1.",null,"Оборудование в смете на строительство",{"$f":"'01. СБИ_B'!E24","v":30146},{"$f":"'01. СБИ_B'!J24","v":0},{"$f":"'4.СБО'!E22","v":28589},{"$f":"'4.СБО'!F22","v":0},{"$f":"'4.СБО'!G22","v":0},{"$f":"'4.СБО'!H22","v":4576},{"$f":"'4.СБО'!I22","v":24013},{"$f":"'4.СБО'!J22","v":20076.329000000002},{"$f":"'4.СБО'!K22","v":0},{"$f":"'4.СБО'!L22","v":0},{"$f":"'4.СБО'!M22","v":0},{"$f":"'4.СБО'!N22","v":20076.329000000002},28589,20076.329000000002,-8512.6709999999985,-0.29776036237713799,null,0,0,{"$f":"'4.СБО'!V22","v":0},{"$f":"'4.СБО'!W22","v":0},{"$f":"'4.СБО'!X22","v":0},{"$f":"'4.СБО'!Y22","v":28589},{"$f":"'4.СБО'!Z22","v":0},{"$f":"'4.СБО'!AA22","v":0},{"$f":"'4.СБО'!AB22","v":4576},{"$f":"'4.СБО'!AC22","v":24013},null,{"$f":"'01. СБИ_B'!Y24","v":0},{"$f":"'01. СБИ_B'!Z24","v":0},0,{"$f":"'[2]1.СБИ'!AA24-AA24","v":-28589},{"$f":"'[2]1.СБИ'!AB24-AB24","v":0},{"$f":"'[2]1.СБИ'!AC24-AC24","v":0},{"$f":"'[2]1.СБИ'!AD24-AD24","v":-4576},{"$f":"'[2]1.СБИ'!AE24-AE24","v":-24013}]
[null,"1.1.3.",null,"ПИР",{"$f":"'01. СБИ_B'!E25","v":9573},{"$f":"'01. СБИ_B'!J25","v":11897.646000000001},{"$f":"'9.ПИР'!G17","v":9954},{"$f":"'9.ПИР'!H17","v":244},{"$f":"'9.ПИР'!I17","v":742},{"$f":"'9.ПИР'!J17","v":3517},{"$f":"'9.ПИР'!K17","v":5451},{"$f":"'9.ПИР'!L17","v":8453.982},{"$f":"'9.ПИР'!M17","v":244.15},{"$f":"'9.ПИР'!N17","v":741.56},{"$f":"'9.ПИР'!O17","v":1284.6579999999999},{"$f":"'9.ПИР'!P17","v":6183.6139999999996},9954,8453.982,-1500.018,-0.15069499698613623,null,-1.7999999999545935E-2,-1.8083182639688502E-6,{"$f":"'9.ПИР'!X17","v":0},{"$f":"'9.ПИР'!Y17","v":0},{"$f":"'9.ПИР'!Z17","v":-1.7999999999545935E-2},{"$f":"'9.ПИР'!AA17","v":9953.982},{"$f":"'9.ПИР'!AB17","v":244.15},{"$f":"'9.ПИР'!AC17","v":741.56},{"$f":"'9.ПИР'!AD17","v":3517.3440000000001},{"$f":"'9.ПИР'!AE17","v":5450.9279999999999},null,{"$f":"'01. СБИ_B'!Y25","v":20421},{"$f":"'01. СБИ_B'!Z25","v":6160},0,{"$f":"'[2]1.СБИ'!AA25-AA25","v":0},{"$f":"'[2]1.СБИ'!AB25-AB25","v":0},{"$f":"'[2]1.СБИ'!AC25-AC25","v":0},{"$f":"'[2]1.СБИ'!AD25-AD25","v":0},{"$f":"'[2]1.СБИ'!AE25-AE25","v":0}]
[null,"1.1.4.",null,"Капитализируемые проценты",{"$f":"'01. СБИ_B'!E26","v":14626},{"$f":"'01. СБИ_B'!J26","v":0},{"$f":"'10.БКП'!G17","v":0},{"$f":"'10.БКП'!H17","v":0},{"$f":"'10.БКП'!I17","v":0},{"$f":"'10.БКП'!J17","v":0},{"$f":"'10.БКП'!K17","v":0},{"$f":"'10.БКП'!L17","v":0},{"$f":"'10.БКП'!M17","v":0},{"$f":"'10.БКП'!N17","v":0},{"$f":"'10.БКП'!O17","v":0},{"$f":"'10.БКП'!P17","v":0},0,0,0,0,null,0,0,{"$f":"'10.БКП'!X17","v":0},{"$f":"'10.БКП'!Y17","v":0},{"$f":"'10.БКП'!Z17","v":0},{"$f":"'10.БКП'!AA17","v":0},{"$f":"'10.БКП'!AB17","v":0},{"$f":"'10.БКП'!AC17","v":0},{"$f":"'10.БКП'!AD17","v":0},{"$f":"'10.БКП'!AE17","v":0},null,{"$f":"'01. СБИ_B'!Y26","v":0},{"$f":"'01. СБИ_B'!Z26","v":0},0,{"$f":"'[2]1.СБИ'!AA26-AA26","v":0},{"$f":"'[2]1.СБИ'!AB26-AB26","v":0},{"$f":"'[2]1.СБИ'!AC26-AC26","v":0},{"$f":"'[2]1.СБИ'!AD26-AD26","v":0},{"$f":"'[2]1.СБИ'!AE26-AE26","v":0}]
[null,"1.1.5.",null,"Прочие затраты на КС",{"$f":"'01. СБИ_B'!E27","v":0},{"$f":"'01. СБИ_B'!J27","v":13570.343999999999},{"$f":"'11.ПЗС'!H17","v":18560.940999999999},{"$f":"'11.ПЗС'!I17","v":3167},{"$f":"'11.ПЗС'!J17","v":2892.0410000000002},{"$f":"'11.ПЗС'!K17","v":7643.05},{"$f":"'11.ПЗС'!L17","v":4858.8499999999995},{"$f":"'11.ПЗС'!M17","v":15248.60169},{"$f":"'11.ПЗС'!N17","v":3166.83},{"$f":"'11.ПЗС'!O17","v":2892.78269},{"$f":"'11.ПЗС'!P17","v":3515.0030000000002},{"$f":"'11.ПЗС'!Q17","v":5673.985999999999},18560.940999999999,15248.60169,-3312.3393099999994,-0.17845750977819494,null,31.274000000001251,1.6849361247364158E-3,{"$f":"'11.ПЗС'!Y17","v":0},{"$f":"'11.ПЗС'!Z17","v":0},{"$f":"'11.ПЗС'!AA17","v":31.274000000001251},{"$f":"'11.ПЗС'!AB17","v":18592.215},{"$f":"'11.ПЗС'!AC17","v":3166.83},{"$f":"'11.ПЗС'!AD17","v":2892.2830000000004},{"$f":"'11.ПЗС'!AE17","v":7643.1500000000005},{"$f":"'11.ПЗС'!AF17","v":4889.9519999999993},null,{"$f":"'01. СБИ_B'!Y27","v":19764},{"$f":"'01. СБИ_B'!Z27","v":16608},0,{"$f":"'[2]1.СБИ'!AA27-AA27","v":-30.281999999995605},{"$f":"'[2]1.СБИ'!AB27-AB27","v":0},{"$f":"'[2]1.СБИ'!AC27-AC27","v":0},{"$f":"'[2]1.СБИ'!AD27-AD27","v":-521.48999999999978},{"$f":"'[2]1.СБИ'!AE27-AE27","v":491.20800000000054}]
[null,"1.2.",null,"Техническое перевооружение и замена изношенного оборудования, всего:",{"$f":"'01. СБИ_B'!E28","v":50326},{"$f":"'01. СБИ_B'!J28","v":40449.609000000004},{"$f":"'5.ТП_ОВИЗ'!E17","v":30295.644466246387},{"$f":"'5.ТП_ОВИЗ'!F17","v":407.4},{"$f":"'5.ТП_ОВИЗ'!G17","v":414.88},{"$f":"'5.ТП_ОВИЗ'!H17","v":11469.062926720962},{"$f":"'5.ТП_ОВИЗ'!I17","v":18004.301539525426},{"$f":"'5.ТП_ОВИЗ'!J17","v":32456.022999999997},{"$f":"'5.ТП_ОВИЗ'!K17","v":407.4},{"$f":"'5.ТП_ОВИЗ'!L17","v":415.233},{"$f":"'5.ТП_ОВИЗ'!M17","v":8384.98},{"$f":"'5.ТП_ОВИЗ'!N17","v":23248.41},30295.644466246391,32456.023000000001,2160.3785337536101,7.1309872155404241E-2,null,0,0,{"$f":"'5.ТП_ОВИЗ'!V17","v":0},{"$f":"'5.ТП_ОВИЗ'!W17","v":0},{"$f":"'5.ТП_ОВИЗ'!X17","v":0},{"$f":"'5.ТП_ОВИЗ'!Y17","v":30295.644466246387},{"$f":"'5.ТП_ОВИЗ'!Z17","v":407.4},{"$f":"'5.ТП_ОВИЗ'!AA17","v":414.88},{"$f":"'5.ТП_ОВИЗ'!AB17","v":11469.062926720962},{"$f":"'5.ТП_ОВИЗ'!AC17","v":18004.301539525426},null,{"$f":"'01. СБИ_B'!Y28","v":60000},{"$f":"'01. СБИ_B'!Z28","v":43000},1.0913936421275139E-11,{"$f":"'[2]1.СБИ'!AA28-AA28","v":2477.8644067796668},{"$f":"'[2]1.СБИ'!AB28-AB28","v":0},{"$f":"'[2]1.СБИ'!AC28-AC28","v":-182.3},{"$f":"'[2]1.СБИ'!AD28-AD28","v":2660.1644067796624},{"$f":"'[2]1.СБИ'!AE28-AE28","v":0}]
[null,"1.2.1.",null,"Техническое перевооружение действующих производственных мощностей",{"$f":"'01. СБИ_B'!E29","v":18043},{"$f":"'01. СБИ_B'!J29","v":10400.708999999999},{"$f":"'5.ТП_ОВИЗ'!E29","v":13304.904999999999},{"$f":"'5.ТП_ОВИЗ'!F29","v":407.4},{"$f":"'5.ТП_ОВИЗ'!G29","v":128.42000000000002},{"$f":"'5.ТП_ОВИЗ'!H29","v":9604.1999999999989},{"$f":"'5.ТП_ОВИЗ'!I29","v":3164.8850000000002},{"$f":"'5.ТП_ОВИЗ'!J29","v":17726.609999999997},{"$f":"'5.ТП_ОВИЗ'!K29","v":407.4},{"$f":"'5.ТП_ОВИЗ'!L29","v":128.42000000000002},{"$f":"'5.ТП_ОВИЗ'!M29","v":7698.9},{"$f":"'5.ТП_ОВИЗ'!N29","v":9491.89},13304.904999999999,17726.61,4421.7050000000017,0.33233645787023675,null,0,0,{"$f":"'5.ТП_ОВИЗ'!V29","v":0},{"$f":"'5.ТП_ОВИЗ'!W29","v":0},{"$f":"'5.ТП_ОВИЗ'!X29","v":0},{"$f":"'5.ТП_ОВИЗ'!Y29","v":13304.904999999999},{"$f":"'5.ТП_ОВИЗ'!Z29","v":407.4},{"$f":"'5.ТП_ОВИЗ'!AA29","v":128.42000000000002},{"$f":"'5.ТП_ОВИЗ'!AB29","v":9604.1999999999989},{"$f":"'5.ТП_ОВИЗ'!AC29","v":3164.8850000000002},null,{"$f":"'01. СБИ_B'!Y29","v":20000},{"$f":"'01. СБИ_B'!Z29","v":3000},3.637978807091713E-12,{"$f":"'[2]1.СБИ'!AA29-AA29","v":-33.999999999998181},{"$f":"'[2]1.СБИ'!AB29-AB29","v":0},{"$f":"'[2]1.СБИ'!AC29-AC29","v":-16.300000000000011},{"$f":"'[2]1.СБИ'!AD29-AD29","v":-17.699999999998909},{"$f":"'[2]1.СБИ'!AE29-AE29","v":0}]
[null,"1.2.2.",null,"Замена изношенного оборудования",{"$f":"'01. СБИ_B'!E30","v":32283},{"$f":"'01. СБИ_B'!J30","v":30048.9},{"$f":"'5.ТП_ОВИЗ'!E48","v":16990.739466246388},{"$f":"'5.ТП_ОВИЗ'!F48","v":0},{"$f":"'5.ТП_ОВИЗ'!G48","v":286.45999999999998},{"$f":"'5.ТП_ОВИЗ'!H48","v":1864.8629267209631},{"$f":"'5.ТП_ОВИЗ'!I48","v":14839.416539525426},{"$f":"'5.ТП_ОВИЗ'!J48","v":14729.413},{"$f":"'5.ТП_ОВИЗ'!K48","v":0},{"$f":"'5.ТП_ОВИЗ'!L48","v":286.81299999999999},{"$f":"'5.ТП_ОВИЗ'!M48","v":686.07999999999993},{"$f":"'5.ТП_ОВИЗ'!N48","v":13756.52},16990.739466246388,14729.413,-2261.326466246388,-0.13309170390957462,null,0,0,{"$f":"'5.ТП_ОВИЗ'!V48","v":0},{"$f":"'5.ТП_ОВИЗ'!W48","v":0},{"$f":"'5.ТП_ОВИЗ'!X48","v":0},{"$f":"'5.ТП_ОВИЗ'!Y48","v":16990.739466246388},{"$f":"'5.ТП_ОВИЗ'!Z48","v":0},{"$f":"'5.ТП_ОВИЗ'!AA48","v":286.45999999999998},{"$f":"'5.ТП_ОВИЗ'!AB48","v":1864.8629267209631},{"$f":"'5.ТП_ОВИЗ'!AC48","v":14839.416539525426},null,{"$f":"'01. СБИ_B'!Y30","v":40000},{"$f":"'01. СБИ_B'!Z30","v":40000},0,{"$f":"'[2]1.СБИ'!AA30-AA30","v":2511.8644067796668},{"$f":"'[2]1.СБИ'!AB30-AB30","v":0},{"$f":"'[2]1.СБИ'!AC30-AC30","v":-166},{"$f":"'[2]1.СБИ'!AD30-AD30","v":2677.8644067796608},{"$f":"'[2]1.СБИ'!AE30-AE30","v":0}]
[null,"1.3.",null,"ГРР",{"$f":"'01. СБИ_B'!E31","v":0},{"$f":"'01. СБИ_B'!J31","v":0},{"$f":"'15.ГРР'!G17","v":0},{"$f":"'15.ГРР'!H17","v":0},{"$f":"'15.ГРР'!I17","v":0},{"$f":"'15.ГРР'!J17","v":0},{"$f":"'15.ГРР'!K17","v":0},{"$f":"'15.ГРР'!L17","v":0},{"$f":"'15.ГРР'!M17","v":0},{"$f":"'15.ГРР'!N17","v":0},{"$f":"'15.ГРР'!O17","v":0},{"$f":"'15.ГРР'!P17","v":0},0,0,0,0,null,0,0,{"$f":"'15.ГРР'!X17","v":0},{"$f":"'15.ГРР'!Y17","v":0},{"$f":"'15.ГРР'!Z17","v":0},{"$f":"'15.ГРР'!AA17","v":0},{"$f":"'15.ГРР'!AB17","v":0},{"$f":"'15.ГРР'!AC17","v":0},{"$f":"'15.ГРР'!AD17","v":0},{"$f":"'15.ГРР'!AE17","v":0},null,{"$f":"'01. СБИ_B'!Y31","v":0},{"$f":"'01. СБИ_B'!Z31","v":0},0,{"$f":"'[2]1.СБИ'!AA31-AA31","v":0},{"$f":"'[2]1.СБИ'!AB31-AB31","v":0},{"$f":"'[2]1.СБИ'!AC31-AC31","v":0},{"$f":"'[2]1.СБИ'!AD31-AD31","v":0},{"$f":"'[2]1.СБИ'!AE31-AE31","v":0}]
[null,null,null,null,{"$f":"'01. СБИ_B'!E32","v":0},{"$f":"'01. СБИ_B'!J32","v":0},null,null,null,null,null,null,null,null,null,null,0,0,0,0,null,0,0,null,null,null,null,null,null,null,null,null,{"$f":"'01. СБИ_B'!Y32","v":0},{"$f":"'01. СБИ_B'!Z32","v":0},0,{"$f":"'[2]1.СБИ'!AA32-AA32","v":0},{"$f":"'[2]1.СБИ'!AB32-AB32","v":0},{"$f":"'[2]1.СБИ'!AC32-AC32","v":0},{"$f":"'[2]1.СБИ'!AD32-AD32","v":0},{"$f":"'[2]1.СБИ'!AE32-AE32","v":0}]
[null,"1.4.",null,"НИОКР",{"$f":"'01. СБИ_B'!E33","v":0},{"$f":"'01. СБИ_B'!J33","v":0},{"$f":"'16.НИОКР'!G17","v":0},{"$f":"'16.НИОКР'!H17","v":0},{"$f":"'16.НИОКР'!I17","v":0},{"$f":"'16.НИОКР'!J17","v":0},{"$f":"'16.НИОКР'!K17","v":0},{"$f":"'16.НИОКР'!L17","v":0},{"$f":"'16.НИОКР'!M17","v":0},{"$f":"'16.НИОКР'!N17","v":0},{"$f":"'16.НИОКР'!O17","v":0},{"$f":"'16.НИОКР'!P17","v":0},0,0,0,0,null,0,0,{"$f":"'16.НИОКР'!X17","v":0},{"$f":"'16.НИОКР'!Y17","v":0},{"$f":"'16.НИОКР'!Z17","v":0},{"$f":"'16.НИОКР'!AA17","v":0},{"$f":"'16.НИОКР'!AB17","v":0},{"$f":"'16.НИОКР'!AC17","v":0},{"$f":"'16.НИОКР'!AD17","v":0},{"$f":"'16.НИОКР'!AE17","v":0},null,{"$f":"'01. СБИ_B'!Y33","v":0},{"$f":"'01. СБИ_B'!Z33","v":0},0]
[null,null,null,null,{"$f":"'01. СБИ_B'!E34","v":0},{"$f":"'01. СБИ_B'!J34","v":0},null,null,null,null,null,null,null,null,null,null,0,0,0,0,null,0,0,null,null,null,null,null,null,null,null,null,{"$f":"'01. СБИ_B'!Y34","v":0},{"$f":"'01. СБИ_B'!Z34","v":0},0]
[null,"1.5.",null,"НМА",{"$f":"'01. СБИ_B'!E35","v":0},{"$f":"'01. СБИ_B'!J35","v":0},{"$f":"'17.НМА'!H17","v":0},{"$f":"'17.НМА'!I17","v":0},{"$f":"'17.НМА'!J17","v":0},{"$f":"'17.НМА'!K17","v":0},{"$f":"'17.НМА'!L17","v":0},{"$f":"'17.НМА'!M17","v":0},{"$f":"'17.НМА'!N17","v":0},{"$f":"'17.НМА'!O17","v":0},{"$f":"'17.НМА'!P17","v":0},{"$f":"'17.НМА'!Q17","v":0},0,0,0,0,null,0,0,{"$f":"'17.НМА'!Y17","v":0},{"$f":"'17.НМА'!Z17","v":0},{"$f":"'17.НМА'!AA17","v":0},{"$f":"'17.НМА'!AB17","v":0},{"$f":"'17.НМА'!AC17","v":0},{"$f":"'17.НМА'!AD17","v":0},{"$f":"'17.НМА'!AE17","v":0},{"$f":"'17.НМА'!AF17","v":0},null,{"$f":"'01. СБИ_B'!Y35","v":0},{"$f":"'01. СБИ_B'!Z35","v":0},0]
[null,null,null,null,{"$f":"'01. СБИ_B'!E36","v":0},{"$f":"'01. СБИ_B'!J36","v":0},null,null,null,null,null,null,null,null,null,null,0,0,0,0,null,0,0,null,null,null,null,null,null,null,null,null,{"$f":"'01. СБИ_B'!Y36","v":0},{"$f":"'01. СБИ_B'!Z36","v":0},0]
[null,"1.6.",null,"Прочие капитальные затраты",{"$f":"'01. СБИ_B'!E37","v":0},{"$f":"'01. СБИ_B'!J37","v":0},{"$f":"'18.ПКЗ'!H17","v":0},{"$f":"'18.ПКЗ'!I17","v":0},{"$f":"'18.ПКЗ'!J17","v":0},{"$f":"'18.ПКЗ'!K17","v":0},{"$f":"'18.ПКЗ'!L17","v":0},{"$f":"'18.ПКЗ'!M17","v":0},{"$f":"'18.ПКЗ'!N17","v":0},{"$f":"'18.ПКЗ'!O17","v":0},{"$f":"'18.ПКЗ'!P17","v":0},{"$f":"'18.ПКЗ'!Q17","v":0},0,0,0,0,null,0,0,{"$f":"'18.ПКЗ'!Y17","v":0},{"$f":"'18.ПКЗ'!Z17","v":0},{"$f":"'18.ПКЗ'!AA17","v":0},{"$f":"'18.ПКЗ'!AB17","v":0},{"$f":"'18.ПКЗ'!AC17","v":0},{"$f":"'18.ПКЗ'!AD17","v":0},{"$f":"'18.ПКЗ'!AE17","v":0},{"$f":"'18.ПКЗ'!AF17","v":0},null,{"$f":"'01. СБИ_B'!Y37","v":0},{"$f":"'01. СБИ_B'!Z37","v":0},0]
[null,null,null,null,{"$f":"'01. СБИ_B'!E38","v":0},{"$f":"'01. СБИ_B'!J38","v":0},null,null,null,null,null,null,null,null,null,null,0,0,0,0,null,0,0,null,null,null,null,null,null,null,null,null,{"$f":"'01. СБИ_B'!Y38","v":0},{"$f":"'01. СБИ_B'!Z38","v":0},0]
[null,"2.",null,"Долгосрочные финансовые вложения ",{"$f":"'01. СБИ_B'!E39","v":0},{"$f":"'01. СБИ_B'!J39","v":0},{"$f":"'19.БФИ'!H17","v":0},{"$f":"'19.БФИ'!I17","v":0},{"$f":"'19.БФИ'!J17","v":0},{"$f":"'19.БФИ'!K17","v":0},{"$f":"'19.БФИ'!L17","v":0},{"$f":"'19.БФИ'!M17","v":0},{"$f":"'19.БФИ'!N17","v":0},{"$f":"'19.БФИ'!O17","v":0},{"$f":"'19.БФИ'!P17","v":0},{"$f":"'19.БФИ'!Q17","v":0},0,0,0,0,null,0,0,{"$f":"'19.БФИ'!Y17","v":0},{"$f":"'19.БФИ'!Z17","v":0},{"$f":"'19.БФИ'!AA17","v":0},{"$f":"'19.БФИ'!AB17","v":0},{"$f":"'19.БФИ'!AC17","v":0},{"$f":"'19.БФИ'!AD17","v":0},{"$f":"'19.БФИ'!AE17","v":0},{"$f":"'19.БФИ'!AF17","v":0},null,{"$f":"'01. СБИ_B'!Y39","v":0},{"$f":"'01. СБИ_B'!Z39","v":0},0]
[null,null,null,null,{"$f":"'01. СБИ_B'!E40","v":0},{"$f":"'01. СБИ_B'!J40","v":0},null,null,null,null,null,null,null,null,null,null,0,0,0,0,null,0,0,null,null,null,null,null,null,null,null,null,{"$f":"'01. СБИ_B'!Y40","v":0},{"$f":"'01. СБИ_B'!Z40","v":0},0]
[]
[null,null,null,null,{"$f":"'01. СБИ_B'!E42","v":0},{"$f":"'01. СБИ_B'!J42","v":0},null,null,null,null,null,null,null,null,null,null,0,0,0,0,null,0,0,null,null,null,null,null,null,null,null,null,{"$f":"'01. СБИ_B'!Y42","v":0},{"$f":"'01. СБИ_B'!Z42","v":0},0]
[null,"II.",null,"СТРУКТУРА ИНВЕСТИЦИЙ ПО НАПРАВЛЕНИЯМ ДЕЯТЕЛЬНОСТИ",{"$f":"'01. СБИ_B'!E43","v":329619},{"$f":"'01. СБИ_B'!J43","v":130863.43},{"$f":"G45+G71","v":283519.83546624635},3824.65,7061.9210000000003,169546.11292672096,103087.15153952542,202896.92103,3824.63,7063.1680299999998,70424.338000000003,121584.785,283519.83546624635,202896.92103000003,-80622.914436246327,-0.28436428196871133,null,31.761400000003306,1.120253189614473E-4,{"$f":"X45+X71","v":0},0,31.761400000003306,283551.59686624637,{"$f":"AB45+AB71","v":3824.63},7062.1450000000004,169546.501526721,103118.32033952544,null,{"$f":"'01. СБИ_B'!Y43","v":350000},{"$f":"'01. СБИ_B'!Z43","v":187048},8.7311491370201111E-11]
[null,null,null,null,{"$f":"'01. СБИ_B'!E44","v":0},{"$f":"'01. СБИ_B'!J44","v":0},null,null,null,null,null,null,null,null,null,null,0,0,0,0,null,0,0,null,null,null,null,null,null,null,null,null,{"$f":"'01. СБИ_B'!Y44","v":0},{"$f":"'01. СБИ_B'!Z44","v":0},0]
[null,"1.",null,"Инвестиции в капитальные затраты - всего",{"$f":"'01. СБИ_B'!E45","v":329619},{"$f":"'01. СБИ_B'!J45","v":130863.43},{"$f":"G47+G59+G61+G63+G65","v":283519.83546624635},3824.65,7061.9210000000003,169546.11292672096,103087.15153952542,202896.92103,3824.63,7063.1680299999998,70424.338000000003,121584.785,283519.83546624635,202896.92103000003,-80622.914436246327,-0.28436428196871133,null,31.761400000003306,1.120253189614473E-4,{"$f":"X47+X59+X61+X63+X65","v":0},0,31.761400000003306,283551.59686624637,{"$f":"AB47+AB59+AB61+AB63+AB65","v":3824.63},7062.1450000000004,169546.501526721,103118.32033952544,null,{"$f":"'01. СБИ_B'!Y45","v":350000},{"$f":"'01. СБИ_B'!Z45","v":187048},8.7311491370201111E-11]
[null,null,null,null,{"$f":"'01. СБИ_B'!E46","v":0},{"$f":"'01. СБИ_B'!J46","v":0},null,null,null,null,null,null,null,null,null,null,0,0,0,0,null,0,0,null,null,null,null,null,null,null,null,null,{"$f":"'01. СБИ_B'!Y46","v":0},{"$f":"'01. СБИ_B'!Z46","v":0},0]
[null,"1.1.",null,"Строительство объектов основного производства",{"$f":"'01. СБИ_B'!E47","v":279293},{"$f":"'01. СБИ_B'!J47","v":90413.820999999996},{"$f":"G49+G55+G57","v":253224.19099999999},3417.25,{"$f":"I49+I55+I57","v":6647.0410000000002},158077.04999999999,85082.85,170440.89803000001,3417.23,6647.9350299999996,62039.358000000007,98336.375,{"$f":"IF(period=period_1Q, H47, IF(period=period_1H, SUM(H47:I47), IF(period=period_9M, SUM(H47:J47), IF(period=period_1Y,SUM(H47:K47),0))))","v":253224.19099999999},{"$f":"IF(period=period_1Q, M47, IF(period=period_1H, SUM(M47:N47), IF(period=period_9M, SUM(M47:O47), IF(period=period_1Y,SUM(M47:P47),0))))","v":170440.89803000001},{"$f":"R47-Q47","v":-82783.29296999998},{"$f":"IFERROR(S47/Q47, 0)","v":-0.32691700047725686},null,{"$f":"SUM(X47:Z47)","v":31.761400000003306},{"$f":"IFERROR(V47/G47, 0)","v":1.2542798488002004E-4},{"$f":"X49+X55+X57","v":0},0,31.761400000003306,253255.95239999998,{"$f":"AB49+AB55+AB57","v":3417.23},6647.2650000000003,158077.43860000002,85114.018800000005,null,{"$f":"'01. СБИ_B'!Y47","v":290000},{"$f":"'01. СБИ_B'!Z47","v":144048},{"$f":"SUM(ABS(G47-SUM(H47:K47)), ABS(L47-SUM(M47:P47)),ABS(V47-SUM(X47:Z47)), ABS(AA47-SUM(AB47:AE47)))","v":2.9103830456733704E-11}]
[null,null,null,null,{"$f":"'01. СБИ_B'!E48","v":0},{"$f":"'01. СБИ_B'!J48","v":0},null,null,null,null,null,null,null,null,null,null,0,0,0,0,null,0,0,null,null,null,null,null,null,null,null,null,{"$f":"'01. СБИ_B'!Y48","v":0},{"$f":"'01. СБИ_B'!Z48","v":0},0]
[null,"1.1.1.",null,"Рудники",{"$f":"'01. СБИ_B'!E49","v":0},{"$f":"'01. СБИ_B'!J49","v":0},{"$f":"G50+G51+G52+G53","v":0},0,0,0,0,0,0,0,0,0,0,0,0,0,null,0,0,{"$f":"X50+X51+X52+X53","v":0},0,0,0,{"$f":"AB50+AB51+AB52+AB53","v":0},0,0,0,null,{"$f":"'01. СБИ_B'!Y49","v":0},{"$f":"'01. СБИ_B'!Z49","v":0},0]
[null,"1.1.1.1.",null,"Подземный рудник \"Мир\"",{"$f":"'01. СБИ_B'!E50","v":0},{"$f":"'01. СБИ_B'!J50","v":0},{"$f":"SUMIF('3.БКС'!$G:$G, $D50, '3.БКС'!K:K)","v":0},{"$f":"SUMIF('3.БКС'!$G:$G, $D50, '3.БКС'!L:L)","v":0},{"$f":"SUMIF('3.БКС'!$G:$G, $D50, '3.БКС'!M:M)","v":0},{"$f":"SUMIF('3.БКС'!$G:$G, $D50, '3.БКС'!N:N)","v":0},{"$f":"SUMIF('3.БКС'!$G:$G, $D50, '3.БКС'!O:O)","v":0},{"$f":"SUMIF('3.БКС'!$G:$G, $D50, '3.БКС'!P:P)","v":0},{"$f":"SUMIF('3.БКС'!$G:$G, $D50, '3.БКС'!Q:Q)","v":0},{"$f":"SUMIF('3.БКС'!$G:$G, $D50, '3.БКС'!R:R)","v":0},{"$f":"SUMIF('3.БКС'!$G:$G, $D50, '3.БКС'!S:S)","v":0},{"$f":"SUMIF('3.БКС'!$G:$G, $D50, '3.БКС'!T:T)","v":0},0,0,0,0,null,0,0,{"$f":"SUMIF('3.БКС'!$G:$G, $D50, '3.БКС'!AB:AB)","v":0},{"$f":"SUMIF('3.БКС'!$G:$G, $D50, '3.БКС'!AC:AC)","v":0},{"$f":"SUMIF('3.БКС'!$G:$G, $D50, '3.БКС'!AD:AD)","v":0},{"$f":"SUMIF('3.БКС'!$G:$G, $D50, '3.БКС'!AE:AE)","v":0},{"$f":"SUMIF('3.БКС'!$G:$G, $D50, '3.БКС'!AF:AF)","v":0},{"$f":"SUMIF('3.БКС'!$G:$G, $D50, '3.БКС'!AG:AG)","v":0},{"$f":"SUMIF('3.БКС'!$G:$G, $D50, '3.БКС'!AH:AH)","v":0},{"$f":"SUMIF('3.БКС'!$G:$G, $D50, '3.БКС'!AI:AI)","v":0},null,{"$f":"'01. СБИ_B'!Y50","v":0},{"$f":"'01. СБИ_B'!Z50","v":0},0]
[null,"1.1.1.2.",null,"Подземный рудник \"Айхал\"",{"$f":"'01. СБИ_B'!E51","v":0},{"$f":"'01. СБИ_B'!J51","v":0},{"$f":"SUMIF('3.БКС'!$G:$G, $D51, '3.БКС'!K:K)","v":0},{"$f":"SUMIF('3.БКС'!$G:$G, $D51, '3.БКС'!L:L)","v":0},{"$f":"SUMIF('3.БКС'!$G:$G, $D51, '3.БКС'!M:M)","v":0},{"$f":"SUMIF('3.БКС'!$G:$G, $D51, '3.БКС'!N:N)","v":0},{"$f":"SUMIF('3.БКС'!$G:$G, $D51, '3.БКС'!O:O)","v":0},{"$f":"SUMIF('3.БКС'!$G:$G, $D51, '3.БКС'!P:P)","v":0},{"$f":"SUMIF('3.БКС'!$G:$G, $D51, '3.БКС'!Q:Q)","v":0},{"$f":"SUMIF('3.БКС'!$G:$G, $D51, '3.БКС'!R:R)","v":0},{"$f":"SUMIF('3.БКС'!$G:$G, $D51, '3.БКС'!S:S)","v":0},{"$f":"SUMIF('3.БКС'!$G:$G, $D51, '3.БКС'!T:T)","v":0},0,0,0,0,null,0,0,{"$f":"SUMIF('3.БКС'!$G:$G, $D51, '3.БКС'!AB:AB)","v":0},{"$f":"SUMIF('3.БКС'!$G:$G, $D51, '3.БКС'!AC:AC)","v":0},{"$f":"SUMIF('3.БКС'!$G:$G, $D51, '3.БКС'!AD:AD)","v":0},{"$f":"SUMIF('3.БКС'!$G:$G, $D51, '3.БКС'!AE:AE)","v":0},{"$f":"SUMIF('3.БКС'!$G:$G, $D51, '3.БКС'!AF:AF)","v":0},{"$f":"SUMIF('3.БКС'!$G:$G, $D51, '3.БКС'!AG:AG)","v":0},{"$f":"SUMIF('3.БКС'!$G:$G, $D51, '3.БКС'!AH:AH)","v":0},{"$f":"SUMIF('3.БКС'!$G:$G, $D51, '3.БКС'!AI:AI)","v":0},null,{"$f":"'01. СБИ_B'!Y51","v":0},{"$f":"'01. СБИ_B'!Z51","v":0},0]
[null,"1.1.1.3.",null,"Подземный рудник \"Удачный\"",{"$f":"'01. СБИ_B'!E52","v":0},{"$f":"'01. СБИ_B'!J52","v":0},{"$f":"SUMIF('3.БКС'!$G:$G, $D52, '3.БКС'!K:K)","v":0},{"$f":"SUMIF('3.БКС'!$G:$G, $D52, '3.БКС'!L:L)","v":0},{"$f":"SUMIF('3.БКС'!$G:$G, $D52, '3.БКС'!M:M)","v":0},{"$f":"SUMIF('3.БКС'!$G:$G, $D52, '3.БКС'!N:N)","v":0},{"$f":"SUMIF('3.БКС'!$G:$G, $D52, '3.БКС'!O:O)","v":0},{"$f":"SUMIF('3.БКС'!$G:$G, $D52, '3.БКС'!P:P)","v":0},{"$f":"SUMIF('3.БКС'!$G:$G, $D52, '3.БКС'!Q:Q)","v":0},{"$f":"SUMIF('3.БКС'!$G:$G, $D52, '3.БКС'!R:R)","v":0},{"$f":"SUMIF('3.БКС'!$G:$G, $D52, '3.БКС'!S:S)","v":0},{"$f":"SUMIF('3.БКС'!$G:$G, $D52, '3.БКС'!T:T)","v":0},0,0,0,0,null,0,0,{"$f":"SUMIF('3.БКС'!$G:$G, $D52, '3.БКС'!AB:AB)","v":0},{"$f":"SUMIF('3.БКС'!$G:$G, $D52, '3.БКС'!AC:AC)","v":0},{"$f":"SUMIF('3.БКС'!$G:$G, $D52, '3.БКС'!AD:AD)","v":0},{"$f":"SUMIF('3.БКС'!$G:$G, $D52, '3.БКС'!AE:AE)","v":0},{"$f":"SUMIF('3.БКС'!$G:$G, $D52, '3.БКС'!AF:AF)","v":0},{"$f":"SUMIF('3.БКС'!$G:$G, $D52, '3.БКС'!AG:AG)","v":0},{"$f":"SUMIF('3.БКС'!$G:$G, $D52, '3.БКС'!AH:AH)","v":0},{"$f":"SUMIF('3.БКС'!$G:$G, $D52, '3.БКС'!AI:AI)","v":0},null,{"$f":"'01. СБИ_B'!Y52","v":0},{"$f":"'01. СБИ_B'!Z52","v":0},0]
[null,"1.1.1.4.",null,"Подземный рудник \"Интернациональный\"",{"$f":"'01. СБИ_B'!E53","v":0},{"$f":"'01. СБИ_B'!J53","v":0},{"$f":"SUMIF('3.БКС'!$G:$G, $D53, '3.БКС'!K:K)","v":0},{"$f":"SUMIF('3.БКС'!$G:$G, $D53, '3.БКС'!L:L)","v":0},{"$f":"SUMIF('3.БКС'!$G:$G, $D53, '3.БКС'!M:M)","v":0},{"$f":"SUMIF('3.БКС'!$G:$G, $D53, '3.БКС'!N:N)","v":0},{"$f":"SUMIF('3.БКС'!$G:$G, $D53, '3.БКС'!O:O)","v":0},{"$f":"SUMIF('3.БКС'!$G:$G, $D53, '3.БКС'!P:P)","v":0},{"$f":"SUMIF('3.БКС'!$G:$G, $D53, '3.БКС'!Q:Q)","v":0},{"$f":"SUMIF('3.БКС'!$G:$G, $D53, '3.БКС'!R:R)","v":0},{"$f":"SUMIF('3.БКС'!$G:$G, $D53, '3.БКС'!S:S)","v":0},{"$f":"SUMIF('3.БКС'!$G:$G, $D53, '3.БКС'!T:T)","v":0},0,0,0,0,null,0,0,{"$f":"SUMIF('3.БКС'!$G:$G, $D53, '3.БКС'!AB:AB)","v":0},{"$f":"SUMIF('3.БКС'!$G:$G, $D53, '3.БКС'!AC:AC)","v":0},{"$f":"SUMIF('3.БКС'!$G:$G, $D53, '3.БКС'!AD:AD)","v":0},{"$f":"SUMIF('3.БКС'!$G:$G, $D53, '3.БКС'!AE:AE)","v":0},{"$f":"SUMIF('3.БКС'!$G:$G, $D53, '3.БКС'!AF:AF)","v":0},{"$f":"SUMIF('3.БКС'!$G:$G, $D53, '3.БКС'!AG:AG)","v":0},{"$f":"SUMIF('3.БКС'!$G:$G, $D53, '3.БКС'!AH:AH)","v":0},{"$f":"SUMIF('3.БКС'!$G:$G, $D53, '3.БКС'!AI:AI)","v":0},null,{"$f":"'01. СБИ_B'!Y53","v":0},{"$f":"'01. СБИ_B'!Z53","v":0},0]
[null,null,null,null,{"$f":"'01. СБИ_B'!E54","v":0},{"$f":"'01. СБИ_B'!J54","v":0},null,null,null,null,null,null,null,null,null,null,0,0,0,0,null,0,0,null,null,null,null,null,null,null,null,null,{"$f":"'01. СБИ_B'!Y54","v":0},{"$f":"'01. СБИ_B'!Z54","v":0},0]
[null,"1.1.2.",null,"Прочая алмазодобыча",{"$f":"'01. СБИ_B'!E55","v":0},{"$f":"'01. СБИ_B'!J55","v":0},{"$f":"SUMIF('3.БКС'!$G:$G, $D55, '3.БКС'!K:K)","v":0},{"$f":"SUMIF('3.БКС'!$G:$G, $D55, '3.БКС'!L:L)","v":0},{"$f":"SUMIF('3.БКС'!$G:$G, $D55, '3.БКС'!M:M)","v":0},{"$f":"SUMIF('3.БКС'!$G:$G, $D55, '3.БКС'!N:N)","v":0},{"$f":"SUMIF('3.БКС'!$G:$G, $D55, '3.БКС'!O:O)","v":0},{"$f":"SUMIF('3.БКС'!$G:$G, $D55, '3.БКС'!P:P)","v":0},{"$f":"SUMIF('3.БКС'!$G:$G, $D55, '3.БКС'!Q:Q)","v":0},{"$f":"SUMIF('3.БКС'!$G:$G, $D55, '3.БКС'!R:R)","v":0},{"$f":"SUMIF('3.БКС'!$G:$G, $D55, '3.БКС'!S:S)","v":0},{"$f":"SUMIF('3.БКС'!$G:$G, $D55, '3.БКС'!T:T)","v":0},0,0,0,0,null,0,0,{"$f":"SUMIF('3.БКС'!$G:$G, $D55, '3.БКС'!AB:AB)","v":0},{"$f":"SUMIF('3.БКС'!$G:$G, $D55, '3.БКС'!AC:AC)","v":0},{"$f":"SUMIF('3.БКС'!$G:$G, $D55, '3.БКС'!AD:AD)","v":0},{"$f":"SUMIF('3.БКС'!$G:$G, $D55, '3.БКС'!AE:AE)","v":0},{"$f":"SUMIF('3.БКС'!$G:$G, $D55, '3.БКС'!AF:AF)","v":0},{"$f":"SUMIF('3.БКС'!$G:$G, $D55, '3.БКС'!AG:AG)","v":0},{"$f":"SUMIF('3.БКС'!$G:$G, $D55, '3.БКС'!AH:AH)","v":0},{"$f":"SUMIF('3.БКС'!$G:$G, $D55, '3.БКС'!AI:AI)","v":0},null,{"$f":"'01. СБИ_B'!Y55","v":0},{"$f":"'01. СБИ_B'!Z55","v":0},0]
[null,null,null,null,{"$f":"'01. СБИ_B'!E56","v":0},{"$f":"'01. СБИ_B'!J56","v":0},null,null,null,null,null,null,null,null,null,null,0,0,0,0,null,0,0,null,null,null,null,null,null,null,null,null,{"$f":"'01. СБИ_B'!Y56","v":0},{"$f":"'01. СБИ_B'!Z56","v":0},0]
[null,"1.1.3.",null,"Прочая основная деятельность",{"$f":"'01. СБИ_B'!E57","v":279293},{"$f":"'01. СБИ_B'!J57","v":90414},{"$f":"SUMIF('3.БКС'!$G:$G, $D57, '3.БКС'!K:K)","v":253224.19099999999},{"$f":"SUMIF('3.БКС'!$G:$G, $D57, '3.БКС'!L:L)","v":3417.25},{"$f":"SUMIF('3.БКС'!$G:$G, $D57, '3.БКС'!M:M)","v":6647.0410000000002},{"$f":"SUMIF('3.БКС'!$G:$G, $D57, '3.БКС'!N:N)","v":158077.04999999999},{"$f":"SUMIF('3.БКС'!$G:$G, $D57, '3.БКС'!O:O)","v":85082.85},{"$f":"SUMIF('3.БКС'!$G:$G, $D57, '3.БКС'!P:P)","v":170440.89803000001},{"$f":"SUMIF('3.БКС'!$G:$G, $D57, '3.БКС'!Q:Q)","v":3417.23},{"$f":"SUMIF('3.БКС'!$G:$G, $D57, '3.БКС'!R:R)","v":6647.9350299999996},{"$f":"SUMIF('3.БКС'!$G:$G, $D57, '3.БКС'!S:S)","v":62039.358000000007},{"$f":"SUMIF('3.БКС'!$G:$G, $D57, '3.БКС'!T:T)","v":98336.375},253224.19099999999,170440.89803000001,-82783.29296999998,-0.32691700047725686,null,31.761400000003306,1.2542798488002004E-4,{"$f":"SUMIF('3.БКС'!$G:$G, $D57, '3.БКС'!AB:AB)","v":0},{"$f":"SUMIF('3.БКС'!$G:$G, $D57, '3.БКС'!AC:AC)","v":0},{"$f":"SUMIF('3.БКС'!$G:$G, $D57, '3.БКС'!AD:AD)","v":31.761400000003306},{"$f":"SUMIF('3.БКС'!$G:$G, $D57, '3.БКС'!AE:AE)","v":253255.95239999998},{"$f":"SUMIF('3.БКС'!$G:$G, $D57, '3.БКС'!AF:AF)","v":3417.23},{"$f":"SUMIF('3.БКС'!$G:$G, $D57, '3.БКС'!AG:AG)","v":6647.2650000000003},{"$f":"SUMIF('3.БКС'!$G:$G, $D57, '3.БКС'!AH:AH)","v":158077.43860000002},{"$f":"SUMIF('3.БКС'!$G:$G, $D57, '3.БКС'!AI:AI)","v":85114.018800000005},null,{"$f":"'01. СБИ_B'!Y57","v":290000},{"$f":"'01. СБИ_B'!Z57","v":144048},2.9103830456733704E-11]
[null,null,null,null,{"$f":"'01. СБИ_B'!E58","v":0},{"$f":"'01. СБИ_B'!J58","v":0},null,null,null,null,null,null,null,null,null,null,0,0,0,0,null,0,0,null,null,null,null,null,null,null,null,null,{"$f":"'01. СБИ_B'!Y58","v":0},{"$f":"'01. СБИ_B'!Z58","v":0},0]
[null,"1.2.",null,"Объекты вспомогательного производства  (прочее пром. строительство) ",{"$f":"'01. СБИ_B'!E59","v":0},{"$f":"'01. СБИ_B'!J59","v":0},{"$f":"SUMIF('3.БКС'!$G:$G, $D59, '3.БКС'!K:K)","v":0},{"$f":"SUMIF('3.БКС'!$G:$G, $D59, '3.БКС'!L:L)","v":0},{"$f":"SUMIF('3.БКС'!$G:$G, $D59, '3.БКС'!M:M)","v":0},{"$f":"SUMIF('3.БКС'!$G:$G, $D59, '3.БКС'!N:N)","v":0},{"$f":"SUMIF('3.БКС'!$G:$G, $D59, '3.БКС'!O:O)","v":0},{"$f":"SUMIF('3.БКС'!$G:$G, $D59, '3.БКС'!P:P)","v":0},{"$f":"SUMIF('3.БКС'!$G:$G, $D59, '3.БКС'!Q:Q)","v":0},{"$f":"SUMIF('3.БКС'!$G:$G, $D59, '3.БКС'!R:R)","v":0},{"$f":"SUMIF('3.БКС'!$G:$G, $D59, '3.БКС'!S:S)","v":0},{"$f":"SUMIF('3.БКС'!$G:$G, $D59, '3.БКС'!T:T)","v":0},0,0,0,0,null,0,0,{"$f":"SUMIF('3.БКС'!$G:$G, $D59, '3.БКС'!AB:AB)","v":0},{"$f":"SUMIF('3.БКС'!$G:$G, $D59, '3.БКС'!AC:AC)","v":0},{"$f":"SUMIF('3.БКС'!$G:$G, $D59, '3.БКС'!AD:AD)","v":0},{"$f":"SUMIF('3.БКС'!$G:$G, $D59, '3.БКС'!AE:AE)","v":0},{"$f":"SUMIF('3.БКС'!$G:$G, $D59, '3.БКС'!AF:AF)","v":0},{"$f":"SUMIF('3.БКС'!$G:$G, $D59, '3.БКС'!AG:AG)","v":0},{"$f":"SUMIF('3.БКС'!$G:$G, $D59, '3.БКС'!AH:AH)","v":0},{"$f":"SUMIF('3.БКС'!$G:$G, $D59, '3.БКС'!AI:AI)","v":0},null,{"$f":"'01. СБИ_B'!Y59","v":0},{"$f":"'01. СБИ_B'!Z59","v":0},0]
[null,null,null,null,{"$f":"'01. СБИ_B'!E60","v":0},{"$f":"'01. СБИ_B'!J60","v":0},null,null,null,null,null,null,null,null,null,null,0,0,0,0,null,0,0,null,null,null,null,null,null,null,null,null,{"$f":"'01. СБИ_B'!Y60","v":0},{"$f":"'01. СБИ_B'!Z60","v":0},0]
[null,"1.3.",null,"Объекты непромышленного строительства (социального назначения) ",{"$f":"'01. СБИ_B'!E61","v":0},{"$f":"'01. СБИ_B'!J61","v":0},{"$f":"SUMIF('3.БКС'!$G:$G, $D61, '3.БКС'!K:K)","v":0},{"$f":"SUMIF('3.БКС'!$G:$G, $D61, '3.БКС'!L:L)","v":0},{"$f":"SUMIF('3.БКС'!$G:$G, $D61, '3.БКС'!M:M)","v":0},{"$f":"SUMIF('3.БКС'!$G:$G, $D61, '3.БКС'!N:N)","v":0},{"$f":"SUMIF('3.БКС'!$G:$G, $D61, '3.БКС'!O:O)","v":0},{"$f":"SUMIF('3.БКС'!$G:$G, $D61, '3.БКС'!P:P)","v":0},{"$f":"SUMIF('3.БКС'!$G:$G, $D61, '3.БКС'!Q:Q)","v":0},{"$f":"SUMIF('3.БКС'!$G:$G, $D61, '3.БКС'!R:R)","v":0},{"$f":"SUMIF('3.БКС'!$G:$G, $D61, '3.БКС'!S:S)","v":0},{"$f":"SUMIF('3.БКС'!$G:$G, $D61, '3.БКС'!T:T)","v":0},0,0,0,0,null,0,0,{"$f":"SUMIF('3.БКС'!$G:$G, $D61, '3.БКС'!AB:AB)","v":0},{"$f":"SUMIF('3.БКС'!$G:$G, $D61, '3.БКС'!AC:AC)","v":0},{"$f":"SUMIF('3.БКС'!$G:$G, $D61, '3.БКС'!AD:AD)","v":0},{"$f":"SUMIF('3.БКС'!$G:$G, $D61, '3.БКС'!AE:AE)","v":0},{"$f":"SUMIF('3.БКС'!$G:$G, $D61, '3.БКС'!AF:AF)","v":0},{"$f":"SUMIF('3.БКС'!$G:$G, $D61, '3.БКС'!AG:AG)","v":0},{"$f":"SUMIF('3.БКС'!$G:$G, $D61, '3.БКС'!AH:AH)","v":0},{"$f":"SUMIF('3.БКС'!$G:$G, $D61, '3.БКС'!AI:AI)","v":0},null,{"$f":"'01. СБИ_B'!Y61","v":0},{"$f":"'01. СБИ_B'!Z61","v":0},0]
[null,null,null,null,{"$f":"'01. СБИ_B'!E62","v":0},{"$f":"'01. СБИ_B'!J62","v":0},null,null,null,null,null,null,null,null,null,null,0,0,0,0,null,0,0,null,null,null,null,null,null,null,null,null,{"$f":"'01. СБИ_B'!Y62","v":0},{"$f":"'01. СБИ_B'!Z62","v":0},0]
[null,"1.4.",null,"Техническое перевооружение и замена изношенного оборудования",{"$f":"'01. СБИ_B'!E63","v":50326},{"$f":"'01. СБИ_B'!J63","v":40449.609000000004},{"$f":"'5.ТП_ОВИЗ'!E17","v":30295.644466246387},{"$f":"'5.ТП_ОВИЗ'!F17","v":407.4},{"$f":"'5.ТП_ОВИЗ'!G17","v":414.88},{"$f":"'5.ТП_ОВИЗ'!H17","v":11469.062926720962},{"$f":"'5.ТП_ОВИЗ'!I17","v":18004.301539525426},{"$f":"'5.ТП_ОВИЗ'!J17","v":32456.022999999997},{"$f":"'5.ТП_ОВИЗ'!K17","v":407.4},{"$f":"'5.ТП_ОВИЗ'!L17","v":415.233},{"$f":"'5.ТП_ОВИЗ'!M17","v":8384.98},{"$f":"'5.ТП_ОВИЗ'!N17","v":23248.41},30295.644466246391,32456.023000000001,2160.3785337536101,7.1309872155404241E-2,null,0,0,{"$f":"'5.ТП_ОВИЗ'!V17","v":0},{"$f":"'5.ТП_ОВИЗ'!W17","v":0},{"$f":"'5.ТП_ОВИЗ'!X17","v":0},{"$f":"'5.ТП_ОВИЗ'!Y17","v":30295.644466246387},{"$f":"'5.ТП_ОВИЗ'!Z17","v":407.4},{"$f":"'5.ТП_ОВИЗ'!AA17","v":414.88},{"$f":"'5.ТП_ОВИЗ'!AB17","v":11469.062926720962},{"$f":"'5.ТП_ОВИЗ'!AC17","v":18004.301539525426},null,{"$f":"'01. СБИ_B'!Y63","v":60000},{"$f":"'01. СБИ_B'!Z63","v":43000},1.0913936421275139E-11]
[null,null,null,null,{"$f":"'01. СБИ_B'!E64","v":0},{"$f":"'01. СБИ_B'!J64","v":0},null,null,null,null,null,null,null,null,null,null,0,0,0,0,null,0,0,null,null,null,null,null,null,null,null,null,{"$f":"'01. СБИ_B'!Y64","v":0},{"$f":"'01. СБИ_B'!Z64","v":0},0]
[null,"1.5.",null,"Прочие направления инвестиций",{"$f":"'01. СБИ_B'!E65","v":0},{"$f":"'01. СБИ_B'!J65","v":0},{"$f":"SUM(G66:G69)","v":0},0,0,0,0,0,0,0,0,0,0,0,0,0,null,0,0,{"$f":"SUM(X66:X69)","v":0},0,0,0,{"$f":"SUM(AB66:AB69)","v":0},0,0,0,null,{"$f":"'01. СБИ_B'!Y65","v":0},{"$f":"'01. СБИ_B'!Z65","v":0},0]
[null,"1.5.1.",null,"ГРР",{"$f":"'01. СБИ_B'!E66","v":0},{"$f":"'01. СБИ_B'!J66","v":0},{"$f":"G31","v":0},0,0,0,0,0,0,0,0,0,0,0,0,0,null,0,0,{"$f":"X31","v":0},0,0,0,{"$f":"AB31","v":0},0,0,0,null,{"$f":"'01. СБИ_B'!Y66","v":0},{"$f":"'01. СБИ_B'!Z66","v":0},0]
[null,"1.5.2.",null,"НИОКР",{"$f":"'01. СБИ_B'!E67","v":0},{"$f":"'01. СБИ_B'!J67","v":0},{"$f":"G33","v":0},0,0,0,0,0,0,0,0,0,0,0,0,0,null,0,0,{"$f":"X33","v":0},0,0,0,{"$f":"AB33","v":0},0,0,0,null,{"$f":"'01. СБИ_B'!Y67","v":0},{"$f":"'01. СБИ_B'!Z67","v":0},0]
[null,"1.5.3.",null,"НМА",{"$f":"'01. СБИ_B'!E68","v":0},{"$f":"'01. СБИ_B'!J68","v":0},{"$f":"G35","v":0},0,0,0,0,0,0,0,0,0,0,0,0,0,null,0,0,{"$f":"X35","v":0},0,0,0,{"$f":"AB35","v":0},0,0,0,null,{"$f":"'01. СБИ_B'!Y68","v":0},{"$f":"'01. СБИ_B'!Z68","v":0},0]
[null,"1.5.4.",null,"Прочее",{"$f":"'01. СБИ_B'!E69","v":0},{"$f":"'01. СБИ_B'!J69","v":0},{"$f":"'18.ПКЗ'!H17","v":0},{"$f":"'18.ПКЗ'!I17","v":0},{"$f":"'18.ПКЗ'!J17","v":0},{"$f":"'18.ПКЗ'!K17","v":0},{"$f":"'18.ПКЗ'!L17","v":0},{"$f":"'18.ПКЗ'!M17","v":0},{"$f":"'18.ПКЗ'!N17","v":0},{"$f":"'18.ПКЗ'!O17","v":0},{"$f":"'18.ПКЗ'!P17","v":0},{"$f":"'18.ПКЗ'!Q17","v":0},0,0,0,0,null,0,0,{"$f":"'18.ПКЗ'!Y17","v":0},{"$f":"'18.ПКЗ'!Z17","v":0},{"$f":"'18.ПКЗ'!AA17","v":0},{"$f":"'18.ПКЗ'!AB17","v":0},{"$f":"'18.ПКЗ'!AC17","v":0},{"$f":"'18.ПКЗ'!AD17","v":0},{"$f":"'18.ПКЗ'!AE17","v":0},{"$f":"'18.ПКЗ'!AF17","v":0},null,{"$f":"'01. СБИ_B'!Y69","v":0},{"$f":"'01. СБИ_B'!Z69","v":0},0]
[null,null,null,null,{"$f":"'01. СБИ_B'!E70","v":0},{"$f":"'01. СБИ_B'!J70","v":0},null,null,null,null,null,null,null,null,null,null,0,0,0,0,null,0,0,null,null,null,null,null,null,null,null,null,{"$f":"'01. СБИ_B'!Y70","v":0},{"$f":"'01. СБИ_B'!Z70","v":0},0]
[null,"2.",null,"Долгосрочные финансовые вложения",{"$f":"'01. СБИ_B'!E71","v":0},{"$f":"'01. СБИ_B'!J71","v":0},{"$f":"G39","v":0},0,0,0,0,0,0,0,0,0,0,0,0,0,null,0,0,{"$f":"X39","v":0},0,0,0,{"$f":"AB39","v":0},0,0,0,null,{"$f":"'01. СБИ_B'!Y71","v":0},{"$f":"'01. СБИ_B'!Z71","v":0},0]
[null,null,null,null,{"$f":"'01. СБИ_B'!E72","v":0},{"$f":"'01. СБИ_B'!J72","v":0},null,null,null,null,null,null,null,null,null,null,0,0,0,0,null,0,0,null,null,null,null,null,null,null,null,null,{"$f":"'01. СБИ_B'!Y72","v":0},{"$f":"'01. СБИ_B'!Z72","v":0},0]
[null,null,null,null,{"$f":"'01. СБИ_B'!E73","v":0},{"$f":"'01. СБИ_B'!J73","v":0},null,null,null,null,null,null,null,null,null,null,0,0,0,0,null,0,0,null,null,null,null,null,null,null,null,null,{"$f":"'01. СБИ_B'!Y73","v":0},{"$f":"'01. СБИ_B'!Z73","v":0},0]
[]
[null,null,null,null,{"$f":"'01. СБИ_B'!E75","v":0},{"$f":"'01. СБИ_B'!J75","v":0},null,null,null,null,null,null,null,null,null,null,0,0,0,0,null,0,0,null,null,null,null,null,null,null,null,null,{"$f":"'01. СБИ_B'!Y75","v":0},{"$f":"'01. СБИ_B'!Z75","v":0},0]
[null,"III.",null,"СТРУКТУРА ИНВЕСТИЦИЙ ПО НАЛИЧИЮ ЛИЗИНГA",{"$f":"'01. СБИ_B'!E76","v":329619},{"$f":"'01. СБИ_B'!J76","v":130863.43699999999},{"$f":"G17","v":283519.83546624635},3824.65,7061.9210000000003,169546.11292672096,103087.15153952542,202896.92103,3824.63,7063.1680299999998,70424.338000000003,121584.785,283519.83546624635,202896.92103000003,-80622.914436246327,-0.28436428196871133,null,31.761400000003306,1.120253189614473E-4,{"$f":"X17","v":0},0,31.761400000003306,283551.59686624637,3824.63,7062.1449999999995,169546.501526721,103118.32033952544,null,{"$f":"'01. СБИ_B'!Y76","v":350000},{"$f":"'01. СБИ_B'!Z76","v":187048},8.7311491370201111E-11]
[null,null,null,null,{"$f":"'01. СБИ_B'!E77","v":0},{"$f":"'01. СБИ_B'!J77","v":0},null,null,null,null,null,null,null,null,null,null,0,0,0,0,null,0,0,null,null,null,null,null,null,null,null,null,{"$f":"'01. СБИ_B'!Y77","v":0},{"$f":"'01. СБИ_B'!Z77","v":0},0]
[null,"1.",null,"Оборудование без лизинга всего",{"$f":"'01. СБИ_B'!E78","v":80472},{"$f":"'01. СБИ_B'!J78","v":40449.609000000004},{"$f":"'4.СБО'!E17-G80","v":58884.644466246391},{"$f":"'4.СБО'!F17-H80","v":407.4},{"$f":"'4.СБО'!G17-I80","v":414.88},{"$f":"'4.СБО'!H17-J80","v":16045.062926720962},{"$f":"'4.СБО'!I17-K80","v":42017.301539525426},{"$f":"'4.СБО'!J17-L80","v":52532.351999999999},{"$f":"'4.СБО'!K17-M80","v":407.4},{"$f":"'4.СБО'!L17-N80","v":415.233},{"$f":"'4.СБО'!M17-O80","v":8384.98},{"$f":"'4.СБО'!N17-P80","v":43324.739000000001},58884.644466246391,52532.351999999999,-6352.292466246392,-0.10787689258933415,null,0,0,{"$f":"'4.СБО'!V17-X80","v":0},{"$f":"'4.СБО'!W17-Y80","v":0},{"$f":"'4.СБО'!X17-Z80","v":0},{"$f":"'4.СБО'!Y17-AA80","v":58884.644466246391},{"$f":"'4.СБО'!Z17-AB80","v":407.4},{"$f":"'4.СБО'!AA17-AC80","v":414.88},{"$f":"'4.СБО'!AB17-AD80","v":16045.062926720962},{"$f":"'4.СБО'!AC17-AE80","v":42017.301539525426},null,{"$f":"'01. СБИ_B'!Y78","v":60000},{"$f":"'01. СБИ_B'!Z78","v":43000},0]
[null,null,null,null,{"$f":"'01. СБИ_B'!E79","v":0},{"$f":"'01. СБИ_B'!J79","v":0},null,null,null,null,null,null,null,null,null,null,{"$f":"IF(period=period_1Q, H79, IF(period=period_1H, SUM(H79:I79), IF(period=period_9M, SUM(H79:J79), IF(period=period_1Y,SUM(H79:K79),0))))","v":0},{"$f":"IF(period=period_1Q, M79, IF(period=period_1H, SUM(M79:N79), IF(period=period_9M, SUM(M79:O79), IF(period=period_1Y,SUM(M79:P79),0))))","v":0},{"$f":"R79-Q79","v":0},{"$f":"IFERROR(S79/Q79, 0)","v":0},null,{"$f":"SUM(X79:Z79)","v":0},{"$f":"IFERROR(V79/G79, 0)","v":0},null,null,null,null,null,null,null,null,null,{"$f":"'01. СБИ_B'!Y79","v":0},{"$f":"'01. СБИ_B'!Z79","v":0},{"$f":"SUM(ABS(G79-SUM(H79:K79)), ABS(L79-SUM(M79:P79)),ABS(V79-SUM(X79:Z79)), ABS(AA79-SUM(AB79:AE79)))","v":0}]
[null,"2.",null,"Оборудование по лизингу всего ",{"$f":"'01. СБИ_B'!E80","v":0},{"$f":"'01. СБИ_B'!J80","v":0},{"$f":"'6.БОЛ'!E17","v":0},{"$f":"'6.БОЛ'!F17","v":0},{"$f":"'6.БОЛ'!G17","v":0},{"$f":"'6.БОЛ'!H17","v":0},{"$f":"'6.БОЛ'!I17","v":0},{"$f":"'6.БОЛ'!J17","v":0},{"$f":"'6.БОЛ'!K17","v":0},{"$f":"'6.БОЛ'!L17","v":0},{"$f":"'6.БОЛ'!M17","v":0},{"$f":"'6.БОЛ'!N17","v":0},0,0,0,0,null,0,0,{"$f":"'6.БОЛ'!V17","v":0},{"$f":"'6.БОЛ'!W17","v":0},{"$f":"'6.БОЛ'!X17","v":0},{"$f":"'6.БОЛ'!Y17","v":0},{"$f":"'6.БОЛ'!Z17","v":0},{"$f":"'6.БОЛ'!AA17","v":0},{"$f":"'6.БОЛ'!AB17","v":0},{"$f":"'6.БОЛ'!AC17","v":0},null,{"$f":"'01. СБИ_B'!Y80","v":0},{"$f":"'01. СБИ_B'!Z80","v":0},0]
[null,null,null,null,{"$f":"'01. СБИ_B'!E81","v":0},{"$f":"'01. СБИ_B'!J81","v":0},null,null,null,null,null,null,null,null,null,null,0,0,0,0,null,0,0,null,null,null,null,null,null,null,null,null,{"$f":"'01. СБИ_B'!Y81","v":0},{"$f":"'01. СБИ_B'!Z81","v":0},0]
[null,3,null,"Инвестиции без оборудования всего",{"$f":"'01. СБИ_B'!E82","v":249147},{"$f":"'01. СБИ_B'!J82","v":90413.827999999994},{"$f":"G76-G78-G80","v":224635.19099999996},3417.25,6647.0410000000002,153501.04999999999,61069.85,150364.56903000001,3417.23,6647.9350299999996,62039.358000000007,78260.046000000002,224635.19099999999,150364.56903000001,-74270.621969999978,-0.33062772417523834,null,31.761400000003306,1.413910254159746E-4,{"$f":"X76-X78-X80","v":0},0,31.761400000003306,224666.95239999998,{"$f":"AB76-AB78-AB80","v":3417.23},6647.2649999999994,153501.43860000002,61101.018800000013,null,{"$f":"'01. СБИ_B'!Y82","v":290000},{"$f":"'01. СБИ_B'!Z82","v":144048},8.7311491370201111E-11]
[null,null,null,null,{"$f":"'01. СБИ_B'!E83","v":0},{"$f":"'01. СБИ_B'!J83","v":0},null,null,null,null,null,null,null,null,null,null,0,0,0,0,null,0,0,null,null,null,null,null,null,null,null,null,{"$f":"'01. СБИ_B'!Y83","v":0},{"$f":"'01. СБИ_B'!Z83","v":0},0]
[null,null,null,null,{"$f":"'01. СБИ_B'!E84","v":0},{"$f":"'01. СБИ_B'!J84","v":0},null,null,null,null,null,null,null,null,null,null,0,0,0,0,null,0,0,null,null,null,null,null,null,null,null,null,{"$f":"'01. СБИ_B'!Y84","v":0},{"$f":"'01. СБИ_B'!Z84","v":0},0]
[null,null,null,"Справочно:",{"$f":"'01. СБИ_B'!E85","v":0},{"$f":"'01. СБИ_B'!J85","v":0},null,null,null,null,null,null,null,null,null,null,0,0,0,0,null,0,0,null,null,null,null,null,null,null,null,null,{"$f":"'01. СБИ_B'!Y85","v":0},{"$f":"'01. СБИ_B'!Z85","v":0},0]
[null,null,null,null,{"$f":"'01. СБИ_B'!E86","v":0},{"$f":"'01. СБИ_B'!J86","v":0},null,null,null,null,null,null,null,null,null,null,0,0,0,0,null,0,0,null,null,null,null,null,null,null,null,null,{"$f":"'01. СБИ_B'!Y86","v":0},{"$f":"'01. СБИ_B'!Z86","v":0},0]
[null,null,null,"Прочие движения по дебету 08 счёта",{"$f":"'01. СБИ_B'!E87","v":0},{"$f":"'01. СБИ_B'!J87","v":0},{"$f":"'06.БПД'!E18","v":0},{"$f":"'06.БПД'!F18","v":0},{"$f":"'06.БПД'!G18","v":0},{"$f":"'06.БПД'!H18","v":0},{"$f":"'06.БПД'!I18","v":0},{"$f":"'06.БПД'!J18","v":0},{"$f":"'06.БПД'!K18","v":0},{"$f":"'06.БПД'!L18","v":0},{"$f":"'06.БПД'!M18","v":0},{"$f":"'06.БПД'!N18","v":0},0,0,0,0,null,0,0,{"$f":"'06.БПД'!V18","v":0},{"$f":"'06.БПД'!W18","v":0},{"$f":"'06.БПД'!X18","v":0},{"$f":"'06.БПД'!Y18","v":0},{"$f":"'06.БПД'!Z18","v":0},{"$f":"'06.БПД'!AA18","v":0},{"$f":"'06.БПД'!AB18","v":0},{"$f":"'06.БПД'!AC18","v":0},null,{"$f":"'01. СБИ_B'!Y87","v":0},{"$f":"'01. СБИ_B'!Z87","v":0},0]
[null,null,null,null,{"$f":"'01. СБИ_B'!E88","v":0},{"$f":"'01. СБИ_B'!J88","v":0},null,null,null,null,null,null,null,null,null,null,0,0,0,0,null,0,0,null,null,null,null,null,null,null,null,null,{"$f":"'01. СБИ_B'!Y88","v":0},{"$f":"'01. СБИ_B'!Z88","v":0},0]
[null,null,null,"Итого (инвестиции в нефинансовые активы +ДФВ +прочие движения по Д-ту 08 счёта):",{"$f":"'01. СБИ_B'!E89","v":329619},{"$f":"'01. СБИ_B'!J89","v":130863.43699999999},{"$f":"G87+G17-G80","v":283519.83546624635},{"$f":"H87+H17-H80","v":3824.65},{"$f":"I87+I17-I80","v":7061.9210000000003},169546.11292672096,103087.15153952542,202896.92103,3824.63,7063.1680299999998,70424.338000000003,121584.785,283519.83546624635,202896.92103000003,-80622.914436246327,-0.28436428196871133,null,31.761400000003306,1.120253189614473E-4,{"$f":"X87+X17-X80","v":0},0,31.761400000003306,283551.59686624637,3824.63,7062.1449999999995,169546.501526721,103118.32033952544,null,{"$f":"'01. СБИ_B'!Y89","v":350000},{"$f":"'01. СБИ_B'!Z89","v":187048},8.7311491370201111E-11]
[]
[]
[null,null,null,"Сверка",{"$f":"SUM(ABS(E17-E43),ABS(E43-E76),ABS(E76-E78-E80-E82),ABS(E17-E19-E39),ABS(E19-E21-E28-E31-E33-E35-E37),ABS(E21-E22-E23-E25-E26-E27),ABS(E23-E24),ABS(E28-E29-E30),ABS(E43-E45-E71),ABS(E45-E47-E59-E61-E63-E65),ABS(E47-E49-E55-E57),ABS(E49-E50-E51-E52),ABS(E65-E66-E67-E68-E69), ABS(E89-(E87+E17-E80)))","v":0},{"$f":"SUM(ABS(F17-F43),ABS(F43-F76),ABS(F76-F78-F80-F82),ABS(F17-F19-F39),ABS(F19-F21-F28-F31-F33-F35-F37),ABS(F21-F22-F23-F25-F26-F27),ABS(F23-F24),ABS(F28-F29-F30),ABS(F43-F45-F71),ABS(F45-F47-F59-F61-F63-F65),ABS(F47-F49-F55-F57),ABS(F49-F50-F51-F52),ABS(F65-F66-F67-F68-F69), ABS(F89-(F87+F17-F80)))","v":0.19300000004113826},5.8207660913467407E-11,2.2737367544323206E-13,2.2737367544323206E-13,3.4106051316484809E-11,2.0918378140777349E-11,3.2741809263825417E-11,2.2737367544323206E-13,3.4106051316484809E-13,7.2759576141834259E-12,1.0913936421275139E-11,9.822542779147625E-11,7.6397554948925972E-11,1.7462298274040222E-10,null,null,{"$f":"SUM(ABS(V17-V43),ABS(V43-V76),ABS(V76-V78-V80-V82),ABS(V17-V19-V39),ABS(V19-V21-V28-V31-V33-V35-V37),ABS(V21-V22-V23-V25-V26-V27),ABS(V23-V24),ABS(V28-V29-V30),ABS(V43-V45-V71),ABS(V45-V47-V59-V61-V63-V65),ABS(V47-V49-V55-V57),ABS(V49-V50-V51-V52),ABS(V65-V66-V67-V68-V69), ABS(V89-(V87+V17-V80)))","v":0},null,0,0,0,2.1827872842550278E-11,2.2737367544323206E-13,2.5011104298755527E-12,2.7739588404074311E-11,2.0008883439004421E-11,null,0,0]
[null,"1  Форма заполняется по освоению (начислению). Подробнее -порядок заполнения формы определён в \"Положении об инвестиционном бюджете АК \"АЛРОСА\"."]
[null,"2  Прогнозные данные (1,2-й год, следующий за плановым)  носят справочный характер и не подразумевают авторизации плановых показателей этих периодов.   "]
[null,"3   В графе \"Отклонение\" производится сравнение факта с плановым периодом нарастающим итогом."]
[null,"4   При отклонении более 10% (не зависимо +/-) в графе \"Комментарии по отклонениям\" в форме указывается причина отклонения. Подробно - причины отклонений указываются в Пояснительной записке к инвестиционному бюджету/отчёту."]
[]
[]
[]
[null,null,null,"Гладуненко Вера  Викторовна"]
[null,null,null,"Исполнитель (ФИО):"]
[]
[null,null,null,"Начальник  СДО"]
[null,null,null,"Должность: "]
[]
[null,null,null,"8-411-36-79-494"]
[null,null,null,"Контактный телефон:"]
[]
[null,null,null,"sdo2@shpp.ru"]
[null,null,null,"Электронный адрес:"]
[]
[]
[]
[]
[null,"Примечание:"]
[null,"Затраты по объектам \"Здание ГЭС. Оснащение ответственных напорных гидротехнических сооружений автоматизированными системами диагностического контроля (АСДК)\" и \"ПКЗП. Переход через ручей Сыылага\" в размере 95 372 тыс.руб. отнесены в РЕЗЕРВ. Вывод из резерва осуществляется по отдельному согласованию с УИД АК \"АЛРОСА\" (ПАО) после предоставления обосновывающих материалов."]
[]
[]
[]
[]
[]
[null,"СОГЛАСОВАНО______________________________________Трофимов А.В."]

{"sheet":"2.СБП","index":6,"n_rows":63,"n_cols":33,"rows_kept":63,"cut":false,"hidden":false,"merged":[[5,2,5,4],[7,2,7,4],[0,1,0,6],[11,1,14,1],[11,3,14,3],[11,5,14,5],[11,4,14,4],[11,2,14,2],[11,6,11,15],[13,6,14,6],[13,7,14,7],[12,7,12,10],[12,12,12,15],[11,18,11,19],[11,20,14,20],[11,21,12,25],[11,26,11,30],[11,31,14,31],[12,18,12,19],[12,27,12,30],[13,18,14,18],[13,19,14,19],[13,21,13,22],[13,23,13,25],[13,26,14,26],[13,27,14,27],[13,28,14,28],[13,29,14,29],[13,30,14,30],[13,16,14,16],[13,17,14,17],[13,8,14,8],[13,9,14,9],[13,10,14,10],[13,11,14,11],[13,12,14,12],[13,13,14,13],[13,14,14,14],[13,15,14,15],[24,3,24,5],[25,3,25,5],[26,3,26,5],[19,3,19,5],[20,3,20,5],[21,3,21,5],[22,3,22,5],[23,3,23,5]]}
[null,"Назад к оглавлению",null,null,null,null,null,null,null,null,null,"base_fact","base_fact","base_fact","base_fact","base_fact","fact_fields","fact_fields","fact_fields","fact_fields","fact_fields","corr_fields","corr_fields","corr_fields","corr_fields","corr_fields","corr_fields","corr_fields","corr_fields","corr_fields","corr_fields","corr_fields"]
[]
[null,"Приложение № 2 к \"Положению об инвестиционном бюджете АК \"АЛРОСА\"\""]
[null,"Код формы: СБП"]
[]
[null,null,{"$f":"org","v":"АО \"Вилюйская ГЭС-3\""}]
[null,null,"Организационно-правовая форма и название Общества/структурного подразделения"]
[null,null,{"$f":"period_txt","v":"12 месяцев 2017"}]
[null,null," Плановый / отчётный период "]
[null,null,"Сводный бюджет инвестиций по проектам"]
[null,"Тыс. руб. без НДС 1"]
[null,"№","Общество / cтруктурное подразделение","Код проекта","Вид проекта","Наименование проекта","Плановый / отчётный период",null,null,null,null,null,null,null,null,null,"ПЛАН за","ФАКТ за","Отклонение за период2",null,"Комментарии по отклонениям3","Изменения к утверждённому плану по году",null,null,null,null,"Скорректированный план",null,null,null,null,"Комментарии по изменениям плана","Сверка"]
[null,null,null,null,null,null,"ПЛАН    ","в т.ч. по кварталам:",null,null,null,"ФАКТ ","в т.ч. по кварталам:",null,null,null,{"$f":"period","v":"12 месяцев"},{"$f":"Q13","v":"12 месяцев"},"12 месяцев",null,null,null,null,null,null,null,"ПЛАН    ","в т.ч. по кварталам:"]
[null,null,null,null,null,null,"Год   всего","1 кв.","2 кв.","3 кв.","4 кв.","Год   всего","1 кв.","2 кв.","3 кв.","4 кв.","Тыс.    руб.","Тыс.    руб.","Тыс.    руб.","% ",null,"Изменение всего",null,"В т.ч.",null,null,"Год   всего","1 кв.","2 кв.","3 кв.","4 кв."]
[null,null,null,null,null,null,null,null,null,null,null,null,null,null,null,null,null,null,null,null,null,"Тыс.    руб.","%","Вновь добавлено\n(указывается со знаком \"+\")","Исключено (указывается со знаком \"-\")","Изменение стоимости\n(удорожание \"+\", удешвление \"-\")"]
[null,1,{"$f":"B16+1","v":2},3,4,5,6,7,8,9,10,11,12,13,14,15,16,17,18,19,20,21,22,23,24,25,26,27,28,29,30,31]
[null,null,null," ИНВЕСТИЦИИ  ВСЕГО (включая лизинг)",null,null,{"$f":"'1.СБИ'!G17","v":283519.83546624635},{"$f":"'1.СБИ'!H17","v":3824.65},{"$f":"'1.СБИ'!I17","v":7061.9210000000003},{"$f":"'1.СБИ'!J17","v":169546.11292672096},{"$f":"'1.СБИ'!K17","v":103087.15153952542},{"$f":"'1.СБИ'!L17","v":202896.92103},{"$f":"'1.СБИ'!M17","v":3824.63},{"$f":"'1.СБИ'!N17","v":7063.1680299999998},{"$f":"'1.СБИ'!O17","v":70424.338000000003},{"$f":"'1.СБИ'!P17","v":121584.785},{"$f":"IF(period=period_1Q, H17, IF(period=period_1H, SUM(H17:I17), IF(period=period_9M, SUM(H17:J17), IF(period=period_1Y,SUM(H17:K17),0))))","v":283519.83546624635},{"$f":"IF(period=period_1Q, M17, IF(period=period_1H, SUM(M17:N17), IF(period=period_9M, SUM(M17:O17), IF(period=period_1Y,SUM(M17:P17),0))))","v":202896.92103000003},{"$f":"R17-Q17","v":-80622.914436246327},{"$f":"IFERROR(S17/Q17, 0)","v":-0.28436428196871133},null,{"$f":"SUM(X17:Z17)","v":31.761400000003306},{"$f":"IFERROR(V17/G17, 0)","v":1.120253189614473E-4},{"$f":"'1.СБИ'!X17","v":0},{"$f":"'1.СБИ'!Y17","v":0},{"$f":"'1.СБИ'!Z17","v":31.761400000003306},{"$f":"'1.СБИ'!AA17","v":283551.59686624637},{"$f":"'1.СБИ'!AB17","v":3824.63},{"$f":"'1.СБИ'!AC17","v":7062.1449999999995},{"$f":"'1.СБИ'!AD17","v":169546.501526721},{"$f":"'1.СБИ'!AE17","v":103118.32033952544},null,{"$f":"SUM(ABS(G17-SUM(H17:K17)), ABS(L17-SUM(M17:P17)), ABS(V17-SUM(X17:Z17)), ABS(AA17-SUM(AB17:AE17)))","v":8.7311491370201111E-11}]
[null,"I.",null,"НЕПРОЕКТНАЯ ДЕЯТЕЛЬНОСТЬ",null,null,{"$f":"G17-G19","v":283519.83546624635},{"$f":"H17-H19","v":3824.65},{"$f":"I17-I19","v":7061.9210000000003},169546.11292672096,{"$f":"K17-K19","v":103087.15153952542},202896.92103,3824.63,7063.1680299999998,70424.338000000003,121584.785,283519.83546624635,202896.92103000003,-80622.914436246327,-0.28436428196871133,null,31.761400000003306,1.120253189614473E-4,{"$f":"X17-X19","v":0},0,31.761400000003306,283551.59686624637,3824.63,7062.1449999999995,169546.501526721,103118.32033952544,null,8.7311491370201111E-11]
[null,"II.",null,"ПРОЕКТНАЯ ДЕЯТЕЛЬНОСТЬ, в т.ч.:",null,null,{"$f":"SUM(G20:G27)","v":0},0,0,0,0,0,0,0,0,0,0,0,0,0,null,0,0,{"$f":"SUM(X20:X27)","v":0},0,0,0,0,0,0,0,null,0]
[null,"1.",null,"Проекты алмазодобычи",null,null,{"$f":"SUMIF($E:$E,$D20,G:G )","v":0},{"$f":"SUMIF($E:$E,$D20,H:H )","v":0},0,0,0,0,0,0,0,0,0,0,0,0,null,0,0,{"$f":"SUMIF($E:$E,$D20,X:X )","v":0},0,0,0,0,0,0,0,null,0]
[null,"2.",null,"Проекты обогатителных мощностей",null,null,0,0,{"$f":"SUMIF($E:$E,$D21,I:I )","v":0},0,0,0,0,0,0,0,0,0,0,0,null,0,0,0,0,0,0,0,0,0,0,null,0]
[null,"3.",null,"Транспорт и логистика",null,null,0,0,0,0,0,0,0,0,0,0,0,0,0,0,null,0,0,0,0,0,0,0,0,0,{"$f":"SUMIF($E:$E,$D22,AE:AE )","v":0},null,0]
[null,"4.",null,"Сортировка, огранка, сбыт",null,null,0,0,0,0,0,0,0,0,0,0,0,0,0,0,null,0,0,0,0,0,0,0,0,0,0,null,0]
[null,"5.",null,"Геологоразведка",null,null,0,0,0,0,0,0,0,0,0,0,0,0,0,0,null,0,0,0,0,0,0,0,0,0,0,null,0]
[null,"6.",null,"Проекты вспомогателного характера",null,null,0,0,0,0,0,0,0,0,0,0,0,0,0,0,null,0,0,0,0,0,0,0,0,0,0,null,0]
[null,"7.",null,"Проекты непромышленного характера (социального назначения)",null,null,0,0,0,0,0,0,0,0,0,0,0,0,0,0,null,0,0,0,0,0,0,0,0,0,0,null,0]
[null,"8.",null,"Прочие проекты",null,null,0,0,0,{"$f":"SUMIF($E:$E,$D27,J:J )","v":0},0,0,0,0,0,0,0,0,0,0,null,0,0,0,0,0,0,0,0,0,0,null,0]
[null,{"$f":"IF(D28=\"\", \"\", '04.РИП'!A15)","v":""},{"$f":"IF(D28=\"\", \"\", '04.РИП'!D15)","v":""},{"$f":"IF(ISBLANK('04.РИП'!B15), \"\", '04.РИП'!B15)","v":""},{"$f":"IF(D28=\"\", \"\", '04.РИП'!E15)","v":""},{"$f":"IF(D28=\"\", \"\", '04.РИП'!C15)","v":""},{"$f":"IF($D28=\"\", 0, SUMIF('7.СМР'!$D:$D, $D28, '7.СМР'!G:G)+SUMIF('8.ОСС'!$D:$D, $D28, '8.ОСС'!Y:Y)+SUMIF('9.ПИР'!$D:$D, $D28, '9.ПИР'!G:G)+SUMIF('10.БКП'!$D:$D, $D28, '10.БКП'!G:G)+SUMIF('11.ПЗС'!$D:$D, $D28, '11.ПЗС'!H:H)+SUMIF('12.ТП_БЭФ'!$D:$D, $D28, '12.ТП_БЭФ'!AA:AA)+SUMIF('13.ТП_СЭФ'!$D:$D, $D28, '13.ТП_СЭФ'!AI:AI)+SUMIF('14.ОВИЗ'!$D:$D, $D28, '14.ОВИЗ'!AJ:AJ)+SUMIF('15.ГРР'!$D:$D, $D28, '15.ГРР'!G:G)+SUMIF('16.НИОКР'!$D:$D, $D28, '16.НИОКР'!G:G)+SUMIF('17.НМА'!$D:$D, $D28, '17.НМА'!H:H)+SUMIF('18.ПКЗ'!$D:$D, $D28, '18.ПКЗ'!H:H)+SUMIF('19.БФИ'!$D:$D, $D28, '19.БФИ'!H:H))","v":0},{"$f":"IF($D28=\"\", 0, SUMIF('7.СМР'!$D:$D, $D28, '7.СМР'!H:H)+SUMIF('8.ОСС'!$D:$D, $D28, '8.ОСС'!Z:Z)+SUMIF('9.ПИР'!$D:$D, $D28, '9.ПИР'!H:H)+SUMIF('10.БКП'!$D:$D, $D28, '10.БКП'!H:H)+SUMIF('11.ПЗС'!$D:$D, $D28, '11.ПЗС'!I:I)+SUMIF('12.ТП_БЭФ'!$D:$D, $D28, '12.ТП_БЭФ'!AB:AB)+SUMIF('13.ТП_СЭФ'!$D:$D, $D28, '13.ТП_СЭФ'!AJ:AJ)+SUMIF('14.ОВИЗ'!$D:$D, $D28, '14.ОВИЗ'!AK:AK)+SUMIF('15.ГРР'!$D:$D, $D28, '15.ГРР'!H:H)+SUMIF('16.НИОКР'!$D:$D, $D28, '16.НИОКР'!H:H)+SUMIF('17.НМА'!$D:$D, $D28, '17.НМА'!I:I)+SUMIF('18.ПКЗ'!$D:$D, $D28, '18.ПКЗ'!I:I)+SUMIF('19.БФИ'!$D:$D, $D28, '19.БФИ'!I:I))","v":0},{"$f":"IF($D28=\"\", 0, SUMIF('7.СМР'!$D:$D, $D28, '7.СМР'!I:I)+SUMIF('8.ОСС'!$D:$D, $D28, '8.ОСС'!AA:AA)+SUMIF('9.ПИР'!$D:$D, $D28, '9.ПИР'!I:I)+SUMIF('10.БКП'!$D:$D, $D28, '10.БКП'!I:I)+SUMIF('11.ПЗС'!$D:$D, $D28, '11.ПЗС'!J:J)+SUMIF('12.ТП_БЭФ'!$D:$D, $D28, '12.ТП_БЭФ'!AC:AC)+SUMIF('13.ТП_СЭФ'!$D:$D, $D28, '13.ТП_СЭФ'!AK:AK)+SUMIF('14.ОВИЗ'!$D:$D, $D28, '14.ОВИЗ'!AL:AL)+SUMIF('15.ГРР'!$D:$D, $D28, '15.ГРР'!I:I)+SUMIF('16.НИОКР'!$D:$D, $D28, '16.НИОКР'!I:I)+SUMIF('17.НМА'!$D:$D, $D28, '17.НМА'!J:J)+SUMIF('18.ПКЗ'!$D:$D, $D28, '18.ПКЗ'!J:J)+SUMIF('19.БФИ'!$D:$D, $D28, '19.БФИ'!J:J))","v":0},{"$f":"IF($D28=\"\", 0, SUMIF('7.СМР'!$D:$D, $D28, '7.СМР'!J:J)+SUMIF('8.ОСС'!$D:$D, $D28, '8.ОСС'!AB:AB)+SUMIF('9.ПИР'!$D:$D, $D28, '9.ПИР'!J:J)+SUMIF('10.БКП'!$D:$D, $D28, '10.БКП'!J:J)+SUMIF('11.ПЗС'!$D:$D, $D28, '11.ПЗС'!K:K)+SUMIF('12.ТП_БЭФ'!$D:$D, $D28, '12.ТП_БЭФ'!AD:AD)+SUMIF('13.ТП_СЭФ'!$D:$D, $D28, '13.ТП_СЭФ'!AL:AL)+SUMIF('14.ОВИЗ'!$D:$D, $D28, '14.ОВИЗ'!AM:AM)+SUMIF('15.ГРР'!$D:$D, $D28, '15.ГРР'!J:J)+SUMIF('16.НИОКР'!$D:$D, $D28, '16.НИОКР'!J:J)+SUMIF('17.НМА'!$D:$D, $D28, '17.НМА'!K:K)+SUMIF('18.ПКЗ'!$D:$D, $D28, '18.ПКЗ'!K:K)+SUMIF('19.БФИ'!$D:$D, $D28, '19.БФИ'!K:K))","v":0},{"$f":"IF($D28=\"\", 0, SUMIF('7.СМР'!$D:$D, $D28, '7.СМР'!K:K)+SUMIF('8.ОСС'!$D:$D, $D28, '8.ОСС'!AC:AC)+SUMIF('9.ПИР'!$D:$D, $D28, '9.ПИР'!K:K)+SUMIF('10.БКП'!$D:$D, $D28, '10.БКП'!K:K)+SUMIF('11.ПЗС'!$D:$D, $D28, '11.ПЗС'!L:L)+SUMIF('12.ТП_БЭФ'!$D:$D, $D28, '12.ТП_БЭФ'!AE:AE)+SUMIF('13.ТП_СЭФ'!$D:$D, $D28, '13.ТП_СЭФ'!AM:AM)+SUMIF('14.ОВИЗ'!$D:$D, $D28, '14.ОВИЗ'!AN:AN)+SUMIF('15.ГРР'!$D:$D, $D28, '15.ГРР'!K:K)+SUMIF('16.НИОКР'!$D:$D, $D28, '16.НИОКР'!K:K)+SUMIF('17.НМА'!$D:$D, $D28, '17.НМА'!L:L)+SUMIF('18.ПКЗ'!$D:$D, $D28, '18.ПКЗ'!L:L)+SUMIF('19.БФИ'!$D:$D, $D28, '19.БФИ'!L:L))","v":0},{"$f":"IF($D28=\"\", 0, SUMIF('7.СМР'!$D:$D, $D28, '7.СМР'!L:L)+SUMIF('8.ОСС'!$D:$D, $D28, '8.ОСС'!AD:AD)+SUMIF('9.ПИР'!$D:$D, $D28, '9.ПИР'!L:L)+SUMIF('10.БКП'!$D:$D, $D28, '10.БКП'!L:L)+SUMIF('11.ПЗС'!$D:$D, $D28, '11.ПЗС'!M:M)+SUMIF('12.ТП_БЭФ'!$D:$D, $D28, '12.ТП_БЭФ'!AF:AF)+SUMIF('13.ТП_СЭФ'!$D:$D, $D28, '13.ТП_СЭФ'!AN:AN)+SUMIF('14.ОВИЗ'!$D:$D, $D28, '14.ОВИЗ'!AO:AO)+SUMIF('15.ГРР'!$D:$D, $D28, '15.ГРР'!L:L)+SUMIF('16.НИОКР'!$D:$D, $D28, '16.НИОКР'!L:L)+SUMIF('17.НМА'!$D:$D, $D28, '17.НМА'!M:M)+SUMIF('18.ПКЗ'!$D:$D, $D28, '18.ПКЗ'!M:M)+SUMIF('19.БФИ'!$D:$D, $D28, '19.БФИ'!M:M))","v":0},{"$f":"IF($D28=\"\", 0, SUMIF('7.СМР'!$D:$D, $D28, '7.СМР'!M:M)+SUMIF('8.ОСС'!$D:$D, $D28, '8.ОСС'!AE:AE)+SUMIF('9.ПИР'!$D:$D, $D28, '9.ПИР'!M:M)+SUMIF('10.БКП'!$D:$D, $D28, '10.БКП'!M:M)+SUMIF('11.ПЗС'!$D:$D, $D28, '11.ПЗС'!N:N)+SUMIF('12.ТП_БЭФ'!$D:$D, $D28, '12.ТП_БЭФ'!AG:AG)+SUMIF('13.ТП_СЭФ'!$D:$D, $D28, '13.ТП_СЭФ'!AO:AO)+SUMIF('14.ОВИЗ'!$D:$D, $D28, '14.ОВИЗ'!AP:AP)+SUMIF('15.ГРР'!$D:$D, $D28, '15.ГРР'!M:M)+SUMIF('16.НИОКР'!$D:$D, $D28, '16.НИОКР'!M:M)+SUMIF('17.НМА'!$D:$D, $D28, '17.НМА'!N:N)+SUMIF('18.ПКЗ'!$D:$D, $D28, '18.ПКЗ'!N:N)+SUMIF('19.БФИ'!$D:$D, $D28, '19.БФИ'!N:N))","v":0},{"$f":"IF($D28=\"\", 0, SUMIF('7.СМР'!$D:$D, $D28, '7.СМР'!N:N)+SUMIF('8.ОСС'!$D:$D, $D28, '8.ОСС'!AF:AF)+SUMIF('9.ПИР'!$D:$D, $D28, '9.ПИР'!N:N)+SUMIF('10.БКП'!$D:$D, $D28, '10.БКП'!N:N)+SUMIF('11.ПЗС'!$D:$D, $D28, '11.ПЗС'!O:O)+SUMIF('12.ТП_БЭФ'!$D:$D, $D28, '12.ТП_БЭФ'!AH:AH)+SUMIF('13.ТП_СЭФ'!$D:$D, $D28, '13.ТП_СЭФ'!AP:AP)+SUMIF('14.ОВИЗ'!$D:$D, $D28, '14.ОВИЗ'!AQ:AQ)+SUMIF('15.ГРР'!$D:$D, $D28, '15.ГРР'!N:N)+SUMIF('16.НИОКР'!$D:$D, $D28, '16.НИОКР'!N:N)+SUMIF('17.НМА'!$D:$D, $D28, '17.НМА'!O:O)+SUMIF('18.ПКЗ'!$D:$D, $D28, '18.ПКЗ'!O:O)+SUMIF('19.БФИ'!$D:$D, $D28, '19.БФИ'!O:O))","v":0},{"$f":"IF($D28=\"\", 0, SUMIF('7.СМР'!$D:$D, $D28, '7.СМР'!O:O)+SUMIF('8.ОСС'!$D:$D, $D28, '8.ОСС'!AG:AG)+SUMIF('9.ПИР'!$D:$D, $D28, '9.ПИР'!O:O)+SUMIF('10.БКП'!$D:$D, $D28, '10.БКП'!O:O)+SUMIF('11.ПЗС'!$D:$D, $D28, '11.ПЗС'!P:P)+SUMIF('12.ТП_БЭФ'!$D:$D, $D28, '12.ТП_БЭФ'!AI:AI)+SUMIF('13.ТП_СЭФ'!$D:$D, $D28, '13.ТП_СЭФ'!AQ:AQ)+SUMIF('14.ОВИЗ'!$D:$D, $D28, '14.ОВИЗ'!AR:AR)+SUMIF('15.ГРР'!$D:$D, $D28, '15.ГРР'!O:O)+SUMIF('16.НИОКР'!$D:$D, $D28, '16.НИОКР'!O:O)+SUMIF('17.НМА'!$D:$D, $D28, '17.НМА'!P:P)+SUMIF('18.ПКЗ'!$D:$D, $D28, '18.ПКЗ'!P:P)+SUMIF('19.БФИ'!$D:$D, $D28, '19.БФИ'!P:P))","v":0},{"$f":"IF($D28=\"\", 0, SUMIF('7.СМР'!$D:$D, $D28, '7.СМР'!P:P)+SUMIF('8.ОСС'!$D:$D, $D28, '8.ОСС'!AH:AH)+SUMIF('9.ПИР'!$D:$D, $D28, '9.ПИР'!P:P)+SUMIF('10.БКП'!$D:$D, $D28, '10.БКП'!P:P)+SUMIF('11.ПЗС'!$D:$D, $D28, '11.ПЗС'!Q:Q)+SUMIF('12.ТП_БЭФ'!$D:$D, $D28, '12.ТП_БЭФ'!AJ:AJ)+SUMIF('13.ТП_СЭФ'!$D:$D, $D28, '13.ТП_СЭФ'!AR:AR)+SUMIF('14.ОВИЗ'!$D:$D, $D28, '14.ОВИЗ'!AS:AS)+SUMIF('15.ГРР'!$D:$D, $D28, '15.ГРР'!P:P)+SUMIF('16.НИОКР'!$D:$D, $D28, '16.НИОКР'!P:P)+SUMIF('17.НМА'!$D:$D, $D28, '17.НМА'!Q:Q)+SUMIF('18.ПКЗ'!$D:$D, $D28, '18.ПКЗ'!Q:Q)+SUMIF('19.БФИ'!$D:$D, $D28, '19.БФИ'!Q:Q))","v":0},{"$f":"IF(period=period_1Q, H28, IF(period=period_1H, SUM(H28:I28), IF(period=period_9M, SUM(H28:J28), IF(period=period_1Y,SUM(H28:K28),0))))","v":0},{"$f":"IF(period=period_1Q, M28, IF(period=period_1H, SUM(M28:N28), IF(period=period_9M, SUM(M28:O28), IF(period=period_1Y,SUM(M28:P28),0))))","v":0},{"$f":"R28-Q28","v":0},{"$f":"IFERROR(S28/Q28, 0)","v":0},null,{"$f":"SUM(X28:Z28)","v":0},{"$f":"IFERROR(V28/G28, 0)","v":0},{"$f":"IF($D28=\"\", 0, SUMIF('7.СМР'!$D:$D, $D28, '7.СМР'!X:X)+SUMIF('8.ОСС'!$D:$D, $D28, '8.ОСС'!AP:AP)+SUMIF('9.ПИР'!$D:$D, $D28, '9.ПИР'!X:X)+SUMIF('10.БКП'!$D:$D, $D28, '10.БКП'!X:X)+SUMIF('11.ПЗС'!$D:$D, $D28, '11.ПЗС'!Y:Y)+SUMIF('12.ТП_БЭФ'!$D:$D, $D28, '12.ТП_БЭФ'!AR:AR)+SUMIF('13.ТП_СЭФ'!$D:$D, $D28, '13.ТП_СЭФ'!AZ:AZ)+SUMIF('14.ОВИЗ'!$D:$D, $D28, '14.ОВИЗ'!BA:BA)+SUMIF('15.ГРР'!$D:$D, $D28, '15.ГРР'!X:X)+SUMIF('16.НИОКР'!$D:$D, $D28, '16.НИОКР'!X:X)+SUMIF('17.НМА'!$D:$D, $D28, '17.НМА'!Y:Y)+SUMIF('18.ПКЗ'!$D:$D, $D28, '18.ПКЗ'!Y:Y)+SUMIF('19.БФИ'!$D:$D, $D28, '19.БФИ'!Y:Y))","v":0},{"$f":"IF($D28=\"\", 0, SUMIF('7.СМР'!$D:$D, $D28, '7.СМР'!Y:Y)+SUMIF('8.ОСС'!$D:$D, $D28, '8.ОСС'!AQ:AQ)+SUMIF('9.ПИР'!$D:$D, $D28, '9.ПИР'!Y:Y)+SUMIF('10.БКП'!$D:$D, $D28, '10.БКП'!Y:Y)+SUMIF('11.ПЗС'!$D:$D, $D28, '11.ПЗС'!Z:Z)+SUMIF('12.ТП_БЭФ'!$D:$D, $D28, '12.ТП_БЭФ'!AS:AS)+SUMIF('13.ТП_СЭФ'!$D:$D, $D28, '13.ТП_СЭФ'!BA:BA)+SUMIF('14.ОВИЗ'!$D:$D, $D28, '14.ОВИЗ'!BB:BB)+SUMIF('15.ГРР'!$D:$D, $D28, '15.ГРР'!Y:Y)+SUMIF('16.НИОКР'!$D:$D, $D28, '16.НИОКР'!Y:Y)+SUMIF('17.НМА'!$D:$D, $D28, '17.НМА'!Z:Z)+SUMIF('18.ПКЗ'!$D:$D, $D28, '18.ПКЗ'!Z:Z)+SUMIF('19.БФИ'!$D:$D, $D28, '19.БФИ'!Z:Z))","v":0},{"$f":"IF($D28=\"\", 0, SUMIF('7.СМР'!$D:$D, $D28, '7.СМР'!Z:Z)+SUMIF('8.ОСС'!$D:$D, $D28, '8.ОСС'!AR:AR)+SUMIF('9.ПИР'!$D:$D, $D28, '9.ПИР'!Z:Z)+SUMIF('10.БКП'!$D:$D, $D28, '10.БКП'!Z:Z)+SUMIF('11.ПЗС'!$D:$D, $D28, '11.ПЗС'!AA:AA)+SUMIF('12.ТП_БЭФ'!$D:$D, $D28, '12.ТП_БЭФ'!AT:AT)+SUMIF('13.ТП_СЭФ'!$D:$D, $D28, '13.ТП_СЭФ'!BB:BB)+SUMIF('14.ОВИЗ'!$D:$D, $D28, '14.ОВИЗ'!BC:BC)+SUMIF('15.ГРР'!$D:$D, $D28, '15.ГРР'!Z:Z)+SUMIF('16.НИОКР'!$D:$D, $D28, '16.НИОКР'!Z:Z)+SUMIF('17.НМА'!$D:$D, $D28, '17.НМА'!AA:AA)+SUMIF('18.ПКЗ'!$D:$D, $D28, '18.ПКЗ'!AA:AA)+SUMIF('19.БФИ'!$D:$D, $D28, '19.БФИ'!AA:AA))","v":0},{"$f":"IF($D28=\"\", 0, SUMIF('7.СМР'!$D:$D, $D28, '7.СМР'!AA:AA)+SUMIF('8.ОСС'!$D:$D, $D28, '8.ОСС'!AS:AS)+SUMIF('9.ПИР'!$D:$D, $D28, '9.ПИР'!AA:AA)+SUMIF('10.БКП'!$D:$D, $D28, '10.БКП'!AA:AA)+SUMIF('11.ПЗС'!$D:$D, $D28, '11.ПЗС'!AB:AB)+SUMIF('12.ТП_БЭФ'!$D:$D, $D28, '12.ТП_БЭФ'!AU:AU)+SUMIF('13.ТП_СЭФ'!$D:$D, $D28, '13.ТП_СЭФ'!BC:BC)+SUMIF('14.ОВИЗ'!$D:$D, $D28, '14.ОВИЗ'!BD:BD)+SUMIF('15.ГРР'!$D:$D, $D28, '15.ГРР'!AA:AA)+SUMIF('16.НИОКР'!$D:$D, $D28, '16.НИОКР'!AA:AA)+SUMIF('17.НМА'!$D:$D, $D28, '17.НМА'!AB:AB)+SUMIF('18.ПКЗ'!$D:$D, $D28, '18.ПКЗ'!AB:AB)+SUMIF('19.БФИ'!$D:$D, $D28, '19.БФИ'!AB:AB))","v":0},{"$f":"IF($D28=\"\", 0, SUMIF('7.СМР'!$D:$D, $D28, '7.СМР'!AB:AB)+SUMIF('8.ОСС'!$D:$D, $D28, '8.ОСС'!AT:AT)+SUMIF('9.ПИР'!$D:$D, $D28, '9.ПИР'!AB:AB)+SUMIF('10.БКП'!$D:$D, $D28, '10.БКП'!AB:AB)+SUMIF('11.ПЗС'!$D:$D, $D28, '11.ПЗС'!AC:AC)+SUMIF('12.ТП_БЭФ'!$D:$D, $D28, '12.ТП_БЭФ'!AV:AV)+SUMIF('13.ТП_СЭФ'!$D:$D, $D28, '13.ТП_СЭФ'!BD:BD)+SUMIF('14.ОВИЗ'!$D:$D, $D28, '14.ОВИЗ'!BE:BE)+SUMIF('15.ГРР'!$D:$D, $D28, '15.ГРР'!AB:AB)+SUMIF('16.НИОКР'!$D:$D, $D28, '16.НИОКР'!AB:AB)+SUMIF('17.НМА'!$D:$D, $D28, '17.НМА'!AC:AC)+SUMIF('18.ПКЗ'!$D:$D, $D28, '18.ПКЗ'!AC:AC)+SUMIF('19.БФИ'!$D:$D, $D28, '19.БФИ'!AC:AC))","v":0},{"$f":"IF($D28=\"\", 0, SUMIF('7.СМР'!$D:$D, $D28, '7.СМР'!AC:AC)+SUMIF('8.ОСС'!$D:$D, $D28, '8.ОСС'!AU:AU)+SUMIF('9.ПИР'!$D:$D, $D28, '9.ПИР'!AC:AC)+SUMIF('10.БКП'!$D:$D, $D28, '10.БКП'!AC:AC)+SUMIF('11.ПЗС'!$D:$D, $D28, '11.ПЗС'!AD:AD)+SUMIF('12.ТП_БЭФ'!$D:$D, $D28, '12.ТП_БЭФ'!AW:AW)+SUMIF('13.ТП_СЭФ'!$D:$D, $D28, '13.ТП_СЭФ'!BE:BE)+SUMIF('14.ОВИЗ'!$D:$D, $D28, '14.ОВИЗ'!BF:BF)+SUMIF('15.ГРР'!$D:$D, $D28, '15.ГРР'!AC:AC)+SUMIF('16.НИОКР'!$D:$D, $D28, '16.НИОКР'!AC:AC)+SUMIF('17.НМА'!$D:$D, $D28, '17.НМА'!AD:AD)+SUMIF('18.ПКЗ'!$D:$D, $D28, '18.ПКЗ'!AD:AD)+SUMIF('19.БФИ'!$D:$D, $D28, '19.БФИ'!AD:AD))","v":0},{"$f":"IF($D28=\"\", 0, SUMIF('7.СМР'!$D:$D, $D28, '7.СМР'!AD:AD)+SUMIF('8.ОСС'!$D:$D, $D28, '8.ОСС'!AV:AV)+SUMIF('9.ПИР'!$D:$D, $D28, '9.ПИР'!AD:AD)+SUMIF('10.БКП'!$D:$D, $D28, '10.БКП'!AD:AD)+SUMIF('11.ПЗС'!$D:$D, $D28, '11.ПЗС'!AE:AE)+SUMIF('12.ТП_БЭФ'!$D:$D, $D28, '12.ТП_БЭФ'!AX:AX)+SUMIF('13.ТП_СЭФ'!$D:$D, $D28, '13.ТП_СЭФ'!BF:BF)+SUMIF('14.ОВИЗ'!$D:$D, $D28, '14.ОВИЗ'!BG:BG)+SUMIF('15.ГРР'!$D:$D, $D28, '15.ГРР'!AD:AD)+SUMIF('16.НИОКР'!$D:$D, $D28, '16.НИОКР'!AD:AD)+SUMIF('17.НМА'!$D:$D, $D28, '17.НМА'!AE:AE)+SUMIF('18.ПКЗ'!$D:$D, $D28, '18.ПКЗ'!AE:AE)+SUMIF('19.БФИ'!$D:$D, $D28, '19.БФИ'!AE:AE))","v":0},{"$f":"IF($D28=\"\", 0, SUMIF('7.СМР'!$D:$D, $D28, '7.СМР'!AE:AE)+SUMIF('8.ОСС'!$D:$D, $D28, '8.ОСС'!AW:AW)+SUMIF('9.ПИР'!$D:$D, $D28, '9.ПИР'!AE:AE)+SUMIF('10.БКП'!$D:$D, $D28, '10.БКП'!AE:AE)+SUMIF('11.ПЗС'!$D:$D, $D28, '11.ПЗС'!AF:AF)+SUMIF('12.ТП_БЭФ'!$D:$D, $D28, '12.ТП_БЭФ'!AY:AY)+SUMIF('13.ТП_СЭФ'!$D:$D, $D28, '13.ТП_СЭФ'!BG:BG)+SUMIF('14.ОВИЗ'!$D:$D, $D28, '14.ОВИЗ'!BH:BH)+SUMIF('15.ГРР'!$D:$D, $D28, '15.ГРР'!AE:AE)+SUMIF('16.НИОКР'!$D:$D, $D28, '16.НИОКР'!AE:AE)+SUMIF('17.НМА'!$D:$D, $D28, '17.НМА'!AF:AF)+SUMIF('18.ПКЗ'!$D:$D, $D28, '18.ПКЗ'!AF:AF)+SUMIF('19.БФИ'!$D:$D, $D28, '19.БФИ'!AF:AF))","v":0},null,0]
[null,{"$f":"IF(D29=\"\", \"\", '04.РИП'!A39)","v":""},{"$f":"IF(D29=\"\", \"\", '04.РИП'!D39)","v":""},{"$f":"IF(ISBLANK('04.РИП'!B39), \"\", '04.РИП'!B39)","v":""},{"$f":"IF(D29=\"\", \"\", '04.РИП'!E39)","v":""},{"$f":"IF(D29=\"\", \"\", '04.РИП'!C39)","v":""},{"$f":"IF($D29=\"\", 0, SUMIF('7.СМР'!$D:$D, $D29, '7.СМР'!G:G)+SUMIF('8.ОСС'!$D:$D, $D29, '8.ОСС'!Y:Y)+SUMIF('9.ПИР'!$D:$D, $D29, '9.ПИР'!G:G)+SUMIF('10.БКП'!$D:$D, $D29, '10.БКП'!G:G)+SUMIF('11.ПЗС'!$D:$D, $D29, '11.ПЗС'!H:H)+SUMIF('12.ТП_БЭФ'!$D:$D, $D29, '12.ТП_БЭФ'!AA:AA)+SUMIF('13.ТП_СЭФ'!$D:$D, $D29, '13.ТП_СЭФ'!AI:AI)+SUMIF('14.ОВИЗ'!$D:$D, $D29, '14.ОВИЗ'!AJ:AJ)+SUMIF('15.ГРР'!$D:$D, $D29, '15.ГРР'!G:G)+SUMIF('16.НИОКР'!$D:$D, $D29, '16.НИОКР'!G:G)+SUMIF('17.НМА'!$D:$D, $D29, '17.НМА'!H:H)+SUMIF('18.ПКЗ'!$D:$D, $D29, '18.ПКЗ'!H:H)+SUMIF('19.БФИ'!$D:$D, $D29, '19.БФИ'!H:H))","v":0},{"$f":"IF($D29=\"\", 0, SUMIF('7.СМР'!$D:$D, $D29, '7.СМР'!H:H)+SUMIF('8.ОСС'!$D:$D, $D29, '8.ОСС'!Z:Z)+SUMIF('9.ПИР'!$D:$D, $D29, '9.ПИР'!H:H)+SUMIF('10.БКП'!$D:$D, $D29, '10.БКП'!H:H)+SUMIF('11.ПЗС'!$D:$D, $D29, '11.ПЗС'!I:I)+SUMIF('12.ТП_БЭФ'!$D:$D, $D29, '12.ТП_БЭФ'!AB:AB)+SUMIF('13.ТП_СЭФ'!$D:$D, $D29, '13.ТП_СЭФ'!AJ:AJ)+SUMIF('14.ОВИЗ'!$D:$D, $D29, '14.ОВИЗ'!AK:AK)+SUMIF('15.ГРР'!$D:$D, $D29, '15.ГРР'!H:H)+SUMIF('16.НИОКР'!$D:$D, $D29, '16.НИОКР'!H:H)+SUMIF('17.НМА'!$D:$D, $D29, '17.НМА'!I:I)+SUMIF('18.ПКЗ'!$D:$D, $D29, '18.ПКЗ'!I:I)+SUMIF('19.БФИ'!$D:$D, $D29, '19.БФИ'!I:I))","v":0},{"$f":"IF($D29=\"\", 0, SUMIF('7.СМР'!$D:$D, $D29, '7.СМР'!I:I)+SUMIF('8.ОСС'!$D:$D, $D29, '8.ОСС'!AA:AA)+SUMIF('9.ПИР'!$D:$D, $D29, '9.ПИР'!I:I)+SUMIF('10.БКП'!$D:$D, $D29, '10.БКП'!I:I)+SUMIF('11.ПЗС'!$D:$D, $D29, '11.ПЗС'!J:J)+SUMIF('12.ТП_БЭФ'!$D:$D, $D29, '12.ТП_БЭФ'!AC:AC)+SUMIF('13.ТП_СЭФ'!$D:$D, $D29, '13.ТП_СЭФ'!AK:AK)+SUMIF('14.ОВИЗ'!$D:$D, $D29, '14.ОВИЗ'!AL:AL)+SUMIF('15.ГРР'!$D:$D, $D29, '15.ГРР'!I:I)+SUMIF('16.НИОКР'!$D:$D, $D29, '16.НИОКР'!I:I)+SUMIF('17.НМА'!$D:$D, $D29, '17.НМА'!J:J)+SUMIF('18.ПКЗ'!$D:$D, $D29, '18.ПКЗ'!J:J)+SUMIF('19.БФИ'!$D:$D, $D29, '19.БФИ'!J:J))","v":0},{"$f":"IF($D29=\"\", 0, SUMIF('7.СМР'!$D:$D, $D29, '7.СМР'!J:J)+SUMIF('8.ОСС'!$D:$D, $D29, '8.ОСС'!AB:AB)+SUMIF('9.ПИР'!$D:$D, $D29, '9.ПИР'!J:J)+SUMIF('10.БКП'!$D:$D, $D29, '10.БКП'!J:J)+SUMIF('11.ПЗС'!$D:$D, $D29, '11.ПЗС'!K:K)+SUMIF('12.ТП_БЭФ'!$D:$D, $D29, '12.ТП_БЭФ'!AD:AD)+SUMIF('13.ТП_СЭФ'!$D:$D, $D29, '13.ТП_СЭФ'!AL:AL)+SUMIF('14.ОВИЗ'!$D:$D, $D29, '14.ОВИЗ'!AM:AM)+SUMIF('15.ГРР'!$D:$D, $D29, '15.ГРР'!J:J)+SUMIF('16.НИОКР'!$D:$D, $D29, '16.НИОКР'!J:J)+SUMIF('17.НМА'!$D:$D, $D29, '17.НМА'!K:K)+SUMIF('18.ПКЗ'!$D:$D, $D29, '18.ПКЗ'!K:K)+SUMIF('19.БФИ'!$D:$D, $D29, '19.БФИ'!K:K))","v":0},{"$f":"IF($D29=\"\", 0, SUMIF('7.СМР'!$D:$D, $D29, '7.СМР'!K:K)+SUMIF('8.ОСС'!$D:$D, $D29, '8.ОСС'!AC:AC)+SUMIF('9.ПИР'!$D:$D, $D29, '9.ПИР'!K:K)+SUMIF('10.БКП'!$D:$D, $D29, '10.БКП'!K:K)+SUMIF('11.ПЗС'!$D:$D, $D29, '11.ПЗС'!L:L)+SUMIF('12.ТП_БЭФ'!$D:$D, $D29, '12.ТП_БЭФ'!AE:AE)+SUMIF('13.ТП_СЭФ'!$D:$D, $D29, '13.ТП_СЭФ'!AM:AM)+SUMIF('14.ОВИЗ'!$D:$D, $D29, '14.ОВИЗ'!AN:AN)+SUMIF('15.ГРР'!$D:$D, $D29, '15.ГРР'!K:K)+SUMIF('16.НИОКР'!$D:$D, $D29, '16.НИОКР'!K:K)+SUMIF('17.НМА'!$D:$D, $D29, '17.НМА'!L:L)+SUMIF('18.ПКЗ'!$D:$D, $D29, '18.ПКЗ'!L:L)+SUMIF('19.БФИ'!$D:$D, $D29, '19.БФИ'!L:L))","v":0},{"$f":"IF($D29=\"\", 0, SUMIF('7.СМР'!$D:$D, $D29, '7.СМР'!L:L)+SUMIF('8.ОСС'!$D:$D, $D29, '8.ОСС'!AD:AD)+SUMIF('9.ПИР'!$D:$D, $D29, '9.ПИР'!L:L)+SUMIF('10.БКП'!$D:$D, $D29, '10.БКП'!L:L)+SUMIF('11.ПЗС'!$D:$D, $D29, '11.ПЗС'!M:M)+SUMIF('12.ТП_БЭФ'!$D:$D, $D29, '12.ТП_БЭФ'!AF:AF)+SUMIF('13.ТП_СЭФ'!$D:$D, $D29, '13.ТП_СЭФ'!AN:AN)+SUMIF('14.ОВИЗ'!$D:$D, $D29, '14.ОВИЗ'!AO:AO)+SUMIF('15.ГРР'!$D:$D, $D29, '15.ГРР'!L:L)+SUMIF('16.НИОКР'!$D:$D, $D29, '16.НИОКР'!L:L)+SUMIF('17.НМА'!$D:$D, $D29, '17.НМА'!M:M)+SUMIF('18.ПКЗ'!$D:$D, $D29, '18.ПКЗ'!M:M)+SUMIF('19.БФИ'!$D:$D, $D29, '19.БФИ'!M:M))","v":0},{"$f":"IF($D29=\"\", 0, SUMIF('7.СМР'!$D:$D, $D29, '7.СМР'!M:M)+SUMIF('8.ОСС'!$D:$D, $D29, '8.ОСС'!AE:AE)+SUMIF('9.ПИР'!$D:$D, $D29, '9.ПИР'!M:M)+SUMIF('10.БКП'!$D:$D, $D29, '10.БКП'!M:M)+SUMIF('11.ПЗС'!$D:$D, $D29, '11.ПЗС'!N:N)+SUMIF('12.ТП_БЭФ'!$D:$D, $D29, '12.ТП_БЭФ'!AG:AG)+SUMIF('13.ТП_СЭФ'!$D:$D, $D29, '13.ТП_СЭФ'!AO:AO)+SUMIF('14.ОВИЗ'!$D:$D, $D29, '14.ОВИЗ'!AP:AP)+SUMIF('15.ГРР'!$D:$D, $D29, '15.ГРР'!M:M)+SUMIF('16.НИОКР'!$D:$D, $D29, '16.НИОКР'!M:M)+SUMIF('17.НМА'!$D:$D, $D29, '17.НМА'!N:N)+SUMIF('18.ПКЗ'!$D:$D, $D29, '18.ПКЗ'!N:N)+SUMIF('19.БФИ'!$D:$D, $D29, '19.БФИ'!N:N))","v":0},{"$f":"IF($D29=\"\", 0, SUMIF('7.СМР'!$D:$D, $D29, '7.СМР'!N:N)+SUMIF('8.ОСС'!$D:$D, $D29, '8.ОСС'!AF:AF)+SUMIF('9.ПИР'!$D:$D, $D29, '9.ПИР'!N:N)+SUMIF('10.БКП'!$D:$D, $D29, '10.БКП'!N:N)+SUMIF('11.ПЗС'!$D:$D, $D29, '11.ПЗС'!O:O)+SUMIF('12.ТП_БЭФ'!$D:$D, $D29, '12.ТП_БЭФ'!AH:AH)+SUMIF('13.ТП_СЭФ'!$D:$D, $D29, '13.ТП_СЭФ'!AP:AP)+SUMIF('14.ОВИЗ'!$D:$D, $D29, '14.ОВИЗ'!AQ:AQ)+SUMIF('15.ГРР'!$D:$D, $D29, '15.ГРР'!N:N)+SUMIF('16.НИОКР'!$D:$D, $D29, '16.НИОКР'!N:N)+SUMIF('17.НМА'!$D:$D, $D29, '17.НМА'!O:O)+SUMIF('18.ПКЗ'!$D:$D, $D29, '18.ПКЗ'!O:O)+SUMIF('19.БФИ'!$D:$D, $D29, '19.БФИ'!O:O))","v":0},{"$f":"IF($D29=\"\", 0, SUMIF('7.СМР'!$D:$D, $D29, '7.СМР'!O:O)+SUMIF('8.ОСС'!$D:$D, $D29, '8.ОСС'!AG:AG)+SUMIF('9.ПИР'!$D:$D, $D29, '9.ПИР'!O:O)+SUMIF('10.БКП'!$D:$D, $D29, '10.БКП'!O:O)+SUMIF('11.ПЗС'!$D:$D, $D29, '11.ПЗС'!P:P)+SUMIF('12.ТП_БЭФ'!$D:$D, $D29, '12.ТП_БЭФ'!AI:AI)+SUMIF('13.ТП_СЭФ'!$D:$D, $D29, '13.ТП_СЭФ'!AQ:AQ)+SUMIF('14.ОВИЗ'!$D:$D, $D29, '14.ОВИЗ'!AR:AR)+SUMIF('15.ГРР'!$D:$D, $D29, '15.ГРР'!O:O)+SUMIF('16.НИОКР'!$D:$D, $D29, '16.НИОКР'!O:O)+SUMIF('17.НМА'!$D:$D, $D29, '17.НМА'!P:P)+SUMIF('18.ПКЗ'!$D:$D, $D29, '18.ПКЗ'!P:P)+SUMIF('19.БФИ'!$D:$D, $D29, '19.БФИ'!P:P))","v":0},{"$f":"IF($D29=\"\", 0, SUMIF('7.СМР'!$D:$D, $D29, '7.СМР'!P:P)+SUMIF('8.ОСС'!$D:$D, $D29, '8.ОСС'!AH:AH)+SUMIF('9.ПИР'!$D:$D, $D29, '9.ПИР'!P:P)+SUMIF('10.БКП'!$D:$D, $D29, '10.БКП'!P:P)+SUMIF('11.ПЗС'!$D:$D, $D29, '11.ПЗС'!Q:Q)+SUMIF('12.ТП_БЭФ'!$D:$D, $D29, '12.ТП_БЭФ'!AJ:AJ)+SUMIF('13.ТП_СЭФ'!$D:$D, $D29, '13.ТП_СЭФ'!AR:AR)+SUMIF('14.ОВИЗ'!$D:$D, $D29, '14.ОВИЗ'!AS:AS)+SUMIF('15.ГРР'!$D:$D, $D29, '15.ГРР'!P:P)+SUMIF('16.НИОКР'!$D:$D, $D29, '16.НИОКР'!P:P)+SUMIF('17.НМА'!$D:$D, $D29, '17.НМА'!Q:Q)+SUMIF('18.ПКЗ'!$D:$D, $D29, '18.ПКЗ'!Q:Q)+SUMIF('19.БФИ'!$D:$D, $D29, '19.БФИ'!Q:Q))","v":0},0,0,0,0,null,0,0,{"$f":"IF($D29=\"\", 0, SUMIF('7.СМР'!$D:$D, $D29, '7.СМР'!X:X)+SUMIF('8.ОСС'!$D:$D, $D29, '8.ОСС'!AP:AP)+SUMIF('9.ПИР'!$D:$D, $D29, '9.ПИР'!X:X)+SUMIF('10.БКП'!$D:$D, $D29, '10.БКП'!X:X)+SUMIF('11.ПЗС'!$D:$D, $D29, '11.ПЗС'!Y:Y)+SUMIF('12.ТП_БЭФ'!$D:$D, $D29, '12.ТП_БЭФ'!AR:AR)+SUMIF('13.ТП_СЭФ'!$D:$D, $D29, '13.ТП_СЭФ'!AZ:AZ)+SUMIF('14.ОВИЗ'!$D:$D, $D29, '14.ОВИЗ'!BA:BA)+SUMIF('15.ГРР'!$D:$D, $D29, '15.ГРР'!X:X)+SUMIF('16.НИОКР'!$D:$D, $D29, '16.НИОКР'!X:X)+SUMIF('17.НМА'!$D:$D, $D29, '17.НМА'!Y:Y)+SUMIF('18.ПКЗ'!$D:$D, $D29, '18.ПКЗ'!Y:Y)+SUMIF('19.БФИ'!$D:$D, $D29, '19.БФИ'!Y:Y))","v":0},{"$f":"IF($D29=\"\", 0, SUMIF('7.СМР'!$D:$D, $D29, '7.СМР'!Y:Y)+SUMIF('8.ОСС'!$D:$D, $D29, '8.ОСС'!AQ:AQ)+SUMIF('9.ПИР'!$D:$D, $D29, '9.ПИР'!Y:Y)+SUMIF('10.БКП'!$D:$D, $D29, '10.БКП'!Y:Y)+SUMIF('11.ПЗС'!$D:$D, $D29, '11.ПЗС'!Z:Z)+SUMIF('12.ТП_БЭФ'!$D:$D, $D29, '12.ТП_БЭФ'!AS:AS)+SUMIF('13.ТП_СЭФ'!$D:$D, $D29, '13.ТП_СЭФ'!BA:BA)+SUMIF('14.ОВИЗ'!$D:$D, $D29, '14.ОВИЗ'!BB:BB)+SUMIF('15.ГРР'!$D:$D, $D29, '15.ГРР'!Y:Y)+SUMIF('16.НИОКР'!$D:$D, $D29, '16.НИОКР'!Y:Y)+SUMIF('17.НМА'!$D:$D, $D29, '17.НМА'!Z:Z)+SUMIF('18.ПКЗ'!$D:$D, $D29, '18.ПКЗ'!Z:Z)+SUMIF('19.БФИ'!$D:$D, $D29, '19.БФИ'!Z:Z))","v":0},{"$f":"IF($D29=\"\", 0, SUMIF('7.СМР'!$D:$D, $D29, '7.СМР'!Z:Z)+SUMIF('8.ОСС'!$D:$D, $D29, '8.ОСС'!AR:AR)+SUMIF('9.ПИР'!$D:$D, $D29, '9.ПИР'!Z:Z)+SUMIF('10.БКП'!$D:$D, $D29, '10.БКП'!Z:Z)+SUMIF('11.ПЗС'!$D:$D, $D29, '11.ПЗС'!AA:AA)+SUMIF('12.ТП_БЭФ'!$D:$D, $D29, '12.ТП_БЭФ'!AT:AT)+SUMIF('13.ТП_СЭФ'!$D:$D, $D29, '13.ТП_СЭФ'!BB:BB)+SUMIF('14.ОВИЗ'!$D:$D, $D29, '14.ОВИЗ'!BC:BC)+SUMIF('15.ГРР'!$D:$D, $D29, '15.ГРР'!Z:Z)+SUMIF('16.НИОКР'!$D:$D, $D29, '16.НИОКР'!Z:Z)+SUMIF('17.НМА'!$D:$D, $D29, '17.НМА'!AA:AA)+SUMIF('18.ПКЗ'!$D:$D, $D29, '18.ПКЗ'!AA:AA)+SUMIF('19.БФИ'!$D:$D, $D29, '19.БФИ'!AA:AA))","v":0},{"$f":"IF($D29=\"\", 0, SUMIF('7.СМР'!$D:$D, $D29, '7.СМР'!AA:AA)+SUMIF('8.ОСС'!$D:$D, $D29, '8.ОСС'!AS:AS)+SUMIF('9.ПИР'!$D:$D, $D29, '9.ПИР'!AA:AA)+SUMIF('10.БКП'!$D:$D, $D29, '10.БКП'!AA:AA)+SUMIF('11.ПЗС'!$D:$D, $D29, '11.ПЗС'!AB:AB)+SUMIF('12.ТП_БЭФ'!$D:$D, $D29, '12.ТП_БЭФ'!AU:AU)+SUMIF('13.ТП_СЭФ'!$D:$D, $D29, '13.ТП_СЭФ'!BC:BC)+SUMIF('14.ОВИЗ'!$D:$D, $D29, '14.ОВИЗ'!BD:BD)+SUMIF('15.ГРР'!$D:$D, $D29, '15.ГРР'!AA:AA)+SUMIF('16.НИОКР'!$D:$D, $D29, '16.НИОКР'!AA:AA)+SUMIF('17.НМА'!$D:$D, $D29, '17.НМА'!AB:AB)+SUMIF('18.ПКЗ'!$D:$D, $D29, '18.ПКЗ'!AB:AB)+SUMIF('19.БФИ'!$D:$D, $D29, '19.БФИ'!AB:AB))","v":0},{"$f":"IF($D29=\"\", 0, SUMIF('7.СМР'!$D:$D, $D29, '7.СМР'!AB:AB)+SUMIF('8.ОСС'!$D:$D, $D29, '8.ОСС'!AT:AT)+SUMIF('9.ПИР'!$D:$D, $D29, '9.ПИР'!AB:AB)+SUMIF('10.БКП'!$D:$D, $D29, '10.БКП'!AB:AB)+SUMIF('11.ПЗС'!$D:$D, $D29, '11.ПЗС'!AC:AC)+SUMIF('12.ТП_БЭФ'!$D:$D, $D29, '12.ТП_БЭФ'!AV:AV)+SUMIF('13.ТП_СЭФ'!$D:$D, $D29, '13.ТП_СЭФ'!BD:BD)+SUMIF('14.ОВИЗ'!$D:$D, $D29, '14.ОВИЗ'!BE:BE)+SUMIF('15.ГРР'!$D:$D, $D29, '15.ГРР'!AB:AB)+SUMIF('16.НИОКР'!$D:$D, $D29, '16.НИОКР'!AB:AB)+SUMIF('17.НМА'!$D:$D, $D29, '17.НМА'!AC:AC)+SUMIF('18.ПКЗ'!$D:$D, $D29, '18.ПКЗ'!AC:AC)+SUMIF('19.БФИ'!$D:$D, $D29, '19.БФИ'!AC:AC))","v":0},{"$f":"IF($D29=\"\", 0, SUMIF('7.СМР'!$D:$D, $D29, '7.СМР'!AC:AC)+SUMIF('8.ОСС'!$D:$D, $D29, '8.ОСС'!AU:AU)+SUMIF('9.ПИР'!$D:$D, $D29, '9.ПИР'!AC:AC)+SUMIF('10.БКП'!$D:$D, $D29, '10.БКП'!AC:AC)+SUMIF('11.ПЗС'!$D:$D, $D29, '11.ПЗС'!AD:AD)+SUMIF('12.ТП_БЭФ'!$D:$D, $D29, '12.ТП_БЭФ'!AW:AW)+SUMIF('13.ТП_СЭФ'!$D:$D, $D29, '13.ТП_СЭФ'!BE:BE)+SUMIF('14.ОВИЗ'!$D:$D, $D29, '14.ОВИЗ'!BF:BF)+SUMIF('15.ГРР'!$D:$D, $D29, '15.ГРР'!AC:AC)+SUMIF('16.НИОКР'!$D:$D, $D29, '16.НИОКР'!AC:AC)+SUMIF('17.НМА'!$D:$D, $D29, '17.НМА'!AD:AD)+SUMIF('18.ПКЗ'!$D:$D, $D29, '18.ПКЗ'!AD:AD)+SUMIF('19.БФИ'!$D:$D, $D29, '19.БФИ'!AD:AD))","v":0},{"$f":"IF($D29=\"\", 0, SUMIF('7.СМР'!$D:$D, $D29, '7.СМР'!AD:AD)+SUMIF('8.ОСС'!$D:$D, $D29, '8.ОСС'!AV:AV)+SUMIF('9.ПИР'!$D:$D, $D29, '9.ПИР'!AD:AD)+SUMIF('10.БКП'!$D:$D, $D29, '10.БКП'!AD:AD)+SUMIF('11.ПЗС'!$D:$D, $D29, '11.ПЗС'!AE:AE)+SUMIF('12.ТП_БЭФ'!$D:$D, $D29, '12.ТП_БЭФ'!AX:AX)+SUMIF('13.ТП_СЭФ'!$D:$D, $D29, '13.ТП_СЭФ'!BF:BF)+SUMIF('14.ОВИЗ'!$D:$D, $D29, '14.ОВИЗ'!BG:BG)+SUMIF('15.ГРР'!$D:$D, $D29, '15.ГРР'!AD:AD)+SUMIF('16.НИОКР'!$D:$D, $D29, '16.НИОКР'!AD:AD)+SUMIF('17.НМА'!$D:$D, $D29, '17.НМА'!AE:AE)+SUMIF('18.ПКЗ'!$D:$D, $D29, '18.ПКЗ'!AE:AE)+SUMIF('19.БФИ'!$D:$D, $D29, '19.БФИ'!AE:AE))","v":0},{"$f":"IF($D29=\"\", 0, SUMIF('7.СМР'!$D:$D, $D29, '7.СМР'!AE:AE)+SUMIF('8.ОСС'!$D:$D, $D29, '8.ОСС'!AW:AW)+SUMIF('9.ПИР'!$D:$D, $D29, '9.ПИР'!AE:AE)+SUMIF('10.БКП'!$D:$D, $D29, '10.БКП'!AE:AE)+SUMIF('11.ПЗС'!$D:$D, $D29, '11.ПЗС'!AF:AF)+SUMIF('12.ТП_БЭФ'!$D:$D, $D29, '12.ТП_БЭФ'!AY:AY)+SUMIF('13.ТП_СЭФ'!$D:$D, $D29, '13.ТП_СЭФ'!BG:BG)+SUMIF('14.ОВИЗ'!$D:$D, $D29, '14.ОВИЗ'!BH:BH)+SUMIF('15.ГРР'!$D:$D, $D29, '15.ГРР'!AE:AE)+SUMIF('16.НИОКР'!$D:$D, $D29, '16.НИОКР'!AE:AE)+SUMIF('17.НМА'!$D:$D, $D29, '17.НМА'!AF:AF)+SUMIF('18.ПКЗ'!$D:$D, $D29, '18.ПКЗ'!AF:AF)+SUMIF('19.БФИ'!$D:$D, $D29, '19.БФИ'!AF:AF))","v":0},null,0]
[null,{"$f":"IF(D30=\"\", \"\", '04.РИП'!A40)","v":""},{"$f":"IF(D30=\"\", \"\", '04.РИП'!D40)","v":""},{"$f":"IF(ISBLANK('04.РИП'!B40), \"\", '04.РИП'!B40)","v":""},{"$f":"IF(D30=\"\", \"\", '04.РИП'!E40)","v":""},{"$f":"IF(D30=\"\", \"\", '04.РИП'!D40)","v":""},{"$f":"IF($D30=\"\", 0, SUMIF('7.СМР'!$D:$D, $D30, '7.СМР'!G:G)+SUMIF('8.ОСС'!$D:$D, $D30, '8.ОСС'!Y:Y)+SUMIF('9.ПИР'!$D:$D, $D30, '9.ПИР'!G:G)+SUMIF('10.БКП'!$D:$D, $D30, '10.БКП'!G:G)+SUMIF('11.ПЗС'!$D:$D, $D30, '11.ПЗС'!H:H)+SUMIF('12.ТП_БЭФ'!$D:$D, $D30, '12.ТП_БЭФ'!AA:AA)+SUMIF('13.ТП_СЭФ'!$D:$D, $D30, '13.ТП_СЭФ'!AI:AI)+SUMIF('14.ОВИЗ'!$D:$D, $D30, '14.ОВИЗ'!AJ:AJ)+SUMIF('15.ГРР'!$D:$D, $D30, '15.ГРР'!G:G)+SUMIF('16.НИОКР'!$D:$D, $D30, '16.НИОКР'!G:G)+SUMIF('17.НМА'!$D:$D, $D30, '17.НМА'!H:H)+SUMIF('18.ПКЗ'!$D:$D, $D30, '18.ПКЗ'!H:H)+SUMIF('19.БФИ'!$D:$D, $D30, '19.БФИ'!H:H))","v":0},{"$f":"IF($D30=\"\", 0, SUMIF('7.СМР'!$D:$D, $D30, '7.СМР'!H:H)+SUMIF('8.ОСС'!$D:$D, $D30, '8.ОСС'!Z:Z)+SUMIF('9.ПИР'!$D:$D, $D30, '9.ПИР'!H:H)+SUMIF('10.БКП'!$D:$D, $D30, '10.БКП'!H:H)+SUMIF('11.ПЗС'!$D:$D, $D30, '11.ПЗС'!I:I)+SUMIF('12.ТП_БЭФ'!$D:$D, $D30, '12.ТП_БЭФ'!AB:AB)+SUMIF('13.ТП_СЭФ'!$D:$D, $D30, '13.ТП_СЭФ'!AJ:AJ)+SUMIF('14.ОВИЗ'!$D:$D, $D30, '14.ОВИЗ'!AK:AK)+SUMIF('15.ГРР'!$D:$D, $D30, '15.ГРР'!H:H)+SUMIF('16.НИОКР'!$D:$D, $D30, '16.НИОКР'!H:H)+SUMIF('17.НМА'!$D:$D, $D30, '17.НМА'!I:I)+SUMIF('18.ПКЗ'!$D:$D, $D30, '18.ПКЗ'!I:I)+SUMIF('19.БФИ'!$D:$D, $D30, '19.БФИ'!I:I))","v":0},{"$f":"IF($D30=\"\", 0, SUMIF('7.СМР'!$D:$D, $D30, '7.СМР'!I:I)+SUMIF('8.ОСС'!$D:$D, $D30, '8.ОСС'!AA:AA)+SUMIF('9.ПИР'!$D:$D, $D30, '9.ПИР'!I:I)+SUMIF('10.БКП'!$D:$D, $D30, '10.БКП'!I:I)+SUMIF('11.ПЗС'!$D:$D, $D30, '11.ПЗС'!J:J)+SUMIF('12.ТП_БЭФ'!$D:$D, $D30, '12.ТП_БЭФ'!AC:AC)+SUMIF('13.ТП_СЭФ'!$D:$D, $D30, '13.ТП_СЭФ'!AK:AK)+SUMIF('14.ОВИЗ'!$D:$D, $D30, '14.ОВИЗ'!AL:AL)+SUMIF('15.ГРР'!$D:$D, $D30, '15.ГРР'!I:I)+SUMIF('16.НИОКР'!$D:$D, $D30, '16.НИОКР'!I:I)+SUMIF('17.НМА'!$D:$D, $D30, '17.НМА'!J:J)+SUMIF('18.ПКЗ'!$D:$D, $D30, '18.ПКЗ'!J:J)+SUMIF('19.БФИ'!$D:$D, $D30, '19.БФИ'!J:J))","v":0},{"$f":"IF($D30=\"\", 0, SUMIF('7.СМР'!$D:$D, $D30, '7.СМР'!J:J)+SUMIF('8.ОСС'!$D:$D, $D30, '8.ОСС'!AB:AB)+SUMIF('9.ПИР'!$D:$D, $D30, '9.ПИР'!J:J)+SUMIF('10.БКП'!$D:$D, $D30, '10.БКП'!J:J)+SUMIF('11.ПЗС'!$D:$D, $D30, '11.ПЗС'!K:K)+SUMIF('12.ТП_БЭФ'!$D:$D, $D30, '12.ТП_БЭФ'!AD:AD)+SUMIF('13.ТП_СЭФ'!$D:$D, $D30, '13.ТП_СЭФ'!AL:AL)+SUMIF('14.ОВИЗ'!$D:$D, $D30, '14.ОВИЗ'!AM:AM)+SUMIF('15.ГРР'!$D:$D, $D30, '15.ГРР'!J:J)+SUMIF('16.НИОКР'!$D:$D, $D30, '16.НИОКР'!J:J)+SUMIF('17.НМА'!$D:$D, $D30, '17.НМА'!K:K)+SUMIF('18.ПКЗ'!$D:$D, $D30, '18.ПКЗ'!K:K)+SUMIF('19.БФИ'!$D:$D, $D30, '19.БФИ'!K:K))","v":0},{"$f":"IF($D30=\"\", 0, SUMIF('7.СМР'!$D:$D, $D30, '7.СМР'!K:K)+SUMIF('8.ОСС'!$D:$D, $D30, '8.ОСС'!AC:AC)+SUMIF('9.ПИР'!$D:$D, $D30, '9.ПИР'!K:K)+SUMIF('10.БКП'!$D:$D, $D30, '10.БКП'!K:K)+SUMIF('11.ПЗС'!$D:$D, $D30, '11.ПЗС'!L:L)+SUMIF('12.ТП_БЭФ'!$D:$D, $D30, '12.ТП_БЭФ'!AE:AE)+SUMIF('13.ТП_СЭФ'!$D:$D, $D30, '13.ТП_СЭФ'!AM:AM)+SUMIF('14.ОВИЗ'!$D:$D, $D30, '14.ОВИЗ'!AN:AN)+SUMIF('15.ГРР'!$D:$D, $D30, '15.ГРР'!K:K)+SUMIF('16.НИОКР'!$D:$D, $D30, '16.НИОКР'!K:K)+SUMIF('17.НМА'!$D:$D, $D30, '17.НМА'!L:L)+SUMIF('18.ПКЗ'!$D:$D, $D30, '18.ПКЗ'!L:L)+SUMIF('19.БФИ'!$D:$D, $D30, '19.БФИ'!L:L))","v":0},{"$f":"IF($D30=\"\", 0, SUMIF('7.СМР'!$D:$D, $D30, '7.СМР'!L:L)+SUMIF('8.ОСС'!$D:$D, $D30, '8.ОСС'!AD:AD)+SUMIF('9.ПИР'!$D:$D, $D30, '9.ПИР'!L:L)+SUMIF('10.БКП'!$D:$D, $D30, '10.БКП'!L:L)+SUMIF('11.ПЗС'!$D:$D, $D30, '11.ПЗС'!M:M)+SUMIF('12.ТП_БЭФ'!$D:$D, $D30, '12.ТП_БЭФ'!AF:AF)+SUMIF('13.ТП_СЭФ'!$D:$D, $D30, '13.ТП_СЭФ'!AN:AN)+SUMIF('14.ОВИЗ'!$D:$D, $D30, '14.ОВИЗ'!AO:AO)+SUMIF('15.ГРР'!$D:$D, $D30, '15.ГРР'!L:L)+SUMIF('16.НИОКР'!$D:$D, $D30, '16.НИОКР'!L:L)+SUMIF('17.НМА'!$D:$D, $D30, '17.НМА'!M:M)+SUMIF('18.ПКЗ'!$D:$D, $D30, '18.ПКЗ'!M:M)+SUMIF('19.БФИ'!$D:$D, $D30, '19.БФИ'!M:M))","v":0},{"$f":"IF($D30=\"\", 0, SUMIF('7.СМР'!$D:$D, $D30, '7.СМР'!M:M)+SUMIF('8.ОСС'!$D:$D, $D30, '8.ОСС'!AE:AE)+SUMIF('9.ПИР'!$D:$D, $D30, '9.ПИР'!M:M)+SUMIF('10.БКП'!$D:$D, $D30, '10.БКП'!M:M)+SUMIF('11.ПЗС'!$D:$D, $D30, '11.ПЗС'!N:N)+SUMIF('12.ТП_БЭФ'!$D:$D, $D30, '12.ТП_БЭФ'!AG:AG)+SUMIF('13.ТП_СЭФ'!$D:$D, $D30, '13.ТП_СЭФ'!AO:AO)+SUMIF('14.ОВИЗ'!$D:$D, $D30, '14.ОВИЗ'!AP:AP)+SUMIF('15.ГРР'!$D:$D, $D30, '15.ГРР'!M:M)+SUMIF('16.НИОКР'!$D:$D, $D30, '16.НИОКР'!M:M)+SUMIF('17.НМА'!$D:$D, $D30, '17.НМА'!N:N)+SUMIF('18.ПКЗ'!$D:$D, $D30, '18.ПКЗ'!N:N)+SUMIF('19.БФИ'!$D:$D, $D30, '19.БФИ'!N:N))","v":0},{"$f":"IF($D30=\"\", 0, SUMIF('7.СМР'!$D:$D, $D30, '7.СМР'!N:N)+SUMIF('8.ОСС'!$D:$D, $D30, '8.ОСС'!AF:AF)+SUMIF('9.ПИР'!$D:$D, $D30, '9.ПИР'!N:N)+SUMIF('10.БКП'!$D:$D, $D30, '10.БКП'!N:N)+SUMIF('11.ПЗС'!$D:$D, $D30, '11.ПЗС'!O:O)+SUMIF('12.ТП_БЭФ'!$D:$D, $D30, '12.ТП_БЭФ'!AH:AH)+SUMIF('13.ТП_СЭФ'!$D:$D, $D30, '13.ТП_СЭФ'!AP:AP)+SUMIF('14.ОВИЗ'!$D:$D, $D30, '14.ОВИЗ'!AQ:AQ)+SUMIF('15.ГРР'!$D:$D, $D30, '15.ГРР'!N:N)+SUMIF('16.НИОКР'!$D:$D, $D30, '16.НИОКР'!N:N)+SUMIF('17.НМА'!$D:$D, $D30, '17.НМА'!O:O)+SUMIF('18.ПКЗ'!$D:$D, $D30, '18.ПКЗ'!O:O)+SUMIF('19.БФИ'!$D:$D, $D30, '19.БФИ'!O:O))","v":0},{"$f":"IF($D30=\"\", 0, SUMIF('7.СМР'!$D:$D, $D30, '7.СМР'!O:O)+SUMIF('8.ОСС'!$D:$D, $D30, '8.ОСС'!AG:AG)+SUMIF('9.ПИР'!$D:$D, $D30, '9.ПИР'!O:O)+SUMIF('10.БКП'!$D:$D, $D30, '10.БКП'!O:O)+SUMIF('11.ПЗС'!$D:$D, $D30, '11.ПЗС'!P:P)+SUMIF('12.ТП_БЭФ'!$D:$D, $D30, '12.ТП_БЭФ'!AI:AI)+SUMIF('13.ТП_СЭФ'!$D:$D, $D30, '13.ТП_СЭФ'!AQ:AQ)+SUMIF('14.ОВИЗ'!$D:$D, $D30, '14.ОВИЗ'!AR:AR)+SUMIF('15.ГРР'!$D:$D, $D30, '15.ГРР'!O:O)+SUMIF('16.НИОКР'!$D:$D, $D30, '16.НИОКР'!O:O)+SUMIF('17.НМА'!$D:$D, $D30, '17.НМА'!P:P)+SUMIF('18.ПКЗ'!$D:$D, $D30, '18.ПКЗ'!P:P)+SUMIF('19.БФИ'!$D:$D, $D30, '19.БФИ'!P:P))","v":0},{"$f":"IF($D30=\"\", 0, SUMIF('7.СМР'!$D:$D, $D30, '7.СМР'!P:P)+SUMIF('8.ОСС'!$D:$D, $D30, '8.ОСС'!AH:AH)+SUMIF('9.ПИР'!$D:$D, $D30, '9.ПИР'!P:P)+SUMIF('10.БКП'!$D:$D, $D30, '10.БКП'!P:P)+SUMIF('11.ПЗС'!$D:$D, $D30, '11.ПЗС'!Q:Q)+SUMIF('12.ТП_БЭФ'!$D:$D, $D30, '12.ТП_БЭФ'!AJ:AJ)+SUMIF('13.ТП_СЭФ'!$D:$D, $D30, '13.ТП_СЭФ'!AR:AR)+SUMIF('14.ОВИЗ'!$D:$D, $D30, '14.ОВИЗ'!AS:AS)+SUMIF('15.ГРР'!$D:$D, $D30, '15.ГРР'!P:P)+SUMIF('16.НИОКР'!$D:$D, $D30, '16.НИОКР'!P:P)+SUMIF('17.НМА'!$D:$D, $D30, '17.НМА'!Q:Q)+SUMIF('18.ПКЗ'!$D:$D, $D30, '18.ПКЗ'!Q:Q)+SUMIF('19.БФИ'!$D:$D, $D30, '19.БФИ'!Q:Q))","v":0},0,0,0,0,null,0,0,{"$f":"IF($D30=\"\", 0, SUMIF('7.СМР'!$D:$D, $D30, '7.СМР'!X:X)+SUMIF('8.ОСС'!$D:$D, $D30, '8.ОСС'!AP:AP)+SUMIF('9.ПИР'!$D:$D, $D30, '9.ПИР'!X:X)+SUMIF('10.БКП'!$D:$D, $D30, '10.БКП'!X:X)+SUMIF('11.ПЗС'!$D:$D, $D30, '11.ПЗС'!Y:Y)+SUMIF('12.ТП_БЭФ'!$D:$D, $D30, '12.ТП_БЭФ'!AR:AR)+SUMIF('13.ТП_СЭФ'!$D:$D, $D30, '13.ТП_СЭФ'!AZ:AZ)+SUMIF('14.ОВИЗ'!$D:$D, $D30, '14.ОВИЗ'!BA:BA)+SUMIF('15.ГРР'!$D:$D, $D30, '15.ГРР'!X:X)+SUMIF('16.НИОКР'!$D:$D, $D30, '16.НИОКР'!X:X)+SUMIF('17.НМА'!$D:$D, $D30, '17.НМА'!Y:Y)+SUMIF('18.ПКЗ'!$D:$D, $D30, '18.ПКЗ'!Y:Y)+SUMIF('19.БФИ'!$D:$D, $D30, '19.БФИ'!Y:Y))","v":0},{"$f":"IF($D30=\"\", 0, SUMIF('7.СМР'!$D:$D, $D30, '7.СМР'!Y:Y)+SUMIF('8.ОСС'!$D:$D, $D30, '8.ОСС'!AQ:AQ)+SUMIF('9.ПИР'!$D:$D, $D30, '9.ПИР'!Y:Y)+SUMIF('10.БКП'!$D:$D, $D30, '10.БКП'!Y:Y)+SUMIF('11.ПЗС'!$D:$D, $D30, '11.ПЗС'!Z:Z)+SUMIF('12.ТП_БЭФ'!$D:$D, $D30, '12.ТП_БЭФ'!AS:AS)+SUMIF('13.ТП_СЭФ'!$D:$D, $D30, '13.ТП_СЭФ'!BA:BA)+SUMIF('14.ОВИЗ'!$D:$D, $D30, '14.ОВИЗ'!BB:BB)+SUMIF('15.ГРР'!$D:$D, $D30, '15.ГРР'!Y:Y)+SUMIF('16.НИОКР'!$D:$D, $D30, '16.НИОКР'!Y:Y)+SUMIF('17.НМА'!$D:$D, $D30, '17.НМА'!Z:Z)+SUMIF('18.ПКЗ'!$D:$D, $D30, '18.ПКЗ'!Z:Z)+SUMIF('19.БФИ'!$D:$D, $D30, '19.БФИ'!Z:Z))","v":0},{"$f":"IF($D30=\"\", 0, SUMIF('7.СМР'!$D:$D, $D30, '7.СМР'!Z:Z)+SUMIF('8.ОСС'!$D:$D, $D30, '8.ОСС'!AR:AR)+SUMIF('9.ПИР'!$D:$D, $D30, '9.ПИР'!Z:Z)+SUMIF('10.БКП'!$D:$D, $D30, '10.БКП'!Z:Z)+SUMIF('11.ПЗС'!$D:$D, $D30, '11.ПЗС'!AA:AA)+SUMIF('12.ТП_БЭФ'!$D:$D, $D30, '12.ТП_БЭФ'!AT:AT)+SUMIF('13.ТП_СЭФ'!$D:$D, $D30, '13.ТП_СЭФ'!BB:BB)+SUMIF('14.ОВИЗ'!$D:$D, $D30, '14.ОВИЗ'!BC:BC)+SUMIF('15.ГРР'!$D:$D, $D30, '15.ГРР'!Z:Z)+SUMIF('16.НИОКР'!$D:$D, $D30, '16.НИОКР'!Z:Z)+SUMIF('17.НМА'!$D:$D, $D30, '17.НМА'!AA:AA)+SUMIF('18.ПКЗ'!$D:$D, $D30, '18.ПКЗ'!AA:AA)+SUMIF('19.БФИ'!$D:$D, $D30, '19.БФИ'!AA:AA))","v":0},{"$f":"IF($D30=\"\", 0, SUMIF('7.СМР'!$D:$D, $D30, '7.СМР'!AA:AA)+SUMIF('8.ОСС'!$D:$D, $D30, '8.ОСС'!AS:AS)+SUMIF('9.ПИР'!$D:$D, $D30, '9.ПИР'!AA:AA)+SUMIF('10.БКП'!$D:$D, $D30, '10.БКП'!AA:AA)+SUMIF('11.ПЗС'!$D:$D, $D30, '11.ПЗС'!AB:AB)+SUMIF('12.ТП_БЭФ'!$D:$D, $D30, '12.ТП_БЭФ'!AU:AU)+SUMIF('13.ТП_СЭФ'!$D:$D, $D30, '13.ТП_СЭФ'!BC:BC)+SUMIF('14.ОВИЗ'!$D:$D, $D30, '14.ОВИЗ'!BD:BD)+SUMIF('15.ГРР'!$D:$D, $D30, '15.ГРР'!AA:AA)+SUMIF('16.НИОКР'!$D:$D, $D30, '16.НИОКР'!AA:AA)+SUMIF('17.НМА'!$D:$D, $D30, '17.НМА'!AB:AB)+SUMIF('18.ПКЗ'!$D:$D, $D30, '18.ПКЗ'!AB:AB)+SUMIF('19.БФИ'!$D:$D, $D30, '19.БФИ'!AB:AB))","v":0},{"$f":"IF($D30=\"\", 0, SUMIF('7.СМР'!$D:$D, $D30, '7.СМР'!AB:AB)+SUMIF('8.ОСС'!$D:$D, $D30, '8.ОСС'!AT:AT)+SUMIF('9.ПИР'!$D:$D, $D30, '9.ПИР'!AB:AB)+SUMIF('10.БКП'!$D:$D, $D30, '10.БКП'!AB:AB)+SUMIF('11.ПЗС'!$D:$D, $D30, '11.ПЗС'!AC:AC)+SUMIF('12.ТП_БЭФ'!$D:$D, $D30, '12.ТП_БЭФ'!AV:AV)+SUMIF('13.ТП_СЭФ'!$D:$D, $D30, '13.ТП_СЭФ'!BD:BD)+SUMIF('14.ОВИЗ'!$D:$D, $D30, '14.ОВИЗ'!BE:BE)+SUMIF('15.ГРР'!$D:$D, $D30, '15.ГРР'!AB:AB)+SUMIF('16.НИОКР'!$D:$D, $D30, '16.НИОКР'!AB:AB)+SUMIF('17.НМА'!$D:$D, $D30, '17.НМА'!AC:AC)+SUMIF('18.ПКЗ'!$D:$D, $D30, '18.ПКЗ'!AC:AC)+SUMIF('19.БФИ'!$D:$D, $D30, '19.БФИ'!AC:AC))","v":0},{"$f":"IF($D30=\"\", 0, SUMIF('7.СМР'!$D:$D, $D30, '7.СМР'!AC:AC)+SUMIF('8.ОСС'!$D:$D, $D30, '8.ОСС'!AU:AU)+SUMIF('9.ПИР'!$D:$D, $D30, '9.ПИР'!AC:AC)+SUMIF('10.БКП'!$D:$D, $D30, '10.БКП'!AC:AC)+SUMIF('11.ПЗС'!$D:$D, $D30, '11.ПЗС'!AD:AD)+SUMIF('12.ТП_БЭФ'!$D:$D, $D30, '12.ТП_БЭФ'!AW:AW)+SUMIF('13.ТП_СЭФ'!$D:$D, $D30, '13.ТП_СЭФ'!BE:BE)+SUMIF('14.ОВИЗ'!$D:$D, $D30, '14.ОВИЗ'!BF:BF)+SUMIF('15.ГРР'!$D:$D, $D30, '15.ГРР'!AC:AC)+SUMIF('16.НИОКР'!$D:$D, $D30, '16.НИОКР'!AC:AC)+SUMIF('17.НМА'!$D:$D, $D30, '17.НМА'!AD:AD)+SUMIF('18.ПКЗ'!$D:$D, $D30, '18.ПКЗ'!AD:AD)+SUMIF('19.БФИ'!$D:$D, $D30, '19.БФИ'!AD:AD))","v":0},{"$f":"IF($D30=\"\", 0, SUMIF('7.СМР'!$D:$D, $D30, '7.СМР'!AD:AD)+SUMIF('8.ОСС'!$D:$D, $D30, '8.ОСС'!AV:AV)+SUMIF('9.ПИР'!$D:$D, $D30, '9.ПИР'!AD:AD)+SUMIF('10.БКП'!$D:$D, $D30, '10.БКП'!AD:AD)+SUMIF('11.ПЗС'!$D:$D, $D30, '11.ПЗС'!AE:AE)+SUMIF('12.ТП_БЭФ'!$D:$D, $D30, '12.ТП_БЭФ'!AX:AX)+SUMIF('13.ТП_СЭФ'!$D:$D, $D30, '13.ТП_СЭФ'!BF:BF)+SUMIF('14.ОВИЗ'!$D:$D, $D30, '14.ОВИЗ'!BG:BG)+SUMIF('15.ГРР'!$D:$D, $D30, '15.ГРР'!AD:AD)+SUMIF('16.НИОКР'!$D:$D, $D30, '16.НИОКР'!AD:AD)+SUMIF('17.НМА'!$D:$D, $D30, '17.НМА'!AE:AE)+SUMIF('18.ПКЗ'!$D:$D, $D30, '18.ПКЗ'!AE:AE)+SUMIF('19.БФИ'!$D:$D, $D30, '19.БФИ'!AE:AE))","v":0},{"$f":"IF($D30=\"\", 0, SUMIF('7.СМР'!$D:$D, $D30, '7.СМР'!AE:AE)+SUMIF('8.ОСС'!$D:$D, $D30, '8.ОСС'!AW:AW)+SUMIF('9.ПИР'!$D:$D, $D30, '9.ПИР'!AE:AE)+SUMIF('10.БКП'!$D:$D, $D30, '10.БКП'!AE:AE)+SUMIF('11.ПЗС'!$D:$D, $D30, '11.ПЗС'!AF:AF)+SUMIF('12.ТП_БЭФ'!$D:$D, $D30, '12.ТП_БЭФ'!AY:AY)+SUMIF('13.ТП_СЭФ'!$D:$D, $D30, '13.ТП_СЭФ'!BG:BG)+SUMIF('14.ОВИЗ'!$D:$D, $D30, '14.ОВИЗ'!BH:BH)+SUMIF('15.ГРР'!$D:$D, $D30, '15.ГРР'!AE:AE)+SUMIF('16.НИОКР'!$D:$D, $D30, '16.НИОКР'!AE:AE)+SUMIF('17.НМА'!$D:$D, $D30, '17.НМА'!AF:AF)+SUMIF('18.ПКЗ'!$D:$D, $D30, '18.ПКЗ'!AF:AF)+SUMIF('19.БФИ'!$D:$D, $D30, '19.БФИ'!AF:AF))","v":0},null,0]
[null,{"$f":"IF(D31=\"\", \"\", '04.РИП'!A41)","v":""},{"$f":"IF(D31=\"\", \"\", '04.РИП'!D41)","v":""},{"$f":"IF(ISBLANK('04.РИП'!B41), \"\", '04.РИП'!B41)","v":""},{"$f":"IF(D31=\"\", \"\", '04.РИП'!E41)","v":""},{"$f":"IF(D31=\"\", \"\", '04.РИП'!D41)","v":""},{"$f":"IF($D31=\"\", 0, SUMIF('7.СМР'!$D:$D, $D31, '7.СМР'!G:G)+SUMIF('8.ОСС'!$D:$D, $D31, '8.ОСС'!Y:Y)+SUMIF('9.ПИР'!$D:$D, $D31, '9.ПИР'!G:G)+SUMIF('10.БКП'!$D:$D, $D31, '10.БКП'!G:G)+SUMIF('11.ПЗС'!$D:$D, $D31, '11.ПЗС'!H:H)+SUMIF('12.ТП_БЭФ'!$D:$D, $D31, '12.ТП_БЭФ'!AA:AA)+SUMIF('13.ТП_СЭФ'!$D:$D, $D31, '13.ТП_СЭФ'!AI:AI)+SUMIF('14.ОВИЗ'!$D:$D, $D31, '14.ОВИЗ'!AJ:AJ)+SUMIF('15.ГРР'!$D:$D, $D31, '15.ГРР'!G:G)+SUMIF('16.НИОКР'!$D:$D, $D31, '16.НИОКР'!G:G)+SUMIF('17.НМА'!$D:$D, $D31, '17.НМА'!H:H)+SUMIF('18.ПКЗ'!$D:$D, $D31, '18.ПКЗ'!H:H)+SUMIF('19.БФИ'!$D:$D, $D31, '19.БФИ'!H:H))","v":0},{"$f":"IF($D31=\"\", 0, SUMIF('7.СМР'!$D:$D, $D31, '7.СМР'!H:H)+SUMIF('8.ОСС'!$D:$D, $D31, '8.ОСС'!Z:Z)+SUMIF('9.ПИР'!$D:$D, $D31, '9.ПИР'!H:H)+SUMIF('10.БКП'!$D:$D, $D31, '10.БКП'!H:H)+SUMIF('11.ПЗС'!$D:$D, $D31, '11.ПЗС'!I:I)+SUMIF('12.ТП_БЭФ'!$D:$D, $D31, '12.ТП_БЭФ'!AB:AB)+SUMIF('13.ТП_СЭФ'!$D:$D, $D31, '13.ТП_СЭФ'!AJ:AJ)+SUMIF('14.ОВИЗ'!$D:$D, $D31, '14.ОВИЗ'!AK:AK)+SUMIF('15.ГРР'!$D:$D, $D31, '15.ГРР'!H:H)+SUMIF('16.НИОКР'!$D:$D, $D31, '16.НИОКР'!H:H)+SUMIF('17.НМА'!$D:$D, $D31, '17.НМА'!I:I)+SUMIF('18.ПКЗ'!$D:$D, $D31, '18.ПКЗ'!I:I)+SUMIF('19.БФИ'!$D:$D, $D31, '19.БФИ'!I:I))","v":0},{"$f":"IF($D31=\"\", 0, SUMIF('7.СМР'!$D:$D, $D31, '7.СМР'!I:I)+SUMIF('8.ОСС'!$D:$D, $D31, '8.ОСС'!AA:AA)+SUMIF('9.ПИР'!$D:$D, $D31, '9.ПИР'!I:I)+SUMIF('10.БКП'!$D:$D, $D31, '10.БКП'!I:I)+SUMIF('11.ПЗС'!$D:$D, $D31, '11.ПЗС'!J:J)+SUMIF('12.ТП_БЭФ'!$D:$D, $D31, '12.ТП_БЭФ'!AC:AC)+SUMIF('13.ТП_СЭФ'!$D:$D, $D31, '13.ТП_СЭФ'!AK:AK)+SUMIF('14.ОВИЗ'!$D:$D, $D31, '14.ОВИЗ'!AL:AL)+SUMIF('15.ГРР'!$D:$D, $D31, '15.ГРР'!I:I)+SUMIF('16.НИОКР'!$D:$D, $D31, '16.НИОКР'!I:I)+SUMIF('17.НМА'!$D:$D, $D31, '17.НМА'!J:J)+SUMIF('18.ПКЗ'!$D:$D, $D31, '18.ПКЗ'!J:J)+SUMIF('19.БФИ'!$D:$D, $D31, '19.БФИ'!J:J))","v":0},{"$f":"IF($D31=\"\", 0, SUMIF('7.СМР'!$D:$D, $D31, '7.СМР'!J:J)+SUMIF('8.ОСС'!$D:$D, $D31, '8.ОСС'!AB:AB)+SUMIF('9.ПИР'!$D:$D, $D31, '9.ПИР'!J:J)+SUMIF('10.БКП'!$D:$D, $D31, '10.БКП'!J:J)+SUMIF('11.ПЗС'!$D:$D, $D31, '11.ПЗС'!K:K)+SUMIF('12.ТП_БЭФ'!$D:$D, $D31, '12.ТП_БЭФ'!AD:AD)+SUMIF('13.ТП_СЭФ'!$D:$D, $D31, '13.ТП_СЭФ'!AL:AL)+SUMIF('14.ОВИЗ'!$D:$D, $D31, '14.ОВИЗ'!AM:AM)+SUMIF('15.ГРР'!$D:$D, $D31, '15.ГРР'!J:J)+SUMIF('16.НИОКР'!$D:$D, $D31, '16.НИОКР'!J:J)+SUMIF('17.НМА'!$D:$D, $D31, '17.НМА'!K:K)+SUMIF('18.ПКЗ'!$D:$D, $D31, '18.ПКЗ'!K:K)+SUMIF('19.БФИ'!$D:$D, $D31, '19.БФИ'!K:K))","v":0},{"$f":"IF($D31=\"\", 0, SUMIF('7.СМР'!$D:$D, $D31, '7.СМР'!K:K)+SUMIF('8.ОСС'!$D:$D, $D31, '8.ОСС'!AC:AC)+SUMIF('9.ПИР'!$D:$D, $D31, '9.ПИР'!K:K)+SUMIF('10.БКП'!$D:$D, $D31, '10.БКП'!K:K)+SUMIF('11.ПЗС'!$D:$D, $D31, '11.ПЗС'!L:L)+SUMIF('12.ТП_БЭФ'!$D:$D, $D31, '12.ТП_БЭФ'!AE:AE)+SUMIF('13.ТП_СЭФ'!$D:$D, $D31, '13.ТП_СЭФ'!AM:AM)+SUMIF('14.ОВИЗ'!$D:$D, $D31, '14.ОВИЗ'!AN:AN)+SUMIF('15.ГРР'!$D:$D, $D31, '15.ГРР'!K:K)+SUMIF('16.НИОКР'!$D:$D, $D31, '16.НИОКР'!K:K)+SUMIF('17.НМА'!$D:$D, $D31, '17.НМА'!L:L)+SUMIF('18.ПКЗ'!$D:$D, $D31, '18.ПКЗ'!L:L)+SUMIF('19.БФИ'!$D:$D, $D31, '19.БФИ'!L:L))","v":0},{"$f":"IF($D31=\"\", 0, SUMIF('7.СМР'!$D:$D, $D31, '7.СМР'!L:L)+SUMIF('8.ОСС'!$D:$D, $D31, '8.ОСС'!AD:AD)+SUMIF('9.ПИР'!$D:$D, $D31, '9.ПИР'!L:L)+SUMIF('10.БКП'!$D:$D, $D31, '10.БКП'!L:L)+SUMIF('11.ПЗС'!$D:$D, $D31, '11.ПЗС'!M:M)+SUMIF('12.ТП_БЭФ'!$D:$D, $D31, '12.ТП_БЭФ'!AF:AF)+SUMIF('13.ТП_СЭФ'!$D:$D, $D31, '13.ТП_СЭФ'!AN:AN)+SUMIF('14.ОВИЗ'!$D:$D, $D31, '14.ОВИЗ'!AO:AO)+SUMIF('15.ГРР'!$D:$D, $D31, '15.ГРР'!L:L)+SUMIF('16.НИОКР'!$D:$D, $D31, '16.НИОКР'!L:L)+SUMIF('17.НМА'!$D:$D, $D31, '17.НМА'!M:M)+SUMIF('18.ПКЗ'!$D:$D, $D31, '18.ПКЗ'!M:M)+SUMIF('19.БФИ'!$D:$D, $D31, '19.БФИ'!M:M))","v":0},{"$f":"IF($D31=\"\", 0, SUMIF('7.СМР'!$D:$D, $D31, '7.СМР'!M:M)+SUMIF('8.ОСС'!$D:$D, $D31, '8.ОСС'!AE:AE)+SUMIF('9.ПИР'!$D:$D, $D31, '9.ПИР'!M:M)+SUMIF('10.БКП'!$D:$D, $D31, '10.БКП'!M:M)+SUMIF('11.ПЗС'!$D:$D, $D31, '11.ПЗС'!N:N)+SUMIF('12.ТП_БЭФ'!$D:$D, $D31, '12.ТП_БЭФ'!AG:AG)+SUMIF('13.ТП_СЭФ'!$D:$D, $D31, '13.ТП_СЭФ'!AO:AO)+SUMIF('14.ОВИЗ'!$D:$D, $D31, '14.ОВИЗ'!AP:AP)+SUMIF('15.ГРР'!$D:$D, $D31, '15.ГРР'!M:M)+SUMIF('16.НИОКР'!$D:$D, $D31, '16.НИОКР'!M:M)+SUMIF('17.НМА'!$D:$D, $D31, '17.НМА'!N:N)+SUMIF('18.ПКЗ'!$D:$D, $D31, '18.ПКЗ'!N:N)+SUMIF('19.БФИ'!$D:$D, $D31, '19.БФИ'!N:N))","v":0},{"$f":"IF($D31=\"\", 0, SUMIF('7.СМР'!$D:$D, $D31, '7.СМР'!N:N)+SUMIF('8.ОСС'!$D:$D, $D31, '8.ОСС'!AF:AF)+SUMIF('9.ПИР'!$D:$D, $D31, '9.ПИР'!N:N)+SUMIF('10.БКП'!$D:$D, $D31, '10.БКП'!N:N)+SUMIF('11.ПЗС'!$D:$D, $D31, '11.ПЗС'!O:O)+SUMIF('12.ТП_БЭФ'!$D:$D, $D31, '12.ТП_БЭФ'!AH:AH)+SUMIF('13.ТП_СЭФ'!$D:$D, $D31, '13.ТП_СЭФ'!AP:AP)+SUMIF('14.ОВИЗ'!$D:$D, $D31, '14.ОВИЗ'!AQ:AQ)+SUMIF('15.ГРР'!$D:$D, $D31, '15.ГРР'!N:N)+SUMIF('16.НИОКР'!$D:$D, $D31, '16.НИОКР'!N:N)+SUMIF('17.НМА'!$D:$D, $D31, '17.НМА'!O:O)+SUMIF('18.ПКЗ'!$D:$D, $D31, '18.ПКЗ'!O:O)+SUMIF('19.БФИ'!$D:$D, $D31, '19.БФИ'!O:O))","v":0},{"$f":"IF($D31=\"\", 0, SUMIF('7.СМР'!$D:$D, $D31, '7.СМР'!O:O)+SUMIF('8.ОСС'!$D:$D, $D31, '8.ОСС'!AG:AG)+SUMIF('9.ПИР'!$D:$D, $D31, '9.ПИР'!O:O)+SUMIF('10.БКП'!$D:$D, $D31, '10.БКП'!O:O)+SUMIF('11.ПЗС'!$D:$D, $D31, '11.ПЗС'!P:P)+SUMIF('12.ТП_БЭФ'!$D:$D, $D31, '12.ТП_БЭФ'!AI:AI)+SUMIF('13.ТП_СЭФ'!$D:$D, $D31, '13.ТП_СЭФ'!AQ:AQ)+SUMIF('14.ОВИЗ'!$D:$D, $D31, '14.ОВИЗ'!AR:AR)+SUMIF('15.ГРР'!$D:$D, $D31, '15.ГРР'!O:O)+SUMIF('16.НИОКР'!$D:$D, $D31, '16.НИОКР'!O:O)+SUMIF('17.НМА'!$D:$D, $D31, '17.НМА'!P:P)+SUMIF('18.ПКЗ'!$D:$D, $D31, '18.ПКЗ'!P:P)+SUMIF('19.БФИ'!$D:$D, $D31, '19.БФИ'!P:P))","v":0},{"$f":"IF($D31=\"\", 0, SUMIF('7.СМР'!$D:$D, $D31, '7.СМР'!P:P)+SUMIF('8.ОСС'!$D:$D, $D31, '8.ОСС'!AH:AH)+SUMIF('9.ПИР'!$D:$D, $D31, '9.ПИР'!P:P)+SUMIF('10.БКП'!$D:$D, $D31, '10.БКП'!P:P)+SUMIF('11.ПЗС'!$D:$D, $D31, '11.ПЗС'!Q:Q)+SUMIF('12.ТП_БЭФ'!$D:$D, $D31, '12.ТП_БЭФ'!AJ:AJ)+SUMIF('13.ТП_СЭФ'!$D:$D, $D31, '13.ТП_СЭФ'!AR:AR)+SUMIF('14.ОВИЗ'!$D:$D, $D31, '14.ОВИЗ'!AS:AS)+SUMIF('15.ГРР'!$D:$D, $D31, '15.ГРР'!P:P)+SUMIF('16.НИОКР'!$D:$D, $D31, '16.НИОКР'!P:P)+SUMIF('17.НМА'!$D:$D, $D31, '17.НМА'!Q:Q)+SUMIF('18.ПКЗ'!$D:$D, $D31, '18.ПКЗ'!Q:Q)+SUMIF('19.БФИ'!$D:$D, $D31, '19.БФИ'!Q:Q))","v":0},0,0,0,0,null,0,0,{"$f":"IF($D31=\"\", 0, SUMIF('7.СМР'!$D:$D, $D31, '7.СМР'!X:X)+SUMIF('8.ОСС'!$D:$D, $D31, '8.ОСС'!AP:AP)+SUMIF('9.ПИР'!$D:$D, $D31, '9.ПИР'!X:X)+SUMIF('10.БКП'!$D:$D, $D31, '10.БКП'!X:X)+SUMIF('11.ПЗС'!$D:$D, $D31, '11.ПЗС'!Y:Y)+SUMIF('12.ТП_БЭФ'!$D:$D, $D31, '12.ТП_БЭФ'!AR:AR)+SUMIF('13.ТП_СЭФ'!$D:$D, $D31, '13.ТП_СЭФ'!AZ:AZ)+SUMIF('14.ОВИЗ'!$D:$D, $D31, '14.ОВИЗ'!BA:BA)+SUMIF('15.ГРР'!$D:$D, $D31, '15.ГРР'!X:X)+SUMIF('16.НИОКР'!$D:$D, $D31, '16.НИОКР'!X:X)+SUMIF('17.НМА'!$D:$D, $D31, '17.НМА'!Y:Y)+SUMIF('18.ПКЗ'!$D:$D, $D31, '18.ПКЗ'!Y:Y)+SUMIF('19.БФИ'!$D:$D, $D31, '19.БФИ'!Y:Y))","v":0},{"$f":"IF($D31=\"\", 0, SUMIF('7.СМР'!$D:$D, $D31, '7.СМР'!Y:Y)+SUMIF('8.ОСС'!$D:$D, $D31, '8.ОСС'!AQ:AQ)+SUMIF('9.ПИР'!$D:$D, $D31, '9.ПИР'!Y:Y)+SUMIF('10.БКП'!$D:$D, $D31, '10.БКП'!Y:Y)+SUMIF('11.ПЗС'!$D:$D, $D31, '11.ПЗС'!Z:Z)+SUMIF('12.ТП_БЭФ'!$D:$D, $D31, '12.ТП_БЭФ'!AS:AS)+SUMIF('13.ТП_СЭФ'!$D:$D, $D31, '13.ТП_СЭФ'!BA:BA)+SUMIF('14.ОВИЗ'!$D:$D, $D31, '14.ОВИЗ'!BB:BB)+SUMIF('15.ГРР'!$D:$D, $D31, '15.ГРР'!Y:Y)+SUMIF('16.НИОКР'!$D:$D, $D31, '16.НИОКР'!Y:Y)+SUMIF('17.НМА'!$D:$D, $D31, '17.НМА'!Z:Z)+SUMIF('18.ПКЗ'!$D:$D, $D31, '18.ПКЗ'!Z:Z)+SUMIF('19.БФИ'!$D:$D, $D31, '19.БФИ'!Z:Z))","v":0},{"$f":"IF($D31=\"\", 0, SUMIF('7.СМР'!$D:$D, $D31, '7.СМР'!Z:Z)+SUMIF('8.ОСС'!$D:$D, $D31, '8.ОСС'!AR:AR)+SUMIF('9.ПИР'!$D:$D, $D31, '9.ПИР'!Z:Z)+SUMIF('10.БКП'!$D:$D, $D31, '10.БКП'!Z:Z)+SUMIF('11.ПЗС'!$D:$D, $D31, '11.ПЗС'!AA:AA)+SUMIF('12.ТП_БЭФ'!$D:$D, $D31, '12.ТП_БЭФ'!AT:AT)+SUMIF('13.ТП_СЭФ'!$D:$D, $D31, '13.ТП_СЭФ'!BB:BB)+SUMIF('14.ОВИЗ'!$D:$D, $D31, '14.ОВИЗ'!BC:BC)+SUMIF('15.ГРР'!$D:$D, $D31, '15.ГРР'!Z:Z)+SUMIF('16.НИОКР'!$D:$D, $D31, '16.НИОКР'!Z:Z)+SUMIF('17.НМА'!$D:$D, $D31, '17.НМА'!AA:AA)+SUMIF('18.ПКЗ'!$D:$D, $D31, '18.ПКЗ'!AA:AA)+SUMIF('19.БФИ'!$D:$D, $D31, '19.БФИ'!AA:AA))","v":0},{"$f":"IF($D31=\"\", 0, SUMIF('7.СМР'!$D:$D, $D31, '7.СМР'!AA:AA)+SUMIF('8.ОСС'!$D:$D, $D31, '8.ОСС'!AS:AS)+SUMIF('9.ПИР'!$D:$D, $D31, '9.ПИР'!AA:AA)+SUMIF('10.БКП'!$D:$D, $D31, '10.БКП'!AA:AA)+SUMIF('11.ПЗС'!$D:$D, $D31, '11.ПЗС'!AB:AB)+SUMIF('12.ТП_БЭФ'!$D:$D, $D31, '12.ТП_БЭФ'!AU:AU)+SUMIF('13.ТП_СЭФ'!$D:$D, $D31, '13.ТП_СЭФ'!BC:BC)+SUMIF('14.ОВИЗ'!$D:$D, $D31, '14.ОВИЗ'!BD:BD)+SUMIF('15.ГРР'!$D:$D, $D31, '15.ГРР'!AA:AA)+SUMIF('16.НИОКР'!$D:$D, $D31, '16.НИОКР'!AA:AA)+SUMIF('17.НМА'!$D:$D, $D31, '17.НМА'!AB:AB)+SUMIF('18.ПКЗ'!$D:$D, $D31, '18.ПКЗ'!AB:AB)+SUMIF('19.БФИ'!$D:$D, $D31, '19.БФИ'!AB:AB))","v":0},{"$f":"IF($D31=\"\", 0, SUMIF('7.СМР'!$D:$D, $D31, '7.СМР'!AB:AB)+SUMIF('8.ОСС'!$D:$D, $D31, '8.ОСС'!AT:AT)+SUMIF('9.ПИР'!$D:$D, $D31, '9.ПИР'!AB:AB)+SUMIF('10.БКП'!$D:$D, $D31, '10.БКП'!AB:AB)+SUMIF('11.ПЗС'!$D:$D, $D31, '11.ПЗС'!AC:AC)+SUMIF('12.ТП_БЭФ'!$D:$D, $D31, '12.ТП_БЭФ'!AV:AV)+SUMIF('13.ТП_СЭФ'!$D:$D, $D31, '13.ТП_СЭФ'!BD:BD)+SUMIF('14.ОВИЗ'!$D:$D, $D31, '14.ОВИЗ'!BE:BE)+SUMIF('15.ГРР'!$D:$D, $D31, '15.ГРР'!AB:AB)+SUMIF('16.НИОКР'!$D:$D, $D31, '16.НИОКР'!AB:AB)+SUMIF('17.НМА'!$D:$D, $D31, '17.НМА'!AC:AC)+SUMIF('18.ПКЗ'!$D:$D, $D31, '18.ПКЗ'!AC:AC)+SUMIF('19.БФИ'!$D:$D, $D31, '19.БФИ'!AC:AC))","v":0},{"$f":"IF($D31=\"\", 0, SUMIF('7.СМР'!$D:$D, $D31, '7.СМР'!AC:AC)+SUMIF('8.ОСС'!$D:$D, $D31, '8.ОСС'!AU:AU)+SUMIF('9.ПИР'!$D:$D, $D31, '9.ПИР'!AC:AC)+SUMIF('10.БКП'!$D:$D, $D31, '10.БКП'!AC:AC)+SUMIF('11.ПЗС'!$D:$D, $D31, '11.ПЗС'!AD:AD)+SUMIF('12.ТП_БЭФ'!$D:$D, $D31, '12.ТП_БЭФ'!AW:AW)+SUMIF('13.ТП_СЭФ'!$D:$D, $D31, '13.ТП_СЭФ'!BE:BE)+SUMIF('14.ОВИЗ'!$D:$D, $D31, '14.ОВИЗ'!BF:BF)+SUMIF('15.ГРР'!$D:$D, $D31, '15.ГРР'!AC:AC)+SUMIF('16.НИОКР'!$D:$D, $D31, '16.НИОКР'!AC:AC)+SUMIF('17.НМА'!$D:$D, $D31, '17.НМА'!AD:AD)+SUMIF('18.ПКЗ'!$D:$D, $D31, '18.ПКЗ'!AD:AD)+SUMIF('19.БФИ'!$D:$D, $D31, '19.БФИ'!AD:AD))","v":0},{"$f":"IF($D31=\"\", 0, SUMIF('7.СМР'!$D:$D, $D31, '7.СМР'!AD:AD)+SUMIF('8.ОСС'!$D:$D, $D31, '8.ОСС'!AV:AV)+SUMIF('9.ПИР'!$D:$D, $D31, '9.ПИР'!AD:AD)+SUMIF('10.БКП'!$D:$D, $D31, '10.БКП'!AD:AD)+SUMIF('11.ПЗС'!$D:$D, $D31, '11.ПЗС'!AE:AE)+SUMIF('12.ТП_БЭФ'!$D:$D, $D31, '12.ТП_БЭФ'!AX:AX)+SUMIF('13.ТП_СЭФ'!$D:$D, $D31, '13.ТП_СЭФ'!BF:BF)+SUMIF('14.ОВИЗ'!$D:$D, $D31, '14.ОВИЗ'!BG:BG)+SUMIF('15.ГРР'!$D:$D, $D31, '15.ГРР'!AD:AD)+SUMIF('16.НИОКР'!$D:$D, $D31, '16.НИОКР'!AD:AD)+SUMIF('17.НМА'!$D:$D, $D31, '17.НМА'!AE:AE)+SUMIF('18.ПКЗ'!$D:$D, $D31, '18.ПКЗ'!AE:AE)+SUMIF('19.БФИ'!$D:$D, $D31, '19.БФИ'!AE:AE))","v":0},{"$f":"IF($D31=\"\", 0, SUMIF('7.СМР'!$D:$D, $D31, '7.СМР'!AE:AE)+SUMIF('8.ОСС'!$D:$D, $D31, '8.ОСС'!AW:AW)+SUMIF('9.ПИР'!$D:$D, $D31, '9.ПИР'!AE:AE)+SUMIF('10.БКП'!$D:$D, $D31, '10.БКП'!AE:AE)+SUMIF('11.ПЗС'!$D:$D, $D31, '11.ПЗС'!AF:AF)+SUMIF('12.ТП_БЭФ'!$D:$D, $D31, '12.ТП_БЭФ'!AY:AY)+SUMIF('13.ТП_СЭФ'!$D:$D, $D31, '13.ТП_СЭФ'!BG:BG)+SUMIF('14.ОВИЗ'!$D:$D, $D31, '14.ОВИЗ'!BH:BH)+SUMIF('15.ГРР'!$D:$D, $D31, '15.ГРР'!AE:AE)+SUMIF('16.НИОКР'!$D:$D, $D31, '16.НИОКР'!AE:AE)+SUMIF('17.НМА'!$D:$D, $D31, '17.НМА'!AF:AF)+SUMIF('18.ПКЗ'!$D:$D, $D31, '18.ПКЗ'!AF:AF)+SUMIF('19.БФИ'!$D:$D, $D31, '19.БФИ'!AF:AF))","v":0},null,0]
[null,{"$f":"IF(D32=\"\", \"\", '04.РИП'!#REF!)","v":""},{"$f":"IF(D32=\"\", \"\", '04.РИП'!D42)","v":""},{"$f":"IF(ISBLANK('04.РИП'!B42), \"\", '04.РИП'!B42)","v":""},{"$f":"IF(D32=\"\", \"\", '04.РИП'!E42)","v":""},{"$f":"IF(D32=\"\", \"\", '04.РИП'!D42)","v":""},{"$f":"IF($D32=\"\", 0, SUMIF('7.СМР'!$D:$D, $D32, '7.СМР'!G:G)+SUMIF('8.ОСС'!$D:$D, $D32, '8.ОСС'!Y:Y)+SUMIF('9.ПИР'!$D:$D, $D32, '9.ПИР'!G:G)+SUMIF('10.БКП'!$D:$D, $D32, '10.БКП'!G:G)+SUMIF('11.ПЗС'!$D:$D, $D32, '11.ПЗС'!H:H)+SUMIF('12.ТП_БЭФ'!$D:$D, $D32, '12.ТП_БЭФ'!AA:AA)+SUMIF('13.ТП_СЭФ'!$D:$D, $D32, '13.ТП_СЭФ'!AI:AI)+SUMIF('14.ОВИЗ'!$D:$D, $D32, '14.ОВИЗ'!AJ:AJ)+SUMIF('15.ГРР'!$D:$D, $D32, '15.ГРР'!G:G)+SUMIF('16.НИОКР'!$D:$D, $D32, '16.НИОКР'!G:G)+SUMIF('17.НМА'!$D:$D, $D32, '17.НМА'!H:H)+SUMIF('18.ПКЗ'!$D:$D, $D32, '18.ПКЗ'!H:H)+SUMIF('19.БФИ'!$D:$D, $D32, '19.БФИ'!H:H))","v":0},{"$f":"IF($D32=\"\", 0, SUMIF('7.СМР'!$D:$D, $D32, '7.СМР'!H:H)+SUMIF('8.ОСС'!$D:$D, $D32, '8.ОСС'!Z:Z)+SUMIF('9.ПИР'!$D:$D, $D32, '9.ПИР'!H:H)+SUMIF('10.БКП'!$D:$D, $D32, '10.БКП'!H:H)+SUMIF('11.ПЗС'!$D:$D, $D32, '11.ПЗС'!I:I)+SUMIF('12.ТП_БЭФ'!$D:$D, $D32, '12.ТП_БЭФ'!AB:AB)+SUMIF('13.ТП_СЭФ'!$D:$D, $D32, '13.ТП_СЭФ'!AJ:AJ)+SUMIF('14.ОВИЗ'!$D:$D, $D32, '14.ОВИЗ'!AK:AK)+SUMIF('15.ГРР'!$D:$D, $D32, '15.ГРР'!H:H)+SUMIF('16.НИОКР'!$D:$D, $D32, '16.НИОКР'!H:H)+SUMIF('17.НМА'!$D:$D, $D32, '17.НМА'!I:I)+SUMIF('18.ПКЗ'!$D:$D, $D32, '18.ПКЗ'!I:I)+SUMIF('19.БФИ'!$D:$D, $D32, '19.БФИ'!I:I))","v":0},{"$f":"IF($D32=\"\", 0, SUMIF('7.СМР'!$D:$D, $D32, '7.СМР'!I:I)+SUMIF('8.ОСС'!$D:$D, $D32, '8.ОСС'!AA:AA)+SUMIF('9.ПИР'!$D:$D, $D32, '9.ПИР'!I:I)+SUMIF('10.БКП'!$D:$D, $D32, '10.БКП'!I:I)+SUMIF('11.ПЗС'!$D:$D, $D32, '11.ПЗС'!J:J)+SUMIF('12.ТП_БЭФ'!$D:$D, $D32, '12.ТП_БЭФ'!AC:AC)+SUMIF('13.ТП_СЭФ'!$D:$D, $D32, '13.ТП_СЭФ'!AK:AK)+SUMIF('14.ОВИЗ'!$D:$D, $D32, '14.ОВИЗ'!AL:AL)+SUMIF('15.ГРР'!$D:$D, $D32, '15.ГРР'!I:I)+SUMIF('16.НИОКР'!$D:$D, $D32, '16.НИОКР'!I:I)+SUMIF('17.НМА'!$D:$D, $D32, '17.НМА'!J:J)+SUMIF('18.ПКЗ'!$D:$D, $D32, '18.ПКЗ'!J:J)+SUMIF('19.БФИ'!$D:$D, $D32, '19.БФИ'!J:J))","v":0},{"$f":"IF($D32=\"\", 0, SUMIF('7.СМР'!$D:$D, $D32, '7.СМР'!J:J)+SUMIF('8.ОСС'!$D:$D, $D32, '8.ОСС'!AB:AB)+SUMIF('9.ПИР'!$D:$D, $D32, '9.ПИР'!J:J)+SUMIF('10.БКП'!$D:$D, $D32, '10.БКП'!J:J)+SUMIF('11.ПЗС'!$D:$D, $D32, '11.ПЗС'!K:K)+SUMIF('12.ТП_БЭФ'!$D:$D, $D32, '12.ТП_БЭФ'!AD:AD)+SUMIF('13.ТП_СЭФ'!$D:$D, $D32, '13.ТП_СЭФ'!AL:AL)+SUMIF('14.ОВИЗ'!$D:$D, $D32, '14.ОВИЗ'!AM:AM)+SUMIF('15.ГРР'!$D:$D, $D32, '15.ГРР'!J:J)+SUMIF('16.НИОКР'!$D:$D, $D32, '16.НИОКР'!J:J)+SUMIF('17.НМА'!$D:$D, $D32, '17.НМА'!K:K)+SUMIF('18.ПКЗ'!$D:$D, $D32, '18.ПКЗ'!K:K)+SUMIF('19.БФИ'!$D:$D, $D32, '19.БФИ'!K:K))","v":0},{"$f":"IF($D32=\"\", 0, SUMIF('7.СМР'!$D:$D, $D32, '7.СМР'!K:K)+SUMIF('8.ОСС'!$D:$D, $D32, '8.ОСС'!AC:AC)+SUMIF('9.ПИР'!$D:$D, $D32, '9.ПИР'!K:K)+SUMIF('10.БКП'!$D:$D, $D32, '10.БКП'!K:K)+SUMIF('11.ПЗС'!$D:$D, $D32, '11.ПЗС'!L:L)+SUMIF('12.ТП_БЭФ'!$D:$D, $D32, '12.ТП_БЭФ'!AE:AE)+SUMIF('13.ТП_СЭФ'!$D:$D, $D32, '13.ТП_СЭФ'!AM:AM)+SUMIF('14.ОВИЗ'!$D:$D, $D32, '14.ОВИЗ'!AN:AN)+SUMIF('15.ГРР'!$D:$D, $D32, '15.ГРР'!K:K)+SUMIF('16.НИОКР'!$D:$D, $D32, '16.НИОКР'!K:K)+SUMIF('17.НМА'!$D:$D, $D32, '17.НМА'!L:L)+SUMIF('18.ПКЗ'!$D:$D, $D32, '18.ПКЗ'!L:L)+SUMIF('19.БФИ'!$D:$D, $D32, '19.БФИ'!L:L))","v":0},{"$f":"IF($D32=\"\", 0, SUMIF('7.СМР'!$D:$D, $D32, '7.СМР'!L:L)+SUMIF('8.ОСС'!$D:$D, $D32, '8.ОСС'!AD:AD)+SUMIF('9.ПИР'!$D:$D, $D32, '9.ПИР'!L:L)+SUMIF('10.БКП'!$D:$D, $D32, '10.БКП'!L:L)+SUMIF('11.ПЗС'!$D:$D, $D32, '11.ПЗС'!M:M)+SUMIF('12.ТП_БЭФ'!$D:$D, $D32, '12.ТП_БЭФ'!AF:AF)+SUMIF('13.ТП_СЭФ'!$D:$D, $D32, '13.ТП_СЭФ'!AN:AN)+SUMIF('14.ОВИЗ'!$D:$D, $D32, '14.ОВИЗ'!AO:AO)+SUMIF('15.ГРР'!$D:$D, $D32, '15.ГРР'!L:L)+SUMIF('16.НИОКР'!$D:$D, $D32, '16.НИОКР'!L:L)+SUMIF('17.НМА'!$D:$D, $D32, '17.НМА'!M:M)+SUMIF('18.ПКЗ'!$D:$D, $D32, '18.ПКЗ'!M:M)+SUMIF('19.БФИ'!$D:$D, $D32, '19.БФИ'!M:M))","v":0},{"$f":"IF($D32=\"\", 0, SUMIF('7.СМР'!$D:$D, $D32, '7.СМР'!M:M)+SUMIF('8.ОСС'!$D:$D, $D32, '8.ОСС'!AE:AE)+SUMIF('9.ПИР'!$D:$D, $D32, '9.ПИР'!M:M)+SUMIF('10.БКП'!$D:$D, $D32, '10.БКП'!M:M)+SUMIF('11.ПЗС'!$D:$D, $D32, '11.ПЗС'!N:N)+SUMIF('12.ТП_БЭФ'!$D:$D, $D32, '12.ТП_БЭФ'!AG:AG)+SUMIF('13.ТП_СЭФ'!$D:$D, $D32, '13.ТП_СЭФ'!AO:AO)+SUMIF('14.ОВИЗ'!$D:$D, $D32, '14.ОВИЗ'!AP:AP)+SUMIF('15.ГРР'!$D:$D, $D32, '15.ГРР'!M:M)+SUMIF('16.НИОКР'!$D:$D, $D32, '16.НИОКР'!M:M)+SUMIF('17.НМА'!$D:$D, $D32, '17.НМА'!N:N)+SUMIF('18.ПКЗ'!$D:$D, $D32, '18.ПКЗ'!N:N)+SUMIF('19.БФИ'!$D:$D, $D32, '19.БФИ'!N:N))","v":0},{"$f":"IF($D32=\"\", 0, SUMIF('7.СМР'!$D:$D, $D32, '7.СМР'!N:N)+SUMIF('8.ОСС'!$D:$D, $D32, '8.ОСС'!AF:AF)+SUMIF('9.ПИР'!$D:$D, $D32, '9.ПИР'!N:N)+SUMIF('10.БКП'!$D:$D, $D32, '10.БКП'!N:N)+SUMIF('11.ПЗС'!$D:$D, $D32, '11.ПЗС'!O:O)+SUMIF('12.ТП_БЭФ'!$D:$D, $D32, '12.ТП_БЭФ'!AH:AH)+SUMIF('13.ТП_СЭФ'!$D:$D, $D32, '13.ТП_СЭФ'!AP:AP)+SUMIF('14.ОВИЗ'!$D:$D, $D32, '14.ОВИЗ'!AQ:AQ)+SUMIF('15.ГРР'!$D:$D, $D32, '15.ГРР'!N:N)+SUMIF('16.НИОКР'!$D:$D, $D32, '16.НИОКР'!N:N)+SUMIF('17.НМА'!$D:$D, $D32, '17.НМА'!O:O)+SUMIF('18.ПКЗ'!$D:$D, $D32, '18.ПКЗ'!O:O)+SUMIF('19.БФИ'!$D:$D, $D32, '19.БФИ'!O:O))","v":0},{"$f":"IF($D32=\"\", 0, SUMIF('7.СМР'!$D:$D, $D32, '7.СМР'!O:O)+SUMIF('8.ОСС'!$D:$D, $D32, '8.ОСС'!AG:AG)+SUMIF('9.ПИР'!$D:$D, $D32, '9.ПИР'!O:O)+SUMIF('10.БКП'!$D:$D, $D32, '10.БКП'!O:O)+SUMIF('11.ПЗС'!$D:$D, $D32, '11.ПЗС'!P:P)+SUMIF('12.ТП_БЭФ'!$D:$D, $D32, '12.ТП_БЭФ'!AI:AI)+SUMIF('13.ТП_СЭФ'!$D:$D, $D32, '13.ТП_СЭФ'!AQ:AQ)+SUMIF('14.ОВИЗ'!$D:$D, $D32, '14.ОВИЗ'!AR:AR)+SUMIF('15.ГРР'!$D:$D, $D32, '15.ГРР'!O:O)+SUMIF('16.НИОКР'!$D:$D, $D32, '16.НИОКР'!O:O)+SUMIF('17.НМА'!$D:$D, $D32, '17.НМА'!P:P)+SUMIF('18.ПКЗ'!$D:$D, $D32, '18.ПКЗ'!P:P)+SUMIF('19.БФИ'!$D:$D, $D32, '19.БФИ'!P:P))","v":0},{"$f":"IF($D32=\"\", 0, SUMIF('7.СМР'!$D:$D, $D32, '7.СМР'!P:P)+SUMIF('8.ОСС'!$D:$D, $D32, '8.ОСС'!AH:AH)+SUMIF('9.ПИР'!$D:$D, $D32, '9.ПИР'!P:P)+SUMIF('10.БКП'!$D:$D, $D32, '10.БКП'!P:P)+SUMIF('11.ПЗС'!$D:$D, $D32, '11.ПЗС'!Q:Q)+SUMIF('12.ТП_БЭФ'!$D:$D, $D32, '12.ТП_БЭФ'!AJ:AJ)+SUMIF('13.ТП_СЭФ'!$D:$D, $D32, '13.ТП_СЭФ'!AR:AR)+SUMIF('14.ОВИЗ'!$D:$D, $D32, '14.ОВИЗ'!AS:AS)+SUMIF('15.ГРР'!$D:$D, $D32, '15.ГРР'!P:P)+SUMIF('16.НИОКР'!$D:$D, $D32, '16.НИОКР'!P:P)+SUMIF('17.НМА'!$D:$D, $D32, '17.НМА'!Q:Q)+SUMIF('18.ПКЗ'!$D:$D, $D32, '18.ПКЗ'!Q:Q)+SUMIF('19.БФИ'!$D:$D, $D32, '19.БФИ'!Q:Q))","v":0},0,0,0,0,null,0,0,{"$f":"IF($D32=\"\", 0, SUMIF('7.СМР'!$D:$D, $D32, '7.СМР'!X:X)+SUMIF('8.ОСС'!$D:$D, $D32, '8.ОСС'!AP:AP)+SUMIF('9.ПИР'!$D:$D, $D32, '9.ПИР'!X:X)+SUMIF('10.БКП'!$D:$D, $D32, '10.БКП'!X:X)+SUMIF('11.ПЗС'!$D:$D, $D32, '11.ПЗС'!Y:Y)+SUMIF('12.ТП_БЭФ'!$D:$D, $D32, '12.ТП_БЭФ'!AR:AR)+SUMIF('13.ТП_СЭФ'!$D:$D, $D32, '13.ТП_СЭФ'!AZ:AZ)+SUMIF('14.ОВИЗ'!$D:$D, $D32, '14.ОВИЗ'!BA:BA)+SUMIF('15.ГРР'!$D:$D, $D32, '15.ГРР'!X:X)+SUMIF('16.НИОКР'!$D:$D, $D32, '16.НИОКР'!X:X)+SUMIF('17.НМА'!$D:$D, $D32, '17.НМА'!Y:Y)+SUMIF('18.ПКЗ'!$D:$D, $D32, '18.ПКЗ'!Y:Y)+SUMIF('19.БФИ'!$D:$D, $D32, '19.БФИ'!Y:Y))","v":0},{"$f":"IF($D32=\"\", 0, SUMIF('7.СМР'!$D:$D, $D32, '7.СМР'!Y:Y)+SUMIF('8.ОСС'!$D:$D, $D32, '8.ОСС'!AQ:AQ)+SUMIF('9.ПИР'!$D:$D, $D32, '9.ПИР'!Y:Y)+SUMIF('10.БКП'!$D:$D, $D32, '10.БКП'!Y:Y)+SUMIF('11.ПЗС'!$D:$D, $D32, '11.ПЗС'!Z:Z)+SUMIF('12.ТП_БЭФ'!$D:$D, $D32, '12.ТП_БЭФ'!AS:AS)+SUMIF('13.ТП_СЭФ'!$D:$D, $D32, '13.ТП_СЭФ'!BA:BA)+SUMIF('14.ОВИЗ'!$D:$D, $D32, '14.ОВИЗ'!BB:BB)+SUMIF('15.ГРР'!$D:$D, $D32, '15.ГРР'!Y:Y)+SUMIF('16.НИОКР'!$D:$D, $D32, '16.НИОКР'!Y:Y)+SUMIF('17.НМА'!$D:$D, $D32, '17.НМА'!Z:Z)+SUMIF('18.ПКЗ'!$D:$D, $D32, '18.ПКЗ'!Z:Z)+SUMIF('19.БФИ'!$D:$D, $D32, '19.БФИ'!Z:Z))","v":0},{"$f":"IF($D32=\"\", 0, SUMIF('7.СМР'!$D:$D, $D32, '7.СМР'!Z:Z)+SUMIF('8.ОСС'!$D:$D, $D32, '8.ОСС'!AR:AR)+SUMIF('9.ПИР'!$D:$D, $D32, '9.ПИР'!Z:Z)+SUMIF('10.БКП'!$D:$D, $D32, '10.БКП'!Z:Z)+SUMIF('11.ПЗС'!$D:$D, $D32, '11.ПЗС'!AA:AA)+SUMIF('12.ТП_БЭФ'!$D:$D, $D32, '12.ТП_БЭФ'!AT:AT)+SUMIF('13.ТП_СЭФ'!$D:$D, $D32, '13.ТП_СЭФ'!BB:BB)+SUMIF('14.ОВИЗ'!$D:$D, $D32, '14.ОВИЗ'!BC:BC)+SUMIF('15.ГРР'!$D:$D, $D32, '15.ГРР'!Z:Z)+SUMIF('16.НИОКР'!$D:$D, $D32, '16.НИОКР'!Z:Z)+SUMIF('17.НМА'!$D:$D, $D32, '17.НМА'!AA:AA)+SUMIF('18.ПКЗ'!$D:$D, $D32, '18.ПКЗ'!AA:AA)+SUMIF('19.БФИ'!$D:$D, $D32, '19.БФИ'!AA:AA))","v":0},{"$f":"IF($D32=\"\", 0, SUMIF('7.СМР'!$D:$D, $D32, '7.СМР'!AA:AA)+SUMIF('8.ОСС'!$D:$D, $D32, '8.ОСС'!AS:AS)+SUMIF('9.ПИР'!$D:$D, $D32, '9.ПИР'!AA:AA)+SUMIF('10.БКП'!$D:$D, $D32, '10.БКП'!AA:AA)+SUMIF('11.ПЗС'!$D:$D, $D32, '11.ПЗС'!AB:AB)+SUMIF('12.ТП_БЭФ'!$D:$D, $D32, '12.ТП_БЭФ'!AU:AU)+SUMIF('13.ТП_СЭФ'!$D:$D, $D32, '13.ТП_СЭФ'!BC:BC)+SUMIF('14.ОВИЗ'!$D:$D, $D32, '14.ОВИЗ'!BD:BD)+SUMIF('15.ГРР'!$D:$D, $D32, '15.ГРР'!AA:AA)+SUMIF('16.НИОКР'!$D:$D, $D32, '16.НИОКР'!AA:AA)+SUMIF('17.НМА'!$D:$D, $D32, '17.НМА'!AB:AB)+SUMIF('18.ПКЗ'!$D:$D, $D32, '18.ПКЗ'!AB:AB)+SUMIF('19.БФИ'!$D:$D, $D32, '19.БФИ'!AB:AB))","v":0},{"$f":"IF($D32=\"\", 0, SUMIF('7.СМР'!$D:$D, $D32, '7.СМР'!AB:AB)+SUMIF('8.ОСС'!$D:$D, $D32, '8.ОСС'!AT:AT)+SUMIF('9.ПИР'!$D:$D, $D32, '9.ПИР'!AB:AB)+SUMIF('10.БКП'!$D:$D, $D32, '10.БКП'!AB:AB)+SUMIF('11.ПЗС'!$D:$D, $D32, '11.ПЗС'!AC:AC)+SUMIF('12.ТП_БЭФ'!$D:$D, $D32, '12.ТП_БЭФ'!AV:AV)+SUMIF('13.ТП_СЭФ'!$D:$D, $D32, '13.ТП_СЭФ'!BD:BD)+SUMIF('14.ОВИЗ'!$D:$D, $D32, '14.ОВИЗ'!BE:BE)+SUMIF('15.ГРР'!$D:$D, $D32, '15.ГРР'!AB:AB)+SUMIF('16.НИОКР'!$D:$D, $D32, '16.НИОКР'!AB:AB)+SUMIF('17.НМА'!$D:$D, $D32, '17.НМА'!AC:AC)+SUMIF('18.ПКЗ'!$D:$D, $D32, '18.ПКЗ'!AC:AC)+SUMIF('19.БФИ'!$D:$D, $D32, '19.БФИ'!AC:AC))","v":0},{"$f":"IF($D32=\"\", 0, SUMIF('7.СМР'!$D:$D, $D32, '7.СМР'!AC:AC)+SUMIF('8.ОСС'!$D:$D, $D32, '8.ОСС'!AU:AU)+SUMIF('9.ПИР'!$D:$D, $D32, '9.ПИР'!AC:AC)+SUMIF('10.БКП'!$D:$D, $D32, '10.БКП'!AC:AC)+SUMIF('11.ПЗС'!$D:$D, $D32, '11.ПЗС'!AD:AD)+SUMIF('12.ТП_БЭФ'!$D:$D, $D32, '12.ТП_БЭФ'!AW:AW)+SUMIF('13.ТП_СЭФ'!$D:$D, $D32, '13.ТП_СЭФ'!BE:BE)+SUMIF('14.ОВИЗ'!$D:$D, $D32, '14.ОВИЗ'!BF:BF)+SUMIF('15.ГРР'!$D:$D, $D32, '15.ГРР'!AC:AC)+SUMIF('16.НИОКР'!$D:$D, $D32, '16.НИОКР'!AC:AC)+SUMIF('17.НМА'!$D:$D, $D32, '17.НМА'!AD:AD)+SUMIF('18.ПКЗ'!$D:$D, $D32, '18.ПКЗ'!AD:AD)+SUMIF('19.БФИ'!$D:$D, $D32, '19.БФИ'!AD:AD))","v":0},{"$f":"IF($D32=\"\", 0, SUMIF('7.СМР'!$D:$D, $D32, '7.СМР'!AD:AD)+SUMIF('8.ОСС'!$D:$D, $D32, '8.ОСС'!AV:AV)+SUMIF('9.ПИР'!$D:$D, $D32, '9.ПИР'!AD:AD)+SUMIF('10.БКП'!$D:$D, $D32, '10.БКП'!AD:AD)+SUMIF('11.ПЗС'!$D:$D, $D32, '11.ПЗС'!AE:AE)+SUMIF('12.ТП_БЭФ'!$D:$D, $D32, '12.ТП_БЭФ'!AX:AX)+SUMIF('13.ТП_СЭФ'!$D:$D, $D32, '13.ТП_СЭФ'!BF:BF)+SUMIF('14.ОВИЗ'!$D:$D, $D32, '14.ОВИЗ'!BG:BG)+SUMIF('15.ГРР'!$D:$D, $D32, '15.ГРР'!AD:AD)+SUMIF('16.НИОКР'!$D:$D, $D32, '16.НИОКР'!AD:AD)+SUMIF('17.НМА'!$D:$D, $D32, '17.НМА'!AE:AE)+SUMIF('18.ПКЗ'!$D:$D, $D32, '18.ПКЗ'!AE:AE)+SUMIF('19.БФИ'!$D:$D, $D32, '19.БФИ'!AE:AE))","v":0},{"$f":"IF($D32=\"\", 0, SUMIF('7.СМР'!$D:$D, $D32, '7.СМР'!AE:AE)+SUMIF('8.ОСС'!$D:$D, $D32, '8.ОСС'!AW:AW)+SUMIF('9.ПИР'!$D:$D, $D32, '9.ПИР'!AE:AE)+SUMIF('10.БКП'!$D:$D, $D32, '10.БКП'!AE:AE)+SUMIF('11.ПЗС'!$D:$D, $D32, '11.ПЗС'!AF:AF)+SUMIF('12.ТП_БЭФ'!$D:$D, $D32, '12.ТП_БЭФ'!AY:AY)+SUMIF('13.ТП_СЭФ'!$D:$D, $D32, '13.ТП_СЭФ'!BG:BG)+SUMIF('14.ОВИЗ'!$D:$D, $D32, '14.ОВИЗ'!BH:BH)+SUMIF('15.ГРР'!$D:$D, $D32, '15.ГРР'!AE:AE)+SUMIF('16.НИОКР'!$D:$D, $D32, '16.НИОКР'!AE:AE)+SUMIF('17.НМА'!$D:$D, $D32, '17.НМА'!AF:AF)+SUMIF('18.ПКЗ'!$D:$D, $D32, '18.ПКЗ'!AF:AF)+SUMIF('19.БФИ'!$D:$D, $D32, '19.БФИ'!AF:AF))","v":0},null,0]
[null,{"$f":"IF(D33=\"\", \"\", '04.РИП'!A43)","v":""},{"$f":"IF(D33=\"\", \"\", '04.РИП'!D43)","v":""},{"$f":"IF(ISBLANK('04.РИП'!B43), \"\", '04.РИП'!B43)","v":""},{"$f":"IF(D33=\"\", \"\", '04.РИП'!E43)","v":""},{"$f":"IF(D33=\"\", \"\", '04.РИП'!D43)","v":""},{"$f":"IF($D33=\"\", 0, SUMIF('7.СМР'!$D:$D, $D33, '7.СМР'!G:G)+SUMIF('8.ОСС'!$D:$D, $D33, '8.ОСС'!Y:Y)+SUMIF('9.ПИР'!$D:$D, $D33, '9.ПИР'!G:G)+SUMIF('10.БКП'!$D:$D, $D33, '10.БКП'!G:G)+SUMIF('11.ПЗС'!$D:$D, $D33, '11.ПЗС'!H:H)+SUMIF('12.ТП_БЭФ'!$D:$D, $D33, '12.ТП_БЭФ'!AA:AA)+SUMIF('13.ТП_СЭФ'!$D:$D, $D33, '13.ТП_СЭФ'!AI:AI)+SUMIF('14.ОВИЗ'!$D:$D, $D33, '14.ОВИЗ'!AJ:AJ)+SUMIF('15.ГРР'!$D:$D, $D33, '15.ГРР'!G:G)+SUMIF('16.НИОКР'!$D:$D, $D33, '16.НИОКР'!G:G)+SUMIF('17.НМА'!$D:$D, $D33, '17.НМА'!H:H)+SUMIF('18.ПКЗ'!$D:$D, $D33, '18.ПКЗ'!H:H)+SUMIF('19.БФИ'!$D:$D, $D33, '19.БФИ'!H:H))","v":0},{"$f":"IF($D33=\"\", 0, SUMIF('7.СМР'!$D:$D, $D33, '7.СМР'!H:H)+SUMIF('8.ОСС'!$D:$D, $D33, '8.ОСС'!Z:Z)+SUMIF('9.ПИР'!$D:$D, $D33, '9.ПИР'!H:H)+SUMIF('10.БКП'!$D:$D, $D33, '10.БКП'!H:H)+SUMIF('11.ПЗС'!$D:$D, $D33, '11.ПЗС'!I:I)+SUMIF('12.ТП_БЭФ'!$D:$D, $D33, '12.ТП_БЭФ'!AB:AB)+SUMIF('13.ТП_СЭФ'!$D:$D, $D33, '13.ТП_СЭФ'!AJ:AJ)+SUMIF('14.ОВИЗ'!$D:$D, $D33, '14.ОВИЗ'!AK:AK)+SUMIF('15.ГРР'!$D:$D, $D33, '15.ГРР'!H:H)+SUMIF('16.НИОКР'!$D:$D, $D33, '16.НИОКР'!H:H)+SUMIF('17.НМА'!$D:$D, $D33, '17.НМА'!I:I)+SUMIF('18.ПКЗ'!$D:$D, $D33, '18.ПКЗ'!I:I)+SUMIF('19.БФИ'!$D:$D, $D33, '19.БФИ'!I:I))","v":0},{"$f":"IF($D33=\"\", 0, SUMIF('7.СМР'!$D:$D, $D33, '7.СМР'!I:I)+SUMIF('8.ОСС'!$D:$D, $D33, '8.ОСС'!AA:AA)+SUMIF('9.ПИР'!$D:$D, $D33, '9.ПИР'!I:I)+SUMIF('10.БКП'!$D:$D, $D33, '10.БКП'!I:I)+SUMIF('11.ПЗС'!$D:$D, $D33, '11.ПЗС'!J:J)+SUMIF('12.ТП_БЭФ'!$D:$D, $D33, '12.ТП_БЭФ'!AC:AC)+SUMIF('13.ТП_СЭФ'!$D:$D, $D33, '13.ТП_СЭФ'!AK:AK)+SUMIF('14.ОВИЗ'!$D:$D, $D33, '14.ОВИЗ'!AL:AL)+SUMIF('15.ГРР'!$D:$D, $D33, '15.ГРР'!I:I)+SUMIF('16.НИОКР'!$D:$D, $D33, '16.НИОКР'!I:I)+SUMIF('17.НМА'!$D:$D, $D33, '17.НМА'!J:J)+SUMIF('18.ПКЗ'!$D:$D, $D33, '18.ПКЗ'!J:J)+SUMIF('19.БФИ'!$D:$D, $D33, '19.БФИ'!J:J))","v":0},{"$f":"IF($D33=\"\", 0, SUMIF('7.СМР'!$D:$D, $D33, '7.СМР'!J:J)+SUMIF('8.ОСС'!$D:$D, $D33, '8.ОСС'!AB:AB)+SUMIF('9.ПИР'!$D:$D, $D33, '9.ПИР'!J:J)+SUMIF('10.БКП'!$D:$D, $D33, '10.БКП'!J:J)+SUMIF('11.ПЗС'!$D:$D, $D33, '11.ПЗС'!K:K)+SUMIF('12.ТП_БЭФ'!$D:$D, $D33, '12.ТП_БЭФ'!AD:AD)+SUMIF('13.ТП_СЭФ'!$D:$D, $D33, '13.ТП_СЭФ'!AL:AL)+SUMIF('14.ОВИЗ'!$D:$D, $D33, '14.ОВИЗ'!AM:AM)+SUMIF('15.ГРР'!$D:$D, $D33, '15.ГРР'!J:J)+SUMIF('16.НИОКР'!$D:$D, $D33, '16.НИОКР'!J:J)+SUMIF('17.НМА'!$D:$D, $D33, '17.НМА'!K:K)+SUMIF('18.ПКЗ'!$D:$D, $D33, '18.ПКЗ'!K:K)+SUMIF('19.БФИ'!$D:$D, $D33, '19.БФИ'!K:K))","v":0},{"$f":"IF($D33=\"\", 0, SUMIF('7.СМР'!$D:$D, $D33, '7.СМР'!K:K)+SUMIF('8.ОСС'!$D:$D, $D33, '8.ОСС'!AC:AC)+SUMIF('9.ПИР'!$D:$D, $D33, '9.ПИР'!K:K)+SUMIF('10.БКП'!$D:$D, $D33, '10.БКП'!K:K)+SUMIF('11.ПЗС'!$D:$D, $D33, '11.ПЗС'!L:L)+SUMIF('12.ТП_БЭФ'!$D:$D, $D33, '12.ТП_БЭФ'!AE:AE)+SUMIF('13.ТП_СЭФ'!$D:$D, $D33, '13.ТП_СЭФ'!AM:AM)+SUMIF('14.ОВИЗ'!$D:$D, $D33, '14.ОВИЗ'!AN:AN)+SUMIF('15.ГРР'!$D:$D, $D33, '15.ГРР'!K:K)+SUMIF('16.НИОКР'!$D:$D, $D33, '16.НИОКР'!K:K)+SUMIF('17.НМА'!$D:$D, $D33, '17.НМА'!L:L)+SUMIF('18.ПКЗ'!$D:$D, $D33, '18.ПКЗ'!L:L)+SUMIF('19.БФИ'!$D:$D, $D33, '19.БФИ'!L:L))","v":0},{"$f":"IF($D33=\"\", 0, SUMIF('7.СМР'!$D:$D, $D33, '7.СМР'!L:L)+SUMIF('8.ОСС'!$D:$D, $D33, '8.ОСС'!AD:AD)+SUMIF('9.ПИР'!$D:$D, $D33, '9.ПИР'!L:L)+SUMIF('10.БКП'!$D:$D, $D33, '10.БКП'!L:L)+SUMIF('11.ПЗС'!$D:$D, $D33, '11.ПЗС'!M:M)+SUMIF('12.ТП_БЭФ'!$D:$D, $D33, '12.ТП_БЭФ'!AF:AF)+SUMIF('13.ТП_СЭФ'!$D:$D, $D33, '13.ТП_СЭФ'!AN:AN)+SUMIF('14.ОВИЗ'!$D:$D, $D33, '14.ОВИЗ'!AO:AO)+SUMIF('15.ГРР'!$D:$D, $D33, '15.ГРР'!L:L)+SUMIF('16.НИОКР'!$D:$D, $D33, '16.НИОКР'!L:L)+SUMIF('17.НМА'!$D:$D, $D33, '17.НМА'!M:M)+SUMIF('18.ПКЗ'!$D:$D, $D33, '18.ПКЗ'!M:M)+SUMIF('19.БФИ'!$D:$D, $D33, '19.БФИ'!M:M))","v":0},{"$f":"IF($D33=\"\", 0, SUMIF('7.СМР'!$D:$D, $D33, '7.СМР'!M:M)+SUMIF('8.ОСС'!$D:$D, $D33, '8.ОСС'!AE:AE)+SUMIF('9.ПИР'!$D:$D, $D33, '9.ПИР'!M:M)+SUMIF('10.БКП'!$D:$D, $D33, '10.БКП'!M:M)+SUMIF('11.ПЗС'!$D:$D, $D33, '11.ПЗС'!N:N)+SUMIF('12.ТП_БЭФ'!$D:$D, $D33, '12.ТП_БЭФ'!AG:AG)+SUMIF('13.ТП_СЭФ'!$D:$D, $D33, '13.ТП_СЭФ'!AO:AO)+SUMIF('14.ОВИЗ'!$D:$D, $D33, '14.ОВИЗ'!AP:AP)+SUMIF('15.ГРР'!$D:$D, $D33, '15.ГРР'!M:M)+SUMIF('16.НИОКР'!$D:$D, $D33, '16.НИОКР'!M:M)+SUMIF('17.НМА'!$D:$D, $D33, '17.НМА'!N:N)+SUMIF('18.ПКЗ'!$D:$D, $D33, '18.ПКЗ'!N:N)+SUMIF('19.БФИ'!$D:$D, $D33, '19.БФИ'!N:N))","v":0},{"$f":"IF($D33=\"\", 0, SUMIF('7.СМР'!$D:$D, $D33, '7.СМР'!N:N)+SUMIF('8.ОСС'!$D:$D, $D33, '8.ОСС'!AF:AF)+SUMIF('9.ПИР'!$D:$D, $D33, '9.ПИР'!N:N)+SUMIF('10.БКП'!$D:$D, $D33, '10.БКП'!N:N)+SUMIF('11.ПЗС'!$D:$D, $D33, '11.ПЗС'!O:O)+SUMIF('12.ТП_БЭФ'!$D:$D, $D33, '12.ТП_БЭФ'!AH:AH)+SUMIF('13.ТП_СЭФ'!$D:$D, $D33, '13.ТП_СЭФ'!AP:AP)+SUMIF('14.ОВИЗ'!$D:$D, $D33, '14.ОВИЗ'!AQ:AQ)+SUMIF('15.ГРР'!$D:$D, $D33, '15.ГРР'!N:N)+SUMIF('16.НИОКР'!$D:$D, $D33, '16.НИОКР'!N:N)+SUMIF('17.НМА'!$D:$D, $D33, '17.НМА'!O:O)+SUMIF('18.ПКЗ'!$D:$D, $D33, '18.ПКЗ'!O:O)+SUMIF('19.БФИ'!$D:$D, $D33, '19.БФИ'!O:O))","v":0},{"$f":"IF($D33=\"\", 0, SUMIF('7.СМР'!$D:$D, $D33, '7.СМР'!O:O)+SUMIF('8.ОСС'!$D:$D, $D33, '8.ОСС'!AG:AG)+SUMIF('9.ПИР'!$D:$D, $D33, '9.ПИР'!O:O)+SUMIF('10.БКП'!$D:$D, $D33, '10.БКП'!O:O)+SUMIF('11.ПЗС'!$D:$D, $D33, '11.ПЗС'!P:P)+SUMIF('12.ТП_БЭФ'!$D:$D, $D33, '12.ТП_БЭФ'!AI:AI)+SUMIF('13.ТП_СЭФ'!$D:$D, $D33, '13.ТП_СЭФ'!AQ:AQ)+SUMIF('14.ОВИЗ'!$D:$D, $D33, '14.ОВИЗ'!AR:AR)+SUMIF('15.ГРР'!$D:$D, $D33, '15.ГРР'!O:O)+SUMIF('16.НИОКР'!$D:$D, $D33, '16.НИОКР'!O:O)+SUMIF('17.НМА'!$D:$D, $D33, '17.НМА'!P:P)+SUMIF('18.ПКЗ'!$D:$D, $D33, '18.ПКЗ'!P:P)+SUMIF('19.БФИ'!$D:$D, $D33, '19.БФИ'!P:P))","v":0},{"$f":"IF($D33=\"\", 0, SUMIF('7.СМР'!$D:$D, $D33, '7.СМР'!P:P)+SUMIF('8.ОСС'!$D:$D, $D33, '8.ОСС'!AH:AH)+SUMIF('9.ПИР'!$D:$D, $D33, '9.ПИР'!P:P)+SUMIF('10.БКП'!$D:$D, $D33, '10.БКП'!P:P)+SUMIF('11.ПЗС'!$D:$D, $D33, '11.ПЗС'!Q:Q)+SUMIF('12.ТП_БЭФ'!$D:$D, $D33, '12.ТП_БЭФ'!AJ:AJ)+SUMIF('13.ТП_СЭФ'!$D:$D, $D33, '13.ТП_СЭФ'!AR:AR)+SUMIF('14.ОВИЗ'!$D:$D, $D33, '14.ОВИЗ'!AS:AS)+SUMIF('15.ГРР'!$D:$D, $D33, '15.ГРР'!P:P)+SUMIF('16.НИОКР'!$D:$D, $D33, '16.НИОКР'!P:P)+SUMIF('17.НМА'!$D:$D, $D33, '17.НМА'!Q:Q)+SUMIF('18.ПКЗ'!$D:$D, $D33, '18.ПКЗ'!Q:Q)+SUMIF('19.БФИ'!$D:$D, $D33, '19.БФИ'!Q:Q))","v":0},0,0,0,0,null,0,0,{"$f":"IF($D33=\"\", 0, SUMIF('7.СМР'!$D:$D, $D33, '7.СМР'!X:X)+SUMIF('8.ОСС'!$D:$D, $D33, '8.ОСС'!AP:AP)+SUMIF('9.ПИР'!$D:$D, $D33, '9.ПИР'!X:X)+SUMIF('10.БКП'!$D:$D, $D33, '10.БКП'!X:X)+SUMIF('11.ПЗС'!$D:$D, $D33, '11.ПЗС'!Y:Y)+SUMIF('12.ТП_БЭФ'!$D:$D, $D33, '12.ТП_БЭФ'!AR:AR)+SUMIF('13.ТП_СЭФ'!$D:$D, $D33, '13.ТП_СЭФ'!AZ:AZ)+SUMIF('14.ОВИЗ'!$D:$D, $D33, '14.ОВИЗ'!BA:BA)+SUMIF('15.ГРР'!$D:$D, $D33, '15.ГРР'!X:X)+SUMIF('16.НИОКР'!$D:$D, $D33, '16.НИОКР'!X:X)+SUMIF('17.НМА'!$D:$D, $D33, '17.НМА'!Y:Y)+SUMIF('18.ПКЗ'!$D:$D, $D33, '18.ПКЗ'!Y:Y)+SUMIF('19.БФИ'!$D:$D, $D33, '19.БФИ'!Y:Y))","v":0},{"$f":"IF($D33=\"\", 0, SUMIF('7.СМР'!$D:$D, $D33, '7.СМР'!Y:Y)+SUMIF('8.ОСС'!$D:$D, $D33, '8.ОСС'!AQ:AQ)+SUMIF('9.ПИР'!$D:$D, $D33, '9.ПИР'!Y:Y)+SUMIF('10.БКП'!$D:$D, $D33, '10.БКП'!Y:Y)+SUMIF('11.ПЗС'!$D:$D, $D33, '11.ПЗС'!Z:Z)+SUMIF('12.ТП_БЭФ'!$D:$D, $D33, '12.ТП_БЭФ'!AS:AS)+SUMIF('13.ТП_СЭФ'!$D:$D, $D33, '13.ТП_СЭФ'!BA:BA)+SUMIF('14.ОВИЗ'!$D:$D, $D33, '14.ОВИЗ'!BB:BB)+SUMIF('15.ГРР'!$D:$D, $D33, '15.ГРР'!Y:Y)+SUMIF('16.НИОКР'!$D:$D, $D33, '16.НИОКР'!Y:Y)+SUMIF('17.НМА'!$D:$D, $D33, '17.НМА'!Z:Z)+SUMIF('18.ПКЗ'!$D:$D, $D33, '18.ПКЗ'!Z:Z)+SUMIF('19.БФИ'!$D:$D, $D33, '19.БФИ'!Z:Z))","v":0},{"$f":"IF($D33=\"\", 0, SUMIF('7.СМР'!$D:$D, $D33, '7.СМР'!Z:Z)+SUMIF('8.ОСС'!$D:$D, $D33, '8.ОСС'!AR:AR)+SUMIF('9.ПИР'!$D:$D, $D33, '9.ПИР'!Z:Z)+SUMIF('10.БКП'!$D:$D, $D33, '10.БКП'!Z:Z)+SUMIF('11.ПЗС'!$D:$D, $D33, '11.ПЗС'!AA:AA)+SUMIF('12.ТП_БЭФ'!$D:$D, $D33, '12.ТП_БЭФ'!AT:AT)+SUMIF('13.ТП_СЭФ'!$D:$D, $D33, '13.ТП_СЭФ'!BB:BB)+SUMIF('14.ОВИЗ'!$D:$D, $D33, '14.ОВИЗ'!BC:BC)+SUMIF('15.ГРР'!$D:$D, $D33, '15.ГРР'!Z:Z)+SUMIF('16.НИОКР'!$D:$D, $D33, '16.НИОКР'!Z:Z)+SUMIF('17.НМА'!$D:$D, $D33, '17.НМА'!AA:AA)+SUMIF('18.ПКЗ'!$D:$D, $D33, '18.ПКЗ'!AA:AA)+SUMIF('19.БФИ'!$D:$D, $D33, '19.БФИ'!AA:AA))","v":0},{"$f":"IF($D33=\"\", 0, SUMIF('7.СМР'!$D:$D, $D33, '7.СМР'!AA:AA)+SUMIF('8.ОСС'!$D:$D, $D33, '8.ОСС'!AS:AS)+SUMIF('9.ПИР'!$D:$D, $D33, '9.ПИР'!AA:AA)+SUMIF('10.БКП'!$D:$D, $D33, '10.БКП'!AA:AA)+SUMIF('11.ПЗС'!$D:$D, $D33, '11.ПЗС'!AB:AB)+SUMIF('12.ТП_БЭФ'!$D:$D, $D33, '12.ТП_БЭФ'!AU:AU)+SUMIF('13.ТП_СЭФ'!$D:$D, $D33, '13.ТП_СЭФ'!BC:BC)+SUMIF('14.ОВИЗ'!$D:$D, $D33, '14.ОВИЗ'!BD:BD)+SUMIF('15.ГРР'!$D:$D, $D33, '15.ГРР'!AA:AA)+SUMIF('16.НИОКР'!$D:$D, $D33, '16.НИОКР'!AA:AA)+SUMIF('17.НМА'!$D:$D, $D33, '17.НМА'!AB:AB)+SUMIF('18.ПКЗ'!$D:$D, $D33, '18.ПКЗ'!AB:AB)+SUMIF('19.БФИ'!$D:$D, $D33, '19.БФИ'!AB:AB))","v":0},{"$f":"IF($D33=\"\", 0, SUMIF('7.СМР'!$D:$D, $D33, '7.СМР'!AB:AB)+SUMIF('8.ОСС'!$D:$D, $D33, '8.ОСС'!AT:AT)+SUMIF('9.ПИР'!$D:$D, $D33, '9.ПИР'!AB:AB)+SUMIF('10.БКП'!$D:$D, $D33, '10.БКП'!AB:AB)+SUMIF('11.ПЗС'!$D:$D, $D33, '11.ПЗС'!AC:AC)+SUMIF('12.ТП_БЭФ'!$D:$D, $D33, '12.ТП_БЭФ'!AV:AV)+SUMIF('13.ТП_СЭФ'!$D:$D, $D33, '13.ТП_СЭФ'!BD:BD)+SUMIF('14.ОВИЗ'!$D:$D, $D33, '14.ОВИЗ'!BE:BE)+SUMIF('15.ГРР'!$D:$D, $D33, '15.ГРР'!AB:AB)+SUMIF('16.НИОКР'!$D:$D, $D33, '16.НИОКР'!AB:AB)+SUMIF('17.НМА'!$D:$D, $D33, '17.НМА'!AC:AC)+SUMIF('18.ПКЗ'!$D:$D, $D33, '18.ПКЗ'!AC:AC)+SUMIF('19.БФИ'!$D:$D, $D33, '19.БФИ'!AC:AC))","v":0},{"$f":"IF($D33=\"\", 0, SUMIF('7.СМР'!$D:$D, $D33, '7.СМР'!AC:AC)+SUMIF('8.ОСС'!$D:$D, $D33, '8.ОСС'!AU:AU)+SUMIF('9.ПИР'!$D:$D, $D33, '9.ПИР'!AC:AC)+SUMIF('10.БКП'!$D:$D, $D33, '10.БКП'!AC:AC)+SUMIF('11.ПЗС'!$D:$D, $D33, '11.ПЗС'!AD:AD)+SUMIF('12.ТП_БЭФ'!$D:$D, $D33, '12.ТП_БЭФ'!AW:AW)+SUMIF('13.ТП_СЭФ'!$D:$D, $D33, '13.ТП_СЭФ'!BE:BE)+SUMIF('14.ОВИЗ'!$D:$D, $D33, '14.ОВИЗ'!BF:BF)+SUMIF('15.ГРР'!$D:$D, $D33, '15.ГРР'!AC:AC)+SUMIF('16.НИОКР'!$D:$D, $D33, '16.НИОКР'!AC:AC)+SUMIF('17.НМА'!$D:$D, $D33, '17.НМА'!AD:AD)+SUMIF('18.ПКЗ'!$D:$D, $D33, '18.ПКЗ'!AD:AD)+SUMIF('19.БФИ'!$D:$D, $D33, '19.БФИ'!AD:AD))","v":0},{"$f":"IF($D33=\"\", 0, SUMIF('7.СМР'!$D:$D, $D33, '7.СМР'!AD:AD)+SUMIF('8.ОСС'!$D:$D, $D33, '8.ОСС'!AV:AV)+SUMIF('9.ПИР'!$D:$D, $D33, '9.ПИР'!AD:AD)+SUMIF('10.БКП'!$D:$D, $D33, '10.БКП'!AD:AD)+SUMIF('11.ПЗС'!$D:$D, $D33, '11.ПЗС'!AE:AE)+SUMIF('12.ТП_БЭФ'!$D:$D, $D33, '12.ТП_БЭФ'!AX:AX)+SUMIF('13.ТП_СЭФ'!$D:$D, $D33, '13.ТП_СЭФ'!BF:BF)+SUMIF('14.ОВИЗ'!$D:$D, $D33, '14.ОВИЗ'!BG:BG)+SUMIF('15.ГРР'!$D:$D, $D33, '15.ГРР'!AD:AD)+SUMIF('16.НИОКР'!$D:$D, $D33, '16.НИОКР'!AD:AD)+SUMIF('17.НМА'!$D:$D, $D33, '17.НМА'!AE:AE)+SUMIF('18.ПКЗ'!$D:$D, $D33, '18.ПКЗ'!AE:AE)+SUMIF('19.БФИ'!$D:$D, $D33, '19.БФИ'!AE:AE))","v":0},{"$f":"IF($D33=\"\", 0, SUMIF('7.СМР'!$D:$D, $D33, '7.СМР'!AE:AE)+SUMIF('8.ОСС'!$D:$D, $D33, '8.ОСС'!AW:AW)+SUMIF('9.ПИР'!$D:$D, $D33, '9.ПИР'!AE:AE)+SUMIF('10.БКП'!$D:$D, $D33, '10.БКП'!AE:AE)+SUMIF('11.ПЗС'!$D:$D, $D33, '11.ПЗС'!AF:AF)+SUMIF('12.ТП_БЭФ'!$D:$D, $D33, '12.ТП_БЭФ'!AY:AY)+SUMIF('13.ТП_СЭФ'!$D:$D, $D33, '13.ТП_СЭФ'!BG:BG)+SUMIF('14.ОВИЗ'!$D:$D, $D33, '14.ОВИЗ'!BH:BH)+SUMIF('15.ГРР'!$D:$D, $D33, '15.ГРР'!AE:AE)+SUMIF('16.НИОКР'!$D:$D, $D33, '16.НИОКР'!AE:AE)+SUMIF('17.НМА'!$D:$D, $D33, '17.НМА'!AF:AF)+SUMIF('18.ПКЗ'!$D:$D, $D33, '18.ПКЗ'!AF:AF)+SUMIF('19.БФИ'!$D:$D, $D33, '19.БФИ'!AF:AF))","v":0},null,0]
[null,{"$f":"IF(D34=\"\", \"\", '04.РИП'!A44)","v":""},{"$f":"IF(D34=\"\", \"\", '04.РИП'!D44)","v":""},{"$f":"IF(ISBLANK('04.РИП'!B44), \"\", '04.РИП'!B44)","v":""},{"$f":"IF(D34=\"\", \"\", '04.РИП'!E44)","v":""},{"$f":"IF(D34=\"\", \"\", '04.РИП'!D44)","v":""},{"$f":"IF($D34=\"\", 0, SUMIF('7.СМР'!$D:$D, $D34, '7.СМР'!G:G)+SUMIF('8.ОСС'!$D:$D, $D34, '8.ОСС'!Y:Y)+SUMIF('9.ПИР'!$D:$D, $D34, '9.ПИР'!G:G)+SUMIF('10.БКП'!$D:$D, $D34, '10.БКП'!G:G)+SUMIF('11.ПЗС'!$D:$D, $D34, '11.ПЗС'!H:H)+SUMIF('12.ТП_БЭФ'!$D:$D, $D34, '12.ТП_БЭФ'!AA:AA)+SUMIF('13.ТП_СЭФ'!$D:$D, $D34, '13.ТП_СЭФ'!AI:AI)+SUMIF('14.ОВИЗ'!$D:$D, $D34, '14.ОВИЗ'!AJ:AJ)+SUMIF('15.ГРР'!$D:$D, $D34, '15.ГРР'!G:G)+SUMIF('16.НИОКР'!$D:$D, $D34, '16.НИОКР'!G:G)+SUMIF('17.НМА'!$D:$D, $D34, '17.НМА'!H:H)+SUMIF('18.ПКЗ'!$D:$D, $D34, '18.ПКЗ'!H:H)+SUMIF('19.БФИ'!$D:$D, $D34, '19.БФИ'!H:H))","v":0},{"$f":"IF($D34=\"\", 0, SUMIF('7.СМР'!$D:$D, $D34, '7.СМР'!H:H)+SUMIF('8.ОСС'!$D:$D, $D34, '8.ОСС'!Z:Z)+SUMIF('9.ПИР'!$D:$D, $D34, '9.ПИР'!H:H)+SUMIF('10.БКП'!$D:$D, $D34, '10.БКП'!H:H)+SUMIF('11.ПЗС'!$D:$D, $D34, '11.ПЗС'!I:I)+SUMIF('12.ТП_БЭФ'!$D:$D, $D34, '12.ТП_БЭФ'!AB:AB)+SUMIF('13.ТП_СЭФ'!$D:$D, $D34, '13.ТП_СЭФ'!AJ:AJ)+SUMIF('14.ОВИЗ'!$D:$D, $D34, '14.ОВИЗ'!AK:AK)+SUMIF('15.ГРР'!$D:$D, $D34, '15.ГРР'!H:H)+SUMIF('16.НИОКР'!$D:$D, $D34, '16.НИОКР'!H:H)+SUMIF('17.НМА'!$D:$D, $D34, '17.НМА'!I:I)+SUMIF('18.ПКЗ'!$D:$D, $D34, '18.ПКЗ'!I:I)+SUMIF('19.БФИ'!$D:$D, $D34, '19.БФИ'!I:I))","v":0},{"$f":"IF($D34=\"\", 0, SUMIF('7.СМР'!$D:$D, $D34, '7.СМР'!I:I)+SUMIF('8.ОСС'!$D:$D, $D34, '8.ОСС'!AA:AA)+SUMIF('9.ПИР'!$D:$D, $D34, '9.ПИР'!I:I)+SUMIF('10.БКП'!$D:$D, $D34, '10.БКП'!I:I)+SUMIF('11.ПЗС'!$D:$D, $D34, '11.ПЗС'!J:J)+SUMIF('12.ТП_БЭФ'!$D:$D, $D34, '12.ТП_БЭФ'!AC:AC)+SUMIF('13.ТП_СЭФ'!$D:$D, $D34, '13.ТП_СЭФ'!AK:AK)+SUMIF('14.ОВИЗ'!$D:$D, $D34, '14.ОВИЗ'!AL:AL)+SUMIF('15.ГРР'!$D:$D, $D34, '15.ГРР'!I:I)+SUMIF('16.НИОКР'!$D:$D, $D34, '16.НИОКР'!I:I)+SUMIF('17.НМА'!$D:$D, $D34, '17.НМА'!J:J)+SUMIF('18.ПКЗ'!$D:$D, $D34, '18.ПКЗ'!J:J)+SUMIF('19.БФИ'!$D:$D, $D34, '19.БФИ'!J:J))","v":0},{"$f":"IF($D34=\"\", 0, SUMIF('7.СМР'!$D:$D, $D34, '7.СМР'!J:J)+SUMIF('8.ОСС'!$D:$D, $D34, '8.ОСС'!AB:AB)+SUMIF('9.ПИР'!$D:$D, $D34, '9.ПИР'!J:J)+SUMIF('10.БКП'!$D:$D, $D34, '10.БКП'!J:J)+SUMIF('11.ПЗС'!$D:$D, $D34, '11.ПЗС'!K:K)+SUMIF('12.ТП_БЭФ'!$D:$D, $D34, '12.ТП_БЭФ'!AD:AD)+SUMIF('13.ТП_СЭФ'!$D:$D, $D34, '13.ТП_СЭФ'!AL:AL)+SUMIF('14.ОВИЗ'!$D:$D, $D34, '14.ОВИЗ'!AM:AM)+SUMIF('15.ГРР'!$D:$D, $D34, '15.ГРР'!J:J)+SUMIF('16.НИОКР'!$D:$D, $D34, '16.НИОКР'!J:J)+SUMIF('17.НМА'!$D:$D, $D34, '17.НМА'!K:K)+SUMIF('18.ПКЗ'!$D:$D, $D34, '18.ПКЗ'!K:K)+SUMIF('19.БФИ'!$D:$D, $D34, '19.БФИ'!K:K))","v":0},{"$f":"IF($D34=\"\", 0, SUMIF('7.СМР'!$D:$D, $D34, '7.СМР'!K:K)+SUMIF('8.ОСС'!$D:$D, $D34, '8.ОСС'!AC:AC)+SUMIF('9.ПИР'!$D:$D, $D34, '9.ПИР'!K:K)+SUMIF('10.БКП'!$D:$D, $D34, '10.БКП'!K:K)+SUMIF('11.ПЗС'!$D:$D, $D34, '11.ПЗС'!L:L)+SUMIF('12.ТП_БЭФ'!$D:$D, $D34, '12.ТП_БЭФ'!AE:AE)+SUMIF('13.ТП_СЭФ'!$D:$D, $D34, '13.ТП_СЭФ'!AM:AM)+SUMIF('14.ОВИЗ'!$D:$D, $D34, '14.ОВИЗ'!AN:AN)+SUMIF('15.ГРР'!$D:$D, $D34, '15.ГРР'!K:K)+SUMIF('16.НИОКР'!$D:$D, $D34, '16.НИОКР'!K:K)+SUMIF('17.НМА'!$D:$D, $D34, '17.НМА'!L:L)+SUMIF('18.ПКЗ'!$D:$D, $D34, '18.ПКЗ'!L:L)+SUMIF('19.БФИ'!$D:$D, $D34, '19.БФИ'!L:L))","v":0},{"$f":"IF($D34=\"\", 0, SUMIF('7.СМР'!$D:$D, $D34, '7.СМР'!L:L)+SUMIF('8.ОСС'!$D:$D, $D34, '8.ОСС'!AD:AD)+SUMIF('9.ПИР'!$D:$D, $D34, '9.ПИР'!L:L)+SUMIF('10.БКП'!$D:$D, $D34, '10.БКП'!L:L)+SUMIF('11.ПЗС'!$D:$D, $D34, '11.ПЗС'!M:M)+SUMIF('12.ТП_БЭФ'!$D:$D, $D34, '12.ТП_БЭФ'!AF:AF)+SUMIF('13.ТП_СЭФ'!$D:$D, $D34, '13.ТП_СЭФ'!AN:AN)+SUMIF('14.ОВИЗ'!$D:$D, $D34, '14.ОВИЗ'!AO:AO)+SUMIF('15.ГРР'!$D:$D, $D34, '15.ГРР'!L:L)+SUMIF('16.НИОКР'!$D:$D, $D34, '16.НИОКР'!L:L)+SUMIF('17.НМА'!$D:$D, $D34, '17.НМА'!M:M)+SUMIF('18.ПКЗ'!$D:$D, $D34, '18.ПКЗ'!M:M)+SUMIF('19.БФИ'!$D:$D, $D34, '19.БФИ'!M:M))","v":0},{"$f":"IF($D34=\"\", 0, SUMIF('7.СМР'!$D:$D, $D34, '7.СМР'!M:M)+SUMIF('8.ОСС'!$D:$D, $D34, '8.ОСС'!AE:AE)+SUMIF('9.ПИР'!$D:$D, $D34, '9.ПИР'!M:M)+SUMIF('10.БКП'!$D:$D, $D34, '10.БКП'!M:M)+SUMIF('11.ПЗС'!$D:$D, $D34, '11.ПЗС'!N:N)+SUMIF('12.ТП_БЭФ'!$D:$D, $D34, '12.ТП_БЭФ'!AG:AG)+SUMIF('13.ТП_СЭФ'!$D:$D, $D34, '13.ТП_СЭФ'!AO:AO)+SUMIF('14.ОВИЗ'!$D:$D, $D34, '14.ОВИЗ'!AP:AP)+SUMIF('15.ГРР'!$D:$D, $D34, '15.ГРР'!M:M)+SUMIF('16.НИОКР'!$D:$D, $D34, '16.НИОКР'!M:M)+SUMIF('17.НМА'!$D:$D, $D34, '17.НМА'!N:N)+SUMIF('18.ПКЗ'!$D:$D, $D34, '18.ПКЗ'!N:N)+SUMIF('19.БФИ'!$D:$D, $D34, '19.БФИ'!N:N))","v":0},{"$f":"IF($D34=\"\", 0, SUMIF('7.СМР'!$D:$D, $D34, '7.СМР'!N:N)+SUMIF('8.ОСС'!$D:$D, $D34, '8.ОСС'!AF:AF)+SUMIF('9.ПИР'!$D:$D, $D34, '9.ПИР'!N:N)+SUMIF('10.БКП'!$D:$D, $D34, '10.БКП'!N:N)+SUMIF('11.ПЗС'!$D:$D, $D34, '11.ПЗС'!O:O)+SUMIF('12.ТП_БЭФ'!$D:$D, $D34, '12.ТП_БЭФ'!AH:AH)+SUMIF('13.ТП_СЭФ'!$D:$D, $D34, '13.ТП_СЭФ'!AP:AP)+SUMIF('14.ОВИЗ'!$D:$D, $D34, '14.ОВИЗ'!AQ:AQ)+SUMIF('15.ГРР'!$D:$D, $D34, '15.ГРР'!N:N)+SUMIF('16.НИОКР'!$D:$D, $D34, '16.НИОКР'!N:N)+SUMIF('17.НМА'!$D:$D, $D34, '17.НМА'!O:O)+SUMIF('18.ПКЗ'!$D:$D, $D34, '18.ПКЗ'!O:O)+SUMIF('19.БФИ'!$D:$D, $D34, '19.БФИ'!O:O))","v":0},{"$f":"IF($D34=\"\", 0, SUMIF('7.СМР'!$D:$D, $D34, '7.СМР'!O:O)+SUMIF('8.ОСС'!$D:$D, $D34, '8.ОСС'!AG:AG)+SUMIF('9.ПИР'!$D:$D, $D34, '9.ПИР'!O:O)+SUMIF('10.БКП'!$D:$D, $D34, '10.БКП'!O:O)+SUMIF('11.ПЗС'!$D:$D, $D34, '11.ПЗС'!P:P)+SUMIF('12.ТП_БЭФ'!$D:$D, $D34, '12.ТП_БЭФ'!AI:AI)+SUMIF('13.ТП_СЭФ'!$D:$D, $D34, '13.ТП_СЭФ'!AQ:AQ)+SUMIF('14.ОВИЗ'!$D:$D, $D34, '14.ОВИЗ'!AR:AR)+SUMIF('15.ГРР'!$D:$D, $D34, '15.ГРР'!O:O)+SUMIF('16.НИОКР'!$D:$D, $D34, '16.НИОКР'!O:O)+SUMIF('17.НМА'!$D:$D, $D34, '17.НМА'!P:P)+SUMIF('18.ПКЗ'!$D:$D, $D34, '18.ПКЗ'!P:P)+SUMIF('19.БФИ'!$D:$D, $D34, '19.БФИ'!P:P))","v":0},{"$f":"IF($D34=\"\", 0, SUMIF('7.СМР'!$D:$D, $D34, '7.СМР'!P:P)+SUMIF('8.ОСС'!$D:$D, $D34, '8.ОСС'!AH:AH)+SUMIF('9.ПИР'!$D:$D, $D34, '9.ПИР'!P:P)+SUMIF('10.БКП'!$D:$D, $D34, '10.БКП'!P:P)+SUMIF('11.ПЗС'!$D:$D, $D34, '11.ПЗС'!Q:Q)+SUMIF('12.ТП_БЭФ'!$D:$D, $D34, '12.ТП_БЭФ'!AJ:AJ)+SUMIF('13.ТП_СЭФ'!$D:$D, $D34, '13.ТП_СЭФ'!AR:AR)+SUMIF('14.ОВИЗ'!$D:$D, $D34, '14.ОВИЗ'!AS:AS)+SUMIF('15.ГРР'!$D:$D, $D34, '15.ГРР'!P:P)+SUMIF('16.НИОКР'!$D:$D, $D34, '16.НИОКР'!P:P)+SUMIF('17.НМА'!$D:$D, $D34, '17.НМА'!Q:Q)+SUMIF('18.ПКЗ'!$D:$D, $D34, '18.ПКЗ'!Q:Q)+SUMIF('19.БФИ'!$D:$D, $D34, '19.БФИ'!Q:Q))","v":0},0,0,0,0,null,0,0,{"$f":"IF($D34=\"\", 0, SUMIF('7.СМР'!$D:$D, $D34, '7.СМР'!X:X)+SUMIF('8.ОСС'!$D:$D, $D34, '8.ОСС'!AP:AP)+SUMIF('9.ПИР'!$D:$D, $D34, '9.ПИР'!X:X)+SUMIF('10.БКП'!$D:$D, $D34, '10.БКП'!X:X)+SUMIF('11.ПЗС'!$D:$D, $D34, '11.ПЗС'!Y:Y)+SUMIF('12.ТП_БЭФ'!$D:$D, $D34, '12.ТП_БЭФ'!AR:AR)+SUMIF('13.ТП_СЭФ'!$D:$D, $D34, '13.ТП_СЭФ'!AZ:AZ)+SUMIF('14.ОВИЗ'!$D:$D, $D34, '14.ОВИЗ'!BA:BA)+SUMIF('15.ГРР'!$D:$D, $D34, '15.ГРР'!X:X)+SUMIF('16.НИОКР'!$D:$D, $D34, '16.НИОКР'!X:X)+SUMIF('17.НМА'!$D:$D, $D34, '17.НМА'!Y:Y)+SUMIF('18.ПКЗ'!$D:$D, $D34, '18.ПКЗ'!Y:Y)+SUMIF('19.БФИ'!$D:$D, $D34, '19.БФИ'!Y:Y))","v":0},{"$f":"IF($D34=\"\", 0, SUMIF('7.СМР'!$D:$D, $D34, '7.СМР'!Y:Y)+SUMIF('8.ОСС'!$D:$D, $D34, '8.ОСС'!AQ:AQ)+SUMIF('9.ПИР'!$D:$D, $D34, '9.ПИР'!Y:Y)+SUMIF('10.БКП'!$D:$D, $D34, '10.БКП'!Y:Y)+SUMIF('11.ПЗС'!$D:$D, $D34, '11.ПЗС'!Z:Z)+SUMIF('12.ТП_БЭФ'!$D:$D, $D34, '12.ТП_БЭФ'!AS:AS)+SUMIF('13.ТП_СЭФ'!$D:$D, $D34, '13.ТП_СЭФ'!BA:BA)+SUMIF('14.ОВИЗ'!$D:$D, $D34, '14.ОВИЗ'!BB:BB)+SUMIF('15.ГРР'!$D:$D, $D34, '15.ГРР'!Y:Y)+SUMIF('16.НИОКР'!$D:$D, $D34, '16.НИОКР'!Y:Y)+SUMIF('17.НМА'!$D:$D, $D34, '17.НМА'!Z:Z)+SUMIF('18.ПКЗ'!$D:$D, $D34, '18.ПКЗ'!Z:Z)+SUMIF('19.БФИ'!$D:$D, $D34, '19.БФИ'!Z:Z))","v":0},{"$f":"IF($D34=\"\", 0, SUMIF('7.СМР'!$D:$D, $D34, '7.СМР'!Z:Z)+SUMIF('8.ОСС'!$D:$D, $D34, '8.ОСС'!AR:AR)+SUMIF('9.ПИР'!$D:$D, $D34, '9.ПИР'!Z:Z)+SUMIF('10.БКП'!$D:$D, $D34, '10.БКП'!Z:Z)+SUMIF('11.ПЗС'!$D:$D, $D34, '11.ПЗС'!AA:AA)+SUMIF('12.ТП_БЭФ'!$D:$D, $D34, '12.ТП_БЭФ'!AT:AT)+SUMIF('13.ТП_СЭФ'!$D:$D, $D34, '13.ТП_СЭФ'!BB:BB)+SUMIF('14.ОВИЗ'!$D:$D, $D34, '14.ОВИЗ'!BC:BC)+SUMIF('15.ГРР'!$D:$D, $D34, '15.ГРР'!Z:Z)+SUMIF('16.НИОКР'!$D:$D, $D34, '16.НИОКР'!Z:Z)+SUMIF('17.НМА'!$D:$D, $D34, '17.НМА'!AA:AA)+SUMIF('18.ПКЗ'!$D:$D, $D34, '18.ПКЗ'!AA:AA)+SUMIF('19.БФИ'!$D:$D, $D34, '19.БФИ'!AA:AA))","v":0},{"$f":"IF($D34=\"\", 0, SUMIF('7.СМР'!$D:$D, $D34, '7.СМР'!AA:AA)+SUMIF('8.ОСС'!$D:$D, $D34, '8.ОСС'!AS:AS)+SUMIF('9.ПИР'!$D:$D, $D34, '9.ПИР'!AA:AA)+SUMIF('10.БКП'!$D:$D, $D34, '10.БКП'!AA:AA)+SUMIF('11.ПЗС'!$D:$D, $D34, '11.ПЗС'!AB:AB)+SUMIF('12.ТП_БЭФ'!$D:$D, $D34, '12.ТП_БЭФ'!AU:AU)+SUMIF('13.ТП_СЭФ'!$D:$D, $D34, '13.ТП_СЭФ'!BC:BC)+SUMIF('14.ОВИЗ'!$D:$D, $D34, '14.ОВИЗ'!BD:BD)+SUMIF('15.ГРР'!$D:$D, $D34, '15.ГРР'!AA:AA)+SUMIF('16.НИОКР'!$D:$D, $D34, '16.НИОКР'!AA:AA)+SUMIF('17.НМА'!$D:$D, $D34, '17.НМА'!AB:AB)+SUMIF('18.ПКЗ'!$D:$D, $D34, '18.ПКЗ'!AB:AB)+SUMIF('19.БФИ'!$D:$D, $D34, '19.БФИ'!AB:AB))","v":0},{"$f":"IF($D34=\"\", 0, SUMIF('7.СМР'!$D:$D, $D34, '7.СМР'!AB:AB)+SUMIF('8.ОСС'!$D:$D, $D34, '8.ОСС'!AT:AT)+SUMIF('9.ПИР'!$D:$D, $D34, '9.ПИР'!AB:AB)+SUMIF('10.БКП'!$D:$D, $D34, '10.БКП'!AB:AB)+SUMIF('11.ПЗС'!$D:$D, $D34, '11.ПЗС'!AC:AC)+SUMIF('12.ТП_БЭФ'!$D:$D, $D34, '12.ТП_БЭФ'!AV:AV)+SUMIF('13.ТП_СЭФ'!$D:$D, $D34, '13.ТП_СЭФ'!BD:BD)+SUMIF('14.ОВИЗ'!$D:$D, $D34, '14.ОВИЗ'!BE:BE)+SUMIF('15.ГРР'!$D:$D, $D34, '15.ГРР'!AB:AB)+SUMIF('16.НИОКР'!$D:$D, $D34, '16.НИОКР'!AB:AB)+SUMIF('17.НМА'!$D:$D, $D34, '17.НМА'!AC:AC)+SUMIF('18.ПКЗ'!$D:$D, $D34, '18.ПКЗ'!AC:AC)+SUMIF('19.БФИ'!$D:$D, $D34, '19.БФИ'!AC:AC))","v":0},{"$f":"IF($D34=\"\", 0, SUMIF('7.СМР'!$D:$D, $D34, '7.СМР'!AC:AC)+SUMIF('8.ОСС'!$D:$D, $D34, '8.ОСС'!AU:AU)+SUMIF('9.ПИР'!$D:$D, $D34, '9.ПИР'!AC:AC)+SUMIF('10.БКП'!$D:$D, $D34, '10.БКП'!AC:AC)+SUMIF('11.ПЗС'!$D:$D, $D34, '11.ПЗС'!AD:AD)+SUMIF('12.ТП_БЭФ'!$D:$D, $D34, '12.ТП_БЭФ'!AW:AW)+SUMIF('13.ТП_СЭФ'!$D:$D, $D34, '13.ТП_СЭФ'!BE:BE)+SUMIF('14.ОВИЗ'!$D:$D, $D34, '14.ОВИЗ'!BF:BF)+SUMIF('15.ГРР'!$D:$D, $D34, '15.ГРР'!AC:AC)+SUMIF('16.НИОКР'!$D:$D, $D34, '16.НИОКР'!AC:AC)+SUMIF('17.НМА'!$D:$D, $D34, '17.НМА'!AD:AD)+SUMIF('18.ПКЗ'!$D:$D, $D34, '18.ПКЗ'!AD:AD)+SUMIF('19.БФИ'!$D:$D, $D34, '19.БФИ'!AD:AD))","v":0},{"$f":"IF($D34=\"\", 0, SUMIF('7.СМР'!$D:$D, $D34, '7.СМР'!AD:AD)+SUMIF('8.ОСС'!$D:$D, $D34, '8.ОСС'!AV:AV)+SUMIF('9.ПИР'!$D:$D, $D34, '9.ПИР'!AD:AD)+SUMIF('10.БКП'!$D:$D, $D34, '10.БКП'!AD:AD)+SUMIF('11.ПЗС'!$D:$D, $D34, '11.ПЗС'!AE:AE)+SUMIF('12.ТП_БЭФ'!$D:$D, $D34, '12.ТП_БЭФ'!AX:AX)+SUMIF('13.ТП_СЭФ'!$D:$D, $D34, '13.ТП_СЭФ'!BF:BF)+SUMIF('14.ОВИЗ'!$D:$D, $D34, '14.ОВИЗ'!BG:BG)+SUMIF('15.ГРР'!$D:$D, $D34, '15.ГРР'!AD:AD)+SUMIF('16.НИОКР'!$D:$D, $D34, '16.НИОКР'!AD:AD)+SUMIF('17.НМА'!$D:$D, $D34, '17.НМА'!AE:AE)+SUMIF('18.ПКЗ'!$D:$D, $D34, '18.ПКЗ'!AE:AE)+SUMIF('19.БФИ'!$D:$D, $D34, '19.БФИ'!AE:AE))","v":0},{"$f":"IF($D34=\"\", 0, SUMIF('7.СМР'!$D:$D, $D34, '7.СМР'!AE:AE)+SUMIF('8.ОСС'!$D:$D, $D34, '8.ОСС'!AW:AW)+SUMIF('9.ПИР'!$D:$D, $D34, '9.ПИР'!AE:AE)+SUMIF('10.БКП'!$D:$D, $D34, '10.БКП'!AE:AE)+SUMIF('11.ПЗС'!$D:$D, $D34, '11.ПЗС'!AF:AF)+SUMIF('12.ТП_БЭФ'!$D:$D, $D34, '12.ТП_БЭФ'!AY:AY)+SUMIF('13.ТП_СЭФ'!$D:$D, $D34, '13.ТП_СЭФ'!BG:BG)+SUMIF('14.ОВИЗ'!$D:$D, $D34, '14.ОВИЗ'!BH:BH)+SUMIF('15.ГРР'!$D:$D, $D34, '15.ГРР'!AE:AE)+SUMIF('16.НИОКР'!$D:$D, $D34, '16.НИОКР'!AE:AE)+SUMIF('17.НМА'!$D:$D, $D34, '17.НМА'!AF:AF)+SUMIF('18.ПКЗ'!$D:$D, $D34, '18.ПКЗ'!AF:AF)+SUMIF('19.БФИ'!$D:$D, $D34, '19.БФИ'!AF:AF))","v":0},null,0]
[null,{"$f":"IF(D35=\"\", \"\", '04.РИП'!A45)","v":""},{"$f":"IF(D35=\"\", \"\", '04.РИП'!D45)","v":""},{"$f":"IF(ISBLANK('04.РИП'!B45), \"\", '04.РИП'!B45)","v":""},{"$f":"IF(D35=\"\", \"\", '04.РИП'!E45)","v":""},{"$f":"IF(D35=\"\", \"\", '04.РИП'!D45)","v":""},{"$f":"IF($D35=\"\", 0, SUMIF('7.СМР'!$D:$D, $D35, '7.СМР'!G:G)+SUMIF('8.ОСС'!$D:$D, $D35, '8.ОСС'!Y:Y)+SUMIF('9.ПИР'!$D:$D, $D35, '9.ПИР'!G:G)+SUMIF('10.БКП'!$D:$D, $D35, '10.БКП'!G:G)+SUMIF('11.ПЗС'!$D:$D, $D35, '11.ПЗС'!H:H)+SUMIF('12.ТП_БЭФ'!$D:$D, $D35, '12.ТП_БЭФ'!AA:AA)+SUMIF('13.ТП_СЭФ'!$D:$D, $D35, '13.ТП_СЭФ'!AI:AI)+SUMIF('14.ОВИЗ'!$D:$D, $D35, '14.ОВИЗ'!AJ:AJ)+SUMIF('15.ГРР'!$D:$D, $D35, '15.ГРР'!G:G)+SUMIF('16.НИОКР'!$D:$D, $D35, '16.НИОКР'!G:G)+SUMIF('17.НМА'!$D:$D, $D35, '17.НМА'!H:H)+SUMIF('18.ПКЗ'!$D:$D, $D35, '18.ПКЗ'!H:H)+SUMIF('19.БФИ'!$D:$D, $D35, '19.БФИ'!H:H))","v":0},{"$f":"IF($D35=\"\", 0, SUMIF('7.СМР'!$D:$D, $D35, '7.СМР'!H:H)+SUMIF('8.ОСС'!$D:$D, $D35, '8.ОСС'!Z:Z)+SUMIF('9.ПИР'!$D:$D, $D35, '9.ПИР'!H:H)+SUMIF('10.БКП'!$D:$D, $D35, '10.БКП'!H:H)+SUMIF('11.ПЗС'!$D:$D, $D35, '11.ПЗС'!I:I)+SUMIF('12.ТП_БЭФ'!$D:$D, $D35, '12.ТП_БЭФ'!AB:AB)+SUMIF('13.ТП_СЭФ'!$D:$D, $D35, '13.ТП_СЭФ'!AJ:AJ)+SUMIF('14.ОВИЗ'!$D:$D, $D35, '14.ОВИЗ'!AK:AK)+SUMIF('15.ГРР'!$D:$D, $D35, '15.ГРР'!H:H)+SUMIF('16.НИОКР'!$D:$D, $D35, '16.НИОКР'!H:H)+SUMIF('17.НМА'!$D:$D, $D35, '17.НМА'!I:I)+SUMIF('18.ПКЗ'!$D:$D, $D35, '18.ПКЗ'!I:I)+SUMIF('19.БФИ'!$D:$D, $D35, '19.БФИ'!I:I))","v":0},{"$f":"IF($D35=\"\", 0, SUMIF('7.СМР'!$D:$D, $D35, '7.СМР'!I:I)+SUMIF('8.ОСС'!$D:$D, $D35, '8.ОСС'!AA:AA)+SUMIF('9.ПИР'!$D:$D, $D35, '9.ПИР'!I:I)+SUMIF('10.БКП'!$D:$D, $D35, '10.БКП'!I:I)+SUMIF('11.ПЗС'!$D:$D, $D35, '11.ПЗС'!J:J)+SUMIF('12.ТП_БЭФ'!$D:$D, $D35, '12.ТП_БЭФ'!AC:AC)+SUMIF('13.ТП_СЭФ'!$D:$D, $D35, '13.ТП_СЭФ'!AK:AK)+SUMIF('14.ОВИЗ'!$D:$D, $D35, '14.ОВИЗ'!AL:AL)+SUMIF('15.ГРР'!$D:$D, $D35, '15.ГРР'!I:I)+SUMIF('16.НИОКР'!$D:$D, $D35, '16.НИОКР'!I:I)+SUMIF('17.НМА'!$D:$D, $D35, '17.НМА'!J:J)+SUMIF('18.ПКЗ'!$D:$D, $D35, '18.ПКЗ'!J:J)+SUMIF('19.БФИ'!$D:$D, $D35, '19.БФИ'!J:J))","v":0},{"$f":"IF($D35=\"\", 0, SUMIF('7.СМР'!$D:$D, $D35, '7.СМР'!J:J)+SUMIF('8.ОСС'!$D:$D, $D35, '8.ОСС'!AB:AB)+SUMIF('9.ПИР'!$D:$D, $D35, '9.ПИР'!J:J)+SUMIF('10.БКП'!$D:$D, $D35, '10.БКП'!J:J)+SUMIF('11.ПЗС'!$D:$D, $D35, '11.ПЗС'!K:K)+SUMIF('12.ТП_БЭФ'!$D:$D, $D35, '12.ТП_БЭФ'!AD:AD)+SUMIF('13.ТП_СЭФ'!$D:$D, $D35, '13.ТП_СЭФ'!AL:AL)+SUMIF('14.ОВИЗ'!$D:$D, $D35, '14.ОВИЗ'!AM:AM)+SUMIF('15.ГРР'!$D:$D, $D35, '15.ГРР'!J:J)+SUMIF('16.НИОКР'!$D:$D, $D35, '16.НИОКР'!J:J)+SUMIF('17.НМА'!$D:$D, $D35, '17.НМА'!K:K)+SUMIF('18.ПКЗ'!$D:$D, $D35, '18.ПКЗ'!K:K)+SUMIF('19.БФИ'!$D:$D, $D35, '19.БФИ'!K:K))","v":0},{"$f":"IF($D35=\"\", 0, SUMIF('7.СМР'!$D:$D, $D35, '7.СМР'!K:K)+SUMIF('8.ОСС'!$D:$D, $D35, '8.ОСС'!AC:AC)+SUMIF('9.ПИР'!$D:$D, $D35, '9.ПИР'!K:K)+SUMIF('10.БКП'!$D:$D, $D35, '10.БКП'!K:K)+SUMIF('11.ПЗС'!$D:$D, $D35, '11.ПЗС'!L:L)+SUMIF('12.ТП_БЭФ'!$D:$D, $D35, '12.ТП_БЭФ'!AE:AE)+SUMIF('13.ТП_СЭФ'!$D:$D, $D35, '13.ТП_СЭФ'!AM:AM)+SUMIF('14.ОВИЗ'!$D:$D, $D35, '14.ОВИЗ'!AN:AN)+SUMIF('15.ГРР'!$D:$D, $D35, '15.ГРР'!K:K)+SUMIF('16.НИОКР'!$D:$D, $D35, '16.НИОКР'!K:K)+SUMIF('17.НМА'!$D:$D, $D35, '17.НМА'!L:L)+SUMIF('18.ПКЗ'!$D:$D, $D35, '18.ПКЗ'!L:L)+SUMIF('19.БФИ'!$D:$D, $D35, '19.БФИ'!L:L))","v":0},{"$f":"IF($D35=\"\", 0, SUMIF('7.СМР'!$D:$D, $D35, '7.СМР'!L:L)+SUMIF('8.ОСС'!$D:$D, $D35, '8.ОСС'!AD:AD)+SUMIF('9.ПИР'!$D:$D, $D35, '9.ПИР'!L:L)+SUMIF('10.БКП'!$D:$D, $D35, '10.БКП'!L:L)+SUMIF('11.ПЗС'!$D:$D, $D35, '11.ПЗС'!M:M)+SUMIF('12.ТП_БЭФ'!$D:$D, $D35, '12.ТП_БЭФ'!AF:AF)+SUMIF('13.ТП_СЭФ'!$D:$D, $D35, '13.ТП_СЭФ'!AN:AN)+SUMIF('14.ОВИЗ'!$D:$D, $D35, '14.ОВИЗ'!AO:AO)+SUMIF('15.ГРР'!$D:$D, $D35, '15.ГРР'!L:L)+SUMIF('16.НИОКР'!$D:$D, $D35, '16.НИОКР'!L:L)+SUMIF('17.НМА'!$D:$D, $D35, '17.НМА'!M:M)+SUMIF('18.ПКЗ'!$D:$D, $D35, '18.ПКЗ'!M:M)+SUMIF('19.БФИ'!$D:$D, $D35, '19.БФИ'!M:M))","v":0},{"$f":"IF($D35=\"\", 0, SUMIF('7.СМР'!$D:$D, $D35, '7.СМР'!M:M)+SUMIF('8.ОСС'!$D:$D, $D35, '8.ОСС'!AE:AE)+SUMIF('9.ПИР'!$D:$D, $D35, '9.ПИР'!M:M)+SUMIF('10.БКП'!$D:$D, $D35, '10.БКП'!M:M)+SUMIF('11.ПЗС'!$D:$D, $D35, '11.ПЗС'!N:N)+SUMIF('12.ТП_БЭФ'!$D:$D, $D35, '12.ТП_БЭФ'!AG:AG)+SUMIF('13.ТП_СЭФ'!$D:$D, $D35, '13.ТП_СЭФ'!AO:AO)+SUMIF('14.ОВИЗ'!$D:$D, $D35, '14.ОВИЗ'!AP:AP)+SUMIF('15.ГРР'!$D:$D, $D35, '15.ГРР'!M:M)+SUMIF('16.НИОКР'!$D:$D, $D35, '16.НИОКР'!M:M)+SUMIF('17.НМА'!$D:$D, $D35, '17.НМА'!N:N)+SUMIF('18.ПКЗ'!$D:$D, $D35, '18.ПКЗ'!N:N)+SUMIF('19.БФИ'!$D:$D, $D35, '19.БФИ'!N:N))","v":0},{"$f":"IF($D35=\"\", 0, SUMIF('7.СМР'!$D:$D, $D35, '7.СМР'!N:N)+SUMIF('8.ОСС'!$D:$D, $D35, '8.ОСС'!AF:AF)+SUMIF('9.ПИР'!$D:$D, $D35, '9.ПИР'!N:N)+SUMIF('10.БКП'!$D:$D, $D35, '10.БКП'!N:N)+SUMIF('11.ПЗС'!$D:$D, $D35, '11.ПЗС'!O:O)+SUMIF('12.ТП_БЭФ'!$D:$D, $D35, '12.ТП_БЭФ'!AH:AH)+SUMIF('13.ТП_СЭФ'!$D:$D, $D35, '13.ТП_СЭФ'!AP:AP)+SUMIF('14.ОВИЗ'!$D:$D, $D35, '14.ОВИЗ'!AQ:AQ)+SUMIF('15.ГРР'!$D:$D, $D35, '15.ГРР'!N:N)+SUMIF('16.НИОКР'!$D:$D, $D35, '16.НИОКР'!N:N)+SUMIF('17.НМА'!$D:$D, $D35, '17.НМА'!O:O)+SUMIF('18.ПКЗ'!$D:$D, $D35, '18.ПКЗ'!O:O)+SUMIF('19.БФИ'!$D:$D, $D35, '19.БФИ'!O:O))","v":0},{"$f":"IF($D35=\"\", 0, SUMIF('7.СМР'!$D:$D, $D35, '7.СМР'!O:O)+SUMIF('8.ОСС'!$D:$D, $D35, '8.ОСС'!AG:AG)+SUMIF('9.ПИР'!$D:$D, $D35, '9.ПИР'!O:O)+SUMIF('10.БКП'!$D:$D, $D35, '10.БКП'!O:O)+SUMIF('11.ПЗС'!$D:$D, $D35, '11.ПЗС'!P:P)+SUMIF('12.ТП_БЭФ'!$D:$D, $D35, '12.ТП_БЭФ'!AI:AI)+SUMIF('13.ТП_СЭФ'!$D:$D, $D35, '13.ТП_СЭФ'!AQ:AQ)+SUMIF('14.ОВИЗ'!$D:$D, $D35, '14.ОВИЗ'!AR:AR)+SUMIF('15.ГРР'!$D:$D, $D35, '15.ГРР'!O:O)+SUMIF('16.НИОКР'!$D:$D, $D35, '16.НИОКР'!O:O)+SUMIF('17.НМА'!$D:$D, $D35, '17.НМА'!P:P)+SUMIF('18.ПКЗ'!$D:$D, $D35, '18.ПКЗ'!P:P)+SUMIF('19.БФИ'!$D:$D, $D35, '19.БФИ'!P:P))","v":0},{"$f":"IF($D35=\"\", 0, SUMIF('7.СМР'!$D:$D, $D35, '7.СМР'!P:P)+SUMIF('8.ОСС'!$D:$D, $D35, '8.ОСС'!AH:AH)+SUMIF('9.ПИР'!$D:$D, $D35, '9.ПИР'!P:P)+SUMIF('10.БКП'!$D:$D, $D35, '10.БКП'!P:P)+SUMIF('11.ПЗС'!$D:$D, $D35, '11.ПЗС'!Q:Q)+SUMIF('12.ТП_БЭФ'!$D:$D, $D35, '12.ТП_БЭФ'!AJ:AJ)+SUMIF('13.ТП_СЭФ'!$D:$D, $D35, '13.ТП_СЭФ'!AR:AR)+SUMIF('14.ОВИЗ'!$D:$D, $D35, '14.ОВИЗ'!AS:AS)+SUMIF('15.ГРР'!$D:$D, $D35, '15.ГРР'!P:P)+SUMIF('16.НИОКР'!$D:$D, $D35, '16.НИОКР'!P:P)+SUMIF('17.НМА'!$D:$D, $D35, '17.НМА'!Q:Q)+SUMIF('18.ПКЗ'!$D:$D, $D35, '18.ПКЗ'!Q:Q)+SUMIF('19.БФИ'!$D:$D, $D35, '19.БФИ'!Q:Q))","v":0},0,0,0,0,null,0,0,{"$f":"IF($D35=\"\", 0, SUMIF('7.СМР'!$D:$D, $D35, '7.СМР'!X:X)+SUMIF('8.ОСС'!$D:$D, $D35, '8.ОСС'!AP:AP)+SUMIF('9.ПИР'!$D:$D, $D35, '9.ПИР'!X:X)+SUMIF('10.БКП'!$D:$D, $D35, '10.БКП'!X:X)+SUMIF('11.ПЗС'!$D:$D, $D35, '11.ПЗС'!Y:Y)+SUMIF('12.ТП_БЭФ'!$D:$D, $D35, '12.ТП_БЭФ'!AR:AR)+SUMIF('13.ТП_СЭФ'!$D:$D, $D35, '13.ТП_СЭФ'!AZ:AZ)+SUMIF('14.ОВИЗ'!$D:$D, $D35, '14.ОВИЗ'!BA:BA)+SUMIF('15.ГРР'!$D:$D, $D35, '15.ГРР'!X:X)+SUMIF('16.НИОКР'!$D:$D, $D35, '16.НИОКР'!X:X)+SUMIF('17.НМА'!$D:$D, $D35, '17.НМА'!Y:Y)+SUMIF('18.ПКЗ'!$D:$D, $D35, '18.ПКЗ'!Y:Y)+SUMIF('19.БФИ'!$D:$D, $D35, '19.БФИ'!Y:Y))","v":0},{"$f":"IF($D35=\"\", 0, SUMIF('7.СМР'!$D:$D, $D35, '7.СМР'!Y:Y)+SUMIF('8.ОСС'!$D:$D, $D35, '8.ОСС'!AQ:AQ)+SUMIF('9.ПИР'!$D:$D, $D35, '9.ПИР'!Y:Y)+SUMIF('10.БКП'!$D:$D, $D35, '10.БКП'!Y:Y)+SUMIF('11.ПЗС'!$D:$D, $D35, '11.ПЗС'!Z:Z)+SUMIF('12.ТП_БЭФ'!$D:$D, $D35, '12.ТП_БЭФ'!AS:AS)+SUMIF('13.ТП_СЭФ'!$D:$D, $D35, '13.ТП_СЭФ'!BA:BA)+SUMIF('14.ОВИЗ'!$D:$D, $D35, '14.ОВИЗ'!BB:BB)+SUMIF('15.ГРР'!$D:$D, $D35, '15.ГРР'!Y:Y)+SUMIF('16.НИОКР'!$D:$D, $D35, '16.НИОКР'!Y:Y)+SUMIF('17.НМА'!$D:$D, $D35, '17.НМА'!Z:Z)+SUMIF('18.ПКЗ'!$D:$D, $D35, '18.ПКЗ'!Z:Z)+SUMIF('19.БФИ'!$D:$D, $D35, '19.БФИ'!Z:Z))","v":0},{"$f":"IF($D35=\"\", 0, SUMIF('7.СМР'!$D:$D, $D35, '7.СМР'!Z:Z)+SUMIF('8.ОСС'!$D:$D, $D35, '8.ОСС'!AR:AR)+SUMIF('9.ПИР'!$D:$D, $D35, '9.ПИР'!Z:Z)+SUMIF('10.БКП'!$D:$D, $D35, '10.БКП'!Z:Z)+SUMIF('11.ПЗС'!$D:$D, $D35, '11.ПЗС'!AA:AA)+SUMIF('12.ТП_БЭФ'!$D:$D, $D35, '12.ТП_БЭФ'!AT:AT)+SUMIF('13.ТП_СЭФ'!$D:$D, $D35, '13.ТП_СЭФ'!BB:BB)+SUMIF('14.ОВИЗ'!$D:$D, $D35, '14.ОВИЗ'!BC:BC)+SUMIF('15.ГРР'!$D:$D, $D35, '15.ГРР'!Z:Z)+SUMIF('16.НИОКР'!$D:$D, $D35, '16.НИОКР'!Z:Z)+SUMIF('17.НМА'!$D:$D, $D35, '17.НМА'!AA:AA)+SUMIF('18.ПКЗ'!$D:$D, $D35, '18.ПКЗ'!AA:AA)+SUMIF('19.БФИ'!$D:$D, $D35, '19.БФИ'!AA:AA))","v":0},{"$f":"IF($D35=\"\", 0, SUMIF('7.СМР'!$D:$D, $D35, '7.СМР'!AA:AA)+SUMIF('8.ОСС'!$D:$D, $D35, '8.ОСС'!AS:AS)+SUMIF('9.ПИР'!$D:$D, $D35, '9.ПИР'!AA:AA)+SUMIF('10.БКП'!$D:$D, $D35, '10.БКП'!AA:AA)+SUMIF('11.ПЗС'!$D:$D, $D35, '11.ПЗС'!AB:AB)+SUMIF('12.ТП_БЭФ'!$D:$D, $D35, '12.ТП_БЭФ'!AU:AU)+SUMIF('13.ТП_СЭФ'!$D:$D, $D35, '13.ТП_СЭФ'!BC:BC)+SUMIF('14.ОВИЗ'!$D:$D, $D35, '14.ОВИЗ'!BD:BD)+SUMIF('15.ГРР'!$D:$D, $D35, '15.ГРР'!AA:AA)+SUMIF('16.НИОКР'!$D:$D, $D35, '16.НИОКР'!AA:AA)+SUMIF('17.НМА'!$D:$D, $D35, '17.НМА'!AB:AB)+SUMIF('18.ПКЗ'!$D:$D, $D35, '18.ПКЗ'!AB:AB)+SUMIF('19.БФИ'!$D:$D, $D35, '19.БФИ'!AB:AB))","v":0},{"$f":"IF($D35=\"\", 0, SUMIF('7.СМР'!$D:$D, $D35, '7.СМР'!AB:AB)+SUMIF('8.ОСС'!$D:$D, $D35, '8.ОСС'!AT:AT)+SUMIF('9.ПИР'!$D:$D, $D35, '9.ПИР'!AB:AB)+SUMIF('10.БКП'!$D:$D, $D35, '10.БКП'!AB:AB)+SUMIF('11.ПЗС'!$D:$D, $D35, '11.ПЗС'!AC:AC)+SUMIF('12.ТП_БЭФ'!$D:$D, $D35, '12.ТП_БЭФ'!AV:AV)+SUMIF('13.ТП_СЭФ'!$D:$D, $D35, '13.ТП_СЭФ'!BD:BD)+SUMIF('14.ОВИЗ'!$D:$D, $D35, '14.ОВИЗ'!BE:BE)+SUMIF('15.ГРР'!$D:$D, $D35, '15.ГРР'!AB:AB)+SUMIF('16.НИОКР'!$D:$D, $D35, '16.НИОКР'!AB:AB)+SUMIF('17.НМА'!$D:$D, $D35, '17.НМА'!AC:AC)+SUMIF('18.ПКЗ'!$D:$D, $D35, '18.ПКЗ'!AC:AC)+SUMIF('19.БФИ'!$D:$D, $D35, '19.БФИ'!AC:AC))","v":0},{"$f":"IF($D35=\"\", 0, SUMIF('7.СМР'!$D:$D, $D35, '7.СМР'!AC:AC)+SUMIF('8.ОСС'!$D:$D, $D35, '8.ОСС'!AU:AU)+SUMIF('9.ПИР'!$D:$D, $D35, '9.ПИР'!AC:AC)+SUMIF('10.БКП'!$D:$D, $D35, '10.БКП'!AC:AC)+SUMIF('11.ПЗС'!$D:$D, $D35, '11.ПЗС'!AD:AD)+SUMIF('12.ТП_БЭФ'!$D:$D, $D35, '12.ТП_БЭФ'!AW:AW)+SUMIF('13.ТП_СЭФ'!$D:$D, $D35, '13.ТП_СЭФ'!BE:BE)+SUMIF('14.ОВИЗ'!$D:$D, $D35, '14.ОВИЗ'!BF:BF)+SUMIF('15.ГРР'!$D:$D, $D35, '15.ГРР'!AC:AC)+SUMIF('16.НИОКР'!$D:$D, $D35, '16.НИОКР'!AC:AC)+SUMIF('17.НМА'!$D:$D, $D35, '17.НМА'!AD:AD)+SUMIF('18.ПКЗ'!$D:$D, $D35, '18.ПКЗ'!AD:AD)+SUMIF('19.БФИ'!$D:$D, $D35, '19.БФИ'!AD:AD))","v":0},{"$f":"IF($D35=\"\", 0, SUMIF('7.СМР'!$D:$D, $D35, '7.СМР'!AD:AD)+SUMIF('8.ОСС'!$D:$D, $D35, '8.ОСС'!AV:AV)+SUMIF('9.ПИР'!$D:$D, $D35, '9.ПИР'!AD:AD)+SUMIF('10.БКП'!$D:$D, $D35, '10.БКП'!AD:AD)+SUMIF('11.ПЗС'!$D:$D, $D35, '11.ПЗС'!AE:AE)+SUMIF('12.ТП_БЭФ'!$D:$D, $D35, '12.ТП_БЭФ'!AX:AX)+SUMIF('13.ТП_СЭФ'!$D:$D, $D35, '13.ТП_СЭФ'!BF:BF)+SUMIF('14.ОВИЗ'!$D:$D, $D35, '14.ОВИЗ'!BG:BG)+SUMIF('15.ГРР'!$D:$D, $D35, '15.ГРР'!AD:AD)+SUMIF('16.НИОКР'!$D:$D, $D35, '16.НИОКР'!AD:AD)+SUMIF('17.НМА'!$D:$D, $D35, '17.НМА'!AE:AE)+SUMIF('18.ПКЗ'!$D:$D, $D35, '18.ПКЗ'!AE:AE)+SUMIF('19.БФИ'!$D:$D, $D35, '19.БФИ'!AE:AE))","v":0},{"$f":"IF($D35=\"\", 0, SUMIF('7.СМР'!$D:$D, $D35, '7.СМР'!AE:AE)+SUMIF('8.ОСС'!$D:$D, $D35, '8.ОСС'!AW:AW)+SUMIF('9.ПИР'!$D:$D, $D35, '9.ПИР'!AE:AE)+SUMIF('10.БКП'!$D:$D, $D35, '10.БКП'!AE:AE)+SUMIF('11.ПЗС'!$D:$D, $D35, '11.ПЗС'!AF:AF)+SUMIF('12.ТП_БЭФ'!$D:$D, $D35, '12.ТП_БЭФ'!AY:AY)+SUMIF('13.ТП_СЭФ'!$D:$D, $D35, '13.ТП_СЭФ'!BG:BG)+SUMIF('14.ОВИЗ'!$D:$D, $D35, '14.ОВИЗ'!BH:BH)+SUMIF('15.ГРР'!$D:$D, $D35, '15.ГРР'!AE:AE)+SUMIF('16.НИОКР'!$D:$D, $D35, '16.НИОКР'!AE:AE)+SUMIF('17.НМА'!$D:$D, $D35, '17.НМА'!AF:AF)+SUMIF('18.ПКЗ'!$D:$D, $D35, '18.ПКЗ'!AF:AF)+SUMIF('19.БФИ'!$D:$D, $D35, '19.БФИ'!AF:AF))","v":0},null,0]
[null,{"$f":"IF(D36=\"\", \"\", '04.РИП'!A46)","v":""},{"$f":"IF(D36=\"\", \"\", '04.РИП'!D46)","v":""},{"$f":"IF(ISBLANK('04.РИП'!B46), \"\", '04.РИП'!B46)","v":""},{"$f":"IF(D36=\"\", \"\", '04.РИП'!E46)","v":""},{"$f":"IF(D36=\"\", \"\", '04.РИП'!D46)","v":""},{"$f":"IF($D36=\"\", 0, SUMIF('7.СМР'!$D:$D, $D36, '7.СМР'!G:G)+SUMIF('8.ОСС'!$D:$D, $D36, '8.ОСС'!Y:Y)+SUMIF('9.ПИР'!$D:$D, $D36, '9.ПИР'!G:G)+SUMIF('10.БКП'!$D:$D, $D36, '10.БКП'!G:G)+SUMIF('11.ПЗС'!$D:$D, $D36, '11.ПЗС'!H:H)+SUMIF('12.ТП_БЭФ'!$D:$D, $D36, '12.ТП_БЭФ'!AA:AA)+SUMIF('13.ТП_СЭФ'!$D:$D, $D36, '13.ТП_СЭФ'!AI:AI)+SUMIF('14.ОВИЗ'!$D:$D, $D36, '14.ОВИЗ'!AJ:AJ)+SUMIF('15.ГРР'!$D:$D, $D36, '15.ГРР'!G:G)+SUMIF('16.НИОКР'!$D:$D, $D36, '16.НИОКР'!G:G)+SUMIF('17.НМА'!$D:$D, $D36, '17.НМА'!H:H)+SUMIF('18.ПКЗ'!$D:$D, $D36, '18.ПКЗ'!H:H)+SUMIF('19.БФИ'!$D:$D, $D36, '19.БФИ'!H:H))","v":0},{"$f":"IF($D36=\"\", 0, SUMIF('7.СМР'!$D:$D, $D36, '7.СМР'!H:H)+SUMIF('8.ОСС'!$D:$D, $D36, '8.ОСС'!Z:Z)+SUMIF('9.ПИР'!$D:$D, $D36, '9.ПИР'!H:H)+SUMIF('10.БКП'!$D:$D, $D36, '10.БКП'!H:H)+SUMIF('11.ПЗС'!$D:$D, $D36, '11.ПЗС'!I:I)+SUMIF('12.ТП_БЭФ'!$D:$D, $D36, '12.ТП_БЭФ'!AB:AB)+SUMIF('13.ТП_СЭФ'!$D:$D, $D36, '13.ТП_СЭФ'!AJ:AJ)+SUMIF('14.ОВИЗ'!$D:$D, $D36, '14.ОВИЗ'!AK:AK)+SUMIF('15.ГРР'!$D:$D, $D36, '15.ГРР'!H:H)+SUMIF('16.НИОКР'!$D:$D, $D36, '16.НИОКР'!H:H)+SUMIF('17.НМА'!$D:$D, $D36, '17.НМА'!I:I)+SUMIF('18.ПКЗ'!$D:$D, $D36, '18.ПКЗ'!I:I)+SUMIF('19.БФИ'!$D:$D, $D36, '19.БФИ'!I:I))","v":0},{"$f":"IF($D36=\"\", 0, SUMIF('7.СМР'!$D:$D, $D36, '7.СМР'!I:I)+SUMIF('8.ОСС'!$D:$D, $D36, '8.ОСС'!AA:AA)+SUMIF('9.ПИР'!$D:$D, $D36, '9.ПИР'!I:I)+SUMIF('10.БКП'!$D:$D, $D36, '10.БКП'!I:I)+SUMIF('11.ПЗС'!$D:$D, $D36, '11.ПЗС'!J:J)+SUMIF('12.ТП_БЭФ'!$D:$D, $D36, '12.ТП_БЭФ'!AC:AC)+SUMIF('13.ТП_СЭФ'!$D:$D, $D36, '13.ТП_СЭФ'!AK:AK)+SUMIF('14.ОВИЗ'!$D:$D, $D36, '14.ОВИЗ'!AL:AL)+SUMIF('15.ГРР'!$D:$D, $D36, '15.ГРР'!I:I)+SUMIF('16.НИОКР'!$D:$D, $D36, '16.НИОКР'!I:I)+SUMIF('17.НМА'!$D:$D, $D36, '17.НМА'!J:J)+SUMIF('18.ПКЗ'!$D:$D, $D36, '18.ПКЗ'!J:J)+SUMIF('19.БФИ'!$D:$D, $D36, '19.БФИ'!J:J))","v":0},{"$f":"IF($D36=\"\", 0, SUMIF('7.СМР'!$D:$D, $D36, '7.СМР'!J:J)+SUMIF('8.ОСС'!$D:$D, $D36, '8.ОСС'!AB:AB)+SUMIF('9.ПИР'!$D:$D, $D36, '9.ПИР'!J:J)+SUMIF('10.БКП'!$D:$D, $D36, '10.БКП'!J:J)+SUMIF('11.ПЗС'!$D:$D, $D36, '11.ПЗС'!K:K)+SUMIF('12.ТП_БЭФ'!$D:$D, $D36, '12.ТП_БЭФ'!AD:AD)+SUMIF('13.ТП_СЭФ'!$D:$D, $D36, '13.ТП_СЭФ'!AL:AL)+SUMIF('14.ОВИЗ'!$D:$D, $D36, '14.ОВИЗ'!AM:AM)+SUMIF('15.ГРР'!$D:$D, $D36, '15.ГРР'!J:J)+SUMIF('16.НИОКР'!$D:$D, $D36, '16.НИОКР'!J:J)+SUMIF('17.НМА'!$D:$D, $D36, '17.НМА'!K:K)+SUMIF('18.ПКЗ'!$D:$D, $D36, '18.ПКЗ'!K:K)+SUMIF('19.БФИ'!$D:$D, $D36, '19.БФИ'!K:K))","v":0},{"$f":"IF($D36=\"\", 0, SUMIF('7.СМР'!$D:$D, $D36, '7.СМР'!K:K)+SUMIF('8.ОСС'!$D:$D, $D36, '8.ОСС'!AC:AC)+SUMIF('9.ПИР'!$D:$D, $D36, '9.ПИР'!K:K)+SUMIF('10.БКП'!$D:$D, $D36, '10.БКП'!K:K)+SUMIF('11.ПЗС'!$D:$D, $D36, '11.ПЗС'!L:L)+SUMIF('12.ТП_БЭФ'!$D:$D, $D36, '12.ТП_БЭФ'!AE:AE)+SUMIF('13.ТП_СЭФ'!$D:$D, $D36, '13.ТП_СЭФ'!AM:AM)+SUMIF('14.ОВИЗ'!$D:$D, $D36, '14.ОВИЗ'!AN:AN)+SUMIF('15.ГРР'!$D:$D, $D36, '15.ГРР'!K:K)+SUMIF('16.НИОКР'!$D:$D, $D36, '16.НИОКР'!K:K)+SUMIF('17.НМА'!$D:$D, $D36, '17.НМА'!L:L)+SUMIF('18.ПКЗ'!$D:$D, $D36, '18.ПКЗ'!L:L)+SUMIF('19.БФИ'!$D:$D, $D36, '19.БФИ'!L:L))","v":0},{"$f":"IF($D36=\"\", 0, SUMIF('7.СМР'!$D:$D, $D36, '7.СМР'!L:L)+SUMIF('8.ОСС'!$D:$D, $D36, '8.ОСС'!AD:AD)+SUMIF('9.ПИР'!$D:$D, $D36, '9.ПИР'!L:L)+SUMIF('10.БКП'!$D:$D, $D36, '10.БКП'!L:L)+SUMIF('11.ПЗС'!$D:$D, $D36, '11.ПЗС'!M:M)+SUMIF('12.ТП_БЭФ'!$D:$D, $D36, '12.ТП_БЭФ'!AF:AF)+SUMIF('13.ТП_СЭФ'!$D:$D, $D36, '13.ТП_СЭФ'!AN:AN)+SUMIF('14.ОВИЗ'!$D:$D, $D36, '14.ОВИЗ'!AO:AO)+SUMIF('15.ГРР'!$D:$D, $D36, '15.ГРР'!L:L)+SUMIF('16.НИОКР'!$D:$D, $D36, '16.НИОКР'!L:L)+SUMIF('17.НМА'!$D:$D, $D36, '17.НМА'!M:M)+SUMIF('18.ПКЗ'!$D:$D, $D36, '18.ПКЗ'!M:M)+SUMIF('19.БФИ'!$D:$D, $D36, '19.БФИ'!M:M))","v":0},{"$f":"IF($D36=\"\", 0, SUMIF('7.СМР'!$D:$D, $D36, '7.СМР'!M:M)+SUMIF('8.ОСС'!$D:$D, $D36, '8.ОСС'!AE:AE)+SUMIF('9.ПИР'!$D:$D, $D36, '9.ПИР'!M:M)+SUMIF('10.БКП'!$D:$D, $D36, '10.БКП'!M:M)+SUMIF('11.ПЗС'!$D:$D, $D36, '11.ПЗС'!N:N)+SUMIF('12.ТП_БЭФ'!$D:$D, $D36, '12.ТП_БЭФ'!AG:AG)+SUMIF('13.ТП_СЭФ'!$D:$D, $D36, '13.ТП_СЭФ'!AO:AO)+SUMIF('14.ОВИЗ'!$D:$D, $D36, '14.ОВИЗ'!AP:AP)+SUMIF('15.ГРР'!$D:$D, $D36, '15.ГРР'!M:M)+SUMIF('16.НИОКР'!$D:$D, $D36, '16.НИОКР'!M:M)+SUMIF('17.НМА'!$D:$D, $D36, '17.НМА'!N:N)+SUMIF('18.ПКЗ'!$D:$D, $D36, '18.ПКЗ'!N:N)+SUMIF('19.БФИ'!$D:$D, $D36, '19.БФИ'!N:N))","v":0},{"$f":"IF($D36=\"\", 0, SUMIF('7.СМР'!$D:$D, $D36, '7.СМР'!N:N)+SUMIF('8.ОСС'!$D:$D, $D36, '8.ОСС'!AF:AF)+SUMIF('9.ПИР'!$D:$D, $D36, '9.ПИР'!N:N)+SUMIF('10.БКП'!$D:$D, $D36, '10.БКП'!N:N)+SUMIF('11.ПЗС'!$D:$D, $D36, '11.ПЗС'!O:O)+SUMIF('12.ТП_БЭФ'!$D:$D, $D36, '12.ТП_БЭФ'!AH:AH)+SUMIF('13.ТП_СЭФ'!$D:$D, $D36, '13.ТП_СЭФ'!AP:AP)+SUMIF('14.ОВИЗ'!$D:$D, $D36, '14.ОВИЗ'!AQ:AQ)+SUMIF('15.ГРР'!$D:$D, $D36, '15.ГРР'!N:N)+SUMIF('16.НИОКР'!$D:$D, $D36, '16.НИОКР'!N:N)+SUMIF('17.НМА'!$D:$D, $D36, '17.НМА'!O:O)+SUMIF('18.ПКЗ'!$D:$D, $D36, '18.ПКЗ'!O:O)+SUMIF('19.БФИ'!$D:$D, $D36, '19.БФИ'!O:O))","v":0},{"$f":"IF($D36=\"\", 0, SUMIF('7.СМР'!$D:$D, $D36, '7.СМР'!O:O)+SUMIF('8.ОСС'!$D:$D, $D36, '8.ОСС'!AG:AG)+SUMIF('9.ПИР'!$D:$D, $D36, '9.ПИР'!O:O)+SUMIF('10.БКП'!$D:$D, $D36, '10.БКП'!O:O)+SUMIF('11.ПЗС'!$D:$D, $D36, '11.ПЗС'!P:P)+SUMIF('12.ТП_БЭФ'!$D:$D, $D36, '12.ТП_БЭФ'!AI:AI)+SUMIF('13.ТП_СЭФ'!$D:$D, $D36, '13.ТП_СЭФ'!AQ:AQ)+SUMIF('14.ОВИЗ'!$D:$D, $D36, '14.ОВИЗ'!AR:AR)+SUMIF('15.ГРР'!$D:$D, $D36, '15.ГРР'!O:O)+SUMIF('16.НИОКР'!$D:$D, $D36, '16.НИОКР'!O:O)+SUMIF('17.НМА'!$D:$D, $D36, '17.НМА'!P:P)+SUMIF('18.ПКЗ'!$D:$D, $D36, '18.ПКЗ'!P:P)+SUMIF('19.БФИ'!$D:$D, $D36, '19.БФИ'!P:P))","v":0},{"$f":"IF($D36=\"\", 0, SUMIF('7.СМР'!$D:$D, $D36, '7.СМР'!P:P)+SUMIF('8.ОСС'!$D:$D, $D36, '8.ОСС'!AH:AH)+SUMIF('9.ПИР'!$D:$D, $D36, '9.ПИР'!P:P)+SUMIF('10.БКП'!$D:$D, $D36, '10.БКП'!P:P)+SUMIF('11.ПЗС'!$D:$D, $D36, '11.ПЗС'!Q:Q)+SUMIF('12.ТП_БЭФ'!$D:$D, $D36, '12.ТП_БЭФ'!AJ:AJ)+SUMIF('13.ТП_СЭФ'!$D:$D, $D36, '13.ТП_СЭФ'!AR:AR)+SUMIF('14.ОВИЗ'!$D:$D, $D36, '14.ОВИЗ'!AS:AS)+SUMIF('15.ГРР'!$D:$D, $D36, '15.ГРР'!P:P)+SUMIF('16.НИОКР'!$D:$D, $D36, '16.НИОКР'!P:P)+SUMIF('17.НМА'!$D:$D, $D36, '17.НМА'!Q:Q)+SUMIF('18.ПКЗ'!$D:$D, $D36, '18.ПКЗ'!Q:Q)+SUMIF('19.БФИ'!$D:$D, $D36, '19.БФИ'!Q:Q))","v":0},0,0,0,0,null,0,0,{"$f":"IF($D36=\"\", 0, SUMIF('7.СМР'!$D:$D, $D36, '7.СМР'!X:X)+SUMIF('8.ОСС'!$D:$D, $D36, '8.ОСС'!AP:AP)+SUMIF('9.ПИР'!$D:$D, $D36, '9.ПИР'!X:X)+SUMIF('10.БКП'!$D:$D, $D36, '10.БКП'!X:X)+SUMIF('11.ПЗС'!$D:$D, $D36, '11.ПЗС'!Y:Y)+SUMIF('12.ТП_БЭФ'!$D:$D, $D36, '12.ТП_БЭФ'!AR:AR)+SUMIF('13.ТП_СЭФ'!$D:$D, $D36, '13.ТП_СЭФ'!AZ:AZ)+SUMIF('14.ОВИЗ'!$D:$D, $D36, '14.ОВИЗ'!BA:BA)+SUMIF('15.ГРР'!$D:$D, $D36, '15.ГРР'!X:X)+SUMIF('16.НИОКР'!$D:$D, $D36, '16.НИОКР'!X:X)+SUMIF('17.НМА'!$D:$D, $D36, '17.НМА'!Y:Y)+SUMIF('18.ПКЗ'!$D:$D, $D36, '18.ПКЗ'!Y:Y)+SUMIF('19.БФИ'!$D:$D, $D36, '19.БФИ'!Y:Y))","v":0},{"$f":"IF($D36=\"\", 0, SUMIF('7.СМР'!$D:$D, $D36, '7.СМР'!Y:Y)+SUMIF('8.ОСС'!$D:$D, $D36, '8.ОСС'!AQ:AQ)+SUMIF('9.ПИР'!$D:$D, $D36, '9.ПИР'!Y:Y)+SUMIF('10.БКП'!$D:$D, $D36, '10.БКП'!Y:Y)+SUMIF('11.ПЗС'!$D:$D, $D36, '11.ПЗС'!Z:Z)+SUMIF('12.ТП_БЭФ'!$D:$D, $D36, '12.ТП_БЭФ'!AS:AS)+SUMIF('13.ТП_СЭФ'!$D:$D, $D36, '13.ТП_СЭФ'!BA:BA)+SUMIF('14.ОВИЗ'!$D:$D, $D36, '14.ОВИЗ'!BB:BB)+SUMIF('15.ГРР'!$D:$D, $D36, '15.ГРР'!Y:Y)+SUMIF('16.НИОКР'!$D:$D, $D36, '16.НИОКР'!Y:Y)+SUMIF('17.НМА'!$D:$D, $D36, '17.НМА'!Z:Z)+SUMIF('18.ПКЗ'!$D:$D, $D36, '18.ПКЗ'!Z:Z)+SUMIF('19.БФИ'!$D:$D, $D36, '19.БФИ'!Z:Z))","v":0},{"$f":"IF($D36=\"\", 0, SUMIF('7.СМР'!$D:$D, $D36, '7.СМР'!Z:Z)+SUMIF('8.ОСС'!$D:$D, $D36, '8.ОСС'!AR:AR)+SUMIF('9.ПИР'!$D:$D, $D36, '9.ПИР'!Z:Z)+SUMIF('10.БКП'!$D:$D, $D36, '10.БКП'!Z:Z)+SUMIF('11.ПЗС'!$D:$D, $D36, '11.ПЗС'!AA:AA)+SUMIF('12.ТП_БЭФ'!$D:$D, $D36, '12.ТП_БЭФ'!AT:AT)+SUMIF('13.ТП_СЭФ'!$D:$D, $D36, '13.ТП_СЭФ'!BB:BB)+SUMIF('14.ОВИЗ'!$D:$D, $D36, '14.ОВИЗ'!BC:BC)+SUMIF('15.ГРР'!$D:$D, $D36, '15.ГРР'!Z:Z)+SUMIF('16.НИОКР'!$D:$D, $D36, '16.НИОКР'!Z:Z)+SUMIF('17.НМА'!$D:$D, $D36, '17.НМА'!AA:AA)+SUMIF('18.ПКЗ'!$D:$D, $D36, '18.ПКЗ'!AA:AA)+SUMIF('19.БФИ'!$D:$D, $D36, '19.БФИ'!AA:AA))","v":0},{"$f":"IF($D36=\"\", 0, SUMIF('7.СМР'!$D:$D, $D36, '7.СМР'!AA:AA)+SUMIF('8.ОСС'!$D:$D, $D36, '8.ОСС'!AS:AS)+SUMIF('9.ПИР'!$D:$D, $D36, '9.ПИР'!AA:AA)+SUMIF('10.БКП'!$D:$D, $D36, '10.БКП'!AA:AA)+SUMIF('11.ПЗС'!$D:$D, $D36, '11.ПЗС'!AB:AB)+SUMIF('12.ТП_БЭФ'!$D:$D, $D36, '12.ТП_БЭФ'!AU:AU)+SUMIF('13.ТП_СЭФ'!$D:$D, $D36, '13.ТП_СЭФ'!BC:BC)+SUMIF('14.ОВИЗ'!$D:$D, $D36, '14.ОВИЗ'!BD:BD)+SUMIF('15.ГРР'!$D:$D, $D36, '15.ГРР'!AA:AA)+SUMIF('16.НИОКР'!$D:$D, $D36, '16.НИОКР'!AA:AA)+SUMIF('17.НМА'!$D:$D, $D36, '17.НМА'!AB:AB)+SUMIF('18.ПКЗ'!$D:$D, $D36, '18.ПКЗ'!AB:AB)+SUMIF('19.БФИ'!$D:$D, $D36, '19.БФИ'!AB:AB))","v":0},{"$f":"IF($D36=\"\", 0, SUMIF('7.СМР'!$D:$D, $D36, '7.СМР'!AB:AB)+SUMIF('8.ОСС'!$D:$D, $D36, '8.ОСС'!AT:AT)+SUMIF('9.ПИР'!$D:$D, $D36, '9.ПИР'!AB:AB)+SUMIF('10.БКП'!$D:$D, $D36, '10.БКП'!AB:AB)+SUMIF('11.ПЗС'!$D:$D, $D36, '11.ПЗС'!AC:AC)+SUMIF('12.ТП_БЭФ'!$D:$D, $D36, '12.ТП_БЭФ'!AV:AV)+SUMIF('13.ТП_СЭФ'!$D:$D, $D36, '13.ТП_СЭФ'!BD:BD)+SUMIF('14.ОВИЗ'!$D:$D, $D36, '14.ОВИЗ'!BE:BE)+SUMIF('15.ГРР'!$D:$D, $D36, '15.ГРР'!AB:AB)+SUMIF('16.НИОКР'!$D:$D, $D36, '16.НИОКР'!AB:AB)+SUMIF('17.НМА'!$D:$D, $D36, '17.НМА'!AC:AC)+SUMIF('18.ПКЗ'!$D:$D, $D36, '18.ПКЗ'!AC:AC)+SUMIF('19.БФИ'!$D:$D, $D36, '19.БФИ'!AC:AC))","v":0},{"$f":"IF($D36=\"\", 0, SUMIF('7.СМР'!$D:$D, $D36, '7.СМР'!AC:AC)+SUMIF('8.ОСС'!$D:$D, $D36, '8.ОСС'!AU:AU)+SUMIF('9.ПИР'!$D:$D, $D36, '9.ПИР'!AC:AC)+SUMIF('10.БКП'!$D:$D, $D36, '10.БКП'!AC:AC)+SUMIF('11.ПЗС'!$D:$D, $D36, '11.ПЗС'!AD:AD)+SUMIF('12.ТП_БЭФ'!$D:$D, $D36, '12.ТП_БЭФ'!AW:AW)+SUMIF('13.ТП_СЭФ'!$D:$D, $D36, '13.ТП_СЭФ'!BE:BE)+SUMIF('14.ОВИЗ'!$D:$D, $D36, '14.ОВИЗ'!BF:BF)+SUMIF('15.ГРР'!$D:$D, $D36, '15.ГРР'!AC:AC)+SUMIF('16.НИОКР'!$D:$D, $D36, '16.НИОКР'!AC:AC)+SUMIF('17.НМА'!$D:$D, $D36, '17.НМА'!AD:AD)+SUMIF('18.ПКЗ'!$D:$D, $D36, '18.ПКЗ'!AD:AD)+SUMIF('19.БФИ'!$D:$D, $D36, '19.БФИ'!AD:AD))","v":0},{"$f":"IF($D36=\"\", 0, SUMIF('7.СМР'!$D:$D, $D36, '7.СМР'!AD:AD)+SUMIF('8.ОСС'!$D:$D, $D36, '8.ОСС'!AV:AV)+SUMIF('9.ПИР'!$D:$D, $D36, '9.ПИР'!AD:AD)+SUMIF('10.БКП'!$D:$D, $D36, '10.БКП'!AD:AD)+SUMIF('11.ПЗС'!$D:$D, $D36, '11.ПЗС'!AE:AE)+SUMIF('12.ТП_БЭФ'!$D:$D, $D36, '12.ТП_БЭФ'!AX:AX)+SUMIF('13.ТП_СЭФ'!$D:$D, $D36, '13.ТП_СЭФ'!BF:BF)+SUMIF('14.ОВИЗ'!$D:$D, $D36, '14.ОВИЗ'!BG:BG)+SUMIF('15.ГРР'!$D:$D, $D36, '15.ГРР'!AD:AD)+SUMIF('16.НИОКР'!$D:$D, $D36, '16.НИОКР'!AD:AD)+SUMIF('17.НМА'!$D:$D, $D36, '17.НМА'!AE:AE)+SUMIF('18.ПКЗ'!$D:$D, $D36, '18.ПКЗ'!AE:AE)+SUMIF('19.БФИ'!$D:$D, $D36, '19.БФИ'!AE:AE))","v":0},{"$f":"IF($D36=\"\", 0, SUMIF('7.СМР'!$D:$D, $D36, '7.СМР'!AE:AE)+SUMIF('8.ОСС'!$D:$D, $D36, '8.ОСС'!AW:AW)+SUMIF('9.ПИР'!$D:$D, $D36, '9.ПИР'!AE:AE)+SUMIF('10.БКП'!$D:$D, $D36, '10.БКП'!AE:AE)+SUMIF('11.ПЗС'!$D:$D, $D36, '11.ПЗС'!AF:AF)+SUMIF('12.ТП_БЭФ'!$D:$D, $D36, '12.ТП_БЭФ'!AY:AY)+SUMIF('13.ТП_СЭФ'!$D:$D, $D36, '13.ТП_СЭФ'!BG:BG)+SUMIF('14.ОВИЗ'!$D:$D, $D36, '14.ОВИЗ'!BH:BH)+SUMIF('15.ГРР'!$D:$D, $D36, '15.ГРР'!AE:AE)+SUMIF('16.НИОКР'!$D:$D, $D36, '16.НИОКР'!AE:AE)+SUMIF('17.НМА'!$D:$D, $D36, '17.НМА'!AF:AF)+SUMIF('18.ПКЗ'!$D:$D, $D36, '18.ПКЗ'!AF:AF)+SUMIF('19.БФИ'!$D:$D, $D36, '19.БФИ'!AF:AF))","v":0},null,0]
[null,{"$f":"IF(D37=\"\", \"\", '04.РИП'!A47)","v":""},{"$f":"IF(D37=\"\", \"\", '04.РИП'!D47)","v":""},{"$f":"IF(ISBLANK('04.РИП'!B47), \"\", '04.РИП'!B47)","v":""},{"$f":"IF(D37=\"\", \"\", '04.РИП'!E47)","v":""},{"$f":"IF(D37=\"\", \"\", '04.РИП'!D47)","v":""},{"$f":"IF($D37=\"\", 0, SUMIF('7.СМР'!$D:$D, $D37, '7.СМР'!G:G)+SUMIF('8.ОСС'!$D:$D, $D37, '8.ОСС'!Y:Y)+SUMIF('9.ПИР'!$D:$D, $D37, '9.ПИР'!G:G)+SUMIF('10.БКП'!$D:$D, $D37, '10.БКП'!G:G)+SUMIF('11.ПЗС'!$D:$D, $D37, '11.ПЗС'!H:H)+SUMIF('12.ТП_БЭФ'!$D:$D, $D37, '12.ТП_БЭФ'!AA:AA)+SUMIF('13.ТП_СЭФ'!$D:$D, $D37, '13.ТП_СЭФ'!AI:AI)+SUMIF('14.ОВИЗ'!$D:$D, $D37, '14.ОВИЗ'!AJ:AJ)+SUMIF('15.ГРР'!$D:$D, $D37, '15.ГРР'!G:G)+SUMIF('16.НИОКР'!$D:$D, $D37, '16.НИОКР'!G:G)+SUMIF('17.НМА'!$D:$D, $D37, '17.НМА'!H:H)+SUMIF('18.ПКЗ'!$D:$D, $D37, '18.ПКЗ'!H:H)+SUMIF('19.БФИ'!$D:$D, $D37, '19.БФИ'!H:H))","v":0},{"$f":"IF($D37=\"\", 0, SUMIF('7.СМР'!$D:$D, $D37, '7.СМР'!H:H)+SUMIF('8.ОСС'!$D:$D, $D37, '8.ОСС'!Z:Z)+SUMIF('9.ПИР'!$D:$D, $D37, '9.ПИР'!H:H)+SUMIF('10.БКП'!$D:$D, $D37, '10.БКП'!H:H)+SUMIF('11.ПЗС'!$D:$D, $D37, '11.ПЗС'!I:I)+SUMIF('12.ТП_БЭФ'!$D:$D, $D37, '12.ТП_БЭФ'!AB:AB)+SUMIF('13.ТП_СЭФ'!$D:$D, $D37, '13.ТП_СЭФ'!AJ:AJ)+SUMIF('14.ОВИЗ'!$D:$D, $D37, '14.ОВИЗ'!AK:AK)+SUMIF('15.ГРР'!$D:$D, $D37, '15.ГРР'!H:H)+SUMIF('16.НИОКР'!$D:$D, $D37, '16.НИОКР'!H:H)+SUMIF('17.НМА'!$D:$D, $D37, '17.НМА'!I:I)+SUMIF('18.ПКЗ'!$D:$D, $D37, '18.ПКЗ'!I:I)+SUMIF('19.БФИ'!$D:$D, $D37, '19.БФИ'!I:I))","v":0},{"$f":"IF($D37=\"\", 0, SUMIF('7.СМР'!$D:$D, $D37, '7.СМР'!I:I)+SUMIF('8.ОСС'!$D:$D, $D37, '8.ОСС'!AA:AA)+SUMIF('9.ПИР'!$D:$D, $D37, '9.ПИР'!I:I)+SUMIF('10.БКП'!$D:$D, $D37, '10.БКП'!I:I)+SUMIF('11.ПЗС'!$D:$D, $D37, '11.ПЗС'!J:J)+SUMIF('12.ТП_БЭФ'!$D:$D, $D37, '12.ТП_БЭФ'!AC:AC)+SUMIF('13.ТП_СЭФ'!$D:$D, $D37, '13.ТП_СЭФ'!AK:AK)+SUMIF('14.ОВИЗ'!$D:$D, $D37, '14.ОВИЗ'!AL:AL)+SUMIF('15.ГРР'!$D:$D, $D37, '15.ГРР'!I:I)+SUMIF('16.НИОКР'!$D:$D, $D37, '16.НИОКР'!I:I)+SUMIF('17.НМА'!$D:$D, $D37, '17.НМА'!J:J)+SUMIF('18.ПКЗ'!$D:$D, $D37, '18.ПКЗ'!J:J)+SUMIF('19.БФИ'!$D:$D, $D37, '19.БФИ'!J:J))","v":0},{"$f":"IF($D37=\"\", 0, SUMIF('7.СМР'!$D:$D, $D37, '7.СМР'!J:J)+SUMIF('8.ОСС'!$D:$D, $D37, '8.ОСС'!AB:AB)+SUMIF('9.ПИР'!$D:$D, $D37, '9.ПИР'!J:J)+SUMIF('10.БКП'!$D:$D, $D37, '10.БКП'!J:J)+SUMIF('11.ПЗС'!$D:$D, $D37, '11.ПЗС'!K:K)+SUMIF('12.ТП_БЭФ'!$D:$D, $D37, '12.ТП_БЭФ'!AD:AD)+SUMIF('13.ТП_СЭФ'!$D:$D, $D37, '13.ТП_СЭФ'!AL:AL)+SUMIF('14.ОВИЗ'!$D:$D, $D37, '14.ОВИЗ'!AM:AM)+SUMIF('15.ГРР'!$D:$D, $D37, '15.ГРР'!J:J)+SUMIF('16.НИОКР'!$D:$D, $D37, '16.НИОКР'!J:J)+SUMIF('17.НМА'!$D:$D, $D37, '17.НМА'!K:K)+SUMIF('18.ПКЗ'!$D:$D, $D37, '18.ПКЗ'!K:K)+SUMIF('19.БФИ'!$D:$D, $D37, '19.БФИ'!K:K))","v":0},{"$f":"IF($D37=\"\", 0, SUMIF('7.СМР'!$D:$D, $D37, '7.СМР'!K:K)+SUMIF('8.ОСС'!$D:$D, $D37, '8.ОСС'!AC:AC)+SUMIF('9.ПИР'!$D:$D, $D37, '9.ПИР'!K:K)+SUMIF('10.БКП'!$D:$D, $D37, '10.БКП'!K:K)+SUMIF('11.ПЗС'!$D:$D, $D37, '11.ПЗС'!L:L)+SUMIF('12.ТП_БЭФ'!$D:$D, $D37, '12.ТП_БЭФ'!AE:AE)+SUMIF('13.ТП_СЭФ'!$D:$D, $D37, '13.ТП_СЭФ'!AM:AM)+SUMIF('14.ОВИЗ'!$D:$D, $D37, '14.ОВИЗ'!AN:AN)+SUMIF('15.ГРР'!$D:$D, $D37, '15.ГРР'!K:K)+SUMIF('16.НИОКР'!$D:$D, $D37, '16.НИОКР'!K:K)+SUMIF('17.НМА'!$D:$D, $D37, '17.НМА'!L:L)+SUMIF('18.ПКЗ'!$D:$D, $D37, '18.ПКЗ'!L:L)+SUMIF('19.БФИ'!$D:$D, $D37, '19.БФИ'!L:L))","v":0},{"$f":"IF($D37=\"\", 0, SUMIF('7.СМР'!$D:$D, $D37, '7.СМР'!L:L)+SUMIF('8.ОСС'!$D:$D, $D37, '8.ОСС'!AD:AD)+SUMIF('9.ПИР'!$D:$D, $D37, '9.ПИР'!L:L)+SUMIF('10.БКП'!$D:$D, $D37, '10.БКП'!L:L)+SUMIF('11.ПЗС'!$D:$D, $D37, '11.ПЗС'!M:M)+SUMIF('12.ТП_БЭФ'!$D:$D, $D37, '12.ТП_БЭФ'!AF:AF)+SUMIF('13.ТП_СЭФ'!$D:$D, $D37, '13.ТП_СЭФ'!AN:AN)+SUMIF('14.ОВИЗ'!$D:$D, $D37, '14.ОВИЗ'!AO:AO)+SUMIF('15.ГРР'!$D:$D, $D37, '15.ГРР'!L:L)+SUMIF('16.НИОКР'!$D:$D, $D37, '16.НИОКР'!L:L)+SUMIF('17.НМА'!$D:$D, $D37, '17.НМА'!M:M)+SUMIF('18.ПКЗ'!$D:$D, $D37, '18.ПКЗ'!M:M)+SUMIF('19.БФИ'!$D:$D, $D37, '19.БФИ'!M:M))","v":0},{"$f":"IF($D37=\"\", 0, SUMIF('7.СМР'!$D:$D, $D37, '7.СМР'!M:M)+SUMIF('8.ОСС'!$D:$D, $D37, '8.ОСС'!AE:AE)+SUMIF('9.ПИР'!$D:$D, $D37, '9.ПИР'!M:M)+SUMIF('10.БКП'!$D:$D, $D37, '10.БКП'!M:M)+SUMIF('11.ПЗС'!$D:$D, $D37, '11.ПЗС'!N:N)+SUMIF('12.ТП_БЭФ'!$D:$D, $D37, '12.ТП_БЭФ'!AG:AG)+SUMIF('13.ТП_СЭФ'!$D:$D, $D37, '13.ТП_СЭФ'!AO:AO)+SUMIF('14.ОВИЗ'!$D:$D, $D37, '14.ОВИЗ'!AP:AP)+SUMIF('15.ГРР'!$D:$D, $D37, '15.ГРР'!M:M)+SUMIF('16.НИОКР'!$D:$D, $D37, '16.НИОКР'!M:M)+SUMIF('17.НМА'!$D:$D, $D37, '17.НМА'!N:N)+SUMIF('18.ПКЗ'!$D:$D, $D37, '18.ПКЗ'!N:N)+SUMIF('19.БФИ'!$D:$D, $D37, '19.БФИ'!N:N))","v":0},{"$f":"IF($D37=\"\", 0, SUMIF('7.СМР'!$D:$D, $D37, '7.СМР'!N:N)+SUMIF('8.ОСС'!$D:$D, $D37, '8.ОСС'!AF:AF)+SUMIF('9.ПИР'!$D:$D, $D37, '9.ПИР'!N:N)+SUMIF('10.БКП'!$D:$D, $D37, '10.БКП'!N:N)+SUMIF('11.ПЗС'!$D:$D, $D37, '11.ПЗС'!O:O)+SUMIF('12.ТП_БЭФ'!$D:$D, $D37, '12.ТП_БЭФ'!AH:AH)+SUMIF('13.ТП_СЭФ'!$D:$D, $D37, '13.ТП_СЭФ'!AP:AP)+SUMIF('14.ОВИЗ'!$D:$D, $D37, '14.ОВИЗ'!AQ:AQ)+SUMIF('15.ГРР'!$D:$D, $D37, '15.ГРР'!N:N)+SUMIF('16.НИОКР'!$D:$D, $D37, '16.НИОКР'!N:N)+SUMIF('17.НМА'!$D:$D, $D37, '17.НМА'!O:O)+SUMIF('18.ПКЗ'!$D:$D, $D37, '18.ПКЗ'!O:O)+SUMIF('19.БФИ'!$D:$D, $D37, '19.БФИ'!O:O))","v":0},{"$f":"IF($D37=\"\", 0, SUMIF('7.СМР'!$D:$D, $D37, '7.СМР'!O:O)+SUMIF('8.ОСС'!$D:$D, $D37, '8.ОСС'!AG:AG)+SUMIF('9.ПИР'!$D:$D, $D37, '9.ПИР'!O:O)+SUMIF('10.БКП'!$D:$D, $D37, '10.БКП'!O:O)+SUMIF('11.ПЗС'!$D:$D, $D37, '11.ПЗС'!P:P)+SUMIF('12.ТП_БЭФ'!$D:$D, $D37, '12.ТП_БЭФ'!AI:AI)+SUMIF('13.ТП_СЭФ'!$D:$D, $D37, '13.ТП_СЭФ'!AQ:AQ)+SUMIF('14.ОВИЗ'!$D:$D, $D37, '14.ОВИЗ'!AR:AR)+SUMIF('15.ГРР'!$D:$D, $D37, '15.ГРР'!O:O)+SUMIF('16.НИОКР'!$D:$D, $D37, '16.НИОКР'!O:O)+SUMIF('17.НМА'!$D:$D, $D37, '17.НМА'!P:P)+SUMIF('18.ПКЗ'!$D:$D, $D37, '18.ПКЗ'!P:P)+SUMIF('19.БФИ'!$D:$D, $D37, '19.БФИ'!P:P))","v":0},{"$f":"IF($D37=\"\", 0, SUMIF('7.СМР'!$D:$D, $D37, '7.СМР'!P:P)+SUMIF('8.ОСС'!$D:$D, $D37, '8.ОСС'!AH:AH)+SUMIF('9.ПИР'!$D:$D, $D37, '9.ПИР'!P:P)+SUMIF('10.БКП'!$D:$D, $D37, '10.БКП'!P:P)+SUMIF('11.ПЗС'!$D:$D, $D37, '11.ПЗС'!Q:Q)+SUMIF('12.ТП_БЭФ'!$D:$D, $D37, '12.ТП_БЭФ'!AJ:AJ)+SUMIF('13.ТП_СЭФ'!$D:$D, $D37, '13.ТП_СЭФ'!AR:AR)+SUMIF('14.ОВИЗ'!$D:$D, $D37, '14.ОВИЗ'!AS:AS)+SUMIF('15.ГРР'!$D:$D, $D37, '15.ГРР'!P:P)+SUMIF('16.НИОКР'!$D:$D, $D37, '16.НИОКР'!P:P)+SUMIF('17.НМА'!$D:$D, $D37, '17.НМА'!Q:Q)+SUMIF('18.ПКЗ'!$D:$D, $D37, '18.ПКЗ'!Q:Q)+SUMIF('19.БФИ'!$D:$D, $D37, '19.БФИ'!Q:Q))","v":0},0,0,0,0,null,0,0,{"$f":"IF($D37=\"\", 0, SUMIF('7.СМР'!$D:$D, $D37, '7.СМР'!X:X)+SUMIF('8.ОСС'!$D:$D, $D37, '8.ОСС'!AP:AP)+SUMIF('9.ПИР'!$D:$D, $D37, '9.ПИР'!X:X)+SUMIF('10.БКП'!$D:$D, $D37, '10.БКП'!X:X)+SUMIF('11.ПЗС'!$D:$D, $D37, '11.ПЗС'!Y:Y)+SUMIF('12.ТП_БЭФ'!$D:$D, $D37, '12.ТП_БЭФ'!AR:AR)+SUMIF('13.ТП_СЭФ'!$D:$D, $D37, '13.ТП_СЭФ'!AZ:AZ)+SUMIF('14.ОВИЗ'!$D:$D, $D37, '14.ОВИЗ'!BA:BA)+SUMIF('15.ГРР'!$D:$D, $D37, '15.ГРР'!X:X)+SUMIF('16.НИОКР'!$D:$D, $D37, '16.НИОКР'!X:X)+SUMIF('17.НМА'!$D:$D, $D37, '17.НМА'!Y:Y)+SUMIF('18.ПКЗ'!$D:$D, $D37, '18.ПКЗ'!Y:Y)+SUMIF('19.БФИ'!$D:$D, $D37, '19.БФИ'!Y:Y))","v":0},{"$f":"IF($D37=\"\", 0, SUMIF('7.СМР'!$D:$D, $D37, '7.СМР'!Y:Y)+SUMIF('8.ОСС'!$D:$D, $D37, '8.ОСС'!AQ:AQ)+SUMIF('9.ПИР'!$D:$D, $D37, '9.ПИР'!Y:Y)+SUMIF('10.БКП'!$D:$D, $D37, '10.БКП'!Y:Y)+SUMIF('11.ПЗС'!$D:$D, $D37, '11.ПЗС'!Z:Z)+SUMIF('12.ТП_БЭФ'!$D:$D, $D37, '12.ТП_БЭФ'!AS:AS)+SUMIF('13.ТП_СЭФ'!$D:$D, $D37, '13.ТП_СЭФ'!BA:BA)+SUMIF('14.ОВИЗ'!$D:$D, $D37, '14.ОВИЗ'!BB:BB)+SUMIF('15.ГРР'!$D:$D, $D37, '15.ГРР'!Y:Y)+SUMIF('16.НИОКР'!$D:$D, $D37, '16.НИОКР'!Y:Y)+SUMIF('17.НМА'!$D:$D, $D37, '17.НМА'!Z:Z)+SUMIF('18.ПКЗ'!$D:$D, $D37, '18.ПКЗ'!Z:Z)+SUMIF('19.БФИ'!$D:$D, $D37, '19.БФИ'!Z:Z))","v":0},{"$f":"IF($D37=\"\", 0, SUMIF('7.СМР'!$D:$D, $D37, '7.СМР'!Z:Z)+SUMIF('8.ОСС'!$D:$D, $D37, '8.ОСС'!AR:AR)+SUMIF('9.ПИР'!$D:$D, $D37, '9.ПИР'!Z:Z)+SUMIF('10.БКП'!$D:$D, $D37, '10.БКП'!Z:Z)+SUMIF('11.ПЗС'!$D:$D, $D37, '11.ПЗС'!AA:AA)+SUMIF('12.ТП_БЭФ'!$D:$D, $D37, '12.ТП_БЭФ'!AT:AT)+SUMIF('13.ТП_СЭФ'!$D:$D, $D37, '13.ТП_СЭФ'!BB:BB)+SUMIF('14.ОВИЗ'!$D:$D, $D37, '14.ОВИЗ'!BC:BC)+SUMIF('15.ГРР'!$D:$D, $D37, '15.ГРР'!Z:Z)+SUMIF('16.НИОКР'!$D:$D, $D37, '16.НИОКР'!Z:Z)+SUMIF('17.НМА'!$D:$D, $D37, '17.НМА'!AA:AA)+SUMIF('18.ПКЗ'!$D:$D, $D37, '18.ПКЗ'!AA:AA)+SUMIF('19.БФИ'!$D:$D, $D37, '19.БФИ'!AA:AA))","v":0},{"$f":"IF($D37=\"\", 0, SUMIF('7.СМР'!$D:$D, $D37, '7.СМР'!AA:AA)+SUMIF('8.ОСС'!$D:$D, $D37, '8.ОСС'!AS:AS)+SUMIF('9.ПИР'!$D:$D, $D37, '9.ПИР'!AA:AA)+SUMIF('10.БКП'!$D:$D, $D37, '10.БКП'!AA:AA)+SUMIF('11.ПЗС'!$D:$D, $D37, '11.ПЗС'!AB:AB)+SUMIF('12.ТП_БЭФ'!$D:$D, $D37, '12.ТП_БЭФ'!AU:AU)+SUMIF('13.ТП_СЭФ'!$D:$D, $D37, '13.ТП_СЭФ'!BC:BC)+SUMIF('14.ОВИЗ'!$D:$D, $D37, '14.ОВИЗ'!BD:BD)+SUMIF('15.ГРР'!$D:$D, $D37, '15.ГРР'!AA:AA)+SUMIF('16.НИОКР'!$D:$D, $D37, '16.НИОКР'!AA:AA)+SUMIF('17.НМА'!$D:$D, $D37, '17.НМА'!AB:AB)+SUMIF('18.ПКЗ'!$D:$D, $D37, '18.ПКЗ'!AB:AB)+SUMIF('19.БФИ'!$D:$D, $D37, '19.БФИ'!AB:AB))","v":0},{"$f":"IF($D37=\"\", 0, SUMIF('7.СМР'!$D:$D, $D37, '7.СМР'!AB:AB)+SUMIF('8.ОСС'!$D:$D, $D37, '8.ОСС'!AT:AT)+SUMIF('9.ПИР'!$D:$D, $D37, '9.ПИР'!AB:AB)+SUMIF('10.БКП'!$D:$D, $D37, '10.БКП'!AB:AB)+SUMIF('11.ПЗС'!$D:$D, $D37, '11.ПЗС'!AC:AC)+SUMIF('12.ТП_БЭФ'!$D:$D, $D37, '12.ТП_БЭФ'!AV:AV)+SUMIF('13.ТП_СЭФ'!$D:$D, $D37, '13.ТП_СЭФ'!BD:BD)+SUMIF('14.ОВИЗ'!$D:$D, $D37, '14.ОВИЗ'!BE:BE)+SUMIF('15.ГРР'!$D:$D, $D37, '15.ГРР'!AB:AB)+SUMIF('16.НИОКР'!$D:$D, $D37, '16.НИОКР'!AB:AB)+SUMIF('17.НМА'!$D:$D, $D37, '17.НМА'!AC:AC)+SUMIF('18.ПКЗ'!$D:$D, $D37, '18.ПКЗ'!AC:AC)+SUMIF('19.БФИ'!$D:$D, $D37, '19.БФИ'!AC:AC))","v":0},{"$f":"IF($D37=\"\", 0, SUMIF('7.СМР'!$D:$D, $D37, '7.СМР'!AC:AC)+SUMIF('8.ОСС'!$D:$D, $D37, '8.ОСС'!AU:AU)+SUMIF('9.ПИР'!$D:$D, $D37, '9.ПИР'!AC:AC)+SUMIF('10.БКП'!$D:$D, $D37, '10.БКП'!AC:AC)+SUMIF('11.ПЗС'!$D:$D, $D37, '11.ПЗС'!AD:AD)+SUMIF('12.ТП_БЭФ'!$D:$D, $D37, '12.ТП_БЭФ'!AW:AW)+SUMIF('13.ТП_СЭФ'!$D:$D, $D37, '13.ТП_СЭФ'!BE:BE)+SUMIF('14.ОВИЗ'!$D:$D, $D37, '14.ОВИЗ'!BF:BF)+SUMIF('15.ГРР'!$D:$D, $D37, '15.ГРР'!AC:AC)+SUMIF('16.НИОКР'!$D:$D, $D37, '16.НИОКР'!AC:AC)+SUMIF('17.НМА'!$D:$D, $D37, '17.НМА'!AD:AD)+SUMIF('18.ПКЗ'!$D:$D, $D37, '18.ПКЗ'!AD:AD)+SUMIF('19.БФИ'!$D:$D, $D37, '19.БФИ'!AD:AD))","v":0},{"$f":"IF($D37=\"\", 0, SUMIF('7.СМР'!$D:$D, $D37, '7.СМР'!AD:AD)+SUMIF('8.ОСС'!$D:$D, $D37, '8.ОСС'!AV:AV)+SUMIF('9.ПИР'!$D:$D, $D37, '9.ПИР'!AD:AD)+SUMIF('10.БКП'!$D:$D, $D37, '10.БКП'!AD:AD)+SUMIF('11.ПЗС'!$D:$D, $D37, '11.ПЗС'!AE:AE)+SUMIF('12.ТП_БЭФ'!$D:$D, $D37, '12.ТП_БЭФ'!AX:AX)+SUMIF('13.ТП_СЭФ'!$D:$D, $D37, '13.ТП_СЭФ'!BF:BF)+SUMIF('14.ОВИЗ'!$D:$D, $D37, '14.ОВИЗ'!BG:BG)+SUMIF('15.ГРР'!$D:$D, $D37, '15.ГРР'!AD:AD)+SUMIF('16.НИОКР'!$D:$D, $D37, '16.НИОКР'!AD:AD)+SUMIF('17.НМА'!$D:$D, $D37, '17.НМА'!AE:AE)+SUMIF('18.ПКЗ'!$D:$D, $D37, '18.ПКЗ'!AE:AE)+SUMIF('19.БФИ'!$D:$D, $D37, '19.БФИ'!AE:AE))","v":0},{"$f":"IF($D37=\"\", 0, SUMIF('7.СМР'!$D:$D, $D37, '7.СМР'!AE:AE)+SUMIF('8.ОСС'!$D:$D, $D37, '8.ОСС'!AW:AW)+SUMIF('9.ПИР'!$D:$D, $D37, '9.ПИР'!AE:AE)+SUMIF('10.БКП'!$D:$D, $D37, '10.БКП'!AE:AE)+SUMIF('11.ПЗС'!$D:$D, $D37, '11.ПЗС'!AF:AF)+SUMIF('12.ТП_БЭФ'!$D:$D, $D37, '12.ТП_БЭФ'!AY:AY)+SUMIF('13.ТП_СЭФ'!$D:$D, $D37, '13.ТП_СЭФ'!BG:BG)+SUMIF('14.ОВИЗ'!$D:$D, $D37, '14.ОВИЗ'!BH:BH)+SUMIF('15.ГРР'!$D:$D, $D37, '15.ГРР'!AE:AE)+SUMIF('16.НИОКР'!$D:$D, $D37, '16.НИОКР'!AE:AE)+SUMIF('17.НМА'!$D:$D, $D37, '17.НМА'!AF:AF)+SUMIF('18.ПКЗ'!$D:$D, $D37, '18.ПКЗ'!AF:AF)+SUMIF('19.БФИ'!$D:$D, $D37, '19.БФИ'!AF:AF))","v":0},null,0]
[null,{"$f":"IF(D38=\"\", \"\", '04.РИП'!A48)","v":""},{"$f":"IF(D38=\"\", \"\", '04.РИП'!D48)","v":""},{"$f":"IF(ISBLANK('04.РИП'!B48), \"\", '04.РИП'!B48)","v":""},{"$f":"IF(D38=\"\", \"\", '04.РИП'!E48)","v":""},{"$f":"IF(D38=\"\", \"\", '04.РИП'!D48)","v":""},{"$f":"IF($D38=\"\", 0, SUMIF('7.СМР'!$D:$D, $D38, '7.СМР'!G:G)+SUMIF('8.ОСС'!$D:$D, $D38, '8.ОСС'!Y:Y)+SUMIF('9.ПИР'!$D:$D, $D38, '9.ПИР'!G:G)+SUMIF('10.БКП'!$D:$D, $D38, '10.БКП'!G:G)+SUMIF('11.ПЗС'!$D:$D, $D38, '11.ПЗС'!H:H)+SUMIF('12.ТП_БЭФ'!$D:$D, $D38, '12.ТП_БЭФ'!AA:AA)+SUMIF('13.ТП_СЭФ'!$D:$D, $D38, '13.ТП_СЭФ'!AI:AI)+SUMIF('14.ОВИЗ'!$D:$D, $D38, '14.ОВИЗ'!AJ:AJ)+SUMIF('15.ГРР'!$D:$D, $D38, '15.ГРР'!G:G)+SUMIF('16.НИОКР'!$D:$D, $D38, '16.НИОКР'!G:G)+SUMIF('17.НМА'!$D:$D, $D38, '17.НМА'!H:H)+SUMIF('18.ПКЗ'!$D:$D, $D38, '18.ПКЗ'!H:H)+SUMIF('19.БФИ'!$D:$D, $D38, '19.БФИ'!H:H))","v":0},{"$f":"IF($D38=\"\", 0, SUMIF('7.СМР'!$D:$D, $D38, '7.СМР'!H:H)+SUMIF('8.ОСС'!$D:$D, $D38, '8.ОСС'!Z:Z)+SUMIF('9.ПИР'!$D:$D, $D38, '9.ПИР'!H:H)+SUMIF('10.БКП'!$D:$D, $D38, '10.БКП'!H:H)+SUMIF('11.ПЗС'!$D:$D, $D38, '11.ПЗС'!I:I)+SUMIF('12.ТП_БЭФ'!$D:$D, $D38, '12.ТП_БЭФ'!AB:AB)+SUMIF('13.ТП_СЭФ'!$D:$D, $D38, '13.ТП_СЭФ'!AJ:AJ)+SUMIF('14.ОВИЗ'!$D:$D, $D38, '14.ОВИЗ'!AK:AK)+SUMIF('15.ГРР'!$D:$D, $D38, '15.ГРР'!H:H)+SUMIF('16.НИОКР'!$D:$D, $D38, '16.НИОКР'!H:H)+SUMIF('17.НМА'!$D:$D, $D38, '17.НМА'!I:I)+SUMIF('18.ПКЗ'!$D:$D, $D38, '18.ПКЗ'!I:I)+SUMIF('19.БФИ'!$D:$D, $D38, '19.БФИ'!I:I))","v":0},{"$f":"IF($D38=\"\", 0, SUMIF('7.СМР'!$D:$D, $D38, '7.СМР'!I:I)+SUMIF('8.ОСС'!$D:$D, $D38, '8.ОСС'!AA:AA)+SUMIF('9.ПИР'!$D:$D, $D38, '9.ПИР'!I:I)+SUMIF('10.БКП'!$D:$D, $D38, '10.БКП'!I:I)+SUMIF('11.ПЗС'!$D:$D, $D38, '11.ПЗС'!J:J)+SUMIF('12.ТП_БЭФ'!$D:$D, $D38, '12.ТП_БЭФ'!AC:AC)+SUMIF('13.ТП_СЭФ'!$D:$D, $D38, '13.ТП_СЭФ'!AK:AK)+SUMIF('14.ОВИЗ'!$D:$D, $D38, '14.ОВИЗ'!AL:AL)+SUMIF('15.ГРР'!$D:$D, $D38, '15.ГРР'!I:I)+SUMIF('16.НИОКР'!$D:$D, $D38, '16.НИОКР'!I:I)+SUMIF('17.НМА'!$D:$D, $D38, '17.НМА'!J:J)+SUMIF('18.ПКЗ'!$D:$D, $D38, '18.ПКЗ'!J:J)+SUMIF('19.БФИ'!$D:$D, $D38, '19.БФИ'!J:J))","v":0},{"$f":"IF($D38=\"\", 0, SUMIF('7.СМР'!$D:$D, $D38, '7.СМР'!J:J)+SUMIF('8.ОСС'!$D:$D, $D38, '8.ОСС'!AB:AB)+SUMIF('9.ПИР'!$D:$D, $D38, '9.ПИР'!J:J)+SUMIF('10.БКП'!$D:$D, $D38, '10.БКП'!J:J)+SUMIF('11.ПЗС'!$D:$D, $D38, '11.ПЗС'!K:K)+SUMIF('12.ТП_БЭФ'!$D:$D, $D38, '12.ТП_БЭФ'!AD:AD)+SUMIF('13.ТП_СЭФ'!$D:$D, $D38, '13.ТП_СЭФ'!AL:AL)+SUMIF('14.ОВИЗ'!$D:$D, $D38, '14.ОВИЗ'!AM:AM)+SUMIF('15.ГРР'!$D:$D, $D38, '15.ГРР'!J:J)+SUMIF('16.НИОКР'!$D:$D, $D38, '16.НИОКР'!J:J)+SUMIF('17.НМА'!$D:$D, $D38, '17.НМА'!K:K)+SUMIF('18.ПКЗ'!$D:$D, $D38, '18.ПКЗ'!K:K)+SUMIF('19.БФИ'!$D:$D, $D38, '19.БФИ'!K:K))","v":0},{"$f":"IF($D38=\"\", 0, SUMIF('7.СМР'!$D:$D, $D38, '7.СМР'!K:K)+SUMIF('8.ОСС'!$D:$D, $D38, '8.ОСС'!AC:AC)+SUMIF('9.ПИР'!$D:$D, $D38, '9.ПИР'!K:K)+SUMIF('10.БКП'!$D:$D, $D38, '10.БКП'!K:K)+SUMIF('11.ПЗС'!$D:$D, $D38, '11.ПЗС'!L:L)+SUMIF('12.ТП_БЭФ'!$D:$D, $D38, '12.ТП_БЭФ'!AE:AE)+SUMIF('13.ТП_СЭФ'!$D:$D, $D38, '13.ТП_СЭФ'!AM:AM)+SUMIF('14.ОВИЗ'!$D:$D, $D38, '14.ОВИЗ'!AN:AN)+SUMIF('15.ГРР'!$D:$D, $D38, '15.ГРР'!K:K)+SUMIF('16.НИОКР'!$D:$D, $D38, '16.НИОКР'!K:K)+SUMIF('17.НМА'!$D:$D, $D38, '17.НМА'!L:L)+SUMIF('18.ПКЗ'!$D:$D, $D38, '18.ПКЗ'!L:L)+SUMIF('19.БФИ'!$D:$D, $D38, '19.БФИ'!L:L))","v":0},{"$f":"IF($D38=\"\", 0, SUMIF('7.СМР'!$D:$D, $D38, '7.СМР'!L:L)+SUMIF('8.ОСС'!$D:$D, $D38, '8.ОСС'!AD:AD)+SUMIF('9.ПИР'!$D:$D, $D38, '9.ПИР'!L:L)+SUMIF('10.БКП'!$D:$D, $D38, '10.БКП'!L:L)+SUMIF('11.ПЗС'!$D:$D, $D38, '11.ПЗС'!M:M)+SUMIF('12.ТП_БЭФ'!$D:$D, $D38, '12.ТП_БЭФ'!AF:AF)+SUMIF('13.ТП_СЭФ'!$D:$D, $D38, '13.ТП_СЭФ'!AN:AN)+SUMIF('14.ОВИЗ'!$D:$D, $D38, '14.ОВИЗ'!AO:AO)+SUMIF('15.ГРР'!$D:$D, $D38, '15.ГРР'!L:L)+SUMIF('16.НИОКР'!$D:$D, $D38, '16.НИОКР'!L:L)+SUMIF('17.НМА'!$D:$D, $D38, '17.НМА'!M:M)+SUMIF('18.ПКЗ'!$D:$D, $D38, '18.ПКЗ'!M:M)+SUMIF('19.БФИ'!$D:$D, $D38, '19.БФИ'!M:M))","v":0},{"$f":"IF($D38=\"\", 0, SUMIF('7.СМР'!$D:$D, $D38, '7.СМР'!M:M)+SUMIF('8.ОСС'!$D:$D, $D38, '8.ОСС'!AE:AE)+SUMIF('9.ПИР'!$D:$D, $D38, '9.ПИР'!M:M)+SUMIF('10.БКП'!$D:$D, $D38, '10.БКП'!M:M)+SUMIF('11.ПЗС'!$D:$D, $D38, '11.ПЗС'!N:N)+SUMIF('12.ТП_БЭФ'!$D:$D, $D38, '12.ТП_БЭФ'!AG:AG)+SUMIF('13.ТП_СЭФ'!$D:$D, $D38, '13.ТП_СЭФ'!AO:AO)+SUMIF('14.ОВИЗ'!$D:$D, $D38, '14.ОВИЗ'!AP:AP)+SUMIF('15.ГРР'!$D:$D, $D38, '15.ГРР'!M:M)+SUMIF('16.НИОКР'!$D:$D, $D38, '16.НИОКР'!M:M)+SUMIF('17.НМА'!$D:$D, $D38, '17.НМА'!N:N)+SUMIF('18.ПКЗ'!$D:$D, $D38, '18.ПКЗ'!N:N)+SUMIF('19.БФИ'!$D:$D, $D38, '19.БФИ'!N:N))","v":0},{"$f":"IF($D38=\"\", 0, SUMIF('7.СМР'!$D:$D, $D38, '7.СМР'!N:N)+SUMIF('8.ОСС'!$D:$D, $D38, '8.ОСС'!AF:AF)+SUMIF('9.ПИР'!$D:$D, $D38, '9.ПИР'!N:N)+SUMIF('10.БКП'!$D:$D, $D38, '10.БКП'!N:N)+SUMIF('11.ПЗС'!$D:$D, $D38, '11.ПЗС'!O:O)+SUMIF('12.ТП_БЭФ'!$D:$D, $D38, '12.ТП_БЭФ'!AH:AH)+SUMIF('13.ТП_СЭФ'!$D:$D, $D38, '13.ТП_СЭФ'!AP:AP)+SUMIF('14.ОВИЗ'!$D:$D, $D38, '14.ОВИЗ'!AQ:AQ)+SUMIF('15.ГРР'!$D:$D, $D38, '15.ГРР'!N:N)+SUMIF('16.НИОКР'!$D:$D, $D38, '16.НИОКР'!N:N)+SUMIF('17.НМА'!$D:$D, $D38, '17.НМА'!O:O)+SUMIF('18.ПКЗ'!$D:$D, $D38, '18.ПКЗ'!O:O)+SUMIF('19.БФИ'!$D:$D, $D38, '19.БФИ'!O:O))","v":0},{"$f":"IF($D38=\"\", 0, SUMIF('7.СМР'!$D:$D, $D38, '7.СМР'!O:O)+SUMIF('8.ОСС'!$D:$D, $D38, '8.ОСС'!AG:AG)+SUMIF('9.ПИР'!$D:$D, $D38, '9.ПИР'!O:O)+SUMIF('10.БКП'!$D:$D, $D38, '10.БКП'!O:O)+SUMIF('11.ПЗС'!$D:$D, $D38, '11.ПЗС'!P:P)+SUMIF('12.ТП_БЭФ'!$D:$D, $D38, '12.ТП_БЭФ'!AI:AI)+SUMIF('13.ТП_СЭФ'!$D:$D, $D38, '13.ТП_СЭФ'!AQ:AQ)+SUMIF('14.ОВИЗ'!$D:$D, $D38, '14.ОВИЗ'!AR:AR)+SUMIF('15.ГРР'!$D:$D, $D38, '15.ГРР'!O:O)+SUMIF('16.НИОКР'!$D:$D, $D38, '16.НИОКР'!O:O)+SUMIF('17.НМА'!$D:$D, $D38, '17.НМА'!P:P)+SUMIF('18.ПКЗ'!$D:$D, $D38, '18.ПКЗ'!P:P)+SUMIF('19.БФИ'!$D:$D, $D38, '19.БФИ'!P:P))","v":0},{"$f":"IF($D38=\"\", 0, SUMIF('7.СМР'!$D:$D, $D38, '7.СМР'!P:P)+SUMIF('8.ОСС'!$D:$D, $D38, '8.ОСС'!AH:AH)+SUMIF('9.ПИР'!$D:$D, $D38, '9.ПИР'!P:P)+SUMIF('10.БКП'!$D:$D, $D38, '10.БКП'!P:P)+SUMIF('11.ПЗС'!$D:$D, $D38, '11.ПЗС'!Q:Q)+SUMIF('12.ТП_БЭФ'!$D:$D, $D38, '12.ТП_БЭФ'!AJ:AJ)+SUMIF('13.ТП_СЭФ'!$D:$D, $D38, '13.ТП_СЭФ'!AR:AR)+SUMIF('14.ОВИЗ'!$D:$D, $D38, '14.ОВИЗ'!AS:AS)+SUMIF('15.ГРР'!$D:$D, $D38, '15.ГРР'!P:P)+SUMIF('16.НИОКР'!$D:$D, $D38, '16.НИОКР'!P:P)+SUMIF('17.НМА'!$D:$D, $D38, '17.НМА'!Q:Q)+SUMIF('18.ПКЗ'!$D:$D, $D38, '18.ПКЗ'!Q:Q)+SUMIF('19.БФИ'!$D:$D, $D38, '19.БФИ'!Q:Q))","v":0},0,0,0,0,null,0,0,{"$f":"IF($D38=\"\", 0, SUMIF('7.СМР'!$D:$D, $D38, '7.СМР'!X:X)+SUMIF('8.ОСС'!$D:$D, $D38, '8.ОСС'!AP:AP)+SUMIF('9.ПИР'!$D:$D, $D38, '9.ПИР'!X:X)+SUMIF('10.БКП'!$D:$D, $D38, '10.БКП'!X:X)+SUMIF('11.ПЗС'!$D:$D, $D38, '11.ПЗС'!Y:Y)+SUMIF('12.ТП_БЭФ'!$D:$D, $D38, '12.ТП_БЭФ'!AR:AR)+SUMIF('13.ТП_СЭФ'!$D:$D, $D38, '13.ТП_СЭФ'!AZ:AZ)+SUMIF('14.ОВИЗ'!$D:$D, $D38, '14.ОВИЗ'!BA:BA)+SUMIF('15.ГРР'!$D:$D, $D38, '15.ГРР'!X:X)+SUMIF('16.НИОКР'!$D:$D, $D38, '16.НИОКР'!X:X)+SUMIF('17.НМА'!$D:$D, $D38, '17.НМА'!Y:Y)+SUMIF('18.ПКЗ'!$D:$D, $D38, '18.ПКЗ'!Y:Y)+SUMIF('19.БФИ'!$D:$D, $D38, '19.БФИ'!Y:Y))","v":0},{"$f":"IF($D38=\"\", 0, SUMIF('7.СМР'!$D:$D, $D38, '7.СМР'!Y:Y)+SUMIF('8.ОСС'!$D:$D, $D38, '8.ОСС'!AQ:AQ)+SUMIF('9.ПИР'!$D:$D, $D38, '9.ПИР'!Y:Y)+SUMIF('10.БКП'!$D:$D, $D38, '10.БКП'!Y:Y)+SUMIF('11.ПЗС'!$D:$D, $D38, '11.ПЗС'!Z:Z)+SUMIF('12.ТП_БЭФ'!$D:$D, $D38, '12.ТП_БЭФ'!AS:AS)+SUMIF('13.ТП_СЭФ'!$D:$D, $D38, '13.ТП_СЭФ'!BA:BA)+SUMIF('14.ОВИЗ'!$D:$D, $D38, '14.ОВИЗ'!BB:BB)+SUMIF('15.ГРР'!$D:$D, $D38, '15.ГРР'!Y:Y)+SUMIF('16.НИОКР'!$D:$D, $D38, '16.НИОКР'!Y:Y)+SUMIF('17.НМА'!$D:$D, $D38, '17.НМА'!Z:Z)+SUMIF('18.ПКЗ'!$D:$D, $D38, '18.ПКЗ'!Z:Z)+SUMIF('19.БФИ'!$D:$D, $D38, '19.БФИ'!Z:Z))","v":0},{"$f":"IF($D38=\"\", 0, SUMIF('7.СМР'!$D:$D, $D38, '7.СМР'!Z:Z)+SUMIF('8.ОСС'!$D:$D, $D38, '8.ОСС'!AR:AR)+SUMIF('9.ПИР'!$D:$D, $D38, '9.ПИР'!Z:Z)+SUMIF('10.БКП'!$D:$D, $D38, '10.БКП'!Z:Z)+SUMIF('11.ПЗС'!$D:$D, $D38, '11.ПЗС'!AA:AA)+SUMIF('12.ТП_БЭФ'!$D:$D, $D38, '12.ТП_БЭФ'!AT:AT)+SUMIF('13.ТП_СЭФ'!$D:$D, $D38, '13.ТП_СЭФ'!BB:BB)+SUMIF('14.ОВИЗ'!$D:$D, $D38, '14.ОВИЗ'!BC:BC)+SUMIF('15.ГРР'!$D:$D, $D38, '15.ГРР'!Z:Z)+SUMIF('16.НИОКР'!$D:$D, $D38, '16.НИОКР'!Z:Z)+SUMIF('17.НМА'!$D:$D, $D38, '17.НМА'!AA:AA)+SUMIF('18.ПКЗ'!$D:$D, $D38, '18.ПКЗ'!AA:AA)+SUMIF('19.БФИ'!$D:$D, $D38, '19.БФИ'!AA:AA))","v":0},{"$f":"IF($D38=\"\", 0, SUMIF('7.СМР'!$D:$D, $D38, '7.СМР'!AA:AA)+SUMIF('8.ОСС'!$D:$D, $D38, '8.ОСС'!AS:AS)+SUMIF('9.ПИР'!$D:$D, $D38, '9.ПИР'!AA:AA)+SUMIF('10.БКП'!$D:$D, $D38, '10.БКП'!AA:AA)+SUMIF('11.ПЗС'!$D:$D, $D38, '11.ПЗС'!AB:AB)+SUMIF('12.ТП_БЭФ'!$D:$D, $D38, '12.ТП_БЭФ'!AU:AU)+SUMIF('13.ТП_СЭФ'!$D:$D, $D38, '13.ТП_СЭФ'!BC:BC)+SUMIF('14.ОВИЗ'!$D:$D, $D38, '14.ОВИЗ'!BD:BD)+SUMIF('15.ГРР'!$D:$D, $D38, '15.ГРР'!AA:AA)+SUMIF('16.НИОКР'!$D:$D, $D38, '16.НИОКР'!AA:AA)+SUMIF('17.НМА'!$D:$D, $D38, '17.НМА'!AB:AB)+SUMIF('18.ПКЗ'!$D:$D, $D38, '18.ПКЗ'!AB:AB)+SUMIF('19.БФИ'!$D:$D, $D38, '19.БФИ'!AB:AB))","v":0},{"$f":"IF($D38=\"\", 0, SUMIF('7.СМР'!$D:$D, $D38, '7.СМР'!AB:AB)+SUMIF('8.ОСС'!$D:$D, $D38, '8.ОСС'!AT:AT)+SUMIF('9.ПИР'!$D:$D, $D38, '9.ПИР'!AB:AB)+SUMIF('10.БКП'!$D:$D, $D38, '10.БКП'!AB:AB)+SUMIF('11.ПЗС'!$D:$D, $D38, '11.ПЗС'!AC:AC)+SUMIF('12.ТП_БЭФ'!$D:$D, $D38, '12.ТП_БЭФ'!AV:AV)+SUMIF('13.ТП_СЭФ'!$D:$D, $D38, '13.ТП_СЭФ'!BD:BD)+SUMIF('14.ОВИЗ'!$D:$D, $D38, '14.ОВИЗ'!BE:BE)+SUMIF('15.ГРР'!$D:$D, $D38, '15.ГРР'!AB:AB)+SUMIF('16.НИОКР'!$D:$D, $D38, '16.НИОКР'!AB:AB)+SUMIF('17.НМА'!$D:$D, $D38, '17.НМА'!AC:AC)+SUMIF('18.ПКЗ'!$D:$D, $D38, '18.ПКЗ'!AC:AC)+SUMIF('19.БФИ'!$D:$D, $D38, '19.БФИ'!AC:AC))","v":0},{"$f":"IF($D38=\"\", 0, SUMIF('7.СМР'!$D:$D, $D38, '7.СМР'!AC:AC)+SUMIF('8.ОСС'!$D:$D, $D38, '8.ОСС'!AU:AU)+SUMIF('9.ПИР'!$D:$D, $D38, '9.ПИР'!AC:AC)+SUMIF('10.БКП'!$D:$D, $D38, '10.БКП'!AC:AC)+SUMIF('11.ПЗС'!$D:$D, $D38, '11.ПЗС'!AD:AD)+SUMIF('12.ТП_БЭФ'!$D:$D, $D38, '12.ТП_БЭФ'!AW:AW)+SUMIF('13.ТП_СЭФ'!$D:$D, $D38, '13.ТП_СЭФ'!BE:BE)+SUMIF('14.ОВИЗ'!$D:$D, $D38, '14.ОВИЗ'!BF:BF)+SUMIF('15.ГРР'!$D:$D, $D38, '15.ГРР'!AC:AC)+SUMIF('16.НИОКР'!$D:$D, $D38, '16.НИОКР'!AC:AC)+SUMIF('17.НМА'!$D:$D, $D38, '17.НМА'!AD:AD)+SUMIF('18.ПКЗ'!$D:$D, $D38, '18.ПКЗ'!AD:AD)+SUMIF('19.БФИ'!$D:$D, $D38, '19.БФИ'!AD:AD))","v":0},{"$f":"IF($D38=\"\", 0, SUMIF('7.СМР'!$D:$D, $D38, '7.СМР'!AD:AD)+SUMIF('8.ОСС'!$D:$D, $D38, '8.ОСС'!AV:AV)+SUMIF('9.ПИР'!$D:$D, $D38, '9.ПИР'!AD:AD)+SUMIF('10.БКП'!$D:$D, $D38, '10.БКП'!AD:AD)+SUMIF('11.ПЗС'!$D:$D, $D38, '11.ПЗС'!AE:AE)+SUMIF('12.ТП_БЭФ'!$D:$D, $D38, '12.ТП_БЭФ'!AX:AX)+SUMIF('13.ТП_СЭФ'!$D:$D, $D38, '13.ТП_СЭФ'!BF:BF)+SUMIF('14.ОВИЗ'!$D:$D, $D38, '14.ОВИЗ'!BG:BG)+SUMIF('15.ГРР'!$D:$D, $D38, '15.ГРР'!AD:AD)+SUMIF('16.НИОКР'!$D:$D, $D38, '16.НИОКР'!AD:AD)+SUMIF('17.НМА'!$D:$D, $D38, '17.НМА'!AE:AE)+SUMIF('18.ПКЗ'!$D:$D, $D38, '18.ПКЗ'!AE:AE)+SUMIF('19.БФИ'!$D:$D, $D38, '19.БФИ'!AE:AE))","v":0},{"$f":"IF($D38=\"\", 0, SUMIF('7.СМР'!$D:$D, $D38, '7.СМР'!AE:AE)+SUMIF('8.ОСС'!$D:$D, $D38, '8.ОСС'!AW:AW)+SUMIF('9.ПИР'!$D:$D, $D38, '9.ПИР'!AE:AE)+SUMIF('10.БКП'!$D:$D, $D38, '10.БКП'!AE:AE)+SUMIF('11.ПЗС'!$D:$D, $D38, '11.ПЗС'!AF:AF)+SUMIF('12.ТП_БЭФ'!$D:$D, $D38, '12.ТП_БЭФ'!AY:AY)+SUMIF('13.ТП_СЭФ'!$D:$D, $D38, '13.ТП_СЭФ'!BG:BG)+SUMIF('14.ОВИЗ'!$D:$D, $D38, '14.ОВИЗ'!BH:BH)+SUMIF('15.ГРР'!$D:$D, $D38, '15.ГРР'!AE:AE)+SUMIF('16.НИОКР'!$D:$D, $D38, '16.НИОКР'!AE:AE)+SUMIF('17.НМА'!$D:$D, $D38, '17.НМА'!AF:AF)+SUMIF('18.ПКЗ'!$D:$D, $D38, '18.ПКЗ'!AF:AF)+SUMIF('19.БФИ'!$D:$D, $D38, '19.БФИ'!AF:AF))","v":0},null,0]
[null,{"$f":"IF(D39=\"\", \"\", '04.РИП'!A49)","v":""},{"$f":"IF(D39=\"\", \"\", '04.РИП'!D49)","v":""},{"$f":"IF(ISBLANK('04.РИП'!B49), \"\", '04.РИП'!B49)","v":""},{"$f":"IF(D39=\"\", \"\", '04.РИП'!E49)","v":""},{"$f":"IF(D39=\"\", \"\", '04.РИП'!D49)","v":""},{"$f":"IF($D39=\"\", 0, SUMIF('7.СМР'!$D:$D, $D39, '7.СМР'!G:G)+SUMIF('8.ОСС'!$D:$D, $D39, '8.ОСС'!Y:Y)+SUMIF('9.ПИР'!$D:$D, $D39, '9.ПИР'!G:G)+SUMIF('10.БКП'!$D:$D, $D39, '10.БКП'!G:G)+SUMIF('11.ПЗС'!$D:$D, $D39, '11.ПЗС'!H:H)+SUMIF('12.ТП_БЭФ'!$D:$D, $D39, '12.ТП_БЭФ'!AA:AA)+SUMIF('13.ТП_СЭФ'!$D:$D, $D39, '13.ТП_СЭФ'!AI:AI)+SUMIF('14.ОВИЗ'!$D:$D, $D39, '14.ОВИЗ'!AJ:AJ)+SUMIF('15.ГРР'!$D:$D, $D39, '15.ГРР'!G:G)+SUMIF('16.НИОКР'!$D:$D, $D39, '16.НИОКР'!G:G)+SUMIF('17.НМА'!$D:$D, $D39, '17.НМА'!H:H)+SUMIF('18.ПКЗ'!$D:$D, $D39, '18.ПКЗ'!H:H)+SUMIF('19.БФИ'!$D:$D, $D39, '19.БФИ'!H:H))","v":0},{"$f":"IF($D39=\"\", 0, SUMIF('7.СМР'!$D:$D, $D39, '7.СМР'!H:H)+SUMIF('8.ОСС'!$D:$D, $D39, '8.ОСС'!Z:Z)+SUMIF('9.ПИР'!$D:$D, $D39, '9.ПИР'!H:H)+SUMIF('10.БКП'!$D:$D, $D39, '10.БКП'!H:H)+SUMIF('11.ПЗС'!$D:$D, $D39, '11.ПЗС'!I:I)+SUMIF('12.ТП_БЭФ'!$D:$D, $D39, '12.ТП_БЭФ'!AB:AB)+SUMIF('13.ТП_СЭФ'!$D:$D, $D39, '13.ТП_СЭФ'!AJ:AJ)+SUMIF('14.ОВИЗ'!$D:$D, $D39, '14.ОВИЗ'!AK:AK)+SUMIF('15.ГРР'!$D:$D, $D39, '15.ГРР'!H:H)+SUMIF('16.НИОКР'!$D:$D, $D39, '16.НИОКР'!H:H)+SUMIF('17.НМА'!$D:$D, $D39, '17.НМА'!I:I)+SUMIF('18.ПКЗ'!$D:$D, $D39, '18.ПКЗ'!I:I)+SUMIF('19.БФИ'!$D:$D, $D39, '19.БФИ'!I:I))","v":0},{"$f":"IF($D39=\"\", 0, SUMIF('7.СМР'!$D:$D, $D39, '7.СМР'!I:I)+SUMIF('8.ОСС'!$D:$D, $D39, '8.ОСС'!AA:AA)+SUMIF('9.ПИР'!$D:$D, $D39, '9.ПИР'!I:I)+SUMIF('10.БКП'!$D:$D, $D39, '10.БКП'!I:I)+SUMIF('11.ПЗС'!$D:$D, $D39, '11.ПЗС'!J:J)+SUMIF('12.ТП_БЭФ'!$D:$D, $D39, '12.ТП_БЭФ'!AC:AC)+SUMIF('13.ТП_СЭФ'!$D:$D, $D39, '13.ТП_СЭФ'!AK:AK)+SUMIF('14.ОВИЗ'!$D:$D, $D39, '14.ОВИЗ'!AL:AL)+SUMIF('15.ГРР'!$D:$D, $D39, '15.ГРР'!I:I)+SUMIF('16.НИОКР'!$D:$D, $D39, '16.НИОКР'!I:I)+SUMIF('17.НМА'!$D:$D, $D39, '17.НМА'!J:J)+SUMIF('18.ПКЗ'!$D:$D, $D39, '18.ПКЗ'!J:J)+SUMIF('19.БФИ'!$D:$D, $D39, '19.БФИ'!J:J))","v":0},{"$f":"IF($D39=\"\", 0, SUMIF('7.СМР'!$D:$D, $D39, '7.СМР'!J:J)+SUMIF('8.ОСС'!$D:$D, $D39, '8.ОСС'!AB:AB)+SUMIF('9.ПИР'!$D:$D, $D39, '9.ПИР'!J:J)+SUMIF('10.БКП'!$D:$D, $D39, '10.БКП'!J:J)+SUMIF('11.ПЗС'!$D:$D, $D39, '11.ПЗС'!K:K)+SUMIF('12.ТП_БЭФ'!$D:$D, $D39, '12.ТП_БЭФ'!AD:AD)+SUMIF('13.ТП_СЭФ'!$D:$D, $D39, '13.ТП_СЭФ'!AL:AL)+SUMIF('14.ОВИЗ'!$D:$D, $D39, '14.ОВИЗ'!AM:AM)+SUMIF('15.ГРР'!$D:$D, $D39, '15.ГРР'!J:J)+SUMIF('16.НИОКР'!$D:$D, $D39, '16.НИОКР'!J:J)+SUMIF('17.НМА'!$D:$D, $D39, '17.НМА'!K:K)+SUMIF('18.ПКЗ'!$D:$D, $D39, '18.ПКЗ'!K:K)+SUMIF('19.БФИ'!$D:$D, $D39, '19.БФИ'!K:K))","v":0},{"$f":"IF($D39=\"\", 0, SUMIF('7.СМР'!$D:$D, $D39, '7.СМР'!K:K)+SUMIF('8.ОСС'!$D:$D, $D39, '8.ОСС'!AC:AC)+SUMIF('9.ПИР'!$D:$D, $D39, '9.ПИР'!K:K)+SUMIF('10.БКП'!$D:$D, $D39, '10.БКП'!K:K)+SUMIF('11.ПЗС'!$D:$D, $D39, '11.ПЗС'!L:L)+SUMIF('12.ТП_БЭФ'!$D:$D, $D39, '12.ТП_БЭФ'!AE:AE)+SUMIF('13.ТП_СЭФ'!$D:$D, $D39, '13.ТП_СЭФ'!AM:AM)+SUMIF('14.ОВИЗ'!$D:$D, $D39, '14.ОВИЗ'!AN:AN)+SUMIF('15.ГРР'!$D:$D, $D39, '15.ГРР'!K:K)+SUMIF('16.НИОКР'!$D:$D, $D39, '16.НИОКР'!K:K)+SUMIF('17.НМА'!$D:$D, $D39, '17.НМА'!L:L)+SUMIF('18.ПКЗ'!$D:$D, $D39, '18.ПКЗ'!L:L)+SUMIF('19.БФИ'!$D:$D, $D39, '19.БФИ'!L:L))","v":0},{"$f":"IF($D39=\"\", 0, SUMIF('7.СМР'!$D:$D, $D39, '7.СМР'!L:L)+SUMIF('8.ОСС'!$D:$D, $D39, '8.ОСС'!AD:AD)+SUMIF('9.ПИР'!$D:$D, $D39, '9.ПИР'!L:L)+SUMIF('10.БКП'!$D:$D, $D39, '10.БКП'!L:L)+SUMIF('11.ПЗС'!$D:$D, $D39, '11.ПЗС'!M:M)+SUMIF('12.ТП_БЭФ'!$D:$D, $D39, '12.ТП_БЭФ'!AF:AF)+SUMIF('13.ТП_СЭФ'!$D:$D, $D39, '13.ТП_СЭФ'!AN:AN)+SUMIF('14.ОВИЗ'!$D:$D, $D39, '14.ОВИЗ'!AO:AO)+SUMIF('15.ГРР'!$D:$D, $D39, '15.ГРР'!L:L)+SUMIF('16.НИОКР'!$D:$D, $D39, '16.НИОКР'!L:L)+SUMIF('17.НМА'!$D:$D, $D39, '17.НМА'!M:M)+SUMIF('18.ПКЗ'!$D:$D, $D39, '18.ПКЗ'!M:M)+SUMIF('19.БФИ'!$D:$D, $D39, '19.БФИ'!M:M))","v":0},{"$f":"IF($D39=\"\", 0, SUMIF('7.СМР'!$D:$D, $D39, '7.СМР'!M:M)+SUMIF('8.ОСС'!$D:$D, $D39, '8.ОСС'!AE:AE)+SUMIF('9.ПИР'!$D:$D, $D39, '9.ПИР'!M:M)+SUMIF('10.БКП'!$D:$D, $D39, '10.БКП'!M:M)+SUMIF('11.ПЗС'!$D:$D, $D39, '11.ПЗС'!N:N)+SUMIF('12.ТП_БЭФ'!$D:$D, $D39, '12.ТП_БЭФ'!AG:AG)+SUMIF('13.ТП_СЭФ'!$D:$D, $D39, '13.ТП_СЭФ'!AO:AO)+SUMIF('14.ОВИЗ'!$D:$D, $D39, '14.ОВИЗ'!AP:AP)+SUMIF('15.ГРР'!$D:$D, $D39, '15.ГРР'!M:M)+SUMIF('16.НИОКР'!$D:$D, $D39, '16.НИОКР'!M:M)+SUMIF('17.НМА'!$D:$D, $D39, '17.НМА'!N:N)+SUMIF('18.ПКЗ'!$D:$D, $D39, '18.ПКЗ'!N:N)+SUMIF('19.БФИ'!$D:$D, $D39, '19.БФИ'!N:N))","v":0},{"$f":"IF($D39=\"\", 0, SUMIF('7.СМР'!$D:$D, $D39, '7.СМР'!N:N)+SUMIF('8.ОСС'!$D:$D, $D39, '8.ОСС'!AF:AF)+SUMIF('9.ПИР'!$D:$D, $D39, '9.ПИР'!N:N)+SUMIF('10.БКП'!$D:$D, $D39, '10.БКП'!N:N)+SUMIF('11.ПЗС'!$D:$D, $D39, '11.ПЗС'!O:O)+SUMIF('12.ТП_БЭФ'!$D:$D, $D39, '12.ТП_БЭФ'!AH:AH)+SUMIF('13.ТП_СЭФ'!$D:$D, $D39, '13.ТП_СЭФ'!AP:AP)+SUMIF('14.ОВИЗ'!$D:$D, $D39, '14.ОВИЗ'!AQ:AQ)+SUMIF('15.ГРР'!$D:$D, $D39, '15.ГРР'!N:N)+SUMIF('16.НИОКР'!$D:$D, $D39, '16.НИОКР'!N:N)+SUMIF('17.НМА'!$D:$D, $D39, '17.НМА'!O:O)+SUMIF('18.ПКЗ'!$D:$D, $D39, '18.ПКЗ'!O:O)+SUMIF('19.БФИ'!$D:$D, $D39, '19.БФИ'!O:O))","v":0},{"$f":"IF($D39=\"\", 0, SUMIF('7.СМР'!$D:$D, $D39, '7.СМР'!O:O)+SUMIF('8.ОСС'!$D:$D, $D39, '8.ОСС'!AG:AG)+SUMIF('9.ПИР'!$D:$D, $D39, '9.ПИР'!O:O)+SUMIF('10.БКП'!$D:$D, $D39, '10.БКП'!O:O)+SUMIF('11.ПЗС'!$D:$D, $D39, '11.ПЗС'!P:P)+SUMIF('12.ТП_БЭФ'!$D:$D, $D39, '12.ТП_БЭФ'!AI:AI)+SUMIF('13.ТП_СЭФ'!$D:$D, $D39, '13.ТП_СЭФ'!AQ:AQ)+SUMIF('14.ОВИЗ'!$D:$D, $D39, '14.ОВИЗ'!AR:AR)+SUMIF('15.ГРР'!$D:$D, $D39, '15.ГРР'!O:O)+SUMIF('16.НИОКР'!$D:$D, $D39, '16.НИОКР'!O:O)+SUMIF('17.НМА'!$D:$D, $D39, '17.НМА'!P:P)+SUMIF('18.ПКЗ'!$D:$D, $D39, '18.ПКЗ'!P:P)+SUMIF('19.БФИ'!$D:$D, $D39, '19.БФИ'!P:P))","v":0},{"$f":"IF($D39=\"\", 0, SUMIF('7.СМР'!$D:$D, $D39, '7.СМР'!P:P)+SUMIF('8.ОСС'!$D:$D, $D39, '8.ОСС'!AH:AH)+SUMIF('9.ПИР'!$D:$D, $D39, '9.ПИР'!P:P)+SUMIF('10.БКП'!$D:$D, $D39, '10.БКП'!P:P)+SUMIF('11.ПЗС'!$D:$D, $D39, '11.ПЗС'!Q:Q)+SUMIF('12.ТП_БЭФ'!$D:$D, $D39, '12.ТП_БЭФ'!AJ:AJ)+SUMIF('13.ТП_СЭФ'!$D:$D, $D39, '13.ТП_СЭФ'!AR:AR)+SUMIF('14.ОВИЗ'!$D:$D, $D39, '14.ОВИЗ'!AS:AS)+SUMIF('15.ГРР'!$D:$D, $D39, '15.ГРР'!P:P)+SUMIF('16.НИОКР'!$D:$D, $D39, '16.НИОКР'!P:P)+SUMIF('17.НМА'!$D:$D, $D39, '17.НМА'!Q:Q)+SUMIF('18.ПКЗ'!$D:$D, $D39, '18.ПКЗ'!Q:Q)+SUMIF('19.БФИ'!$D:$D, $D39, '19.БФИ'!Q:Q))","v":0},0,0,0,0,null,0,0,{"$f":"IF($D39=\"\", 0, SUMIF('7.СМР'!$D:$D, $D39, '7.СМР'!X:X)+SUMIF('8.ОСС'!$D:$D, $D39, '8.ОСС'!AP:AP)+SUMIF('9.ПИР'!$D:$D, $D39, '9.ПИР'!X:X)+SUMIF('10.БКП'!$D:$D, $D39, '10.БКП'!X:X)+SUMIF('11.ПЗС'!$D:$D, $D39, '11.ПЗС'!Y:Y)+SUMIF('12.ТП_БЭФ'!$D:$D, $D39, '12.ТП_БЭФ'!AR:AR)+SUMIF('13.ТП_СЭФ'!$D:$D, $D39, '13.ТП_СЭФ'!AZ:AZ)+SUMIF('14.ОВИЗ'!$D:$D, $D39, '14.ОВИЗ'!BA:BA)+SUMIF('15.ГРР'!$D:$D, $D39, '15.ГРР'!X:X)+SUMIF('16.НИОКР'!$D:$D, $D39, '16.НИОКР'!X:X)+SUMIF('17.НМА'!$D:$D, $D39, '17.НМА'!Y:Y)+SUMIF('18.ПКЗ'!$D:$D, $D39, '18.ПКЗ'!Y:Y)+SUMIF('19.БФИ'!$D:$D, $D39, '19.БФИ'!Y:Y))","v":0},{"$f":"IF($D39=\"\", 0, SUMIF('7.СМР'!$D:$D, $D39, '7.СМР'!Y:Y)+SUMIF('8.ОСС'!$D:$D, $D39, '8.ОСС'!AQ:AQ)+SUMIF('9.ПИР'!$D:$D, $D39, '9.ПИР'!Y:Y)+SUMIF('10.БКП'!$D:$D, $D39, '10.БКП'!Y:Y)+SUMIF('11.ПЗС'!$D:$D, $D39, '11.ПЗС'!Z:Z)+SUMIF('12.ТП_БЭФ'!$D:$D, $D39, '12.ТП_БЭФ'!AS:AS)+SUMIF('13.ТП_СЭФ'!$D:$D, $D39, '13.ТП_СЭФ'!BA:BA)+SUMIF('14.ОВИЗ'!$D:$D, $D39, '14.ОВИЗ'!BB:BB)+SUMIF('15.ГРР'!$D:$D, $D39, '15.ГРР'!Y:Y)+SUMIF('16.НИОКР'!$D:$D, $D39, '16.НИОКР'!Y:Y)+SUMIF('17.НМА'!$D:$D, $D39, '17.НМА'!Z:Z)+SUMIF('18.ПКЗ'!$D:$D, $D39, '18.ПКЗ'!Z:Z)+SUMIF('19.БФИ'!$D:$D, $D39, '19.БФИ'!Z:Z))","v":0},{"$f":"IF($D39=\"\", 0, SUMIF('7.СМР'!$D:$D, $D39, '7.СМР'!Z:Z)+SUMIF('8.ОСС'!$D:$D, $D39, '8.ОСС'!AR:AR)+SUMIF('9.ПИР'!$D:$D, $D39, '9.ПИР'!Z:Z)+SUMIF('10.БКП'!$D:$D, $D39, '10.БКП'!Z:Z)+SUMIF('11.ПЗС'!$D:$D, $D39, '11.ПЗС'!AA:AA)+SUMIF('12.ТП_БЭФ'!$D:$D, $D39, '12.ТП_БЭФ'!AT:AT)+SUMIF('13.ТП_СЭФ'!$D:$D, $D39, '13.ТП_СЭФ'!BB:BB)+SUMIF('14.ОВИЗ'!$D:$D, $D39, '14.ОВИЗ'!BC:BC)+SUMIF('15.ГРР'!$D:$D, $D39, '15.ГРР'!Z:Z)+SUMIF('16.НИОКР'!$D:$D, $D39, '16.НИОКР'!Z:Z)+SUMIF('17.НМА'!$D:$D, $D39, '17.НМА'!AA:AA)+SUMIF('18.ПКЗ'!$D:$D, $D39, '18.ПКЗ'!AA:AA)+SUMIF('19.БФИ'!$D:$D, $D39, '19.БФИ'!AA:AA))","v":0},{"$f":"IF($D39=\"\", 0, SUMIF('7.СМР'!$D:$D, $D39, '7.СМР'!AA:AA)+SUMIF('8.ОСС'!$D:$D, $D39, '8.ОСС'!AS:AS)+SUMIF('9.ПИР'!$D:$D, $D39, '9.ПИР'!AA:AA)+SUMIF('10.БКП'!$D:$D, $D39, '10.БКП'!AA:AA)+SUMIF('11.ПЗС'!$D:$D, $D39, '11.ПЗС'!AB:AB)+SUMIF('12.ТП_БЭФ'!$D:$D, $D39, '12.ТП_БЭФ'!AU:AU)+SUMIF('13.ТП_СЭФ'!$D:$D, $D39, '13.ТП_СЭФ'!BC:BC)+SUMIF('14.ОВИЗ'!$D:$D, $D39, '14.ОВИЗ'!BD:BD)+SUMIF('15.ГРР'!$D:$D, $D39, '15.ГРР'!AA:AA)+SUMIF('16.НИОКР'!$D:$D, $D39, '16.НИОКР'!AA:AA)+SUMIF('17.НМА'!$D:$D, $D39, '17.НМА'!AB:AB)+SUMIF('18.ПКЗ'!$D:$D, $D39, '18.ПКЗ'!AB:AB)+SUMIF('19.БФИ'!$D:$D, $D39, '19.БФИ'!AB:AB))","v":0},{"$f":"IF($D39=\"\", 0, SUMIF('7.СМР'!$D:$D, $D39, '7.СМР'!AB:AB)+SUMIF('8.ОСС'!$D:$D, $D39, '8.ОСС'!AT:AT)+SUMIF('9.ПИР'!$D:$D, $D39, '9.ПИР'!AB:AB)+SUMIF('10.БКП'!$D:$D, $D39, '10.БКП'!AB:AB)+SUMIF('11.ПЗС'!$D:$D, $D39, '11.ПЗС'!AC:AC)+SUMIF('12.ТП_БЭФ'!$D:$D, $D39, '12.ТП_БЭФ'!AV:AV)+SUMIF('13.ТП_СЭФ'!$D:$D, $D39, '13.ТП_СЭФ'!BD:BD)+SUMIF('14.ОВИЗ'!$D:$D, $D39, '14.ОВИЗ'!BE:BE)+SUMIF('15.ГРР'!$D:$D, $D39, '15.ГРР'!AB:AB)+SUMIF('16.НИОКР'!$D:$D, $D39, '16.НИОКР'!AB:AB)+SUMIF('17.НМА'!$D:$D, $D39, '17.НМА'!AC:AC)+SUMIF('18.ПКЗ'!$D:$D, $D39, '18.ПКЗ'!AC:AC)+SUMIF('19.БФИ'!$D:$D, $D39, '19.БФИ'!AC:AC))","v":0},{"$f":"IF($D39=\"\", 0, SUMIF('7.СМР'!$D:$D, $D39, '7.СМР'!AC:AC)+SUMIF('8.ОСС'!$D:$D, $D39, '8.ОСС'!AU:AU)+SUMIF('9.ПИР'!$D:$D, $D39, '9.ПИР'!AC:AC)+SUMIF('10.БКП'!$D:$D, $D39, '10.БКП'!AC:AC)+SUMIF('11.ПЗС'!$D:$D, $D39, '11.ПЗС'!AD:AD)+SUMIF('12.ТП_БЭФ'!$D:$D, $D39, '12.ТП_БЭФ'!AW:AW)+SUMIF('13.ТП_СЭФ'!$D:$D, $D39, '13.ТП_СЭФ'!BE:BE)+SUMIF('14.ОВИЗ'!$D:$D, $D39, '14.ОВИЗ'!BF:BF)+SUMIF('15.ГРР'!$D:$D, $D39, '15.ГРР'!AC:AC)+SUMIF('16.НИОКР'!$D:$D, $D39, '16.НИОКР'!AC:AC)+SUMIF('17.НМА'!$D:$D, $D39, '17.НМА'!AD:AD)+SUMIF('18.ПКЗ'!$D:$D, $D39, '18.ПКЗ'!AD:AD)+SUMIF('19.БФИ'!$D:$D, $D39, '19.БФИ'!AD:AD))","v":0},{"$f":"IF($D39=\"\", 0, SUMIF('7.СМР'!$D:$D, $D39, '7.СМР'!AD:AD)+SUMIF('8.ОСС'!$D:$D, $D39, '8.ОСС'!AV:AV)+SUMIF('9.ПИР'!$D:$D, $D39, '9.ПИР'!AD:AD)+SUMIF('10.БКП'!$D:$D, $D39, '10.БКП'!AD:AD)+SUMIF('11.ПЗС'!$D:$D, $D39, '11.ПЗС'!AE:AE)+SUMIF('12.ТП_БЭФ'!$D:$D, $D39, '12.ТП_БЭФ'!AX:AX)+SUMIF('13.ТП_СЭФ'!$D:$D, $D39, '13.ТП_СЭФ'!BF:BF)+SUMIF('14.ОВИЗ'!$D:$D, $D39, '14.ОВИЗ'!BG:BG)+SUMIF('15.ГРР'!$D:$D, $D39, '15.ГРР'!AD:AD)+SUMIF('16.НИОКР'!$D:$D, $D39, '16.НИОКР'!AD:AD)+SUMIF('17.НМА'!$D:$D, $D39, '17.НМА'!AE:AE)+SUMIF('18.ПКЗ'!$D:$D, $D39, '18.ПКЗ'!AE:AE)+SUMIF('19.БФИ'!$D:$D, $D39, '19.БФИ'!AE:AE))","v":0},{"$f":"IF($D39=\"\", 0, SUMIF('7.СМР'!$D:$D, $D39, '7.СМР'!AE:AE)+SUMIF('8.ОСС'!$D:$D, $D39, '8.ОСС'!AW:AW)+SUMIF('9.ПИР'!$D:$D, $D39, '9.ПИР'!AE:AE)+SUMIF('10.БКП'!$D:$D, $D39, '10.БКП'!AE:AE)+SUMIF('11.ПЗС'!$D:$D, $D39, '11.ПЗС'!AF:AF)+SUMIF('12.ТП_БЭФ'!$D:$D, $D39, '12.ТП_БЭФ'!AY:AY)+SUMIF('13.ТП_СЭФ'!$D:$D, $D39, '13.ТП_СЭФ'!BG:BG)+SUMIF('14.ОВИЗ'!$D:$D, $D39, '14.ОВИЗ'!BH:BH)+SUMIF('15.ГРР'!$D:$D, $D39, '15.ГРР'!AE:AE)+SUMIF('16.НИОКР'!$D:$D, $D39, '16.НИОКР'!AE:AE)+SUMIF('17.НМА'!$D:$D, $D39, '17.НМА'!AF:AF)+SUMIF('18.ПКЗ'!$D:$D, $D39, '18.ПКЗ'!AF:AF)+SUMIF('19.БФИ'!$D:$D, $D39, '19.БФИ'!AF:AF))","v":0},null,0]
[null,{"$f":"IF(D40=\"\", \"\", '04.РИП'!A50)","v":""},{"$f":"IF(D40=\"\", \"\", '04.РИП'!D50)","v":""},{"$f":"IF(ISBLANK('04.РИП'!B50), \"\", '04.РИП'!B50)","v":""},{"$f":"IF(D40=\"\", \"\", '04.РИП'!E50)","v":""},{"$f":"IF(D40=\"\", \"\", '04.РИП'!D50)","v":""},{"$f":"IF($D40=\"\", 0, SUMIF('7.СМР'!$D:$D, $D40, '7.СМР'!G:G)+SUMIF('8.ОСС'!$D:$D, $D40, '8.ОСС'!Y:Y)+SUMIF('9.ПИР'!$D:$D, $D40, '9.ПИР'!G:G)+SUMIF('10.БКП'!$D:$D, $D40, '10.БКП'!G:G)+SUMIF('11.ПЗС'!$D:$D, $D40, '11.ПЗС'!H:H)+SUMIF('12.ТП_БЭФ'!$D:$D, $D40, '12.ТП_БЭФ'!AA:AA)+SUMIF('13.ТП_СЭФ'!$D:$D, $D40, '13.ТП_СЭФ'!AI:AI)+SUMIF('14.ОВИЗ'!$D:$D, $D40, '14.ОВИЗ'!AJ:AJ)+SUMIF('15.ГРР'!$D:$D, $D40, '15.ГРР'!G:G)+SUMIF('16.НИОКР'!$D:$D, $D40, '16.НИОКР'!G:G)+SUMIF('17.НМА'!$D:$D, $D40, '17.НМА'!H:H)+SUMIF('18.ПКЗ'!$D:$D, $D40, '18.ПКЗ'!H:H)+SUMIF('19.БФИ'!$D:$D, $D40, '19.БФИ'!H:H))","v":0},{"$f":"IF($D40=\"\", 0, SUMIF('7.СМР'!$D:$D, $D40, '7.СМР'!H:H)+SUMIF('8.ОСС'!$D:$D, $D40, '8.ОСС'!Z:Z)+SUMIF('9.ПИР'!$D:$D, $D40, '9.ПИР'!H:H)+SUMIF('10.БКП'!$D:$D, $D40, '10.БКП'!H:H)+SUMIF('11.ПЗС'!$D:$D, $D40, '11.ПЗС'!I:I)+SUMIF('12.ТП_БЭФ'!$D:$D, $D40, '12.ТП_БЭФ'!AB:AB)+SUMIF('13.ТП_СЭФ'!$D:$D, $D40, '13.ТП_СЭФ'!AJ:AJ)+SUMIF('14.ОВИЗ'!$D:$D, $D40, '14.ОВИЗ'!AK:AK)+SUMIF('15.ГРР'!$D:$D, $D40, '15.ГРР'!H:H)+SUMIF('16.НИОКР'!$D:$D, $D40, '16.НИОКР'!H:H)+SUMIF('17.НМА'!$D:$D, $D40, '17.НМА'!I:I)+SUMIF('18.ПКЗ'!$D:$D, $D40, '18.ПКЗ'!I:I)+SUMIF('19.БФИ'!$D:$D, $D40, '19.БФИ'!I:I))","v":0},{"$f":"IF($D40=\"\", 0, SUMIF('7.СМР'!$D:$D, $D40, '7.СМР'!I:I)+SUMIF('8.ОСС'!$D:$D, $D40, '8.ОСС'!AA:AA)+SUMIF('9.ПИР'!$D:$D, $D40, '9.ПИР'!I:I)+SUMIF('10.БКП'!$D:$D, $D40, '10.БКП'!I:I)+SUMIF('11.ПЗС'!$D:$D, $D40, '11.ПЗС'!J:J)+SUMIF('12.ТП_БЭФ'!$D:$D, $D40, '12.ТП_БЭФ'!AC:AC)+SUMIF('13.ТП_СЭФ'!$D:$D, $D40, '13.ТП_СЭФ'!AK:AK)+SUMIF('14.ОВИЗ'!$D:$D, $D40, '14.ОВИЗ'!AL:AL)+SUMIF('15.ГРР'!$D:$D, $D40, '15.ГРР'!I:I)+SUMIF('16.НИОКР'!$D:$D, $D40, '16.НИОКР'!I:I)+SUMIF('17.НМА'!$D:$D, $D40, '17.НМА'!J:J)+SUMIF('18.ПКЗ'!$D:$D, $D40, '18.ПКЗ'!J:J)+SUMIF('19.БФИ'!$D:$D, $D40, '19.БФИ'!J:J))","v":0},{"$f":"IF($D40=\"\", 0, SUMIF('7.СМР'!$D:$D, $D40, '7.СМР'!J:J)+SUMIF('8.ОСС'!$D:$D, $D40, '8.ОСС'!AB:AB)+SUMIF('9.ПИР'!$D:$D, $D40, '9.ПИР'!J:J)+SUMIF('10.БКП'!$D:$D, $D40, '10.БКП'!J:J)+SUMIF('11.ПЗС'!$D:$D, $D40, '11.ПЗС'!K:K)+SUMIF('12.ТП_БЭФ'!$D:$D, $D40, '12.ТП_БЭФ'!AD:AD)+SUMIF('13.ТП_СЭФ'!$D:$D, $D40, '13.ТП_СЭФ'!AL:AL)+SUMIF('14.ОВИЗ'!$D:$D, $D40, '14.ОВИЗ'!AM:AM)+SUMIF('15.ГРР'!$D:$D, $D40, '15.ГРР'!J:J)+SUMIF('16.НИОКР'!$D:$D, $D40, '16.НИОКР'!J:J)+SUMIF('17.НМА'!$D:$D, $D40, '17.НМА'!K:K)+SUMIF('18.ПКЗ'!$D:$D, $D40, '18.ПКЗ'!K:K)+SUMIF('19.БФИ'!$D:$D, $D40, '19.БФИ'!K:K))","v":0},{"$f":"IF($D40=\"\", 0, SUMIF('7.СМР'!$D:$D, $D40, '7.СМР'!K:K)+SUMIF('8.ОСС'!$D:$D, $D40, '8.ОСС'!AC:AC)+SUMIF('9.ПИР'!$D:$D, $D40, '9.ПИР'!K:K)+SUMIF('10.БКП'!$D:$D, $D40, '10.БКП'!K:K)+SUMIF('11.ПЗС'!$D:$D, $D40, '11.ПЗС'!L:L)+SUMIF('12.ТП_БЭФ'!$D:$D, $D40, '12.ТП_БЭФ'!AE:AE)+SUMIF('13.ТП_СЭФ'!$D:$D, $D40, '13.ТП_СЭФ'!AM:AM)+SUMIF('14.ОВИЗ'!$D:$D, $D40, '14.ОВИЗ'!AN:AN)+SUMIF('15.ГРР'!$D:$D, $D40, '15.ГРР'!K:K)+SUMIF('16.НИОКР'!$D:$D, $D40, '16.НИОКР'!K:K)+SUMIF('17.НМА'!$D:$D, $D40, '17.НМА'!L:L)+SUMIF('18.ПКЗ'!$D:$D, $D40, '18.ПКЗ'!L:L)+SUMIF('19.БФИ'!$D:$D, $D40, '19.БФИ'!L:L))","v":0},{"$f":"IF($D40=\"\", 0, SUMIF('7.СМР'!$D:$D, $D40, '7.СМР'!L:L)+SUMIF('8.ОСС'!$D:$D, $D40, '8.ОСС'!AD:AD)+SUMIF('9.ПИР'!$D:$D, $D40, '9.ПИР'!L:L)+SUMIF('10.БКП'!$D:$D, $D40, '10.БКП'!L:L)+SUMIF('11.ПЗС'!$D:$D, $D40, '11.ПЗС'!M:M)+SUMIF('12.ТП_БЭФ'!$D:$D, $D40, '12.ТП_БЭФ'!AF:AF)+SUMIF('13.ТП_СЭФ'!$D:$D, $D40, '13.ТП_СЭФ'!AN:AN)+SUMIF('14.ОВИЗ'!$D:$D, $D40, '14.ОВИЗ'!AO:AO)+SUMIF('15.ГРР'!$D:$D, $D40, '15.ГРР'!L:L)+SUMIF('16.НИОКР'!$D:$D, $D40, '16.НИОКР'!L:L)+SUMIF('17.НМА'!$D:$D, $D40, '17.НМА'!M:M)+SUMIF('18.ПКЗ'!$D:$D, $D40, '18.ПКЗ'!M:M)+SUMIF('19.БФИ'!$D:$D, $D40, '19.БФИ'!M:M))","v":0},{"$f":"IF($D40=\"\", 0, SUMIF('7.СМР'!$D:$D, $D40, '7.СМР'!M:M)+SUMIF('8.ОСС'!$D:$D, $D40, '8.ОСС'!AE:AE)+SUMIF('9.ПИР'!$D:$D, $D40, '9.ПИР'!M:M)+SUMIF('10.БКП'!$D:$D, $D40, '10.БКП'!M:M)+SUMIF('11.ПЗС'!$D:$D, $D40, '11.ПЗС'!N:N)+SUMIF('12.ТП_БЭФ'!$D:$D, $D40, '12.ТП_БЭФ'!AG:AG)+SUMIF('13.ТП_СЭФ'!$D:$D, $D40, '13.ТП_СЭФ'!AO:AO)+SUMIF('14.ОВИЗ'!$D:$D, $D40, '14.ОВИЗ'!AP:AP)+SUMIF('15.ГРР'!$D:$D, $D40, '15.ГРР'!M:M)+SUMIF('16.НИОКР'!$D:$D, $D40, '16.НИОКР'!M:M)+SUMIF('17.НМА'!$D:$D, $D40, '17.НМА'!N:N)+SUMIF('18.ПКЗ'!$D:$D, $D40, '18.ПКЗ'!N:N)+SUMIF('19.БФИ'!$D:$D, $D40, '19.БФИ'!N:N))","v":0},{"$f":"IF($D40=\"\", 0, SUMIF('7.СМР'!$D:$D, $D40, '7.СМР'!N:N)+SUMIF('8.ОСС'!$D:$D, $D40, '8.ОСС'!AF:AF)+SUMIF('9.ПИР'!$D:$D, $D40, '9.ПИР'!N:N)+SUMIF('10.БКП'!$D:$D, $D40, '10.БКП'!N:N)+SUMIF('11.ПЗС'!$D:$D, $D40, '11.ПЗС'!O:O)+SUMIF('12.ТП_БЭФ'!$D:$D, $D40, '12.ТП_БЭФ'!AH:AH)+SUMIF('13.ТП_СЭФ'!$D:$D, $D40, '13.ТП_СЭФ'!AP:AP)+SUMIF('14.ОВИЗ'!$D:$D, $D40, '14.ОВИЗ'!AQ:AQ)+SUMIF('15.ГРР'!$D:$D, $D40, '15.ГРР'!N:N)+SUMIF('16.НИОКР'!$D:$D, $D40, '16.НИОКР'!N:N)+SUMIF('17.НМА'!$D:$D, $D40, '17.НМА'!O:O)+SUMIF('18.ПКЗ'!$D:$D, $D40, '18.ПКЗ'!O:O)+SUMIF('19.БФИ'!$D:$D, $D40, '19.БФИ'!O:O))","v":0},{"$f":"IF($D40=\"\", 0, SUMIF('7.СМР'!$D:$D, $D40, '7.СМР'!O:O)+SUMIF('8.ОСС'!$D:$D, $D40, '8.ОСС'!AG:AG)+SUMIF('9.ПИР'!$D:$D, $D40, '9.ПИР'!O:O)+SUMIF('10.БКП'!$D:$D, $D40, '10.БКП'!O:O)+SUMIF('11.ПЗС'!$D:$D, $D40, '11.ПЗС'!P:P)+SUMIF('12.ТП_БЭФ'!$D:$D, $D40, '12.ТП_БЭФ'!AI:AI)+SUMIF('13.ТП_СЭФ'!$D:$D, $D40, '13.ТП_СЭФ'!AQ:AQ)+SUMIF('14.ОВИЗ'!$D:$D, $D40, '14.ОВИЗ'!AR:AR)+SUMIF('15.ГРР'!$D:$D, $D40, '15.ГРР'!O:O)+SUMIF('16.НИОКР'!$D:$D, $D40, '16.НИОКР'!O:O)+SUMIF('17.НМА'!$D:$D, $D40, '17.НМА'!P:P)+SUMIF('18.ПКЗ'!$D:$D, $D40, '18.ПКЗ'!P:P)+SUMIF('19.БФИ'!$D:$D, $D40, '19.БФИ'!P:P))","v":0},{"$f":"IF($D40=\"\", 0, SUMIF('7.СМР'!$D:$D, $D40, '7.СМР'!P:P)+SUMIF('8.ОСС'!$D:$D, $D40, '8.ОСС'!AH:AH)+SUMIF('9.ПИР'!$D:$D, $D40, '9.ПИР'!P:P)+SUMIF('10.БКП'!$D:$D, $D40, '10.БКП'!P:P)+SUMIF('11.ПЗС'!$D:$D, $D40, '11.ПЗС'!Q:Q)+SUMIF('12.ТП_БЭФ'!$D:$D, $D40, '12.ТП_БЭФ'!AJ:AJ)+SUMIF('13.ТП_СЭФ'!$D:$D, $D40, '13.ТП_СЭФ'!AR:AR)+SUMIF('14.ОВИЗ'!$D:$D, $D40, '14.ОВИЗ'!AS:AS)+SUMIF('15.ГРР'!$D:$D, $D40, '15.ГРР'!P:P)+SUMIF('16.НИОКР'!$D:$D, $D40, '16.НИОКР'!P:P)+SUMIF('17.НМА'!$D:$D, $D40, '17.НМА'!Q:Q)+SUMIF('18.ПКЗ'!$D:$D, $D40, '18.ПКЗ'!Q:Q)+SUMIF('19.БФИ'!$D:$D, $D40, '19.БФИ'!Q:Q))","v":0},0,0,0,0,null,0,0,{"$f":"IF($D40=\"\", 0, SUMIF('7.СМР'!$D:$D, $D40, '7.СМР'!X:X)+SUMIF('8.ОСС'!$D:$D, $D40, '8.ОСС'!AP:AP)+SUMIF('9.ПИР'!$D:$D, $D40, '9.ПИР'!X:X)+SUMIF('10.БКП'!$D:$D, $D40, '10.БКП'!X:X)+SUMIF('11.ПЗС'!$D:$D, $D40, '11.ПЗС'!Y:Y)+SUMIF('12.ТП_БЭФ'!$D:$D, $D40, '12.ТП_БЭФ'!AR:AR)+SUMIF('13.ТП_СЭФ'!$D:$D, $D40, '13.ТП_СЭФ'!AZ:AZ)+SUMIF('14.ОВИЗ'!$D:$D, $D40, '14.ОВИЗ'!BA:BA)+SUMIF('15.ГРР'!$D:$D, $D40, '15.ГРР'!X:X)+SUMIF('16.НИОКР'!$D:$D, $D40, '16.НИОКР'!X:X)+SUMIF('17.НМА'!$D:$D, $D40, '17.НМА'!Y:Y)+SUMIF('18.ПКЗ'!$D:$D, $D40, '18.ПКЗ'!Y:Y)+SUMIF('19.БФИ'!$D:$D, $D40, '19.БФИ'!Y:Y))","v":0},{"$f":"IF($D40=\"\", 0, SUMIF('7.СМР'!$D:$D, $D40, '7.СМР'!Y:Y)+SUMIF('8.ОСС'!$D:$D, $D40, '8.ОСС'!AQ:AQ)+SUMIF('9.ПИР'!$D:$D, $D40, '9.ПИР'!Y:Y)+SUMIF('10.БКП'!$D:$D, $D40, '10.БКП'!Y:Y)+SUMIF('11.ПЗС'!$D:$D, $D40, '11.ПЗС'!Z:Z)+SUMIF('12.ТП_БЭФ'!$D:$D, $D40, '12.ТП_БЭФ'!AS:AS)+SUMIF('13.ТП_СЭФ'!$D:$D, $D40, '13.ТП_СЭФ'!BA:BA)+SUMIF('14.ОВИЗ'!$D:$D, $D40, '14.ОВИЗ'!BB:BB)+SUMIF('15.ГРР'!$D:$D, $D40, '15.ГРР'!Y:Y)+SUMIF('16.НИОКР'!$D:$D, $D40, '16.НИОКР'!Y:Y)+SUMIF('17.НМА'!$D:$D, $D40, '17.НМА'!Z:Z)+SUMIF('18.ПКЗ'!$D:$D, $D40, '18.ПКЗ'!Z:Z)+SUMIF('19.БФИ'!$D:$D, $D40, '19.БФИ'!Z:Z))","v":0},{"$f":"IF($D40=\"\", 0, SUMIF('7.СМР'!$D:$D, $D40, '7.СМР'!Z:Z)+SUMIF('8.ОСС'!$D:$D, $D40, '8.ОСС'!AR:AR)+SUMIF('9.ПИР'!$D:$D, $D40, '9.ПИР'!Z:Z)+SUMIF('10.БКП'!$D:$D, $D40, '10.БКП'!Z:Z)+SUMIF('11.ПЗС'!$D:$D, $D40, '11.ПЗС'!AA:AA)+SUMIF('12.ТП_БЭФ'!$D:$D, $D40, '12.ТП_БЭФ'!AT:AT)+SUMIF('13.ТП_СЭФ'!$D:$D, $D40, '13.ТП_СЭФ'!BB:BB)+SUMIF('14.ОВИЗ'!$D:$D, $D40, '14.ОВИЗ'!BC:BC)+SUMIF('15.ГРР'!$D:$D, $D40, '15.ГРР'!Z:Z)+SUMIF('16.НИОКР'!$D:$D, $D40, '16.НИОКР'!Z:Z)+SUMIF('17.НМА'!$D:$D, $D40, '17.НМА'!AA:AA)+SUMIF('18.ПКЗ'!$D:$D, $D40, '18.ПКЗ'!AA:AA)+SUMIF('19.БФИ'!$D:$D, $D40, '19.БФИ'!AA:AA))","v":0},{"$f":"IF($D40=\"\", 0, SUMIF('7.СМР'!$D:$D, $D40, '7.СМР'!AA:AA)+SUMIF('8.ОСС'!$D:$D, $D40, '8.ОСС'!AS:AS)+SUMIF('9.ПИР'!$D:$D, $D40, '9.ПИР'!AA:AA)+SUMIF('10.БКП'!$D:$D, $D40, '10.БКП'!AA:AA)+SUMIF('11.ПЗС'!$D:$D, $D40, '11.ПЗС'!AB:AB)+SUMIF('12.ТП_БЭФ'!$D:$D, $D40, '12.ТП_БЭФ'!AU:AU)+SUMIF('13.ТП_СЭФ'!$D:$D, $D40, '13.ТП_СЭФ'!BC:BC)+SUMIF('14.ОВИЗ'!$D:$D, $D40, '14.ОВИЗ'!BD:BD)+SUMIF('15.ГРР'!$D:$D, $D40, '15.ГРР'!AA:AA)+SUMIF('16.НИОКР'!$D:$D, $D40, '16.НИОКР'!AA:AA)+SUMIF('17.НМА'!$D:$D, $D40, '17.НМА'!AB:AB)+SUMIF('18.ПКЗ'!$D:$D, $D40, '18.ПКЗ'!AB:AB)+SUMIF('19.БФИ'!$D:$D, $D40, '19.БФИ'!AB:AB))","v":0},{"$f":"IF($D40=\"\", 0, SUMIF('7.СМР'!$D:$D, $D40, '7.СМР'!AB:AB)+SUMIF('8.ОСС'!$D:$D, $D40, '8.ОСС'!AT:AT)+SUMIF('9.ПИР'!$D:$D, $D40, '9.ПИР'!AB:AB)+SUMIF('10.БКП'!$D:$D, $D40, '10.БКП'!AB:AB)+SUMIF('11.ПЗС'!$D:$D, $D40, '11.ПЗС'!AC:AC)+SUMIF('12.ТП_БЭФ'!$D:$D, $D40, '12.ТП_БЭФ'!AV:AV)+SUMIF('13.ТП_СЭФ'!$D:$D, $D40, '13.ТП_СЭФ'!BD:BD)+SUMIF('14.ОВИЗ'!$D:$D, $D40, '14.ОВИЗ'!BE:BE)+SUMIF('15.ГРР'!$D:$D, $D40, '15.ГРР'!AB:AB)+SUMIF('16.НИОКР'!$D:$D, $D40, '16.НИОКР'!AB:AB)+SUMIF('17.НМА'!$D:$D, $D40, '17.НМА'!AC:AC)+SUMIF('18.ПКЗ'!$D:$D, $D40, '18.ПКЗ'!AC:AC)+SUMIF('19.БФИ'!$D:$D, $D40, '19.БФИ'!AC:AC))","v":0},{"$f":"IF($D40=\"\", 0, SUMIF('7.СМР'!$D:$D, $D40, '7.СМР'!AC:AC)+SUMIF('8.ОСС'!$D:$D, $D40, '8.ОСС'!AU:AU)+SUMIF('9.ПИР'!$D:$D, $D40, '9.ПИР'!AC:AC)+SUMIF('10.БКП'!$D:$D, $D40, '10.БКП'!AC:AC)+SUMIF('11.ПЗС'!$D:$D, $D40, '11.ПЗС'!AD:AD)+SUMIF('12.ТП_БЭФ'!$D:$D, $D40, '12.ТП_БЭФ'!AW:AW)+SUMIF('13.ТП_СЭФ'!$D:$D, $D40, '13.ТП_СЭФ'!BE:BE)+SUMIF('14.ОВИЗ'!$D:$D, $D40, '14.ОВИЗ'!BF:BF)+SUMIF('15.ГРР'!$D:$D, $D40, '15.ГРР'!AC:AC)+SUMIF('16.НИОКР'!$D:$D, $D40, '16.НИОКР'!AC:AC)+SUMIF('17.НМА'!$D:$D, $D40, '17.НМА'!AD:AD)+SUMIF('18.ПКЗ'!$D:$D, $D40, '18.ПКЗ'!AD:AD)+SUMIF('19.БФИ'!$D:$D, $D40, '19.БФИ'!AD:AD))","v":0},{"$f":"IF($D40=\"\", 0, SUMIF('7.СМР'!$D:$D, $D40, '7.СМР'!AD:AD)+SUMIF('8.ОСС'!$D:$D, $D40, '8.ОСС'!AV:AV)+SUMIF('9.ПИР'!$D:$D, $D40, '9.ПИР'!AD:AD)+SUMIF('10.БКП'!$D:$D, $D40, '10.БКП'!AD:AD)+SUMIF('11.ПЗС'!$D:$D, $D40, '11.ПЗС'!AE:AE)+SUMIF('12.ТП_БЭФ'!$D:$D, $D40, '12.ТП_БЭФ'!AX:AX)+SUMIF('13.ТП_СЭФ'!$D:$D, $D40, '13.ТП_СЭФ'!BF:BF)+SUMIF('14.ОВИЗ'!$D:$D, $D40, '14.ОВИЗ'!BG:BG)+SUMIF('15.ГРР'!$D:$D, $D40, '15.ГРР'!AD:AD)+SUMIF('16.НИОКР'!$D:$D, $D40, '16.НИОКР'!AD:AD)+SUMIF('17.НМА'!$D:$D, $D40, '17.НМА'!AE:AE)+SUMIF('18.ПКЗ'!$D:$D, $D40, '18.ПКЗ'!AE:AE)+SUMIF('19.БФИ'!$D:$D, $D40, '19.БФИ'!AE:AE))","v":0},{"$f":"IF($D40=\"\", 0, SUMIF('7.СМР'!$D:$D, $D40, '7.СМР'!AE:AE)+SUMIF('8.ОСС'!$D:$D, $D40, '8.ОСС'!AW:AW)+SUMIF('9.ПИР'!$D:$D, $D40, '9.ПИР'!AE:AE)+SUMIF('10.БКП'!$D:$D, $D40, '10.БКП'!AE:AE)+SUMIF('11.ПЗС'!$D:$D, $D40, '11.ПЗС'!AF:AF)+SUMIF('12.ТП_БЭФ'!$D:$D, $D40, '12.ТП_БЭФ'!AY:AY)+SUMIF('13.ТП_СЭФ'!$D:$D, $D40, '13.ТП_СЭФ'!BG:BG)+SUMIF('14.ОВИЗ'!$D:$D, $D40, '14.ОВИЗ'!BH:BH)+SUMIF('15.ГРР'!$D:$D, $D40, '15.ГРР'!AE:AE)+SUMIF('16.НИОКР'!$D:$D, $D40, '16.НИОКР'!AE:AE)+SUMIF('17.НМА'!$D:$D, $D40, '17.НМА'!AF:AF)+SUMIF('18.ПКЗ'!$D:$D, $D40, '18.ПКЗ'!AF:AF)+SUMIF('19.БФИ'!$D:$D, $D40, '19.БФИ'!AF:AF))","v":0},null,0]
[null,{"$f":"IF(D41=\"\", \"\", '04.РИП'!A51)","v":""},{"$f":"IF(D41=\"\", \"\", '04.РИП'!D51)","v":""},{"$f":"IF(ISBLANK('04.РИП'!B51), \"\", '04.РИП'!B51)","v":""},{"$f":"IF(D41=\"\", \"\", '04.РИП'!E51)","v":""},{"$f":"IF(D41=\"\", \"\", '04.РИП'!D51)","v":""},{"$f":"IF($D41=\"\", 0, SUMIF('7.СМР'!$D:$D, $D41, '7.СМР'!G:G)+SUMIF('8.ОСС'!$D:$D, $D41, '8.ОСС'!Y:Y)+SUMIF('9.ПИР'!$D:$D, $D41, '9.ПИР'!G:G)+SUMIF('10.БКП'!$D:$D, $D41, '10.БКП'!G:G)+SUMIF('11.ПЗС'!$D:$D, $D41, '11.ПЗС'!H:H)+SUMIF('12.ТП_БЭФ'!$D:$D, $D41, '12.ТП_БЭФ'!AA:AA)+SUMIF('13.ТП_СЭФ'!$D:$D, $D41, '13.ТП_СЭФ'!AI:AI)+SUMIF('14.ОВИЗ'!$D:$D, $D41, '14.ОВИЗ'!AJ:AJ)+SUMIF('15.ГРР'!$D:$D, $D41, '15.ГРР'!G:G)+SUMIF('16.НИОКР'!$D:$D, $D41, '16.НИОКР'!G:G)+SUMIF('17.НМА'!$D:$D, $D41, '17.НМА'!H:H)+SUMIF('18.ПКЗ'!$D:$D, $D41, '18.ПКЗ'!H:H)+SUMIF('19.БФИ'!$D:$D, $D41, '19.БФИ'!H:H))","v":0},{"$f":"IF($D41=\"\", 0, SUMIF('7.СМР'!$D:$D, $D41, '7.СМР'!H:H)+SUMIF('8.ОСС'!$D:$D, $D41, '8.ОСС'!Z:Z)+SUMIF('9.ПИР'!$D:$D, $D41, '9.ПИР'!H:H)+SUMIF('10.БКП'!$D:$D, $D41, '10.БКП'!H:H)+SUMIF('11.ПЗС'!$D:$D, $D41, '11.ПЗС'!I:I)+SUMIF('12.ТП_БЭФ'!$D:$D, $D41, '12.ТП_БЭФ'!AB:AB)+SUMIF('13.ТП_СЭФ'!$D:$D, $D41, '13.ТП_СЭФ'!AJ:AJ)+SUMIF('14.ОВИЗ'!$D:$D, $D41, '14.ОВИЗ'!AK:AK)+SUMIF('15.ГРР'!$D:$D, $D41, '15.ГРР'!H:H)+SUMIF('16.НИОКР'!$D:$D, $D41, '16.НИОКР'!H:H)+SUMIF('17.НМА'!$D:$D, $D41, '17.НМА'!I:I)+SUMIF('18.ПКЗ'!$D:$D, $D41, '18.ПКЗ'!I:I)+SUMIF('19.БФИ'!$D:$D, $D41, '19.БФИ'!I:I))","v":0},{"$f":"IF($D41=\"\", 0, SUMIF('7.СМР'!$D:$D, $D41, '7.СМР'!I:I)+SUMIF('8.ОСС'!$D:$D, $D41, '8.ОСС'!AA:AA)+SUMIF('9.ПИР'!$D:$D, $D41, '9.ПИР'!I:I)+SUMIF('10.БКП'!$D:$D, $D41, '10.БКП'!I:I)+SUMIF('11.ПЗС'!$D:$D, $D41, '11.ПЗС'!J:J)+SUMIF('12.ТП_БЭФ'!$D:$D, $D41, '12.ТП_БЭФ'!AC:AC)+SUMIF('13.ТП_СЭФ'!$D:$D, $D41, '13.ТП_СЭФ'!AK:AK)+SUMIF('14.ОВИЗ'!$D:$D, $D41, '14.ОВИЗ'!AL:AL)+SUMIF('15.ГРР'!$D:$D, $D41, '15.ГРР'!I:I)+SUMIF('16.НИОКР'!$D:$D, $D41, '16.НИОКР'!I:I)+SUMIF('17.НМА'!$D:$D, $D41, '17.НМА'!J:J)+SUMIF('18.ПКЗ'!$D:$D, $D41, '18.ПКЗ'!J:J)+SUMIF('19.БФИ'!$D:$D, $D41, '19.БФИ'!J:J))","v":0},{"$f":"IF($D41=\"\", 0, SUMIF('7.СМР'!$D:$D, $D41, '7.СМР'!J:J)+SUMIF('8.ОСС'!$D:$D, $D41, '8.ОСС'!AB:AB)+SUMIF('9.ПИР'!$D:$D, $D41, '9.ПИР'!J:J)+SUMIF('10.БКП'!$D:$D, $D41, '10.БКП'!J:J)+SUMIF('11.ПЗС'!$D:$D, $D41, '11.ПЗС'!K:K)+SUMIF('12.ТП_БЭФ'!$D:$D, $D41, '12.ТП_БЭФ'!AD:AD)+SUMIF('13.ТП_СЭФ'!$D:$D, $D41, '13.ТП_СЭФ'!AL:AL)+SUMIF('14.ОВИЗ'!$D:$D, $D41, '14.ОВИЗ'!AM:AM)+SUMIF('15.ГРР'!$D:$D, $D41, '15.ГРР'!J:J)+SUMIF('16.НИОКР'!$D:$D, $D41, '16.НИОКР'!J:J)+SUMIF('17.НМА'!$D:$D, $D41, '17.НМА'!K:K)+SUMIF('18.ПКЗ'!$D:$D, $D41, '18.ПКЗ'!K:K)+SUMIF('19.БФИ'!$D:$D, $D41, '19.БФИ'!K:K))","v":0},{"$f":"IF($D41=\"\", 0, SUMIF('7.СМР'!$D:$D, $D41, '7.СМР'!K:K)+SUMIF('8.ОСС'!$D:$D, $D41, '8.ОСС'!AC:AC)+SUMIF('9.ПИР'!$D:$D, $D41, '9.ПИР'!K:K)+SUMIF('10.БКП'!$D:$D, $D41, '10.БКП'!K:K)+SUMIF('11.ПЗС'!$D:$D, $D41, '11.ПЗС'!L:L)+SUMIF('12.ТП_БЭФ'!$D:$D, $D41, '12.ТП_БЭФ'!AE:AE)+SUMIF('13.ТП_СЭФ'!$D:$D, $D41, '13.ТП_СЭФ'!AM:AM)+SUMIF('14.ОВИЗ'!$D:$D, $D41, '14.ОВИЗ'!AN:AN)+SUMIF('15.ГРР'!$D:$D, $D41, '15.ГРР'!K:K)+SUMIF('16.НИОКР'!$D:$D, $D41, '16.НИОКР'!K:K)+SUMIF('17.НМА'!$D:$D, $D41, '17.НМА'!L:L)+SUMIF('18.ПКЗ'!$D:$D, $D41, '18.ПКЗ'!L:L)+SUMIF('19.БФИ'!$D:$D, $D41, '19.БФИ'!L:L))","v":0},{"$f":"IF($D41=\"\", 0, SUMIF('7.СМР'!$D:$D, $D41, '7.СМР'!L:L)+SUMIF('8.ОСС'!$D:$D, $D41, '8.ОСС'!AD:AD)+SUMIF('9.ПИР'!$D:$D, $D41, '9.ПИР'!L:L)+SUMIF('10.БКП'!$D:$D, $D41, '10.БКП'!L:L)+SUMIF('11.ПЗС'!$D:$D, $D41, '11.ПЗС'!M:M)+SUMIF('12.ТП_БЭФ'!$D:$D, $D41, '12.ТП_БЭФ'!AF:AF)+SUMIF('13.ТП_СЭФ'!$D:$D, $D41, '13.ТП_СЭФ'!AN:AN)+SUMIF('14.ОВИЗ'!$D:$D, $D41, '14.ОВИЗ'!AO:AO)+SUMIF('15.ГРР'!$D:$D, $D41, '15.ГРР'!L:L)+SUMIF('16.НИОКР'!$D:$D, $D41, '16.НИОКР'!L:L)+SUMIF('17.НМА'!$D:$D, $D41, '17.НМА'!M:M)+SUMIF('18.ПКЗ'!$D:$D, $D41, '18.ПКЗ'!M:M)+SUMIF('19.БФИ'!$D:$D, $D41, '19.БФИ'!M:M))","v":0},{"$f":"IF($D41=\"\", 0, SUMIF('7.СМР'!$D:$D, $D41, '7.СМР'!M:M)+SUMIF('8.ОСС'!$D:$D, $D41, '8.ОСС'!AE:AE)+SUMIF('9.ПИР'!$D:$D, $D41, '9.ПИР'!M:M)+SUMIF('10.БКП'!$D:$D, $D41, '10.БКП'!M:M)+SUMIF('11.ПЗС'!$D:$D, $D41, '11.ПЗС'!N:N)+SUMIF('12.ТП_БЭФ'!$D:$D, $D41, '12.ТП_БЭФ'!AG:AG)+SUMIF('13.ТП_СЭФ'!$D:$D, $D41, '13.ТП_СЭФ'!AO:AO)+SUMIF('14.ОВИЗ'!$D:$D, $D41, '14.ОВИЗ'!AP:AP)+SUMIF('15.ГРР'!$D:$D, $D41, '15.ГРР'!M:M)+SUMIF('16.НИОКР'!$D:$D, $D41, '16.НИОКР'!M:M)+SUMIF('17.НМА'!$D:$D, $D41, '17.НМА'!N:N)+SUMIF('18.ПКЗ'!$D:$D, $D41, '18.ПКЗ'!N:N)+SUMIF('19.БФИ'!$D:$D, $D41, '19.БФИ'!N:N))","v":0},{"$f":"IF($D41=\"\", 0, SUMIF('7.СМР'!$D:$D, $D41, '7.СМР'!N:N)+SUMIF('8.ОСС'!$D:$D, $D41, '8.ОСС'!AF:AF)+SUMIF('9.ПИР'!$D:$D, $D41, '9.ПИР'!N:N)+SUMIF('10.БКП'!$D:$D, $D41, '10.БКП'!N:N)+SUMIF('11.ПЗС'!$D:$D, $D41, '11.ПЗС'!O:O)+SUMIF('12.ТП_БЭФ'!$D:$D, $D41, '12.ТП_БЭФ'!AH:AH)+SUMIF('13.ТП_СЭФ'!$D:$D, $D41, '13.ТП_СЭФ'!AP:AP)+SUMIF('14.ОВИЗ'!$D:$D, $D41, '14.ОВИЗ'!AQ:AQ)+SUMIF('15.ГРР'!$D:$D, $D41, '15.ГРР'!N:N)+SUMIF('16.НИОКР'!$D:$D, $D41, '16.НИОКР'!N:N)+SUMIF('17.НМА'!$D:$D, $D41, '17.НМА'!O:O)+SUMIF('18.ПКЗ'!$D:$D, $D41, '18.ПКЗ'!O:O)+SUMIF('19.БФИ'!$D:$D, $D41, '19.БФИ'!O:O))","v":0},{"$f":"IF($D41=\"\", 0, SUMIF('7.СМР'!$D:$D, $D41, '7.СМР'!O:O)+SUMIF('8.ОСС'!$D:$D, $D41, '8.ОСС'!AG:AG)+SUMIF('9.ПИР'!$D:$D, $D41, '9.ПИР'!O:O)+SUMIF('10.БКП'!$D:$D, $D41, '10.БКП'!O:O)+SUMIF('11.ПЗС'!$D:$D, $D41, '11.ПЗС'!P:P)+SUMIF('12.ТП_БЭФ'!$D:$D, $D41, '12.ТП_БЭФ'!AI:AI)+SUMIF('13.ТП_СЭФ'!$D:$D, $D41, '13.ТП_СЭФ'!AQ:AQ)+SUMIF('14.ОВИЗ'!$D:$D, $D41, '14.ОВИЗ'!AR:AR)+SUMIF('15.ГРР'!$D:$D, $D41, '15.ГРР'!O:O)+SUMIF('16.НИОКР'!$D:$D, $D41, '16.НИОКР'!O:O)+SUMIF('17.НМА'!$D:$D, $D41, '17.НМА'!P:P)+SUMIF('18.ПКЗ'!$D:$D, $D41, '18.ПКЗ'!P:P)+SUMIF('19.БФИ'!$D:$D, $D41, '19.БФИ'!P:P))","v":0},{"$f":"IF($D41=\"\", 0, SUMIF('7.СМР'!$D:$D, $D41, '7.СМР'!P:P)+SUMIF('8.ОСС'!$D:$D, $D41, '8.ОСС'!AH:AH)+SUMIF('9.ПИР'!$D:$D, $D41, '9.ПИР'!P:P)+SUMIF('10.БКП'!$D:$D, $D41, '10.БКП'!P:P)+SUMIF('11.ПЗС'!$D:$D, $D41, '11.ПЗС'!Q:Q)+SUMIF('12.ТП_БЭФ'!$D:$D, $D41, '12.ТП_БЭФ'!AJ:AJ)+SUMIF('13.ТП_СЭФ'!$D:$D, $D41, '13.ТП_СЭФ'!AR:AR)+SUMIF('14.ОВИЗ'!$D:$D, $D41, '14.ОВИЗ'!AS:AS)+SUMIF('15.ГРР'!$D:$D, $D41, '15.ГРР'!P:P)+SUMIF('16.НИОКР'!$D:$D, $D41, '16.НИОКР'!P:P)+SUMIF('17.НМА'!$D:$D, $D41, '17.НМА'!Q:Q)+SUMIF('18.ПКЗ'!$D:$D, $D41, '18.ПКЗ'!Q:Q)+SUMIF('19.БФИ'!$D:$D, $D41, '19.БФИ'!Q:Q))","v":0},0,0,0,0,null,0,0,{"$f":"IF($D41=\"\", 0, SUMIF('7.СМР'!$D:$D, $D41, '7.СМР'!X:X)+SUMIF('8.ОСС'!$D:$D, $D41, '8.ОСС'!AP:AP)+SUMIF('9.ПИР'!$D:$D, $D41, '9.ПИР'!X:X)+SUMIF('10.БКП'!$D:$D, $D41, '10.БКП'!X:X)+SUMIF('11.ПЗС'!$D:$D, $D41, '11.ПЗС'!Y:Y)+SUMIF('12.ТП_БЭФ'!$D:$D, $D41, '12.ТП_БЭФ'!AR:AR)+SUMIF('13.ТП_СЭФ'!$D:$D, $D41, '13.ТП_СЭФ'!AZ:AZ)+SUMIF('14.ОВИЗ'!$D:$D, $D41, '14.ОВИЗ'!BA:BA)+SUMIF('15.ГРР'!$D:$D, $D41, '15.ГРР'!X:X)+SUMIF('16.НИОКР'!$D:$D, $D41, '16.НИОКР'!X:X)+SUMIF('17.НМА'!$D:$D, $D41, '17.НМА'!Y:Y)+SUMIF('18.ПКЗ'!$D:$D, $D41, '18.ПКЗ'!Y:Y)+SUMIF('19.БФИ'!$D:$D, $D41, '19.БФИ'!Y:Y))","v":0},{"$f":"IF($D41=\"\", 0, SUMIF('7.СМР'!$D:$D, $D41, '7.СМР'!Y:Y)+SUMIF('8.ОСС'!$D:$D, $D41, '8.ОСС'!AQ:AQ)+SUMIF('9.ПИР'!$D:$D, $D41, '9.ПИР'!Y:Y)+SUMIF('10.БКП'!$D:$D, $D41, '10.БКП'!Y:Y)+SUMIF('11.ПЗС'!$D:$D, $D41, '11.ПЗС'!Z:Z)+SUMIF('12.ТП_БЭФ'!$D:$D, $D41, '12.ТП_БЭФ'!AS:AS)+SUMIF('13.ТП_СЭФ'!$D:$D, $D41, '13.ТП_СЭФ'!BA:BA)+SUMIF('14.ОВИЗ'!$D:$D, $D41, '14.ОВИЗ'!BB:BB)+SUMIF('15.ГРР'!$D:$D, $D41, '15.ГРР'!Y:Y)+SUMIF('16.НИОКР'!$D:$D, $D41, '16.НИОКР'!Y:Y)+SUMIF('17.НМА'!$D:$D, $D41, '17.НМА'!Z:Z)+SUMIF('18.ПКЗ'!$D:$D, $D41, '18.ПКЗ'!Z:Z)+SUMIF('19.БФИ'!$D:$D, $D41, '19.БФИ'!Z:Z))","v":0},{"$f":"IF($D41=\"\", 0, SUMIF('7.СМР'!$D:$D, $D41, '7.СМР'!Z:Z)+SUMIF('8.ОСС'!$D:$D, $D41, '8.ОСС'!AR:AR)+SUMIF('9.ПИР'!$D:$D, $D41, '9.ПИР'!Z:Z)+SUMIF('10.БКП'!$D:$D, $D41, '10.БКП'!Z:Z)+SUMIF('11.ПЗС'!$D:$D, $D41, '11.ПЗС'!AA:AA)+SUMIF('12.ТП_БЭФ'!$D:$D, $D41, '12.ТП_БЭФ'!AT:AT)+SUMIF('13.ТП_СЭФ'!$D:$D, $D41, '13.ТП_СЭФ'!BB:BB)+SUMIF('14.ОВИЗ'!$D:$D, $D41, '14.ОВИЗ'!BC:BC)+SUMIF('15.ГРР'!$D:$D, $D41, '15.ГРР'!Z:Z)+SUMIF('16.НИОКР'!$D:$D, $D41, '16.НИОКР'!Z:Z)+SUMIF('17.НМА'!$D:$D, $D41, '17.НМА'!AA:AA)+SUMIF('18.ПКЗ'!$D:$D, $D41, '18.ПКЗ'!AA:AA)+SUMIF('19.БФИ'!$D:$D, $D41, '19.БФИ'!AA:AA))","v":0},{"$f":"IF($D41=\"\", 0, SUMIF('7.СМР'!$D:$D, $D41, '7.СМР'!AA:AA)+SUMIF('8.ОСС'!$D:$D, $D41, '8.ОСС'!AS:AS)+SUMIF('9.ПИР'!$D:$D, $D41, '9.ПИР'!AA:AA)+SUMIF('10.БКП'!$D:$D, $D41, '10.БКП'!AA:AA)+SUMIF('11.ПЗС'!$D:$D, $D41, '11.ПЗС'!AB:AB)+SUMIF('12.ТП_БЭФ'!$D:$D, $D41, '12.ТП_БЭФ'!AU:AU)+SUMIF('13.ТП_СЭФ'!$D:$D, $D41, '13.ТП_СЭФ'!BC:BC)+SUMIF('14.ОВИЗ'!$D:$D, $D41, '14.ОВИЗ'!BD:BD)+SUMIF('15.ГРР'!$D:$D, $D41, '15.ГРР'!AA:AA)+SUMIF('16.НИОКР'!$D:$D, $D41, '16.НИОКР'!AA:AA)+SUMIF('17.НМА'!$D:$D, $D41, '17.НМА'!AB:AB)+SUMIF('18.ПКЗ'!$D:$D, $D41, '18.ПКЗ'!AB:AB)+SUMIF('19.БФИ'!$D:$D, $D41, '19.БФИ'!AB:AB))","v":0},{"$f":"IF($D41=\"\", 0, SUMIF('7.СМР'!$D:$D, $D41, '7.СМР'!AB:AB)+SUMIF('8.ОСС'!$D:$D, $D41, '8.ОСС'!AT:AT)+SUMIF('9.ПИР'!$D:$D, $D41, '9.ПИР'!AB:AB)+SUMIF('10.БКП'!$D:$D, $D41, '10.БКП'!AB:AB)+SUMIF('11.ПЗС'!$D:$D, $D41, '11.ПЗС'!AC:AC)+SUMIF('12.ТП_БЭФ'!$D:$D, $D41, '12.ТП_БЭФ'!AV:AV)+SUMIF('13.ТП_СЭФ'!$D:$D, $D41, '13.ТП_СЭФ'!BD:BD)+SUMIF('14.ОВИЗ'!$D:$D, $D41, '14.ОВИЗ'!BE:BE)+SUMIF('15.ГРР'!$D:$D, $D41, '15.ГРР'!AB:AB)+SUMIF('16.НИОКР'!$D:$D, $D41, '16.НИОКР'!AB:AB)+SUMIF('17.НМА'!$D:$D, $D41, '17.НМА'!AC:AC)+SUMIF('18.ПКЗ'!$D:$D, $D41, '18.ПКЗ'!AC:AC)+SUMIF('19.БФИ'!$D:$D, $D41, '19.БФИ'!AC:AC))","v":0},{"$f":"IF($D41=\"\", 0, SUMIF('7.СМР'!$D:$D, $D41, '7.СМР'!AC:AC)+SUMIF('8.ОСС'!$D:$D, $D41, '8.ОСС'!AU:AU)+SUMIF('9.ПИР'!$D:$D, $D41, '9.ПИР'!AC:AC)+SUMIF('10.БКП'!$D:$D, $D41, '10.БКП'!AC:AC)+SUMIF('11.ПЗС'!$D:$D, $D41, '11.ПЗС'!AD:AD)+SUMIF('12.ТП_БЭФ'!$D:$D, $D41, '12.ТП_БЭФ'!AW:AW)+SUMIF('13.ТП_СЭФ'!$D:$D, $D41, '13.ТП_СЭФ'!BE:BE)+SUMIF('14.ОВИЗ'!$D:$D, $D41, '14.ОВИЗ'!BF:BF)+SUMIF('15.ГРР'!$D:$D, $D41, '15.ГРР'!AC:AC)+SUMIF('16.НИОКР'!$D:$D, $D41, '16.НИОКР'!AC:AC)+SUMIF('17.НМА'!$D:$D, $D41, '17.НМА'!AD:AD)+SUMIF('18.ПКЗ'!$D:$D, $D41, '18.ПКЗ'!AD:AD)+SUMIF('19.БФИ'!$D:$D, $D41, '19.БФИ'!AD:AD))","v":0},{"$f":"IF($D41=\"\", 0, SUMIF('7.СМР'!$D:$D, $D41, '7.СМР'!AD:AD)+SUMIF('8.ОСС'!$D:$D, $D41, '8.ОСС'!AV:AV)+SUMIF('9.ПИР'!$D:$D, $D41, '9.ПИР'!AD:AD)+SUMIF('10.БКП'!$D:$D, $D41, '10.БКП'!AD:AD)+SUMIF('11.ПЗС'!$D:$D, $D41, '11.ПЗС'!AE:AE)+SUMIF('12.ТП_БЭФ'!$D:$D, $D41, '12.ТП_БЭФ'!AX:AX)+SUMIF('13.ТП_СЭФ'!$D:$D, $D41, '13.ТП_СЭФ'!BF:BF)+SUMIF('14.ОВИЗ'!$D:$D, $D41, '14.ОВИЗ'!BG:BG)+SUMIF('15.ГРР'!$D:$D, $D41, '15.ГРР'!AD:AD)+SUMIF('16.НИОКР'!$D:$D, $D41, '16.НИОКР'!AD:AD)+SUMIF('17.НМА'!$D:$D, $D41, '17.НМА'!AE:AE)+SUMIF('18.ПКЗ'!$D:$D, $D41, '18.ПКЗ'!AE:AE)+SUMIF('19.БФИ'!$D:$D, $D41, '19.БФИ'!AE:AE))","v":0},{"$f":"IF($D41=\"\", 0, SUMIF('7.СМР'!$D:$D, $D41, '7.СМР'!AE:AE)+SUMIF('8.ОСС'!$D:$D, $D41, '8.ОСС'!AW:AW)+SUMIF('9.ПИР'!$D:$D, $D41, '9.ПИР'!AE:AE)+SUMIF('10.БКП'!$D:$D, $D41, '10.БКП'!AE:AE)+SUMIF('11.ПЗС'!$D:$D, $D41, '11.ПЗС'!AF:AF)+SUMIF('12.ТП_БЭФ'!$D:$D, $D41, '12.ТП_БЭФ'!AY:AY)+SUMIF('13.ТП_СЭФ'!$D:$D, $D41, '13.ТП_СЭФ'!BG:BG)+SUMIF('14.ОВИЗ'!$D:$D, $D41, '14.ОВИЗ'!BH:BH)+SUMIF('15.ГРР'!$D:$D, $D41, '15.ГРР'!AE:AE)+SUMIF('16.НИОКР'!$D:$D, $D41, '16.НИОКР'!AE:AE)+SUMIF('17.НМА'!$D:$D, $D41, '17.НМА'!AF:AF)+SUMIF('18.ПКЗ'!$D:$D, $D41, '18.ПКЗ'!AF:AF)+SUMIF('19.БФИ'!$D:$D, $D41, '19.БФИ'!AF:AF))","v":0},null,0]
[null,{"$f":"IF(D42=\"\", \"\", '04.РИП'!A52)","v":""},{"$f":"IF(D42=\"\", \"\", '04.РИП'!D52)","v":""},{"$f":"IF(ISBLANK('04.РИП'!B52), \"\", '04.РИП'!B52)","v":""},{"$f":"IF(D42=\"\", \"\", '04.РИП'!E52)","v":""},{"$f":"IF(D42=\"\", \"\", '04.РИП'!D52)","v":""},{"$f":"IF($D42=\"\", 0, SUMIF('7.СМР'!$D:$D, $D42, '7.СМР'!G:G)+SUMIF('8.ОСС'!$D:$D, $D42, '8.ОСС'!Y:Y)+SUMIF('9.ПИР'!$D:$D, $D42, '9.ПИР'!G:G)+SUMIF('10.БКП'!$D:$D, $D42, '10.БКП'!G:G)+SUMIF('11.ПЗС'!$D:$D, $D42, '11.ПЗС'!H:H)+SUMIF('12.ТП_БЭФ'!$D:$D, $D42, '12.ТП_БЭФ'!AA:AA)+SUMIF('13.ТП_СЭФ'!$D:$D, $D42, '13.ТП_СЭФ'!AI:AI)+SUMIF('14.ОВИЗ'!$D:$D, $D42, '14.ОВИЗ'!AJ:AJ)+SUMIF('15.ГРР'!$D:$D, $D42, '15.ГРР'!G:G)+SUMIF('16.НИОКР'!$D:$D, $D42, '16.НИОКР'!G:G)+SUMIF('17.НМА'!$D:$D, $D42, '17.НМА'!H:H)+SUMIF('18.ПКЗ'!$D:$D, $D42, '18.ПКЗ'!H:H)+SUMIF('19.БФИ'!$D:$D, $D42, '19.БФИ'!H:H))","v":0},{"$f":"IF($D42=\"\", 0, SUMIF('7.СМР'!$D:$D, $D42, '7.СМР'!H:H)+SUMIF('8.ОСС'!$D:$D, $D42, '8.ОСС'!Z:Z)+SUMIF('9.ПИР'!$D:$D, $D42, '9.ПИР'!H:H)+SUMIF('10.БКП'!$D:$D, $D42, '10.БКП'!H:H)+SUMIF('11.ПЗС'!$D:$D, $D42, '11.ПЗС'!I:I)+SUMIF('12.ТП_БЭФ'!$D:$D, $D42, '12.ТП_БЭФ'!AB:AB)+SUMIF('13.ТП_СЭФ'!$D:$D, $D42, '13.ТП_СЭФ'!AJ:AJ)+SUMIF('14.ОВИЗ'!$D:$D, $D42, '14.ОВИЗ'!AK:AK)+SUMIF('15.ГРР'!$D:$D, $D42, '15.ГРР'!H:H)+SUMIF('16.НИОКР'!$D:$D, $D42, '16.НИОКР'!H:H)+SUMIF('17.НМА'!$D:$D, $D42, '17.НМА'!I:I)+SUMIF('18.ПКЗ'!$D:$D, $D42, '18.ПКЗ'!I:I)+SUMIF('19.БФИ'!$D:$D, $D42, '19.БФИ'!I:I))","v":0},{"$f":"IF($D42=\"\", 0, SUMIF('7.СМР'!$D:$D, $D42, '7.СМР'!I:I)+SUMIF('8.ОСС'!$D:$D, $D42, '8.ОСС'!AA:AA)+SUMIF('9.ПИР'!$D:$D, $D42, '9.ПИР'!I:I)+SUMIF('10.БКП'!$D:$D, $D42, '10.БКП'!I:I)+SUMIF('11.ПЗС'!$D:$D, $D42, '11.ПЗС'!J:J)+SUMIF('12.ТП_БЭФ'!$D:$D, $D42, '12.ТП_БЭФ'!AC:AC)+SUMIF('13.ТП_СЭФ'!$D:$D, $D42, '13.ТП_СЭФ'!AK:AK)+SUMIF('14.ОВИЗ'!$D:$D, $D42, '14.ОВИЗ'!AL:AL)+SUMIF('15.ГРР'!$D:$D, $D42, '15.ГРР'!I:I)+SUMIF('16.НИОКР'!$D:$D, $D42, '16.НИОКР'!I:I)+SUMIF('17.НМА'!$D:$D, $D42, '17.НМА'!J:J)+SUMIF('18.ПКЗ'!$D:$D, $D42, '18.ПКЗ'!J:J)+SUMIF('19.БФИ'!$D:$D, $D42, '19.БФИ'!J:J))","v":0},{"$f":"IF($D42=\"\", 0, SUMIF('7.СМР'!$D:$D, $D42, '7.СМР'!J:J)+SUMIF('8.ОСС'!$D:$D, $D42, '8.ОСС'!AB:AB)+SUMIF('9.ПИР'!$D:$D, $D42, '9.ПИР'!J:J)+SUMIF('10.БКП'!$D:$D, $D42, '10.БКП'!J:J)+SUMIF('11.ПЗС'!$D:$D, $D42, '11.ПЗС'!K:K)+SUMIF('12.ТП_БЭФ'!$D:$D, $D42, '12.ТП_БЭФ'!AD:AD)+SUMIF('13.ТП_СЭФ'!$D:$D, $D42, '13.ТП_СЭФ'!AL:AL)+SUMIF('14.ОВИЗ'!$D:$D, $D42, '14.ОВИЗ'!AM:AM)+SUMIF('15.ГРР'!$D:$D, $D42, '15.ГРР'!J:J)+SUMIF('16.НИОКР'!$D:$D, $D42, '16.НИОКР'!J:J)+SUMIF('17.НМА'!$D:$D, $D42, '17.НМА'!K:K)+SUMIF('18.ПКЗ'!$D:$D, $D42, '18.ПКЗ'!K:K)+SUMIF('19.БФИ'!$D:$D, $D42, '19.БФИ'!K:K))","v":0},{"$f":"IF($D42=\"\", 0, SUMIF('7.СМР'!$D:$D, $D42, '7.СМР'!K:K)+SUMIF('8.ОСС'!$D:$D, $D42, '8.ОСС'!AC:AC)+SUMIF('9.ПИР'!$D:$D, $D42, '9.ПИР'!K:K)+SUMIF('10.БКП'!$D:$D, $D42, '10.БКП'!K:K)+SUMIF('11.ПЗС'!$D:$D, $D42, '11.ПЗС'!L:L)+SUMIF('12.ТП_БЭФ'!$D:$D, $D42, '12.ТП_БЭФ'!AE:AE)+SUMIF('13.ТП_СЭФ'!$D:$D, $D42, '13.ТП_СЭФ'!AM:AM)+SUMIF('14.ОВИЗ'!$D:$D, $D42, '14.ОВИЗ'!AN:AN)+SUMIF('15.ГРР'!$D:$D, $D42, '15.ГРР'!K:K)+SUMIF('16.НИОКР'!$D:$D, $D42, '16.НИОКР'!K:K)+SUMIF('17.НМА'!$D:$D, $D42, '17.НМА'!L:L)+SUMIF('18.ПКЗ'!$D:$D, $D42, '18.ПКЗ'!L:L)+SUMIF('19.БФИ'!$D:$D, $D42, '19.БФИ'!L:L))","v":0},{"$f":"IF($D42=\"\", 0, SUMIF('7.СМР'!$D:$D, $D42, '7.СМР'!L:L)+SUMIF('8.ОСС'!$D:$D, $D42, '8.ОСС'!AD:AD)+SUMIF('9.ПИР'!$D:$D, $D42, '9.ПИР'!L:L)+SUMIF('10.БКП'!$D:$D, $D42, '10.БКП'!L:L)+SUMIF('11.ПЗС'!$D:$D, $D42, '11.ПЗС'!M:M)+SUMIF('12.ТП_БЭФ'!$D:$D, $D42, '12.ТП_БЭФ'!AF:AF)+SUMIF('13.ТП_СЭФ'!$D:$D, $D42, '13.ТП_СЭФ'!AN:AN)+SUMIF('14.ОВИЗ'!$D:$D, $D42, '14.ОВИЗ'!AO:AO)+SUMIF('15.ГРР'!$D:$D, $D42, '15.ГРР'!L:L)+SUMIF('16.НИОКР'!$D:$D, $D42, '16.НИОКР'!L:L)+SUMIF('17.НМА'!$D:$D, $D42, '17.НМА'!M:M)+SUMIF('18.ПКЗ'!$D:$D, $D42, '18.ПКЗ'!M:M)+SUMIF('19.БФИ'!$D:$D, $D42, '19.БФИ'!M:M))","v":0},{"$f":"IF($D42=\"\", 0, SUMIF('7.СМР'!$D:$D, $D42, '7.СМР'!M:M)+SUMIF('8.ОСС'!$D:$D, $D42, '8.ОСС'!AE:AE)+SUMIF('9.ПИР'!$D:$D, $D42, '9.ПИР'!M:M)+SUMIF('10.БКП'!$D:$D, $D42, '10.БКП'!M:M)+SUMIF('11.ПЗС'!$D:$D, $D42, '11.ПЗС'!N:N)+SUMIF('12.ТП_БЭФ'!$D:$D, $D42, '12.ТП_БЭФ'!AG:AG)+SUMIF('13.ТП_СЭФ'!$D:$D, $D42, '13.ТП_СЭФ'!AO:AO)+SUMIF('14.ОВИЗ'!$D:$D, $D42, '14.ОВИЗ'!AP:AP)+SUMIF('15.ГРР'!$D:$D, $D42, '15.ГРР'!M:M)+SUMIF('16.НИОКР'!$D:$D, $D42, '16.НИОКР'!M:M)+SUMIF('17.НМА'!$D:$D, $D42, '17.НМА'!N:N)+SUMIF('18.ПКЗ'!$D:$D, $D42, '18.ПКЗ'!N:N)+SUMIF('19.БФИ'!$D:$D, $D42, '19.БФИ'!N:N))","v":0},{"$f":"IF($D42=\"\", 0, SUMIF('7.СМР'!$D:$D, $D42, '7.СМР'!N:N)+SUMIF('8.ОСС'!$D:$D, $D42, '8.ОСС'!AF:AF)+SUMIF('9.ПИР'!$D:$D, $D42, '9.ПИР'!N:N)+SUMIF('10.БКП'!$D:$D, $D42, '10.БКП'!N:N)+SUMIF('11.ПЗС'!$D:$D, $D42, '11.ПЗС'!O:O)+SUMIF('12.ТП_БЭФ'!$D:$D, $D42, '12.ТП_БЭФ'!AH:AH)+SUMIF('13.ТП_СЭФ'!$D:$D, $D42, '13.ТП_СЭФ'!AP:AP)+SUMIF('14.ОВИЗ'!$D:$D, $D42, '14.ОВИЗ'!AQ:AQ)+SUMIF('15.ГРР'!$D:$D, $D42, '15.ГРР'!N:N)+SUMIF('16.НИОКР'!$D:$D, $D42, '16.НИОКР'!N:N)+SUMIF('17.НМА'!$D:$D, $D42, '17.НМА'!O:O)+SUMIF('18.ПКЗ'!$D:$D, $D42, '18.ПКЗ'!O:O)+SUMIF('19.БФИ'!$D:$D, $D42, '19.БФИ'!O:O))","v":0},{"$f":"IF($D42=\"\", 0, SUMIF('7.СМР'!$D:$D, $D42, '7.СМР'!O:O)+SUMIF('8.ОСС'!$D:$D, $D42, '8.ОСС'!AG:AG)+SUMIF('9.ПИР'!$D:$D, $D42, '9.ПИР'!O:O)+SUMIF('10.БКП'!$D:$D, $D42, '10.БКП'!O:O)+SUMIF('11.ПЗС'!$D:$D, $D42, '11.ПЗС'!P:P)+SUMIF('12.ТП_БЭФ'!$D:$D, $D42, '12.ТП_БЭФ'!AI:AI)+SUMIF('13.ТП_СЭФ'!$D:$D, $D42, '13.ТП_СЭФ'!AQ:AQ)+SUMIF('14.ОВИЗ'!$D:$D, $D42, '14.ОВИЗ'!AR:AR)+SUMIF('15.ГРР'!$D:$D, $D42, '15.ГРР'!O:O)+SUMIF('16.НИОКР'!$D:$D, $D42, '16.НИОКР'!O:O)+SUMIF('17.НМА'!$D:$D, $D42, '17.НМА'!P:P)+SUMIF('18.ПКЗ'!$D:$D, $D42, '18.ПКЗ'!P:P)+SUMIF('19.БФИ'!$D:$D, $D42, '19.БФИ'!P:P))","v":0},{"$f":"IF($D42=\"\", 0, SUMIF('7.СМР'!$D:$D, $D42, '7.СМР'!P:P)+SUMIF('8.ОСС'!$D:$D, $D42, '8.ОСС'!AH:AH)+SUMIF('9.ПИР'!$D:$D, $D42, '9.ПИР'!P:P)+SUMIF('10.БКП'!$D:$D, $D42, '10.БКП'!P:P)+SUMIF('11.ПЗС'!$D:$D, $D42, '11.ПЗС'!Q:Q)+SUMIF('12.ТП_БЭФ'!$D:$D, $D42, '12.ТП_БЭФ'!AJ:AJ)+SUMIF('13.ТП_СЭФ'!$D:$D, $D42, '13.ТП_СЭФ'!AR:AR)+SUMIF('14.ОВИЗ'!$D:$D, $D42, '14.ОВИЗ'!AS:AS)+SUMIF('15.ГРР'!$D:$D, $D42, '15.ГРР'!P:P)+SUMIF('16.НИОКР'!$D:$D, $D42, '16.НИОКР'!P:P)+SUMIF('17.НМА'!$D:$D, $D42, '17.НМА'!Q:Q)+SUMIF('18.ПКЗ'!$D:$D, $D42, '18.ПКЗ'!Q:Q)+SUMIF('19.БФИ'!$D:$D, $D42, '19.БФИ'!Q:Q))","v":0},0,0,0,0,null,0,0,{"$f":"IF($D42=\"\", 0, SUMIF('7.СМР'!$D:$D, $D42, '7.СМР'!X:X)+SUMIF('8.ОСС'!$D:$D, $D42, '8.ОСС'!AP:AP)+SUMIF('9.ПИР'!$D:$D, $D42, '9.ПИР'!X:X)+SUMIF('10.БКП'!$D:$D, $D42, '10.БКП'!X:X)+SUMIF('11.ПЗС'!$D:$D, $D42, '11.ПЗС'!Y:Y)+SUMIF('12.ТП_БЭФ'!$D:$D, $D42, '12.ТП_БЭФ'!AR:AR)+SUMIF('13.ТП_СЭФ'!$D:$D, $D42, '13.ТП_СЭФ'!AZ:AZ)+SUMIF('14.ОВИЗ'!$D:$D, $D42, '14.ОВИЗ'!BA:BA)+SUMIF('15.ГРР'!$D:$D, $D42, '15.ГРР'!X:X)+SUMIF('16.НИОКР'!$D:$D, $D42, '16.НИОКР'!X:X)+SUMIF('17.НМА'!$D:$D, $D42, '17.НМА'!Y:Y)+SUMIF('18.ПКЗ'!$D:$D, $D42, '18.ПКЗ'!Y:Y)+SUMIF('19.БФИ'!$D:$D, $D42, '19.БФИ'!Y:Y))","v":0},{"$f":"IF($D42=\"\", 0, SUMIF('7.СМР'!$D:$D, $D42, '7.СМР'!Y:Y)+SUMIF('8.ОСС'!$D:$D, $D42, '8.ОСС'!AQ:AQ)+SUMIF('9.ПИР'!$D:$D, $D42, '9.ПИР'!Y:Y)+SUMIF('10.БКП'!$D:$D, $D42, '10.БКП'!Y:Y)+SUMIF('11.ПЗС'!$D:$D, $D42, '11.ПЗС'!Z:Z)+SUMIF('12.ТП_БЭФ'!$D:$D, $D42, '12.ТП_БЭФ'!AS:AS)+SUMIF('13.ТП_СЭФ'!$D:$D, $D42, '13.ТП_СЭФ'!BA:BA)+SUMIF('14.ОВИЗ'!$D:$D, $D42, '14.ОВИЗ'!BB:BB)+SUMIF('15.ГРР'!$D:$D, $D42, '15.ГРР'!Y:Y)+SUMIF('16.НИОКР'!$D:$D, $D42, '16.НИОКР'!Y:Y)+SUMIF('17.НМА'!$D:$D, $D42, '17.НМА'!Z:Z)+SUMIF('18.ПКЗ'!$D:$D, $D42, '18.ПКЗ'!Z:Z)+SUMIF('19.БФИ'!$D:$D, $D42, '19.БФИ'!Z:Z))","v":0},{"$f":"IF($D42=\"\", 0, SUMIF('7.СМР'!$D:$D, $D42, '7.СМР'!Z:Z)+SUMIF('8.ОСС'!$D:$D, $D42, '8.ОСС'!AR:AR)+SUMIF('9.ПИР'!$D:$D, $D42, '9.ПИР'!Z:Z)+SUMIF('10.БКП'!$D:$D, $D42, '10.БКП'!Z:Z)+SUMIF('11.ПЗС'!$D:$D, $D42, '11.ПЗС'!AA:AA)+SUMIF('12.ТП_БЭФ'!$D:$D, $D42, '12.ТП_БЭФ'!AT:AT)+SUMIF('13.ТП_СЭФ'!$D:$D, $D42, '13.ТП_СЭФ'!BB:BB)+SUMIF('14.ОВИЗ'!$D:$D, $D42, '14.ОВИЗ'!BC:BC)+SUMIF('15.ГРР'!$D:$D, $D42, '15.ГРР'!Z:Z)+SUMIF('16.НИОКР'!$D:$D, $D42, '16.НИОКР'!Z:Z)+SUMIF('17.НМА'!$D:$D, $D42, '17.НМА'!AA:AA)+SUMIF('18.ПКЗ'!$D:$D, $D42, '18.ПКЗ'!AA:AA)+SUMIF('19.БФИ'!$D:$D, $D42, '19.БФИ'!AA:AA))","v":0},{"$f":"IF($D42=\"\", 0, SUMIF('7.СМР'!$D:$D, $D42, '7.СМР'!AA:AA)+SUMIF('8.ОСС'!$D:$D, $D42, '8.ОСС'!AS:AS)+SUMIF('9.ПИР'!$D:$D, $D42, '9.ПИР'!AA:AA)+SUMIF('10.БКП'!$D:$D, $D42, '10.БКП'!AA:AA)+SUMIF('11.ПЗС'!$D:$D, $D42, '11.ПЗС'!AB:AB)+SUMIF('12.ТП_БЭФ'!$D:$D, $D42, '12.ТП_БЭФ'!AU:AU)+SUMIF('13.ТП_СЭФ'!$D:$D, $D42, '13.ТП_СЭФ'!BC:BC)+SUMIF('14.ОВИЗ'!$D:$D, $D42, '14.ОВИЗ'!BD:BD)+SUMIF('15.ГРР'!$D:$D, $D42, '15.ГРР'!AA:AA)+SUMIF('16.НИОКР'!$D:$D, $D42, '16.НИОКР'!AA:AA)+SUMIF('17.НМА'!$D:$D, $D42, '17.НМА'!AB:AB)+SUMIF('18.ПКЗ'!$D:$D, $D42, '18.ПКЗ'!AB:AB)+SUMIF('19.БФИ'!$D:$D, $D42, '19.БФИ'!AB:AB))","v":0},{"$f":"IF($D42=\"\", 0, SUMIF('7.СМР'!$D:$D, $D42, '7.СМР'!AB:AB)+SUMIF('8.ОСС'!$D:$D, $D42, '8.ОСС'!AT:AT)+SUMIF('9.ПИР'!$D:$D, $D42, '9.ПИР'!AB:AB)+SUMIF('10.БКП'!$D:$D, $D42, '10.БКП'!AB:AB)+SUMIF('11.ПЗС'!$D:$D, $D42, '11.ПЗС'!AC:AC)+SUMIF('12.ТП_БЭФ'!$D:$D, $D42, '12.ТП_БЭФ'!AV:AV)+SUMIF('13.ТП_СЭФ'!$D:$D, $D42, '13.ТП_СЭФ'!BD:BD)+SUMIF('14.ОВИЗ'!$D:$D, $D42, '14.ОВИЗ'!BE:BE)+SUMIF('15.ГРР'!$D:$D, $D42, '15.ГРР'!AB:AB)+SUMIF('16.НИОКР'!$D:$D, $D42, '16.НИОКР'!AB:AB)+SUMIF('17.НМА'!$D:$D, $D42, '17.НМА'!AC:AC)+SUMIF('18.ПКЗ'!$D:$D, $D42, '18.ПКЗ'!AC:AC)+SUMIF('19.БФИ'!$D:$D, $D42, '19.БФИ'!AC:AC))","v":0},{"$f":"IF($D42=\"\", 0, SUMIF('7.СМР'!$D:$D, $D42, '7.СМР'!AC:AC)+SUMIF('8.ОСС'!$D:$D, $D42, '8.ОСС'!AU:AU)+SUMIF('9.ПИР'!$D:$D, $D42, '9.ПИР'!AC:AC)+SUMIF('10.БКП'!$D:$D, $D42, '10.БКП'!AC:AC)+SUMIF('11.ПЗС'!$D:$D, $D42, '11.ПЗС'!AD:AD)+SUMIF('12.ТП_БЭФ'!$D:$D, $D42, '12.ТП_БЭФ'!AW:AW)+SUMIF('13.ТП_СЭФ'!$D:$D, $D42, '13.ТП_СЭФ'!BE:BE)+SUMIF('14.ОВИЗ'!$D:$D, $D42, '14.ОВИЗ'!BF:BF)+SUMIF('15.ГРР'!$D:$D, $D42, '15.ГРР'!AC:AC)+SUMIF('16.НИОКР'!$D:$D, $D42, '16.НИОКР'!AC:AC)+SUMIF('17.НМА'!$D:$D, $D42, '17.НМА'!AD:AD)+SUMIF('18.ПКЗ'!$D:$D, $D42, '18.ПКЗ'!AD:AD)+SUMIF('19.БФИ'!$D:$D, $D42, '19.БФИ'!AD:AD))","v":0},{"$f":"IF($D42=\"\", 0, SUMIF('7.СМР'!$D:$D, $D42, '7.СМР'!AD:AD)+SUMIF('8.ОСС'!$D:$D, $D42, '8.ОСС'!AV:AV)+SUMIF('9.ПИР'!$D:$D, $D42, '9.ПИР'!AD:AD)+SUMIF('10.БКП'!$D:$D, $D42, '10.БКП'!AD:AD)+SUMIF('11.ПЗС'!$D:$D, $D42, '11.ПЗС'!AE:AE)+SUMIF('12.ТП_БЭФ'!$D:$D, $D42, '12.ТП_БЭФ'!AX:AX)+SUMIF('13.ТП_СЭФ'!$D:$D, $D42, '13.ТП_СЭФ'!BF:BF)+SUMIF('14.ОВИЗ'!$D:$D, $D42, '14.ОВИЗ'!BG:BG)+SUMIF('15.ГРР'!$D:$D, $D42, '15.ГРР'!AD:AD)+SUMIF('16.НИОКР'!$D:$D, $D42, '16.НИОКР'!AD:AD)+SUMIF('17.НМА'!$D:$D, $D42, '17.НМА'!AE:AE)+SUMIF('18.ПКЗ'!$D:$D, $D42, '18.ПКЗ'!AE:AE)+SUMIF('19.БФИ'!$D:$D, $D42, '19.БФИ'!AE:AE))","v":0},{"$f":"IF($D42=\"\", 0, SUMIF('7.СМР'!$D:$D, $D42, '7.СМР'!AE:AE)+SUMIF('8.ОСС'!$D:$D, $D42, '8.ОСС'!AW:AW)+SUMIF('9.ПИР'!$D:$D, $D42, '9.ПИР'!AE:AE)+SUMIF('10.БКП'!$D:$D, $D42, '10.БКП'!AE:AE)+SUMIF('11.ПЗС'!$D:$D, $D42, '11.ПЗС'!AF:AF)+SUMIF('12.ТП_БЭФ'!$D:$D, $D42, '12.ТП_БЭФ'!AY:AY)+SUMIF('13.ТП_СЭФ'!$D:$D, $D42, '13.ТП_СЭФ'!BG:BG)+SUMIF('14.ОВИЗ'!$D:$D, $D42, '14.ОВИЗ'!BH:BH)+SUMIF('15.ГРР'!$D:$D, $D42, '15.ГРР'!AE:AE)+SUMIF('16.НИОКР'!$D:$D, $D42, '16.НИОКР'!AE:AE)+SUMIF('17.НМА'!$D:$D, $D42, '17.НМА'!AF:AF)+SUMIF('18.ПКЗ'!$D:$D, $D42, '18.ПКЗ'!AF:AF)+SUMIF('19.БФИ'!$D:$D, $D42, '19.БФИ'!AF:AF))","v":0},null,0]
[null,{"$f":"IF(D43=\"\", \"\", '04.РИП'!A53)","v":""},{"$f":"IF(D43=\"\", \"\", '04.РИП'!D53)","v":""},{"$f":"IF(ISBLANK('04.РИП'!B53), \"\", '04.РИП'!B53)","v":""},{"$f":"IF(D43=\"\", \"\", '04.РИП'!E53)","v":""},{"$f":"IF(D43=\"\", \"\", '04.РИП'!D53)","v":""},{"$f":"IF($D43=\"\", 0, SUMIF('7.СМР'!$D:$D, $D43, '7.СМР'!G:G)+SUMIF('8.ОСС'!$D:$D, $D43, '8.ОСС'!Y:Y)+SUMIF('9.ПИР'!$D:$D, $D43, '9.ПИР'!G:G)+SUMIF('10.БКП'!$D:$D, $D43, '10.БКП'!G:G)+SUMIF('11.ПЗС'!$D:$D, $D43, '11.ПЗС'!H:H)+SUMIF('12.ТП_БЭФ'!$D:$D, $D43, '12.ТП_БЭФ'!AA:AA)+SUMIF('13.ТП_СЭФ'!$D:$D, $D43, '13.ТП_СЭФ'!AI:AI)+SUMIF('14.ОВИЗ'!$D:$D, $D43, '14.ОВИЗ'!AJ:AJ)+SUMIF('15.ГРР'!$D:$D, $D43, '15.ГРР'!G:G)+SUMIF('16.НИОКР'!$D:$D, $D43, '16.НИОКР'!G:G)+SUMIF('17.НМА'!$D:$D, $D43, '17.НМА'!H:H)+SUMIF('18.ПКЗ'!$D:$D, $D43, '18.ПКЗ'!H:H)+SUMIF('19.БФИ'!$D:$D, $D43, '19.БФИ'!H:H))","v":0},{"$f":"IF($D43=\"\", 0, SUMIF('7.СМР'!$D:$D, $D43, '7.СМР'!H:H)+SUMIF('8.ОСС'!$D:$D, $D43, '8.ОСС'!Z:Z)+SUMIF('9.ПИР'!$D:$D, $D43, '9.ПИР'!H:H)+SUMIF('10.БКП'!$D:$D, $D43, '10.БКП'!H:H)+SUMIF('11.ПЗС'!$D:$D, $D43, '11.ПЗС'!I:I)+SUMIF('12.ТП_БЭФ'!$D:$D, $D43, '12.ТП_БЭФ'!AB:AB)+SUMIF('13.ТП_СЭФ'!$D:$D, $D43, '13.ТП_СЭФ'!AJ:AJ)+SUMIF('14.ОВИЗ'!$D:$D, $D43, '14.ОВИЗ'!AK:AK)+SUMIF('15.ГРР'!$D:$D, $D43, '15.ГРР'!H:H)+SUMIF('16.НИОКР'!$D:$D, $D43, '16.НИОКР'!H:H)+SUMIF('17.НМА'!$D:$D, $D43, '17.НМА'!I:I)+SUMIF('18.ПКЗ'!$D:$D, $D43, '18.ПКЗ'!I:I)+SUMIF('19.БФИ'!$D:$D, $D43, '19.БФИ'!I:I))","v":0},{"$f":"IF($D43=\"\", 0, SUMIF('7.СМР'!$D:$D, $D43, '7.СМР'!I:I)+SUMIF('8.ОСС'!$D:$D, $D43, '8.ОСС'!AA:AA)+SUMIF('9.ПИР'!$D:$D, $D43, '9.ПИР'!I:I)+SUMIF('10.БКП'!$D:$D, $D43, '10.БКП'!I:I)+SUMIF('11.ПЗС'!$D:$D, $D43, '11.ПЗС'!J:J)+SUMIF('12.ТП_БЭФ'!$D:$D, $D43, '12.ТП_БЭФ'!AC:AC)+SUMIF('13.ТП_СЭФ'!$D:$D, $D43, '13.ТП_СЭФ'!AK:AK)+SUMIF('14.ОВИЗ'!$D:$D, $D43, '14.ОВИЗ'!AL:AL)+SUMIF('15.ГРР'!$D:$D, $D43, '15.ГРР'!I:I)+SUMIF('16.НИОКР'!$D:$D, $D43, '16.НИОКР'!I:I)+SUMIF('17.НМА'!$D:$D, $D43, '17.НМА'!J:J)+SUMIF('18.ПКЗ'!$D:$D, $D43, '18.ПКЗ'!J:J)+SUMIF('19.БФИ'!$D:$D, $D43, '19.БФИ'!J:J))","v":0},{"$f":"IF($D43=\"\", 0, SUMIF('7.СМР'!$D:$D, $D43, '7.СМР'!J:J)+SUMIF('8.ОСС'!$D:$D, $D43, '8.ОСС'!AB:AB)+SUMIF('9.ПИР'!$D:$D, $D43, '9.ПИР'!J:J)+SUMIF('10.БКП'!$D:$D, $D43, '10.БКП'!J:J)+SUMIF('11.ПЗС'!$D:$D, $D43, '11.ПЗС'!K:K)+SUMIF('12.ТП_БЭФ'!$D:$D, $D43, '12.ТП_БЭФ'!AD:AD)+SUMIF('13.ТП_СЭФ'!$D:$D, $D43, '13.ТП_СЭФ'!AL:AL)+SUMIF('14.ОВИЗ'!$D:$D, $D43, '14.ОВИЗ'!AM:AM)+SUMIF('15.ГРР'!$D:$D, $D43, '15.ГРР'!J:J)+SUMIF('16.НИОКР'!$D:$D, $D43, '16.НИОКР'!J:J)+SUMIF('17.НМА'!$D:$D, $D43, '17.НМА'!K:K)+SUMIF('18.ПКЗ'!$D:$D, $D43, '18.ПКЗ'!K:K)+SUMIF('19.БФИ'!$D:$D, $D43, '19.БФИ'!K:K))","v":0},{"$f":"IF($D43=\"\", 0, SUMIF('7.СМР'!$D:$D, $D43, '7.СМР'!K:K)+SUMIF('8.ОСС'!$D:$D, $D43, '8.ОСС'!AC:AC)+SUMIF('9.ПИР'!$D:$D, $D43, '9.ПИР'!K:K)+SUMIF('10.БКП'!$D:$D, $D43, '10.БКП'!K:K)+SUMIF('11.ПЗС'!$D:$D, $D43, '11.ПЗС'!L:L)+SUMIF('12.ТП_БЭФ'!$D:$D, $D43, '12.ТП_БЭФ'!AE:AE)+SUMIF('13.ТП_СЭФ'!$D:$D, $D43, '13.ТП_СЭФ'!AM:AM)+SUMIF('14.ОВИЗ'!$D:$D, $D43, '14.ОВИЗ'!AN:AN)+SUMIF('15.ГРР'!$D:$D, $D43, '15.ГРР'!K:K)+SUMIF('16.НИОКР'!$D:$D, $D43, '16.НИОКР'!K:K)+SUMIF('17.НМА'!$D:$D, $D43, '17.НМА'!L:L)+SUMIF('18.ПКЗ'!$D:$D, $D43, '18.ПКЗ'!L:L)+SUMIF('19.БФИ'!$D:$D, $D43, '19.БФИ'!L:L))","v":0},{"$f":"IF($D43=\"\", 0, SUMIF('7.СМР'!$D:$D, $D43, '7.СМР'!L:L)+SUMIF('8.ОСС'!$D:$D, $D43, '8.ОСС'!AD:AD)+SUMIF('9.ПИР'!$D:$D, $D43, '9.ПИР'!L:L)+SUMIF('10.БКП'!$D:$D, $D43, '10.БКП'!L:L)+SUMIF('11.ПЗС'!$D:$D, $D43, '11.ПЗС'!M:M)+SUMIF('12.ТП_БЭФ'!$D:$D, $D43, '12.ТП_БЭФ'!AF:AF)+SUMIF('13.ТП_СЭФ'!$D:$D, $D43, '13.ТП_СЭФ'!AN:AN)+SUMIF('14.ОВИЗ'!$D:$D, $D43, '14.ОВИЗ'!AO:AO)+SUMIF('15.ГРР'!$D:$D, $D43, '15.ГРР'!L:L)+SUMIF('16.НИОКР'!$D:$D, $D43, '16.НИОКР'!L:L)+SUMIF('17.НМА'!$D:$D, $D43, '17.НМА'!M:M)+SUMIF('18.ПКЗ'!$D:$D, $D43, '18.ПКЗ'!M:M)+SUMIF('19.БФИ'!$D:$D, $D43, '19.БФИ'!M:M))","v":0},{"$f":"IF($D43=\"\", 0, SUMIF('7.СМР'!$D:$D, $D43, '7.СМР'!M:M)+SUMIF('8.ОСС'!$D:$D, $D43, '8.ОСС'!AE:AE)+SUMIF('9.ПИР'!$D:$D, $D43, '9.ПИР'!M:M)+SUMIF('10.БКП'!$D:$D, $D43, '10.БКП'!M:M)+SUMIF('11.ПЗС'!$D:$D, $D43, '11.ПЗС'!N:N)+SUMIF('12.ТП_БЭФ'!$D:$D, $D43, '12.ТП_БЭФ'!AG:AG)+SUMIF('13.ТП_СЭФ'!$D:$D, $D43, '13.ТП_СЭФ'!AO:AO)+SUMIF('14.ОВИЗ'!$D:$D, $D43, '14.ОВИЗ'!AP:AP)+SUMIF('15.ГРР'!$D:$D, $D43, '15.ГРР'!M:M)+SUMIF('16.НИОКР'!$D:$D, $D43, '16.НИОКР'!M:M)+SUMIF('17.НМА'!$D:$D, $D43, '17.НМА'!N:N)+SUMIF('18.ПКЗ'!$D:$D, $D43, '18.ПКЗ'!N:N)+SUMIF('19.БФИ'!$D:$D, $D43, '19.БФИ'!N:N))","v":0},{"$f":"IF($D43=\"\", 0, SUMIF('7.СМР'!$D:$D, $D43, '7.СМР'!N:N)+SUMIF('8.ОСС'!$D:$D, $D43, '8.ОСС'!AF:AF)+SUMIF('9.ПИР'!$D:$D, $D43, '9.ПИР'!N:N)+SUMIF('10.БКП'!$D:$D, $D43, '10.БКП'!N:N)+SUMIF('11.ПЗС'!$D:$D, $D43, '11.ПЗС'!O:O)+SUMIF('12.ТП_БЭФ'!$D:$D, $D43, '12.ТП_БЭФ'!AH:AH)+SUMIF('13.ТП_СЭФ'!$D:$D, $D43, '13.ТП_СЭФ'!AP:AP)+SUMIF('14.ОВИЗ'!$D:$D, $D43, '14.ОВИЗ'!AQ:AQ)+SUMIF('15.ГРР'!$D:$D, $D43, '15.ГРР'!N:N)+SUMIF('16.НИОКР'!$D:$D, $D43, '16.НИОКР'!N:N)+SUMIF('17.НМА'!$D:$D, $D43, '17.НМА'!O:O)+SUMIF('18.ПКЗ'!$D:$D, $D43, '18.ПКЗ'!O:O)+SUMIF('19.БФИ'!$D:$D, $D43, '19.БФИ'!O:O))","v":0},{"$f":"IF($D43=\"\", 0, SUMIF('7.СМР'!$D:$D, $D43, '7.СМР'!O:O)+SUMIF('8.ОСС'!$D:$D, $D43, '8.ОСС'!AG:AG)+SUMIF('9.ПИР'!$D:$D, $D43, '9.ПИР'!O:O)+SUMIF('10.БКП'!$D:$D, $D43, '10.БКП'!O:O)+SUMIF('11.ПЗС'!$D:$D, $D43, '11.ПЗС'!P:P)+SUMIF('12.ТП_БЭФ'!$D:$D, $D43, '12.ТП_БЭФ'!AI:AI)+SUMIF('13.ТП_СЭФ'!$D:$D, $D43, '13.ТП_СЭФ'!AQ:AQ)+SUMIF('14.ОВИЗ'!$D:$D, $D43, '14.ОВИЗ'!AR:AR)+SUMIF('15.ГРР'!$D:$D, $D43, '15.ГРР'!O:O)+SUMIF('16.НИОКР'!$D:$D, $D43, '16.НИОКР'!O:O)+SUMIF('17.НМА'!$D:$D, $D43, '17.НМА'!P:P)+SUMIF('18.ПКЗ'!$D:$D, $D43, '18.ПКЗ'!P:P)+SUMIF('19.БФИ'!$D:$D, $D43, '19.БФИ'!P:P))","v":0},{"$f":"IF($D43=\"\", 0, SUMIF('7.СМР'!$D:$D, $D43, '7.СМР'!P:P)+SUMIF('8.ОСС'!$D:$D, $D43, '8.ОСС'!AH:AH)+SUMIF('9.ПИР'!$D:$D, $D43, '9.ПИР'!P:P)+SUMIF('10.БКП'!$D:$D, $D43, '10.БКП'!P:P)+SUMIF('11.ПЗС'!$D:$D, $D43, '11.ПЗС'!Q:Q)+SUMIF('12.ТП_БЭФ'!$D:$D, $D43, '12.ТП_БЭФ'!AJ:AJ)+SUMIF('13.ТП_СЭФ'!$D:$D, $D43, '13.ТП_СЭФ'!AR:AR)+SUMIF('14.ОВИЗ'!$D:$D, $D43, '14.ОВИЗ'!AS:AS)+SUMIF('15.ГРР'!$D:$D, $D43, '15.ГРР'!P:P)+SUMIF('16.НИОКР'!$D:$D, $D43, '16.НИОКР'!P:P)+SUMIF('17.НМА'!$D:$D, $D43, '17.НМА'!Q:Q)+SUMIF('18.ПКЗ'!$D:$D, $D43, '18.ПКЗ'!Q:Q)+SUMIF('19.БФИ'!$D:$D, $D43, '19.БФИ'!Q:Q))","v":0},0,0,0,0,null,0,0,{"$f":"IF($D43=\"\", 0, SUMIF('7.СМР'!$D:$D, $D43, '7.СМР'!X:X)+SUMIF('8.ОСС'!$D:$D, $D43, '8.ОСС'!AP:AP)+SUMIF('9.ПИР'!$D:$D, $D43, '9.ПИР'!X:X)+SUMIF('10.БКП'!$D:$D, $D43, '10.БКП'!X:X)+SUMIF('11.ПЗС'!$D:$D, $D43, '11.ПЗС'!Y:Y)+SUMIF('12.ТП_БЭФ'!$D:$D, $D43, '12.ТП_БЭФ'!AR:AR)+SUMIF('13.ТП_СЭФ'!$D:$D, $D43, '13.ТП_СЭФ'!AZ:AZ)+SUMIF('14.ОВИЗ'!$D:$D, $D43, '14.ОВИЗ'!BA:BA)+SUMIF('15.ГРР'!$D:$D, $D43, '15.ГРР'!X:X)+SUMIF('16.НИОКР'!$D:$D, $D43, '16.НИОКР'!X:X)+SUMIF('17.НМА'!$D:$D, $D43, '17.НМА'!Y:Y)+SUMIF('18.ПКЗ'!$D:$D, $D43, '18.ПКЗ'!Y:Y)+SUMIF('19.БФИ'!$D:$D, $D43, '19.БФИ'!Y:Y))","v":0},{"$f":"IF($D43=\"\", 0, SUMIF('7.СМР'!$D:$D, $D43, '7.СМР'!Y:Y)+SUMIF('8.ОСС'!$D:$D, $D43, '8.ОСС'!AQ:AQ)+SUMIF('9.ПИР'!$D:$D, $D43, '9.ПИР'!Y:Y)+SUMIF('10.БКП'!$D:$D, $D43, '10.БКП'!Y:Y)+SUMIF('11.ПЗС'!$D:$D, $D43, '11.ПЗС'!Z:Z)+SUMIF('12.ТП_БЭФ'!$D:$D, $D43, '12.ТП_БЭФ'!AS:AS)+SUMIF('13.ТП_СЭФ'!$D:$D, $D43, '13.ТП_СЭФ'!BA:BA)+SUMIF('14.ОВИЗ'!$D:$D, $D43, '14.ОВИЗ'!BB:BB)+SUMIF('15.ГРР'!$D:$D, $D43, '15.ГРР'!Y:Y)+SUMIF('16.НИОКР'!$D:$D, $D43, '16.НИОКР'!Y:Y)+SUMIF('17.НМА'!$D:$D, $D43, '17.НМА'!Z:Z)+SUMIF('18.ПКЗ'!$D:$D, $D43, '18.ПКЗ'!Z:Z)+SUMIF('19.БФИ'!$D:$D, $D43, '19.БФИ'!Z:Z))","v":0},{"$f":"IF($D43=\"\", 0, SUMIF('7.СМР'!$D:$D, $D43, '7.СМР'!Z:Z)+SUMIF('8.ОСС'!$D:$D, $D43, '8.ОСС'!AR:AR)+SUMIF('9.ПИР'!$D:$D, $D43, '9.ПИР'!Z:Z)+SUMIF('10.БКП'!$D:$D, $D43, '10.БКП'!Z:Z)+SUMIF('11.ПЗС'!$D:$D, $D43, '11.ПЗС'!AA:AA)+SUMIF('12.ТП_БЭФ'!$D:$D, $D43, '12.ТП_БЭФ'!AT:AT)+SUMIF('13.ТП_СЭФ'!$D:$D, $D43, '13.ТП_СЭФ'!BB:BB)+SUMIF('14.ОВИЗ'!$D:$D, $D43, '14.ОВИЗ'!BC:BC)+SUMIF('15.ГРР'!$D:$D, $D43, '15.ГРР'!Z:Z)+SUMIF('16.НИОКР'!$D:$D, $D43, '16.НИОКР'!Z:Z)+SUMIF('17.НМА'!$D:$D, $D43, '17.НМА'!AA:AA)+SUMIF('18.ПКЗ'!$D:$D, $D43, '18.ПКЗ'!AA:AA)+SUMIF('19.БФИ'!$D:$D, $D43, '19.БФИ'!AA:AA))","v":0},{"$f":"IF($D43=\"\", 0, SUMIF('7.СМР'!$D:$D, $D43, '7.СМР'!AA:AA)+SUMIF('8.ОСС'!$D:$D, $D43, '8.ОСС'!AS:AS)+SUMIF('9.ПИР'!$D:$D, $D43, '9.ПИР'!AA:AA)+SUMIF('10.БКП'!$D:$D, $D43, '10.БКП'!AA:AA)+SUMIF('11.ПЗС'!$D:$D, $D43, '11.ПЗС'!AB:AB)+SUMIF('12.ТП_БЭФ'!$D:$D, $D43, '12.ТП_БЭФ'!AU:AU)+SUMIF('13.ТП_СЭФ'!$D:$D, $D43, '13.ТП_СЭФ'!BC:BC)+SUMIF('14.ОВИЗ'!$D:$D, $D43, '14.ОВИЗ'!BD:BD)+SUMIF('15.ГРР'!$D:$D, $D43, '15.ГРР'!AA:AA)+SUMIF('16.НИОКР'!$D:$D, $D43, '16.НИОКР'!AA:AA)+SUMIF('17.НМА'!$D:$D, $D43, '17.НМА'!AB:AB)+SUMIF('18.ПКЗ'!$D:$D, $D43, '18.ПКЗ'!AB:AB)+SUMIF('19.БФИ'!$D:$D, $D43, '19.БФИ'!AB:AB))","v":0},{"$f":"IF($D43=\"\", 0, SUMIF('7.СМР'!$D:$D, $D43, '7.СМР'!AB:AB)+SUMIF('8.ОСС'!$D:$D, $D43, '8.ОСС'!AT:AT)+SUMIF('9.ПИР'!$D:$D, $D43, '9.ПИР'!AB:AB)+SUMIF('10.БКП'!$D:$D, $D43, '10.БКП'!AB:AB)+SUMIF('11.ПЗС'!$D:$D, $D43, '11.ПЗС'!AC:AC)+SUMIF('12.ТП_БЭФ'!$D:$D, $D43, '12.ТП_БЭФ'!AV:AV)+SUMIF('13.ТП_СЭФ'!$D:$D, $D43, '13.ТП_СЭФ'!BD:BD)+SUMIF('14.ОВИЗ'!$D:$D, $D43, '14.ОВИЗ'!BE:BE)+SUMIF('15.ГРР'!$D:$D, $D43, '15.ГРР'!AB:AB)+SUMIF('16.НИОКР'!$D:$D, $D43, '16.НИОКР'!AB:AB)+SUMIF('17.НМА'!$D:$D, $D43, '17.НМА'!AC:AC)+SUMIF('18.ПКЗ'!$D:$D, $D43, '18.ПКЗ'!AC:AC)+SUMIF('19.БФИ'!$D:$D, $D43, '19.БФИ'!AC:AC))","v":0},{"$f":"IF($D43=\"\", 0, SUMIF('7.СМР'!$D:$D, $D43, '7.СМР'!AC:AC)+SUMIF('8.ОСС'!$D:$D, $D43, '8.ОСС'!AU:AU)+SUMIF('9.ПИР'!$D:$D, $D43, '9.ПИР'!AC:AC)+SUMIF('10.БКП'!$D:$D, $D43, '10.БКП'!AC:AC)+SUMIF('11.ПЗС'!$D:$D, $D43, '11.ПЗС'!AD:AD)+SUMIF('12.ТП_БЭФ'!$D:$D, $D43, '12.ТП_БЭФ'!AW:AW)+SUMIF('13.ТП_СЭФ'!$D:$D, $D43, '13.ТП_СЭФ'!BE:BE)+SUMIF('14.ОВИЗ'!$D:$D, $D43, '14.ОВИЗ'!BF:BF)+SUMIF('15.ГРР'!$D:$D, $D43, '15.ГРР'!AC:AC)+SUMIF('16.НИОКР'!$D:$D, $D43, '16.НИОКР'!AC:AC)+SUMIF('17.НМА'!$D:$D, $D43, '17.НМА'!AD:AD)+SUMIF('18.ПКЗ'!$D:$D, $D43, '18.ПКЗ'!AD:AD)+SUMIF('19.БФИ'!$D:$D, $D43, '19.БФИ'!AD:AD))","v":0},{"$f":"IF($D43=\"\", 0, SUMIF('7.СМР'!$D:$D, $D43, '7.СМР'!AD:AD)+SUMIF('8.ОСС'!$D:$D, $D43, '8.ОСС'!AV:AV)+SUMIF('9.ПИР'!$D:$D, $D43, '9.ПИР'!AD:AD)+SUMIF('10.БКП'!$D:$D, $D43, '10.БКП'!AD:AD)+SUMIF('11.ПЗС'!$D:$D, $D43, '11.ПЗС'!AE:AE)+SUMIF('12.ТП_БЭФ'!$D:$D, $D43, '12.ТП_БЭФ'!AX:AX)+SUMIF('13.ТП_СЭФ'!$D:$D, $D43, '13.ТП_СЭФ'!BF:BF)+SUMIF('14.ОВИЗ'!$D:$D, $D43, '14.ОВИЗ'!BG:BG)+SUMIF('15.ГРР'!$D:$D, $D43, '15.ГРР'!AD:AD)+SUMIF('16.НИОКР'!$D:$D, $D43, '16.НИОКР'!AD:AD)+SUMIF('17.НМА'!$D:$D, $D43, '17.НМА'!AE:AE)+SUMIF('18.ПКЗ'!$D:$D, $D43, '18.ПКЗ'!AE:AE)+SUMIF('19.БФИ'!$D:$D, $D43, '19.БФИ'!AE:AE))","v":0},{"$f":"IF($D43=\"\", 0, SUMIF('7.СМР'!$D:$D, $D43, '7.СМР'!AE:AE)+SUMIF('8.ОСС'!$D:$D, $D43, '8.ОСС'!AW:AW)+SUMIF('9.ПИР'!$D:$D, $D43, '9.ПИР'!AE:AE)+SUMIF('10.БКП'!$D:$D, $D43, '10.БКП'!AE:AE)+SUMIF('11.ПЗС'!$D:$D, $D43, '11.ПЗС'!AF:AF)+SUMIF('12.ТП_БЭФ'!$D:$D, $D43, '12.ТП_БЭФ'!AY:AY)+SUMIF('13.ТП_СЭФ'!$D:$D, $D43, '13.ТП_СЭФ'!BG:BG)+SUMIF('14.ОВИЗ'!$D:$D, $D43, '14.ОВИЗ'!BH:BH)+SUMIF('15.ГРР'!$D:$D, $D43, '15.ГРР'!AE:AE)+SUMIF('16.НИОКР'!$D:$D, $D43, '16.НИОКР'!AE:AE)+SUMIF('17.НМА'!$D:$D, $D43, '17.НМА'!AF:AF)+SUMIF('18.ПКЗ'!$D:$D, $D43, '18.ПКЗ'!AF:AF)+SUMIF('19.БФИ'!$D:$D, $D43, '19.БФИ'!AF:AF))","v":0},null,0]
[null,{"$f":"IF(D44=\"\", \"\", '04.РИП'!A54)","v":""},{"$f":"IF(D44=\"\", \"\", '04.РИП'!D54)","v":""},{"$f":"IF(ISBLANK('04.РИП'!B54), \"\", '04.РИП'!B54)","v":""},{"$f":"IF(D44=\"\", \"\", '04.РИП'!E54)","v":""},{"$f":"IF(D44=\"\", \"\", '04.РИП'!D54)","v":""},{"$f":"IF($D44=\"\", 0, SUMIF('7.СМР'!$D:$D, $D44, '7.СМР'!G:G)+SUMIF('8.ОСС'!$D:$D, $D44, '8.ОСС'!Y:Y)+SUMIF('9.ПИР'!$D:$D, $D44, '9.ПИР'!G:G)+SUMIF('10.БКП'!$D:$D, $D44, '10.БКП'!G:G)+SUMIF('11.ПЗС'!$D:$D, $D44, '11.ПЗС'!H:H)+SUMIF('12.ТП_БЭФ'!$D:$D, $D44, '12.ТП_БЭФ'!AA:AA)+SUMIF('13.ТП_СЭФ'!$D:$D, $D44, '13.ТП_СЭФ'!AI:AI)+SUMIF('14.ОВИЗ'!$D:$D, $D44, '14.ОВИЗ'!AJ:AJ)+SUMIF('15.ГРР'!$D:$D, $D44, '15.ГРР'!G:G)+SUMIF('16.НИОКР'!$D:$D, $D44, '16.НИОКР'!G:G)+SUMIF('17.НМА'!$D:$D, $D44, '17.НМА'!H:H)+SUMIF('18.ПКЗ'!$D:$D, $D44, '18.ПКЗ'!H:H)+SUMIF('19.БФИ'!$D:$D, $D44, '19.БФИ'!H:H))","v":0},{"$f":"IF($D44=\"\", 0, SUMIF('7.СМР'!$D:$D, $D44, '7.СМР'!H:H)+SUMIF('8.ОСС'!$D:$D, $D44, '8.ОСС'!Z:Z)+SUMIF('9.ПИР'!$D:$D, $D44, '9.ПИР'!H:H)+SUMIF('10.БКП'!$D:$D, $D44, '10.БКП'!H:H)+SUMIF('11.ПЗС'!$D:$D, $D44, '11.ПЗС'!I:I)+SUMIF('12.ТП_БЭФ'!$D:$D, $D44, '12.ТП_БЭФ'!AB:AB)+SUMIF('13.ТП_СЭФ'!$D:$D, $D44, '13.ТП_СЭФ'!AJ:AJ)+SUMIF('14.ОВИЗ'!$D:$D, $D44, '14.ОВИЗ'!AK:AK)+SUMIF('15.ГРР'!$D:$D, $D44, '15.ГРР'!H:H)+SUMIF('16.НИОКР'!$D:$D, $D44, '16.НИОКР'!H:H)+SUMIF('17.НМА'!$D:$D, $D44, '17.НМА'!I:I)+SUMIF('18.ПКЗ'!$D:$D, $D44, '18.ПКЗ'!I:I)+SUMIF('19.БФИ'!$D:$D, $D44, '19.БФИ'!I:I))","v":0},{"$f":"IF($D44=\"\", 0, SUMIF('7.СМР'!$D:$D, $D44, '7.СМР'!I:I)+SUMIF('8.ОСС'!$D:$D, $D44, '8.ОСС'!AA:AA)+SUMIF('9.ПИР'!$D:$D, $D44, '9.ПИР'!I:I)+SUMIF('10.БКП'!$D:$D, $D44, '10.БКП'!I:I)+SUMIF('11.ПЗС'!$D:$D, $D44, '11.ПЗС'!J:J)+SUMIF('12.ТП_БЭФ'!$D:$D, $D44, '12.ТП_БЭФ'!AC:AC)+SUMIF('13.ТП_СЭФ'!$D:$D, $D44, '13.ТП_СЭФ'!AK:AK)+SUMIF('14.ОВИЗ'!$D:$D, $D44, '14.ОВИЗ'!AL:AL)+SUMIF('15.ГРР'!$D:$D, $D44, '15.ГРР'!I:I)+SUMIF('16.НИОКР'!$D:$D, $D44, '16.НИОКР'!I:I)+SUMIF('17.НМА'!$D:$D, $D44, '17.НМА'!J:J)+SUMIF('18.ПКЗ'!$D:$D, $D44, '18.ПКЗ'!J:J)+SUMIF('19.БФИ'!$D:$D, $D44, '19.БФИ'!J:J))","v":0},{"$f":"IF($D44=\"\", 0, SUMIF('7.СМР'!$D:$D, $D44, '7.СМР'!J:J)+SUMIF('8.ОСС'!$D:$D, $D44, '8.ОСС'!AB:AB)+SUMIF('9.ПИР'!$D:$D, $D44, '9.ПИР'!J:J)+SUMIF('10.БКП'!$D:$D, $D44, '10.БКП'!J:J)+SUMIF('11.ПЗС'!$D:$D, $D44, '11.ПЗС'!K:K)+SUMIF('12.ТП_БЭФ'!$D:$D, $D44, '12.ТП_БЭФ'!AD:AD)+SUMIF('13.ТП_СЭФ'!$D:$D, $D44, '13.ТП_СЭФ'!AL:AL)+SUMIF('14.ОВИЗ'!$D:$D, $D44, '14.ОВИЗ'!AM:AM)+SUMIF('15.ГРР'!$D:$D, $D44, '15.ГРР'!J:J)+SUMIF('16.НИОКР'!$D:$D, $D44, '16.НИОКР'!J:J)+SUMIF('17.НМА'!$D:$D, $D44, '17.НМА'!K:K)+SUMIF('18.ПКЗ'!$D:$D, $D44, '18.ПКЗ'!K:K)+SUMIF('19.БФИ'!$D:$D, $D44, '19.БФИ'!K:K))","v":0},{"$f":"IF($D44=\"\", 0, SUMIF('7.СМР'!$D:$D, $D44, '7.СМР'!K:K)+SUMIF('8.ОСС'!$D:$D, $D44, '8.ОСС'!AC:AC)+SUMIF('9.ПИР'!$D:$D, $D44, '9.ПИР'!K:K)+SUMIF('10.БКП'!$D:$D, $D44, '10.БКП'!K:K)+SUMIF('11.ПЗС'!$D:$D, $D44, '11.ПЗС'!L:L)+SUMIF('12.ТП_БЭФ'!$D:$D, $D44, '12.ТП_БЭФ'!AE:AE)+SUMIF('13.ТП_СЭФ'!$D:$D, $D44, '13.ТП_СЭФ'!AM:AM)+SUMIF('14.ОВИЗ'!$D:$D, $D44, '14.ОВИЗ'!AN:AN)+SUMIF('15.ГРР'!$D:$D, $D44, '15.ГРР'!K:K)+SUMIF('16.НИОКР'!$D:$D, $D44, '16.НИОКР'!K:K)+SUMIF('17.НМА'!$D:$D, $D44, '17.НМА'!L:L)+SUMIF('18.ПКЗ'!$D:$D, $D44, '18.ПКЗ'!L:L)+SUMIF('19.БФИ'!$D:$D, $D44, '19.БФИ'!L:L))","v":0},{"$f":"IF($D44=\"\", 0, SUMIF('7.СМР'!$D:$D, $D44, '7.СМР'!L:L)+SUMIF('8.ОСС'!$D:$D, $D44, '8.ОСС'!AD:AD)+SUMIF('9.ПИР'!$D:$D, $D44, '9.ПИР'!L:L)+SUMIF('10.БКП'!$D:$D, $D44, '10.БКП'!L:L)+SUMIF('11.ПЗС'!$D:$D, $D44, '11.ПЗС'!M:M)+SUMIF('12.ТП_БЭФ'!$D:$D, $D44, '12.ТП_БЭФ'!AF:AF)+SUMIF('13.ТП_СЭФ'!$D:$D, $D44, '13.ТП_СЭФ'!AN:AN)+SUMIF('14.ОВИЗ'!$D:$D, $D44, '14.ОВИЗ'!AO:AO)+SUMIF('15.ГРР'!$D:$D, $D44, '15.ГРР'!L:L)+SUMIF('16.НИОКР'!$D:$D, $D44, '16.НИОКР'!L:L)+SUMIF('17.НМА'!$D:$D, $D44, '17.НМА'!M:M)+SUMIF('18.ПКЗ'!$D:$D, $D44, '18.ПКЗ'!M:M)+SUMIF('19.БФИ'!$D:$D, $D44, '19.БФИ'!M:M))","v":0},{"$f":"IF($D44=\"\", 0, SUMIF('7.СМР'!$D:$D, $D44, '7.СМР'!M:M)+SUMIF('8.ОСС'!$D:$D, $D44, '8.ОСС'!AE:AE)+SUMIF('9.ПИР'!$D:$D, $D44, '9.ПИР'!M:M)+SUMIF('10.БКП'!$D:$D, $D44, '10.БКП'!M:M)+SUMIF('11.ПЗС'!$D:$D, $D44, '11.ПЗС'!N:N)+SUMIF('12.ТП_БЭФ'!$D:$D, $D44, '12.ТП_БЭФ'!AG:AG)+SUMIF('13.ТП_СЭФ'!$D:$D, $D44, '13.ТП_СЭФ'!AO:AO)+SUMIF('14.ОВИЗ'!$D:$D, $D44, '14.ОВИЗ'!AP:AP)+SUMIF('15.ГРР'!$D:$D, $D44, '15.ГРР'!M:M)+SUMIF('16.НИОКР'!$D:$D, $D44, '16.НИОКР'!M:M)+SUMIF('17.НМА'!$D:$D, $D44, '17.НМА'!N:N)+SUMIF('18.ПКЗ'!$D:$D, $D44, '18.ПКЗ'!N:N)+SUMIF('19.БФИ'!$D:$D, $D44, '19.БФИ'!N:N))","v":0},{"$f":"IF($D44=\"\", 0, SUMIF('7.СМР'!$D:$D, $D44, '7.СМР'!N:N)+SUMIF('8.ОСС'!$D:$D, $D44, '8.ОСС'!AF:AF)+SUMIF('9.ПИР'!$D:$D, $D44, '9.ПИР'!N:N)+SUMIF('10.БКП'!$D:$D, $D44, '10.БКП'!N:N)+SUMIF('11.ПЗС'!$D:$D, $D44, '11.ПЗС'!O:O)+SUMIF('12.ТП_БЭФ'!$D:$D, $D44, '12.ТП_БЭФ'!AH:AH)+SUMIF('13.ТП_СЭФ'!$D:$D, $D44, '13.ТП_СЭФ'!AP:AP)+SUMIF('14.ОВИЗ'!$D:$D, $D44, '14.ОВИЗ'!AQ:AQ)+SUMIF('15.ГРР'!$D:$D, $D44, '15.ГРР'!N:N)+SUMIF('16.НИОКР'!$D:$D, $D44, '16.НИОКР'!N:N)+SUMIF('17.НМА'!$D:$D, $D44, '17.НМА'!O:O)+SUMIF('18.ПКЗ'!$D:$D, $D44, '18.ПКЗ'!O:O)+SUMIF('19.БФИ'!$D:$D, $D44, '19.БФИ'!O:O))","v":0},{"$f":"IF($D44=\"\", 0, SUMIF('7.СМР'!$D:$D, $D44, '7.СМР'!O:O)+SUMIF('8.ОСС'!$D:$D, $D44, '8.ОСС'!AG:AG)+SUMIF('9.ПИР'!$D:$D, $D44, '9.ПИР'!O:O)+SUMIF('10.БКП'!$D:$D, $D44, '10.БКП'!O:O)+SUMIF('11.ПЗС'!$D:$D, $D44, '11.ПЗС'!P:P)+SUMIF('12.ТП_БЭФ'!$D:$D, $D44, '12.ТП_БЭФ'!AI:AI)+SUMIF('13.ТП_СЭФ'!$D:$D, $D44, '13.ТП_СЭФ'!AQ:AQ)+SUMIF('14.ОВИЗ'!$D:$D, $D44, '14.ОВИЗ'!AR:AR)+SUMIF('15.ГРР'!$D:$D, $D44, '15.ГРР'!O:O)+SUMIF('16.НИОКР'!$D:$D, $D44, '16.НИОКР'!O:O)+SUMIF('17.НМА'!$D:$D, $D44, '17.НМА'!P:P)+SUMIF('18.ПКЗ'!$D:$D, $D44, '18.ПКЗ'!P:P)+SUMIF('19.БФИ'!$D:$D, $D44, '19.БФИ'!P:P))","v":0},{"$f":"IF($D44=\"\", 0, SUMIF('7.СМР'!$D:$D, $D44, '7.СМР'!P:P)+SUMIF('8.ОСС'!$D:$D, $D44, '8.ОСС'!AH:AH)+SUMIF('9.ПИР'!$D:$D, $D44, '9.ПИР'!P:P)+SUMIF('10.БКП'!$D:$D, $D44, '10.БКП'!P:P)+SUMIF('11.ПЗС'!$D:$D, $D44, '11.ПЗС'!Q:Q)+SUMIF('12.ТП_БЭФ'!$D:$D, $D44, '12.ТП_БЭФ'!AJ:AJ)+SUMIF('13.ТП_СЭФ'!$D:$D, $D44, '13.ТП_СЭФ'!AR:AR)+SUMIF('14.ОВИЗ'!$D:$D, $D44, '14.ОВИЗ'!AS:AS)+SUMIF('15.ГРР'!$D:$D, $D44, '15.ГРР'!P:P)+SUMIF('16.НИОКР'!$D:$D, $D44, '16.НИОКР'!P:P)+SUMIF('17.НМА'!$D:$D, $D44, '17.НМА'!Q:Q)+SUMIF('18.ПКЗ'!$D:$D, $D44, '18.ПКЗ'!Q:Q)+SUMIF('19.БФИ'!$D:$D, $D44, '19.БФИ'!Q:Q))","v":0},0,0,0,0,null,0,0,{"$f":"IF($D44=\"\", 0, SUMIF('7.СМР'!$D:$D, $D44, '7.СМР'!X:X)+SUMIF('8.ОСС'!$D:$D, $D44, '8.ОСС'!AP:AP)+SUMIF('9.ПИР'!$D:$D, $D44, '9.ПИР'!X:X)+SUMIF('10.БКП'!$D:$D, $D44, '10.БКП'!X:X)+SUMIF('11.ПЗС'!$D:$D, $D44, '11.ПЗС'!Y:Y)+SUMIF('12.ТП_БЭФ'!$D:$D, $D44, '12.ТП_БЭФ'!AR:AR)+SUMIF('13.ТП_СЭФ'!$D:$D, $D44, '13.ТП_СЭФ'!AZ:AZ)+SUMIF('14.ОВИЗ'!$D:$D, $D44, '14.ОВИЗ'!BA:BA)+SUMIF('15.ГРР'!$D:$D, $D44, '15.ГРР'!X:X)+SUMIF('16.НИОКР'!$D:$D, $D44, '16.НИОКР'!X:X)+SUMIF('17.НМА'!$D:$D, $D44, '17.НМА'!Y:Y)+SUMIF('18.ПКЗ'!$D:$D, $D44, '18.ПКЗ'!Y:Y)+SUMIF('19.БФИ'!$D:$D, $D44, '19.БФИ'!Y:Y))","v":0},{"$f":"IF($D44=\"\", 0, SUMIF('7.СМР'!$D:$D, $D44, '7.СМР'!Y:Y)+SUMIF('8.ОСС'!$D:$D, $D44, '8.ОСС'!AQ:AQ)+SUMIF('9.ПИР'!$D:$D, $D44, '9.ПИР'!Y:Y)+SUMIF('10.БКП'!$D:$D, $D44, '10.БКП'!Y:Y)+SUMIF('11.ПЗС'!$D:$D, $D44, '11.ПЗС'!Z:Z)+SUMIF('12.ТП_БЭФ'!$D:$D, $D44, '12.ТП_БЭФ'!AS:AS)+SUMIF('13.ТП_СЭФ'!$D:$D, $D44, '13.ТП_СЭФ'!BA:BA)+SUMIF('14.ОВИЗ'!$D:$D, $D44, '14.ОВИЗ'!BB:BB)+SUMIF('15.ГРР'!$D:$D, $D44, '15.ГРР'!Y:Y)+SUMIF('16.НИОКР'!$D:$D, $D44, '16.НИОКР'!Y:Y)+SUMIF('17.НМА'!$D:$D, $D44, '17.НМА'!Z:Z)+SUMIF('18.ПКЗ'!$D:$D, $D44, '18.ПКЗ'!Z:Z)+SUMIF('19.БФИ'!$D:$D, $D44, '19.БФИ'!Z:Z))","v":0},{"$f":"IF($D44=\"\", 0, SUMIF('7.СМР'!$D:$D, $D44, '7.СМР'!Z:Z)+SUMIF('8.ОСС'!$D:$D, $D44, '8.ОСС'!AR:AR)+SUMIF('9.ПИР'!$D:$D, $D44, '9.ПИР'!Z:Z)+SUMIF('10.БКП'!$D:$D, $D44, '10.БКП'!Z:Z)+SUMIF('11.ПЗС'!$D:$D, $D44, '11.ПЗС'!AA:AA)+SUMIF('12.ТП_БЭФ'!$D:$D, $D44, '12.ТП_БЭФ'!AT:AT)+SUMIF('13.ТП_СЭФ'!$D:$D, $D44, '13.ТП_СЭФ'!BB:BB)+SUMIF('14.ОВИЗ'!$D:$D, $D44, '14.ОВИЗ'!BC:BC)+SUMIF('15.ГРР'!$D:$D, $D44, '15.ГРР'!Z:Z)+SUMIF('16.НИОКР'!$D:$D, $D44, '16.НИОКР'!Z:Z)+SUMIF('17.НМА'!$D:$D, $D44, '17.НМА'!AA:AA)+SUMIF('18.ПКЗ'!$D:$D, $D44, '18.ПКЗ'!AA:AA)+SUMIF('19.БФИ'!$D:$D, $D44, '19.БФИ'!AA:AA))","v":0},{"$f":"IF($D44=\"\", 0, SUMIF('7.СМР'!$D:$D, $D44, '7.СМР'!AA:AA)+SUMIF('8.ОСС'!$D:$D, $D44, '8.ОСС'!AS:AS)+SUMIF('9.ПИР'!$D:$D, $D44, '9.ПИР'!AA:AA)+SUMIF('10.БКП'!$D:$D, $D44, '10.БКП'!AA:AA)+SUMIF('11.ПЗС'!$D:$D, $D44, '11.ПЗС'!AB:AB)+SUMIF('12.ТП_БЭФ'!$D:$D, $D44, '12.ТП_БЭФ'!AU:AU)+SUMIF('13.ТП_СЭФ'!$D:$D, $D44, '13.ТП_СЭФ'!BC:BC)+SUMIF('14.ОВИЗ'!$D:$D, $D44, '14.ОВИЗ'!BD:BD)+SUMIF('15.ГРР'!$D:$D, $D44, '15.ГРР'!AA:AA)+SUMIF('16.НИОКР'!$D:$D, $D44, '16.НИОКР'!AA:AA)+SUMIF('17.НМА'!$D:$D, $D44, '17.НМА'!AB:AB)+SUMIF('18.ПКЗ'!$D:$D, $D44, '18.ПКЗ'!AB:AB)+SUMIF('19.БФИ'!$D:$D, $D44, '19.БФИ'!AB:AB))","v":0},{"$f":"IF($D44=\"\", 0, SUMIF('7.СМР'!$D:$D, $D44, '7.СМР'!AB:AB)+SUMIF('8.ОСС'!$D:$D, $D44, '8.ОСС'!AT:AT)+SUMIF('9.ПИР'!$D:$D, $D44, '9.ПИР'!AB:AB)+SUMIF('10.БКП'!$D:$D, $D44, '10.БКП'!AB:AB)+SUMIF('11.ПЗС'!$D:$D, $D44, '11.ПЗС'!AC:AC)+SUMIF('12.ТП_БЭФ'!$D:$D, $D44, '12.ТП_БЭФ'!AV:AV)+SUMIF('13.ТП_СЭФ'!$D:$D, $D44, '13.ТП_СЭФ'!BD:BD)+SUMIF('14.ОВИЗ'!$D:$D, $D44, '14.ОВИЗ'!BE:BE)+SUMIF('15.ГРР'!$D:$D, $D44, '15.ГРР'!AB:AB)+SUMIF('16.НИОКР'!$D:$D, $D44, '16.НИОКР'!AB:AB)+SUMIF('17.НМА'!$D:$D, $D44, '17.НМА'!AC:AC)+SUMIF('18.ПКЗ'!$D:$D, $D44, '18.ПКЗ'!AC:AC)+SUMIF('19.БФИ'!$D:$D, $D44, '19.БФИ'!AC:AC))","v":0},{"$f":"IF($D44=\"\", 0, SUMIF('7.СМР'!$D:$D, $D44, '7.СМР'!AC:AC)+SUMIF('8.ОСС'!$D:$D, $D44, '8.ОСС'!AU:AU)+SUMIF('9.ПИР'!$D:$D, $D44, '9.ПИР'!AC:AC)+SUMIF('10.БКП'!$D:$D, $D44, '10.БКП'!AC:AC)+SUMIF('11.ПЗС'!$D:$D, $D44, '11.ПЗС'!AD:AD)+SUMIF('12.ТП_БЭФ'!$D:$D, $D44, '12.ТП_БЭФ'!AW:AW)+SUMIF('13.ТП_СЭФ'!$D:$D, $D44, '13.ТП_СЭФ'!BE:BE)+SUMIF('14.ОВИЗ'!$D:$D, $D44, '14.ОВИЗ'!BF:BF)+SUMIF('15.ГРР'!$D:$D, $D44, '15.ГРР'!AC:AC)+SUMIF('16.НИОКР'!$D:$D, $D44, '16.НИОКР'!AC:AC)+SUMIF('17.НМА'!$D:$D, $D44, '17.НМА'!AD:AD)+SUMIF('18.ПКЗ'!$D:$D, $D44, '18.ПКЗ'!AD:AD)+SUMIF('19.БФИ'!$D:$D, $D44, '19.БФИ'!AD:AD))","v":0},{"$f":"IF($D44=\"\", 0, SUMIF('7.СМР'!$D:$D, $D44, '7.СМР'!AD:AD)+SUMIF('8.ОСС'!$D:$D, $D44, '8.ОСС'!AV:AV)+SUMIF('9.ПИР'!$D:$D, $D44, '9.ПИР'!AD:AD)+SUMIF('10.БКП'!$D:$D, $D44, '10.БКП'!AD:AD)+SUMIF('11.ПЗС'!$D:$D, $D44, '11.ПЗС'!AE:AE)+SUMIF('12.ТП_БЭФ'!$D:$D, $D44, '12.ТП_БЭФ'!AX:AX)+SUMIF('13.ТП_СЭФ'!$D:$D, $D44, '13.ТП_СЭФ'!BF:BF)+SUMIF('14.ОВИЗ'!$D:$D, $D44, '14.ОВИЗ'!BG:BG)+SUMIF('15.ГРР'!$D:$D, $D44, '15.ГРР'!AD:AD)+SUMIF('16.НИОКР'!$D:$D, $D44, '16.НИОКР'!AD:AD)+SUMIF('17.НМА'!$D:$D, $D44, '17.НМА'!AE:AE)+SUMIF('18.ПКЗ'!$D:$D, $D44, '18.ПКЗ'!AE:AE)+SUMIF('19.БФИ'!$D:$D, $D44, '19.БФИ'!AE:AE))","v":0},{"$f":"IF($D44=\"\", 0, SUMIF('7.СМР'!$D:$D, $D44, '7.СМР'!AE:AE)+SUMIF('8.ОСС'!$D:$D, $D44, '8.ОСС'!AW:AW)+SUMIF('9.ПИР'!$D:$D, $D44, '9.ПИР'!AE:AE)+SUMIF('10.БКП'!$D:$D, $D44, '10.БКП'!AE:AE)+SUMIF('11.ПЗС'!$D:$D, $D44, '11.ПЗС'!AF:AF)+SUMIF('12.ТП_БЭФ'!$D:$D, $D44, '12.ТП_БЭФ'!AY:AY)+SUMIF('13.ТП_СЭФ'!$D:$D, $D44, '13.ТП_СЭФ'!BG:BG)+SUMIF('14.ОВИЗ'!$D:$D, $D44, '14.ОВИЗ'!BH:BH)+SUMIF('15.ГРР'!$D:$D, $D44, '15.ГРР'!AE:AE)+SUMIF('16.НИОКР'!$D:$D, $D44, '16.НИОКР'!AE:AE)+SUMIF('17.НМА'!$D:$D, $D44, '17.НМА'!AF:AF)+SUMIF('18.ПКЗ'!$D:$D, $D44, '18.ПКЗ'!AF:AF)+SUMIF('19.БФИ'!$D:$D, $D44, '19.БФИ'!AF:AF))","v":0},null,0]
[null,null,null,null,null,null,null,null,null,null,null,null,null,null,null,null,null,null,null,null,null,null,null,null,null,null,null,null,null,null,null,null,0]
[null,null,null,null,"Сверка",null,{"$f":"SUM(ABS(G17-G18-G19),ABS(G19-SUM(G20:G27)),ABS(G19-SUM(G28:G45)))","v":0},0,0,0,0,0,0,0,0,0,{"$f":"SUM(ABS(Q17-Q18-Q19),ABS(Q19-SUM(Q20:Q27)),ABS(Q19-SUM(Q28:Q45)))","v":0},0,0,null,{"$f":"SUM(ABS(U17-U18-U19),ABS(U19-SUM(U20:U27)),ABS(U19-SUM(U28:U45)))","v":0},0,null,0,0,0,0,0,0,0,0,0]
[null,"1  Форма заполняется по освоениию (начислению). Подробнее -порядок заполнения формы определён в \"Положении об инвестиционном бюджете АК \"АЛРОСА\" ."]
[null,"2  В графе \"Отклонение\" производится сравнение факта с плановым периодом нарастающим итогом."]
[null,"3 При отклонении более 10% (не зависимо +/-) в графе \"Комментарии по отклонениям\"- в форме указывается причина отклонения. Подробно - причины отклонений указываются в Пояснительной записке к инвестиционному бюджету/отчёту"]
[]
[]
[]
[null,null,null,null,"Прудниченкова Софья Юрьевна"]
[null,null,null,null,"Исполнитель (ФИО):"]
[]
[null,null,null,null,"начальник ОКС"]
[null,null,null,null,"Должность: "]
[]
[null,null,null,null,"8(41136)79464"]
[null,null,null,null,"Контактный телефон:"]
[]
[null,null,null,null,"oks@shpp.ru"]
[null,null,null,null,"Электронный адрес:"]

{"sheet":"3.БКС","index":7,"n_rows":86,"n_cols":44,"rows_kept":86,"cut":false,"hidden":false,"merged":[[11,36,12,38],[13,36,14,36],[13,37,14,37],[13,38,14,38],[11,43,15,43],[13,39,14,39],[13,40,14,40],[11,42,14,42],[11,41,14,41],[11,39,12,40],[0,1,0,7],[11,3,14,3],[13,11,14,11],[13,12,14,12],[13,13,14,13],[11,1,14,1],[11,4,14,4],[11,8,14,8],[11,9,14,9],[11,7,14,7],[11,5,14,5],[13,10,14,10],[12,11,12,14],[5,2,5,4],[7,2,7,4],[13,15,14,15],[11,2,14,2],[11,6,14,6],[13,21,14,21],[13,20,14,20],[13,19,14,19],[11,10,11,19],[12,16,12,19],[13,14,14,14],[13,16,14,16],[13,17,14,17],[13,18,14,18],[11,22,11,23],[11,24,14,24],[11,25,12,29],[11,30,11,34],[11,35,14,35],[12,22,12,23],[12,31,12,34],[13,22,14,22],[13,23,14,23],[13,33,14,33],[13,34,14,34],[13,25,13,26],[13,27,13,29],[13,30,14,30],[13,31,14,31],[13,32,14,32]]}
[null,"Назад к оглавлению",null,null,null,null,null,null,null,null,null,null,null,null,null,"base_fact","base_fact","base_fact","base_fact","base_fact","fact_fields","fact_fields","fact_fields","fact_fields","fact_fields","corr_fields","corr_fields","corr_fields","corr_fields","corr_fields","corr_fields","corr_fields","corr_fields","corr_fields","corr_fields","corr_fields","plan_fields","plan_fields","plan_fields","plan_fields","plan_fields","plan_fields","plan_fields"]
[]
[null,"Приложение № 2 к \"Положению об инвестиционном бюджете АК \"АЛРОСА\"\""]
[null,"Код формы: БКС"]
[]
[null,null,{"$f":"org","v":"АО \"Вилюйская ГЭС-3\""}]
[null,null,"Организационно-правовая форма и название Общества/структурного подразделения"]
[null,null,{"$f":"period_txt","v":"12 месяцев 2017"}]
[null,null," Плановый / отчётный период "]
[null,null,"Бюджет капитального строительства"]
[null,"Тыс. руб. без НДС 1"]
[null,"№","Общество / cтруктурное подразделение","Строительная \nплощадка","Код проекта2","Краткое название прооекта","Вид КС по направлению деятельности","Приоритет (объекта)","Код объекта","Наименование ","Плановый / отчётный период",null,null,null,null,null,null,null,null,null,"ПЛАН за","ФАКТ за","Отклонение за период3",null,"Комментарии по отклонениям4","Изменения к утверждённому плану по году",null,null,null,null,"Скорректированный план",null,null,null,null,"Комментарии по изменениям плана","Общая стоимость работ \n",null,null,"Сроки работ                       (мес. год)",null,"Основание для начала строительства","Примечание","Сверка"]
[null,null,null,null,null,null,null,null,null,null,"ПЛАН    ","в т.ч. по кварталам:",null,null,null,"ФАКТ ","в т.ч. по кварталам:",null,null,null,{"$f":"period","v":"12 месяцев"},{"$f":"U13","v":"12 месяцев"},"12 месяцев",null,null,null,null,null,null,null,"ПЛАН    ","в т.ч. по кварталам:"]
[null,null,null,null,null,null,null,null,null,null,"Год   всего","1 кв.","2 кв.","3 кв.","4 кв.","Год   всего","1 кв.","2 кв.","3 кв.","4 кв.","Тыс.    руб.","Тыс.    руб.","Тыс.    руб.","% ",null,"Изменение всего",null,"В т.ч.",null,null,"Год   всего","1 кв.","2 кв.","3 кв.","4 кв.",null,"Общая плановая (сметная) стоимость ","Освоено на начало планового периода","Остаток к освоению на конец планового периода (ПЛАН)","Начало","Ожидаемое окончание"]
[null,null,null,null,null,null,null,null,null,null,null,null,null,null,null,null,null,null,null,null,null,null,null,null,null,"Тыс.    руб.","%","Вновь добавлено\n(указывается со знаком \"+\")","Исключено (указывается со знаком \"-\")","Изменение стоимости\n(удорожание \"+\", удешвление \"-\")"]
[null,1,{"$f":"B16+1","v":2},3,4,5,6,7,8,9,10,11,12,13,14,15,16,17,18,19,20,21,22,23,24,25,26,27,28,29,30,31,32,33,34,35,36,37,38,39,40,41,42]
[null,null,null,"КАПИТАЛЬНОЕ СТРОИТЕЛЬСТВО (всего)",null,null,null,null,null,null,{"$f":"SUM(K18:K68)","v":253224.19099999999},{"$f":"SUM(L18:L68)","v":3417.25},6647.0410000000002,158077.04999999999,85082.85,170440.89803000001,3417.23,6647.9350299999996,62039.358000000007,98336.375,{"$f":"IF(period=period_1Q, L17, IF(period=period_1H, SUM(L17:M17), IF(period=period_9M, SUM(L17:N17), IF(period=period_1Y,SUM(L17:O17),0))))","v":253224.19099999999},{"$f":"IF(period=period_1Q, Q17, IF(period=period_1H, SUM(Q17:R17), IF(period=period_9M, SUM(Q17:S17), IF(period=period_1Y,SUM(Q17:T17),0))))","v":170440.89803000001},{"$f":"V17-U17","v":-82783.29296999998},{"$f":"IFERROR(W17/U17, 0)","v":-0.32691700047725686},null,{"$f":"SUM(AB17:AD17)","v":31.761400000003306},{"$f":"IFERROR(Z17/K17, 0)","v":1.2542798488002004E-4},{"$f":"SUM(AB18:AB68)","v":0},0,31.761400000003306,{"$f":"SUM(AE18:AE68)","v":253255.95239999998},3417.23,{"$f":"SUM(AG18:AG68)","v":6647.2650000000003},158077.43860000002,85114.018800000005,null,{"$f":"SUM(AK18:AK1045)","v":546849.99199999997},45999,{"$f":"AK17-(AL17+K17)","v":247626.80099999998},null,null,null,null,{"$f":"SUM(ABS(K17-SUM(L17:O17)), ABS(P17-SUM(Q17:T17)), ABS(Z17-SUM(AB17:AD17)), ABS(AE17-SUM(AF17:AI17)))","v":2.9103830456733704E-11}]
[null,null,{"$f":"IF(I18=\"\", \"\", VLOOKUP(I18,objects, 3, 0))","v":"АО \"Вилюйская ГЭС-3\""},{"$f":"IF(I18=\"\", \"\", VLOOKUP(I18,objects, 7, 0))","v":"Прочее"},{"$f":"IF(I18=\"\", \"\", VLOOKUP(I18,objects, 4, 0))","v":0},{"$f":"IF(I18=\"\", \"\", VLOOKUP(I18,objects, 5, 0))","v":""},{"$f":"IF(I18=\"\", \"\", VLOOKUP(I18,objects, 6, 0))","v":"Прочая основная деятельность"},{"$f":"IF(I18=\"\", \"\", VLOOKUP(I18,objects, 8, 0))","v":"Высокий"},{"$f":"IF(ISBLANK('05.РКС'!B19), \"\", '05.РКС'!B19)","v":"2016-1.1."},{"$f":"IF(I18=\"\", \"\", VLOOKUP(I18,objects, 2, 0))","v":"Здание ГЭС.Монтаж вентсистем "},{"$f":"IF($I18=\"\", 0, SUMIF('7.СМР'!$E:$E, $I18, '7.СМР'!G:G)+SUMIF('8.ОСС'!$E:$E, $I18, '8.ОСС'!Y:Y)+SUMIF('9.ПИР'!$E:$E, $I18, '9.ПИР'!G:G)+SUMIF('10.БКП'!$E:$E, $I18, '10.БКП'!G:G)+SUMIF('11.ПЗС'!$E:$E, $I18, '11.ПЗС'!H:H))","v":3359},{"$f":"IF($I18=\"\", 0, SUMIF('7.СМР'!$E:$E, $I18, '7.СМР'!H:H)+SUMIF('8.ОСС'!$E:$E, $I18, '8.ОСС'!Z:Z)+SUMIF('9.ПИР'!$E:$E, $I18, '9.ПИР'!H:H)+SUMIF('10.БКП'!$E:$E, $I18, '10.БКП'!H:H)+SUMIF('11.ПЗС'!$E:$E, $I18, '11.ПЗС'!I:I))","v":0},{"$f":"IF($I18=\"\", 0, SUMIF('7.СМР'!$E:$E, $I18, '7.СМР'!I:I)+SUMIF('8.ОСС'!$E:$E, $I18, '8.ОСС'!AA:AA)+SUMIF('9.ПИР'!$E:$E, $I18, '9.ПИР'!I:I)+SUMIF('10.БКП'!$E:$E, $I18, '10.БКП'!I:I)+SUMIF('11.ПЗС'!$E:$E, $I18, '11.ПЗС'!J:J))","v":604},{"$f":"IF($I18=\"\", 0, SUMIF('7.СМР'!$E:$E, $I18, '7.СМР'!J:J)+SUMIF('8.ОСС'!$E:$E, $I18, '8.ОСС'!AB:AB)+SUMIF('9.ПИР'!$E:$E, $I18, '9.ПИР'!J:J)+SUMIF('10.БКП'!$E:$E, $I18, '10.БКП'!J:J)+SUMIF('11.ПЗС'!$E:$E, $I18, '11.ПЗС'!K:K))","v":1901},{"$f":"IF($I18=\"\", 0, SUMIF('7.СМР'!$E:$E, $I18, '7.СМР'!K:K)+SUMIF('8.ОСС'!$E:$E, $I18, '8.ОСС'!AC:AC)+SUMIF('9.ПИР'!$E:$E, $I18, '9.ПИР'!K:K)+SUMIF('10.БКП'!$E:$E, $I18, '10.БКП'!K:K)+SUMIF('11.ПЗС'!$E:$E, $I18, '11.ПЗС'!L:L))","v":854},{"$f":"IF($I18=\"\", 0, SUMIF('7.СМР'!$E:$E, $I18, '7.СМР'!L:L)+SUMIF('8.ОСС'!$E:$E, $I18, '8.ОСС'!AD:AD)+SUMIF('9.ПИР'!$E:$E, $I18, '9.ПИР'!L:L)+SUMIF('10.БКП'!$E:$E, $I18, '10.БКП'!L:L)+SUMIF('11.ПЗС'!$E:$E, $I18, '11.ПЗС'!M:M))","v":3082.2569999999996},{"$f":"IF($I18=\"\", 0, SUMIF('7.СМР'!$E:$E, $I18, '7.СМР'!M:M)+SUMIF('8.ОСС'!$E:$E, $I18, '8.ОСС'!AE:AE)+SUMIF('9.ПИР'!$E:$E, $I18, '9.ПИР'!M:M)+SUMIF('10.БКП'!$E:$E, $I18, '10.БКП'!M:M)+SUMIF('11.ПЗС'!$E:$E, $I18, '11.ПЗС'!N:N))","v":0},{"$f":"IF($I18=\"\", 0, SUMIF('7.СМР'!$E:$E, $I18, '7.СМР'!N:N)+SUMIF('8.ОСС'!$E:$E, $I18, '8.ОСС'!AF:AF)+SUMIF('9.ПИР'!$E:$E, $I18, '9.ПИР'!N:N)+SUMIF('10.БКП'!$E:$E, $I18, '10.БКП'!N:N)+SUMIF('11.ПЗС'!$E:$E, $I18, '11.ПЗС'!O:O))","v":604.43499999999995},{"$f":"IF($I18=\"\", 0, SUMIF('7.СМР'!$E:$E, $I18, '7.СМР'!O:O)+SUMIF('8.ОСС'!$E:$E, $I18, '8.ОСС'!AG:AG)+SUMIF('9.ПИР'!$E:$E, $I18, '9.ПИР'!O:O)+SUMIF('10.БКП'!$E:$E, $I18, '10.БКП'!O:O)+SUMIF('11.ПЗС'!$E:$E, $I18, '11.ПЗС'!P:P))","v":1184.9639999999999},{"$f":"IF($I18=\"\", 0, SUMIF('7.СМР'!$E:$E, $I18, '7.СМР'!P:P)+SUMIF('8.ОСС'!$E:$E, $I18, '8.ОСС'!AH:AH)+SUMIF('9.ПИР'!$E:$E, $I18, '9.ПИР'!P:P)+SUMIF('10.БКП'!$E:$E, $I18, '10.БКП'!P:P)+SUMIF('11.ПЗС'!$E:$E, $I18, '11.ПЗС'!Q:Q))","v":1292.8579999999999},3359,3082.2569999999996,-276.74300000000039,-8.238850848466818E-2,null,0.80839999999989232,2.40666865138402E-4,{"$f":"IF($I18=\"\", 0, SUMIF('7.СМР'!$E:$E, $I18, '7.СМР'!X:X)+SUMIF('8.ОСС'!$E:$E, $I18, '8.ОСС'!AP:AP)+SUMIF('9.ПИР'!$E:$E, $I18, '9.ПИР'!X:X)+SUMIF('10.БКП'!$E:$E, $I18, '10.БКП'!X:X)+SUMIF('11.ПЗС'!$E:$E, $I18, '11.ПЗС'!Y:Y))","v":0},{"$f":"IF($I18=\"\", 0, SUMIF('7.СМР'!$E:$E, $I18, '7.СМР'!Y:Y)+SUMIF('8.ОСС'!$E:$E, $I18, '8.ОСС'!AQ:AQ)+SUMIF('9.ПИР'!$E:$E, $I18, '9.ПИР'!Y:Y)+SUMIF('10.БКП'!$E:$E, $I18, '10.БКП'!Y:Y)+SUMIF('11.ПЗС'!$E:$E, $I18, '11.ПЗС'!Z:Z))","v":0},{"$f":"IF($I18=\"\", 0, SUMIF('7.СМР'!$E:$E, $I18, '7.СМР'!Z:Z)+SUMIF('8.ОСС'!$E:$E, $I18, '8.ОСС'!AR:AR)+SUMIF('9.ПИР'!$E:$E, $I18, '9.ПИР'!Z:Z)+SUMIF('10.БКП'!$E:$E, $I18, '10.БКП'!Z:Z)+SUMIF('11.ПЗС'!$E:$E, $I18, '11.ПЗС'!AA:AA))","v":0.80839999999989232},{"$f":"IF($I18=\"\", 0, SUMIF('7.СМР'!$E:$E, $I18, '7.СМР'!AA:AA)+SUMIF('8.ОСС'!$E:$E, $I18, '8.ОСС'!AS:AS)+SUMIF('9.ПИР'!$E:$E, $I18, '9.ПИР'!AA:AA)+SUMIF('10.БКП'!$E:$E, $I18, '10.БКП'!AA:AA)+SUMIF('11.ПЗС'!$E:$E, $I18, '11.ПЗС'!AB:AB))","v":3359.8083999999999},{"$f":"IF($I18=\"\", 0, SUMIF('7.СМР'!$E:$E, $I18, '7.СМР'!AB:AB)+SUMIF('8.ОСС'!$E:$E, $I18, '8.ОСС'!AT:AT)+SUMIF('9.ПИР'!$E:$E, $I18, '9.ПИР'!AB:AB)+SUMIF('10.БКП'!$E:$E, $I18, '10.БКП'!AB:AB)+SUMIF('11.ПЗС'!$E:$E, $I18, '11.ПЗС'!AC:AC))","v":0},{"$f":"IF($I18=\"\", 0, SUMIF('7.СМР'!$E:$E, $I18, '7.СМР'!AC:AC)+SUMIF('8.ОСС'!$E:$E, $I18, '8.ОСС'!AU:AU)+SUMIF('9.ПИР'!$E:$E, $I18, '9.ПИР'!AC:AC)+SUMIF('10.БКП'!$E:$E, $I18, '10.БКП'!AC:AC)+SUMIF('11.ПЗС'!$E:$E, $I18, '11.ПЗС'!AD:AD))","v":604.43499999999995},{"$f":"IF($I18=\"\", 0, SUMIF('7.СМР'!$E:$E, $I18, '7.СМР'!AD:AD)+SUMIF('8.ОСС'!$E:$E, $I18, '8.ОСС'!AV:AV)+SUMIF('9.ПИР'!$E:$E, $I18, '9.ПИР'!AD:AD)+SUMIF('10.БКП'!$E:$E, $I18, '10.БКП'!AD:AD)+SUMIF('11.ПЗС'!$E:$E, $I18, '11.ПЗС'!AE:AE))","v":1900.9746},{"$f":"IF($I18=\"\", 0, SUMIF('7.СМР'!$E:$E, $I18, '7.СМР'!AE:AE)+SUMIF('8.ОСС'!$E:$E, $I18, '8.ОСС'!AW:AW)+SUMIF('9.ПИР'!$E:$E, $I18, '9.ПИР'!AE:AE)+SUMIF('10.БКП'!$E:$E, $I18, '10.БКП'!AE:AE)+SUMIF('11.ПЗС'!$E:$E, $I18, '11.ПЗС'!AF:AF))","v":854.39880000000005},null,{"$f":"IF($I18=\"\", \"\", VLOOKUP($I18,objects, 9, 0))","v":4723},{"$f":"IF($I18=\"\", \"\", VLOOKUP($I18,objects, 10, 0))","v":0},{"$f":"IF($I18=\"\",\"\",AK18-(AL18+K18))","v":1364},{"$f":"IF($I18=\"\", \"\", VLOOKUP($I18,objects, '05.РКС'!L$18-'05.РКС'!$B$18+1, 0))","v":"2017-01-01"},{"$f":"IF($I18=\"\", \"\", VLOOKUP($I18,objects, '05.РКС'!M$18-'05.РКС'!$B$18+1, 0))","v":"2017-12-01"},{"$f":"IF($I18=\"\", \"\", VLOOKUP($I18,objects, '05.РКС'!N$18-'05.РКС'!$B$18+1, 0))","v":"Приказ Министерства энергетики и электрификации СССР № 51пс от 19.04.1978 г. об утверждении ТЭО строительства Вилюйской ГЭС-3 на р.Вилюй; Разрешение на строительство № 8-5 от 15.06.2005 г., выданное УиАГ МО \"Мирнинский район\""},{"$f":"IF($I18=\"\", \"\", VLOOKUP($I18,objects, '05.РКС'!P$18-'05.РКС'!$B$18+1, 0))","v":0},0]
[null,null,{"$f":"IF(I19=\"\", \"\", VLOOKUP(I19,objects, 3, 0))","v":"АО \"Вилюйская ГЭС-3\""},{"$f":"IF(I19=\"\", \"\", VLOOKUP(I19,objects, 7, 0))","v":"Прочее"},{"$f":"IF(I19=\"\", \"\", VLOOKUP(I19,objects, 4, 0))","v":0},{"$f":"IF(I19=\"\", \"\", VLOOKUP(I19,objects, 5, 0))","v":""},{"$f":"IF(I19=\"\", \"\", VLOOKUP(I19,objects, 6, 0))","v":"Прочая основная деятельность"},{"$f":"IF(I19=\"\", \"\", VLOOKUP(I19,objects, 8, 0))","v":"Высокий"},{"$f":"IF(ISBLANK('05.РКС'!B20), \"\", '05.РКС'!B20)","v":"2016-1.2."},{"$f":"IF(I19=\"\", \"\", VLOOKUP(I19,objects, 2, 0))","v":"Здание ГЭС. Общестроительные работы"},{"$f":"IF($I19=\"\", 0, SUMIF('7.СМР'!$E:$E, $I19, '7.СМР'!G:G)+SUMIF('8.ОСС'!$E:$E, $I19, '8.ОСС'!Y:Y)+SUMIF('9.ПИР'!$E:$E, $I19, '9.ПИР'!G:G)+SUMIF('10.БКП'!$E:$E, $I19, '10.БКП'!G:G)+SUMIF('11.ПЗС'!$E:$E, $I19, '11.ПЗС'!H:H))","v":0},{"$f":"IF($I19=\"\", 0, SUMIF('7.СМР'!$E:$E, $I19, '7.СМР'!H:H)+SUMIF('8.ОСС'!$E:$E, $I19, '8.ОСС'!Z:Z)+SUMIF('9.ПИР'!$E:$E, $I19, '9.ПИР'!H:H)+SUMIF('10.БКП'!$E:$E, $I19, '10.БКП'!H:H)+SUMIF('11.ПЗС'!$E:$E, $I19, '11.ПЗС'!I:I))","v":0},{"$f":"IF($I19=\"\", 0, SUMIF('7.СМР'!$E:$E, $I19, '7.СМР'!I:I)+SUMIF('8.ОСС'!$E:$E, $I19, '8.ОСС'!AA:AA)+SUMIF('9.ПИР'!$E:$E, $I19, '9.ПИР'!I:I)+SUMIF('10.БКП'!$E:$E, $I19, '10.БКП'!I:I)+SUMIF('11.ПЗС'!$E:$E, $I19, '11.ПЗС'!J:J))","v":0},{"$f":"IF($I19=\"\", 0, SUMIF('7.СМР'!$E:$E, $I19, '7.СМР'!J:J)+SUMIF('8.ОСС'!$E:$E, $I19, '8.ОСС'!AB:AB)+SUMIF('9.ПИР'!$E:$E, $I19, '9.ПИР'!J:J)+SUMIF('10.БКП'!$E:$E, $I19, '10.БКП'!J:J)+SUMIF('11.ПЗС'!$E:$E, $I19, '11.ПЗС'!K:K))","v":0},{"$f":"IF($I19=\"\", 0, SUMIF('7.СМР'!$E:$E, $I19, '7.СМР'!K:K)+SUMIF('8.ОСС'!$E:$E, $I19, '8.ОСС'!AC:AC)+SUMIF('9.ПИР'!$E:$E, $I19, '9.ПИР'!K:K)+SUMIF('10.БКП'!$E:$E, $I19, '10.БКП'!K:K)+SUMIF('11.ПЗС'!$E:$E, $I19, '11.ПЗС'!L:L))","v":0},{"$f":"IF($I19=\"\", 0, SUMIF('7.СМР'!$E:$E, $I19, '7.СМР'!L:L)+SUMIF('8.ОСС'!$E:$E, $I19, '8.ОСС'!AD:AD)+SUMIF('9.ПИР'!$E:$E, $I19, '9.ПИР'!L:L)+SUMIF('10.БКП'!$E:$E, $I19, '10.БКП'!L:L)+SUMIF('11.ПЗС'!$E:$E, $I19, '11.ПЗС'!M:M))","v":0},{"$f":"IF($I19=\"\", 0, SUMIF('7.СМР'!$E:$E, $I19, '7.СМР'!M:M)+SUMIF('8.ОСС'!$E:$E, $I19, '8.ОСС'!AE:AE)+SUMIF('9.ПИР'!$E:$E, $I19, '9.ПИР'!M:M)+SUMIF('10.БКП'!$E:$E, $I19, '10.БКП'!M:M)+SUMIF('11.ПЗС'!$E:$E, $I19, '11.ПЗС'!N:N))","v":0},{"$f":"IF($I19=\"\", 0, SUMIF('7.СМР'!$E:$E, $I19, '7.СМР'!N:N)+SUMIF('8.ОСС'!$E:$E, $I19, '8.ОСС'!AF:AF)+SUMIF('9.ПИР'!$E:$E, $I19, '9.ПИР'!N:N)+SUMIF('10.БКП'!$E:$E, $I19, '10.БКП'!N:N)+SUMIF('11.ПЗС'!$E:$E, $I19, '11.ПЗС'!O:O))","v":0},{"$f":"IF($I19=\"\", 0, SUMIF('7.СМР'!$E:$E, $I19, '7.СМР'!O:O)+SUMIF('8.ОСС'!$E:$E, $I19, '8.ОСС'!AG:AG)+SUMIF('9.ПИР'!$E:$E, $I19, '9.ПИР'!O:O)+SUMIF('10.БКП'!$E:$E, $I19, '10.БКП'!O:O)+SUMIF('11.ПЗС'!$E:$E, $I19, '11.ПЗС'!P:P))","v":0},{"$f":"IF($I19=\"\", 0, SUMIF('7.СМР'!$E:$E, $I19, '7.СМР'!P:P)+SUMIF('8.ОСС'!$E:$E, $I19, '8.ОСС'!AH:AH)+SUMIF('9.ПИР'!$E:$E, $I19, '9.ПИР'!P:P)+SUMIF('10.БКП'!$E:$E, $I19, '10.БКП'!P:P)+SUMIF('11.ПЗС'!$E:$E, $I19, '11.ПЗС'!Q:Q))","v":0},{"$f":"IF(period=period_1Q, L19, IF(period=period_1H, SUM(L19:M19), IF(period=period_9M, SUM(L19:N19), IF(period=period_1Y,SUM(L19:O19),0))))","v":0},{"$f":"IF(period=period_1Q, Q19, IF(period=period_1H, SUM(Q19:R19), IF(period=period_9M, SUM(Q19:S19), IF(period=period_1Y,SUM(Q19:T19),0))))","v":0},{"$f":"V19-U19","v":0},{"$f":"IFERROR(W19/U19, 0)","v":0},null,{"$f":"SUM(AB19:AD19)","v":0},{"$f":"IFERROR(Z19/K19, 0)","v":0},{"$f":"IF($I19=\"\", 0, SUMIF('7.СМР'!$E:$E, $I19, '7.СМР'!X:X)+SUMIF('8.ОСС'!$E:$E, $I19, '8.ОСС'!AP:AP)+SUMIF('9.ПИР'!$E:$E, $I19, '9.ПИР'!X:X)+SUMIF('10.БКП'!$E:$E, $I19, '10.БКП'!X:X)+SUMIF('11.ПЗС'!$E:$E, $I19, '11.ПЗС'!Y:Y))","v":0},{"$f":"IF($I19=\"\", 0, SUMIF('7.СМР'!$E:$E, $I19, '7.СМР'!Y:Y)+SUMIF('8.ОСС'!$E:$E, $I19, '8.ОСС'!AQ:AQ)+SUMIF('9.ПИР'!$E:$E, $I19, '9.ПИР'!Y:Y)+SUMIF('10.БКП'!$E:$E, $I19, '10.БКП'!Y:Y)+SUMIF('11.ПЗС'!$E:$E, $I19, '11.ПЗС'!Z:Z))","v":0},{"$f":"IF($I19=\"\", 0, SUMIF('7.СМР'!$E:$E, $I19, '7.СМР'!Z:Z)+SUMIF('8.ОСС'!$E:$E, $I19, '8.ОСС'!AR:AR)+SUMIF('9.ПИР'!$E:$E, $I19, '9.ПИР'!Z:Z)+SUMIF('10.БКП'!$E:$E, $I19, '10.БКП'!Z:Z)+SUMIF('11.ПЗС'!$E:$E, $I19, '11.ПЗС'!AA:AA))","v":0},{"$f":"IF($I19=\"\", 0, SUMIF('7.СМР'!$E:$E, $I19, '7.СМР'!AA:AA)+SUMIF('8.ОСС'!$E:$E, $I19, '8.ОСС'!AS:AS)+SUMIF('9.ПИР'!$E:$E, $I19, '9.ПИР'!AA:AA)+SUMIF('10.БКП'!$E:$E, $I19, '10.БКП'!AA:AA)+SUMIF('11.ПЗС'!$E:$E, $I19, '11.ПЗС'!AB:AB))","v":0},{"$f":"IF($I19=\"\", 0, SUMIF('7.СМР'!$E:$E, $I19, '7.СМР'!AB:AB)+SUMIF('8.ОСС'!$E:$E, $I19, '8.ОСС'!AT:AT)+SUMIF('9.ПИР'!$E:$E, $I19, '9.ПИР'!AB:AB)+SUMIF('10.БКП'!$E:$E, $I19, '10.БКП'!AB:AB)+SUMIF('11.ПЗС'!$E:$E, $I19, '11.ПЗС'!AC:AC))","v":0},{"$f":"IF($I19=\"\", 0, SUMIF('7.СМР'!$E:$E, $I19, '7.СМР'!AC:AC)+SUMIF('8.ОСС'!$E:$E, $I19, '8.ОСС'!AU:AU)+SUMIF('9.ПИР'!$E:$E, $I19, '9.ПИР'!AC:AC)+SUMIF('10.БКП'!$E:$E, $I19, '10.БКП'!AC:AC)+SUMIF('11.ПЗС'!$E:$E, $I19, '11.ПЗС'!AD:AD))","v":0},{"$f":"IF($I19=\"\", 0, SUMIF('7.СМР'!$E:$E, $I19, '7.СМР'!AD:AD)+SUMIF('8.ОСС'!$E:$E, $I19, '8.ОСС'!AV:AV)+SUMIF('9.ПИР'!$E:$E, $I19, '9.ПИР'!AD:AD)+SUMIF('10.БКП'!$E:$E, $I19, '10.БКП'!AD:AD)+SUMIF('11.ПЗС'!$E:$E, $I19, '11.ПЗС'!AE:AE))","v":0},{"$f":"IF($I19=\"\", 0, SUMIF('7.СМР'!$E:$E, $I19, '7.СМР'!AE:AE)+SUMIF('8.ОСС'!$E:$E, $I19, '8.ОСС'!AW:AW)+SUMIF('9.ПИР'!$E:$E, $I19, '9.ПИР'!AE:AE)+SUMIF('10.БКП'!$E:$E, $I19, '10.БКП'!AE:AE)+SUMIF('11.ПЗС'!$E:$E, $I19, '11.ПЗС'!AF:AF))","v":0},null,1000,0,{"$f":"IF($I19=\"\",\"\",AK19-(AL19+K19))","v":1000},{"$f":"IF($I19=\"\", \"\", VLOOKUP($I19,objects, '05.РКС'!L$18-'05.РКС'!$B$18+1, 0))","v":"2017-01-01"},{"$f":"IF($I19=\"\", \"\", VLOOKUP($I19,objects, '05.РКС'!M$18-'05.РКС'!$B$18+1, 0))","v":"2017-12-01"},{"$f":"IF($I19=\"\", \"\", VLOOKUP($I19,objects, '05.РКС'!N$18-'05.РКС'!$B$18+1, 0))","v":"Приказ Министерства энергетики и электрификации СССР № 51пс от 19.04.1978 г. об утверждении ТЭО строительства Вилюйской ГЭС-3 на р.Вилюй; Разрешение на строительство № 8-5 от 15.06.2005 г., выданное УиАГ МО \"Мирнинский район\""},{"$f":"IF($I19=\"\", \"\", VLOOKUP($I19,objects, '05.РКС'!P$18-'05.РКС'!$B$18+1, 0))","v":0},{"$f":"SUM(ABS(K19-SUM(L19:O19)), ABS(P19-SUM(Q19:T19)), ABS(Z19-SUM(AB19:AD19)), ABS(AE19-SUM(AF19:AI19)))","v":0}]
[null,null,"АО \"Вилюйская ГЭС-3\"","Прочее",0,"","Прочая основная деятельность","Высокий",{"$f":"IF(ISBLANK('05.РКС'!B21), \"\", '05.РКС'!B21)","v":"2016-1.3."},"Здание ГЭС.Оснащение   ответственных напорных  гидротехнических  сооружений автоматизированными  системами диагностического контроля (АСДК),",{"$f":"IF($I20=\"\", 0, SUMIF('7.СМР'!$E:$E, $I20, '7.СМР'!G:G)+SUMIF('8.ОСС'!$E:$E, $I20, '8.ОСС'!Y:Y)+SUMIF('9.ПИР'!$E:$E, $I20, '9.ПИР'!G:G)+SUMIF('10.БКП'!$E:$E, $I20, '10.БКП'!G:G)+SUMIF('11.ПЗС'!$E:$E, $I20, '11.ПЗС'!H:H))","v":13867},{"$f":"IF($I20=\"\", 0, SUMIF('7.СМР'!$E:$E, $I20, '7.СМР'!H:H)+SUMIF('8.ОСС'!$E:$E, $I20, '8.ОСС'!Z:Z)+SUMIF('9.ПИР'!$E:$E, $I20, '9.ПИР'!H:H)+SUMIF('10.БКП'!$E:$E, $I20, '10.БКП'!H:H)+SUMIF('11.ПЗС'!$E:$E, $I20, '11.ПЗС'!I:I))","v":0},{"$f":"IF($I20=\"\", 0, SUMIF('7.СМР'!$E:$E, $I20, '7.СМР'!I:I)+SUMIF('8.ОСС'!$E:$E, $I20, '8.ОСС'!AA:AA)+SUMIF('9.ПИР'!$E:$E, $I20, '9.ПИР'!I:I)+SUMIF('10.БКП'!$E:$E, $I20, '10.БКП'!I:I)+SUMIF('11.ПЗС'!$E:$E, $I20, '11.ПЗС'!J:J))","v":0},{"$f":"IF($I20=\"\", 0, SUMIF('7.СМР'!$E:$E, $I20, '7.СМР'!J:J)+SUMIF('8.ОСС'!$E:$E, $I20, '8.ОСС'!AB:AB)+SUMIF('9.ПИР'!$E:$E, $I20, '9.ПИР'!J:J)+SUMIF('10.БКП'!$E:$E, $I20, '10.БКП'!J:J)+SUMIF('11.ПЗС'!$E:$E, $I20, '11.ПЗС'!K:K))","v":4576},{"$f":"IF($I20=\"\", 0, SUMIF('7.СМР'!$E:$E, $I20, '7.СМР'!K:K)+SUMIF('8.ОСС'!$E:$E, $I20, '8.ОСС'!AC:AC)+SUMIF('9.ПИР'!$E:$E, $I20, '9.ПИР'!K:K)+SUMIF('10.БКП'!$E:$E, $I20, '10.БКП'!K:K)+SUMIF('11.ПЗС'!$E:$E, $I20, '11.ПЗС'!L:L))","v":9291},{"$f":"IF($I20=\"\", 0, SUMIF('7.СМР'!$E:$E, $I20, '7.СМР'!L:L)+SUMIF('8.ОСС'!$E:$E, $I20, '8.ОСС'!AD:AD)+SUMIF('9.ПИР'!$E:$E, $I20, '9.ПИР'!L:L)+SUMIF('10.БКП'!$E:$E, $I20, '10.БКП'!L:L)+SUMIF('11.ПЗС'!$E:$E, $I20, '11.ПЗС'!M:M))","v":4575.8770000000004},{"$f":"IF($I20=\"\", 0, SUMIF('7.СМР'!$E:$E, $I20, '7.СМР'!M:M)+SUMIF('8.ОСС'!$E:$E, $I20, '8.ОСС'!AE:AE)+SUMIF('9.ПИР'!$E:$E, $I20, '9.ПИР'!M:M)+SUMIF('10.БКП'!$E:$E, $I20, '10.БКП'!M:M)+SUMIF('11.ПЗС'!$E:$E, $I20, '11.ПЗС'!N:N))","v":0},{"$f":"IF($I20=\"\", 0, SUMIF('7.СМР'!$E:$E, $I20, '7.СМР'!N:N)+SUMIF('8.ОСС'!$E:$E, $I20, '8.ОСС'!AF:AF)+SUMIF('9.ПИР'!$E:$E, $I20, '9.ПИР'!N:N)+SUMIF('10.БКП'!$E:$E, $I20, '10.БКП'!N:N)+SUMIF('11.ПЗС'!$E:$E, $I20, '11.ПЗС'!O:O))","v":0},{"$f":"IF($I20=\"\", 0, SUMIF('7.СМР'!$E:$E, $I20, '7.СМР'!O:O)+SUMIF('8.ОСС'!$E:$E, $I20, '8.ОСС'!AG:AG)+SUMIF('9.ПИР'!$E:$E, $I20, '9.ПИР'!O:O)+SUMIF('10.БКП'!$E:$E, $I20, '10.БКП'!O:O)+SUMIF('11.ПЗС'!$E:$E, $I20, '11.ПЗС'!P:P))","v":0},{"$f":"IF($I20=\"\", 0, SUMIF('7.СМР'!$E:$E, $I20, '7.СМР'!P:P)+SUMIF('8.ОСС'!$E:$E, $I20, '8.ОСС'!AH:AH)+SUMIF('9.ПИР'!$E:$E, $I20, '9.ПИР'!P:P)+SUMIF('10.БКП'!$E:$E, $I20, '10.БКП'!P:P)+SUMIF('11.ПЗС'!$E:$E, $I20, '11.ПЗС'!Q:Q))","v":4575.8770000000004},13867,4575.8770000000004,-9291.1229999999996,-0.67001680248070961,null,0,0,{"$f":"IF($I20=\"\", 0, SUMIF('7.СМР'!$E:$E, $I20, '7.СМР'!X:X)+SUMIF('8.ОСС'!$E:$E, $I20, '8.ОСС'!AP:AP)+SUMIF('9.ПИР'!$E:$E, $I20, '9.ПИР'!X:X)+SUMIF('10.БКП'!$E:$E, $I20, '10.БКП'!X:X)+SUMIF('11.ПЗС'!$E:$E, $I20, '11.ПЗС'!Y:Y))","v":0},{"$f":"IF($I20=\"\", 0, SUMIF('7.СМР'!$E:$E, $I20, '7.СМР'!Y:Y)+SUMIF('8.ОСС'!$E:$E, $I20, '8.ОСС'!AQ:AQ)+SUMIF('9.ПИР'!$E:$E, $I20, '9.ПИР'!Y:Y)+SUMIF('10.БКП'!$E:$E, $I20, '10.БКП'!Y:Y)+SUMIF('11.ПЗС'!$E:$E, $I20, '11.ПЗС'!Z:Z))","v":0},{"$f":"IF($I20=\"\", 0, SUMIF('7.СМР'!$E:$E, $I20, '7.СМР'!Z:Z)+SUMIF('8.ОСС'!$E:$E, $I20, '8.ОСС'!AR:AR)+SUMIF('9.ПИР'!$E:$E, $I20, '9.ПИР'!Z:Z)+SUMIF('10.БКП'!$E:$E, $I20, '10.БКП'!Z:Z)+SUMIF('11.ПЗС'!$E:$E, $I20, '11.ПЗС'!AA:AA))","v":0},{"$f":"IF($I20=\"\", 0, SUMIF('7.СМР'!$E:$E, $I20, '7.СМР'!AA:AA)+SUMIF('8.ОСС'!$E:$E, $I20, '8.ОСС'!AS:AS)+SUMIF('9.ПИР'!$E:$E, $I20, '9.ПИР'!AA:AA)+SUMIF('10.БКП'!$E:$E, $I20, '10.БКП'!AA:AA)+SUMIF('11.ПЗС'!$E:$E, $I20, '11.ПЗС'!AB:AB))","v":13867},{"$f":"IF($I20=\"\", 0, SUMIF('7.СМР'!$E:$E, $I20, '7.СМР'!AB:AB)+SUMIF('8.ОСС'!$E:$E, $I20, '8.ОСС'!AT:AT)+SUMIF('9.ПИР'!$E:$E, $I20, '9.ПИР'!AB:AB)+SUMIF('10.БКП'!$E:$E, $I20, '10.БКП'!AB:AB)+SUMIF('11.ПЗС'!$E:$E, $I20, '11.ПЗС'!AC:AC))","v":0},{"$f":"IF($I20=\"\", 0, SUMIF('7.СМР'!$E:$E, $I20, '7.СМР'!AC:AC)+SUMIF('8.ОСС'!$E:$E, $I20, '8.ОСС'!AU:AU)+SUMIF('9.ПИР'!$E:$E, $I20, '9.ПИР'!AC:AC)+SUMIF('10.БКП'!$E:$E, $I20, '10.БКП'!AC:AC)+SUMIF('11.ПЗС'!$E:$E, $I20, '11.ПЗС'!AD:AD))","v":0},{"$f":"IF($I20=\"\", 0, SUMIF('7.СМР'!$E:$E, $I20, '7.СМР'!AD:AD)+SUMIF('8.ОСС'!$E:$E, $I20, '8.ОСС'!AV:AV)+SUMIF('9.ПИР'!$E:$E, $I20, '9.ПИР'!AD:AD)+SUMIF('10.БКП'!$E:$E, $I20, '10.БКП'!AD:AD)+SUMIF('11.ПЗС'!$E:$E, $I20, '11.ПЗС'!AE:AE))","v":4576},{"$f":"IF($I20=\"\", 0, SUMIF('7.СМР'!$E:$E, $I20, '7.СМР'!AE:AE)+SUMIF('8.ОСС'!$E:$E, $I20, '8.ОСС'!AW:AW)+SUMIF('9.ПИР'!$E:$E, $I20, '9.ПИР'!AE:AE)+SUMIF('10.БКП'!$E:$E, $I20, '10.БКП'!AE:AE)+SUMIF('11.ПЗС'!$E:$E, $I20, '11.ПЗС'!AF:AF))","v":9291},null,13867,0,0,{"$f":"IF($I20=\"\", \"\", VLOOKUP($I20,objects, '05.РКС'!L$18-'05.РКС'!$B$18+1, 0))","v":"2016-10-01"},{"$f":"IF($I20=\"\", \"\", VLOOKUP($I20,objects, '05.РКС'!M$18-'05.РКС'!$B$18+1, 0))","v":"2018-12-30"},{"$f":"IF($I20=\"\", \"\", VLOOKUP($I20,objects, '05.РКС'!N$18-'05.РКС'!$B$18+1, 0))","v":"Декларация  безопасности   ГТ  сооружений утв. Ростехнадзором  РФ рег.№00-ДБ-0048-2015"},{"$f":"IF($I20=\"\", \"\", VLOOKUP($I20,objects, '05.РКС'!P$18-'05.РКС'!$B$18+1, 0))","v":"выведено из \"РЕЗЕРВА\"                            исх.№ 2049/011 от 18.11.2016"},0]
[null,null,"АО \"Вилюйская ГЭС-3\"","Прочее",0,"","Прочая основная деятельность","Высокий",{"$f":"IF(ISBLANK('05.РКС'!B22), \"\", '05.РКС'!B22)","v":"2016-1.4."},"Здание ГЭС.Противотаранное устройство на границе охранной зоны   акватории",{"$f":"IF($I21=\"\", 0, SUMIF('7.СМР'!$E:$E, $I21, '7.СМР'!G:G)+SUMIF('8.ОСС'!$E:$E, $I21, '8.ОСС'!Y:Y)+SUMIF('9.ПИР'!$E:$E, $I21, '9.ПИР'!G:G)+SUMIF('10.БКП'!$E:$E, $I21, '10.БКП'!G:G)+SUMIF('11.ПЗС'!$E:$E, $I21, '11.ПЗС'!H:H))","v":14722},{"$f":"IF($I21=\"\", 0, SUMIF('7.СМР'!$E:$E, $I21, '7.СМР'!H:H)+SUMIF('8.ОСС'!$E:$E, $I21, '8.ОСС'!Z:Z)+SUMIF('9.ПИР'!$E:$E, $I21, '9.ПИР'!H:H)+SUMIF('10.БКП'!$E:$E, $I21, '10.БКП'!H:H)+SUMIF('11.ПЗС'!$E:$E, $I21, '11.ПЗС'!I:I))","v":0},{"$f":"IF($I21=\"\", 0, SUMIF('7.СМР'!$E:$E, $I21, '7.СМР'!I:I)+SUMIF('8.ОСС'!$E:$E, $I21, '8.ОСС'!AA:AA)+SUMIF('9.ПИР'!$E:$E, $I21, '9.ПИР'!I:I)+SUMIF('10.БКП'!$E:$E, $I21, '10.БКП'!I:I)+SUMIF('11.ПЗС'!$E:$E, $I21, '11.ПЗС'!J:J))","v":0},{"$f":"IF($I21=\"\", 0, SUMIF('7.СМР'!$E:$E, $I21, '7.СМР'!J:J)+SUMIF('8.ОСС'!$E:$E, $I21, '8.ОСС'!AB:AB)+SUMIF('9.ПИР'!$E:$E, $I21, '9.ПИР'!J:J)+SUMIF('10.БКП'!$E:$E, $I21, '10.БКП'!J:J)+SUMIF('11.ПЗС'!$E:$E, $I21, '11.ПЗС'!K:K))","v":0},{"$f":"IF($I21=\"\", 0, SUMIF('7.СМР'!$E:$E, $I21, '7.СМР'!K:K)+SUMIF('8.ОСС'!$E:$E, $I21, '8.ОСС'!AC:AC)+SUMIF('9.ПИР'!$E:$E, $I21, '9.ПИР'!K:K)+SUMIF('10.БКП'!$E:$E, $I21, '10.БКП'!K:K)+SUMIF('11.ПЗС'!$E:$E, $I21, '11.ПЗС'!L:L))","v":14722},{"$f":"IF($I21=\"\", 0, SUMIF('7.СМР'!$E:$E, $I21, '7.СМР'!L:L)+SUMIF('8.ОСС'!$E:$E, $I21, '8.ОСС'!AD:AD)+SUMIF('9.ПИР'!$E:$E, $I21, '9.ПИР'!L:L)+SUMIF('10.БКП'!$E:$E, $I21, '10.БКП'!L:L)+SUMIF('11.ПЗС'!$E:$E, $I21, '11.ПЗС'!M:M))","v":15500.452000000001},{"$f":"IF($I21=\"\", 0, SUMIF('7.СМР'!$E:$E, $I21, '7.СМР'!M:M)+SUMIF('8.ОСС'!$E:$E, $I21, '8.ОСС'!AE:AE)+SUMIF('9.ПИР'!$E:$E, $I21, '9.ПИР'!M:M)+SUMIF('10.БКП'!$E:$E, $I21, '10.БКП'!M:M)+SUMIF('11.ПЗС'!$E:$E, $I21, '11.ПЗС'!N:N))","v":0},{"$f":"IF($I21=\"\", 0, SUMIF('7.СМР'!$E:$E, $I21, '7.СМР'!N:N)+SUMIF('8.ОСС'!$E:$E, $I21, '8.ОСС'!AF:AF)+SUMIF('9.ПИР'!$E:$E, $I21, '9.ПИР'!N:N)+SUMIF('10.БКП'!$E:$E, $I21, '10.БКП'!N:N)+SUMIF('11.ПЗС'!$E:$E, $I21, '11.ПЗС'!O:O))","v":0},{"$f":"IF($I21=\"\", 0, SUMIF('7.СМР'!$E:$E, $I21, '7.СМР'!O:O)+SUMIF('8.ОСС'!$E:$E, $I21, '8.ОСС'!AG:AG)+SUMIF('9.ПИР'!$E:$E, $I21, '9.ПИР'!O:O)+SUMIF('10.БКП'!$E:$E, $I21, '10.БКП'!O:O)+SUMIF('11.ПЗС'!$E:$E, $I21, '11.ПЗС'!P:P))","v":0},{"$f":"IF($I21=\"\", 0, SUMIF('7.СМР'!$E:$E, $I21, '7.СМР'!P:P)+SUMIF('8.ОСС'!$E:$E, $I21, '8.ОСС'!AH:AH)+SUMIF('9.ПИР'!$E:$E, $I21, '9.ПИР'!P:P)+SUMIF('10.БКП'!$E:$E, $I21, '10.БКП'!P:P)+SUMIF('11.ПЗС'!$E:$E, $I21, '11.ПЗС'!Q:Q))","v":15500.452000000001},14722,15500.452000000001,778.45200000000114,5.2876783045781903E-2,null,0,0,{"$f":"IF($I21=\"\", 0, SUMIF('7.СМР'!$E:$E, $I21, '7.СМР'!X:X)+SUMIF('8.ОСС'!$E:$E, $I21, '8.ОСС'!AP:AP)+SUMIF('9.ПИР'!$E:$E, $I21, '9.ПИР'!X:X)+SUMIF('10.БКП'!$E:$E, $I21, '10.БКП'!X:X)+SUMIF('11.ПЗС'!$E:$E, $I21, '11.ПЗС'!Y:Y))","v":0},{"$f":"IF($I21=\"\", 0, SUMIF('7.СМР'!$E:$E, $I21, '7.СМР'!Y:Y)+SUMIF('8.ОСС'!$E:$E, $I21, '8.ОСС'!AQ:AQ)+SUMIF('9.ПИР'!$E:$E, $I21, '9.ПИР'!Y:Y)+SUMIF('10.БКП'!$E:$E, $I21, '10.БКП'!Y:Y)+SUMIF('11.ПЗС'!$E:$E, $I21, '11.ПЗС'!Z:Z))","v":0},{"$f":"IF($I21=\"\", 0, SUMIF('7.СМР'!$E:$E, $I21, '7.СМР'!Z:Z)+SUMIF('8.ОСС'!$E:$E, $I21, '8.ОСС'!AR:AR)+SUMIF('9.ПИР'!$E:$E, $I21, '9.ПИР'!Z:Z)+SUMIF('10.БКП'!$E:$E, $I21, '10.БКП'!Z:Z)+SUMIF('11.ПЗС'!$E:$E, $I21, '11.ПЗС'!AA:AA))","v":0},{"$f":"IF($I21=\"\", 0, SUMIF('7.СМР'!$E:$E, $I21, '7.СМР'!AA:AA)+SUMIF('8.ОСС'!$E:$E, $I21, '8.ОСС'!AS:AS)+SUMIF('9.ПИР'!$E:$E, $I21, '9.ПИР'!AA:AA)+SUMIF('10.БКП'!$E:$E, $I21, '10.БКП'!AA:AA)+SUMIF('11.ПЗС'!$E:$E, $I21, '11.ПЗС'!AB:AB))","v":14722},{"$f":"IF($I21=\"\", 0, SUMIF('7.СМР'!$E:$E, $I21, '7.СМР'!AB:AB)+SUMIF('8.ОСС'!$E:$E, $I21, '8.ОСС'!AT:AT)+SUMIF('9.ПИР'!$E:$E, $I21, '9.ПИР'!AB:AB)+SUMIF('10.БКП'!$E:$E, $I21, '10.БКП'!AB:AB)+SUMIF('11.ПЗС'!$E:$E, $I21, '11.ПЗС'!AC:AC))","v":0},{"$f":"IF($I21=\"\", 0, SUMIF('7.СМР'!$E:$E, $I21, '7.СМР'!AC:AC)+SUMIF('8.ОСС'!$E:$E, $I21, '8.ОСС'!AU:AU)+SUMIF('9.ПИР'!$E:$E, $I21, '9.ПИР'!AC:AC)+SUMIF('10.БКП'!$E:$E, $I21, '10.БКП'!AC:AC)+SUMIF('11.ПЗС'!$E:$E, $I21, '11.ПЗС'!AD:AD))","v":0},{"$f":"IF($I21=\"\", 0, SUMIF('7.СМР'!$E:$E, $I21, '7.СМР'!AD:AD)+SUMIF('8.ОСС'!$E:$E, $I21, '8.ОСС'!AV:AV)+SUMIF('9.ПИР'!$E:$E, $I21, '9.ПИР'!AD:AD)+SUMIF('10.БКП'!$E:$E, $I21, '10.БКП'!AD:AD)+SUMIF('11.ПЗС'!$E:$E, $I21, '11.ПЗС'!AE:AE))","v":0},{"$f":"IF($I21=\"\", 0, SUMIF('7.СМР'!$E:$E, $I21, '7.СМР'!AE:AE)+SUMIF('8.ОСС'!$E:$E, $I21, '8.ОСС'!AW:AW)+SUMIF('9.ПИР'!$E:$E, $I21, '9.ПИР'!AE:AE)+SUMIF('10.БКП'!$E:$E, $I21, '10.БКП'!AE:AE)+SUMIF('11.ПЗС'!$E:$E, $I21, '11.ПЗС'!AF:AF))","v":14722},null,14722,0,{"$f":"IF($I21=\"\",\"\",AK21-(AL21+K21))","v":0},{"$f":"IF($I21=\"\", \"\", VLOOKUP($I21,objects, '05.РКС'!L$18-'05.РКС'!$B$18+1, 0))","v":"2017-04-01"},{"$f":"IF($I21=\"\", \"\", VLOOKUP($I21,objects, '05.РКС'!M$18-'05.РКС'!$B$18+1, 0))","v":"2017-12-30"},{"$f":"IF($I21=\"\", \"\", VLOOKUP($I21,objects, '05.РКС'!N$18-'05.РКС'!$B$18+1, 0))","v":"Правила  по обеспечению  безопасности  и   антитеррористической  защищенности   объектов топливно-энергетического комплекса   п.302,  утв. Правительством  РФ от 05.05.2012г №458,  рекомендации  техаудита ПАО \"РусГидро\" 01.07.2016г "},{"$f":"IF($I21=\"\", \"\", VLOOKUP($I21,objects, '05.РКС'!P$18-'05.РКС'!$B$18+1, 0))","v":0},0]
[null,null,"АО \"Вилюйская ГЭС-3\"","Прочее",0,"","Прочая основная деятельность","Высокий",{"$f":"IF(ISBLANK('05.РКС'!B23), \"\", '05.РКС'!B23)","v":"2016-1.4.1."},"Здание ГЭС.Противотаранное устройство на границе охранной зоны   акватории. Оборудование",{"$f":"IF($I22=\"\", 0, SUMIF('7.СМР'!$E:$E, $I22, '7.СМР'!G:G)+SUMIF('8.ОСС'!$E:$E, $I22, '8.ОСС'!Y:Y)+SUMIF('9.ПИР'!$E:$E, $I22, '9.ПИР'!G:G)+SUMIF('10.БКП'!$E:$E, $I22, '10.БКП'!G:G)+SUMIF('11.ПЗС'!$E:$E, $I22, '11.ПЗС'!H:H))","v":0},{"$f":"IF($I22=\"\", 0, SUMIF('7.СМР'!$E:$E, $I22, '7.СМР'!H:H)+SUMIF('8.ОСС'!$E:$E, $I22, '8.ОСС'!Z:Z)+SUMIF('9.ПИР'!$E:$E, $I22, '9.ПИР'!H:H)+SUMIF('10.БКП'!$E:$E, $I22, '10.БКП'!H:H)+SUMIF('11.ПЗС'!$E:$E, $I22, '11.ПЗС'!I:I))","v":0},{"$f":"IF($I22=\"\", 0, SUMIF('7.СМР'!$E:$E, $I22, '7.СМР'!I:I)+SUMIF('8.ОСС'!$E:$E, $I22, '8.ОСС'!AA:AA)+SUMIF('9.ПИР'!$E:$E, $I22, '9.ПИР'!I:I)+SUMIF('10.БКП'!$E:$E, $I22, '10.БКП'!I:I)+SUMIF('11.ПЗС'!$E:$E, $I22, '11.ПЗС'!J:J))","v":0},{"$f":"IF($I22=\"\", 0, SUMIF('7.СМР'!$E:$E, $I22, '7.СМР'!J:J)+SUMIF('8.ОСС'!$E:$E, $I22, '8.ОСС'!AB:AB)+SUMIF('9.ПИР'!$E:$E, $I22, '9.ПИР'!J:J)+SUMIF('10.БКП'!$E:$E, $I22, '10.БКП'!J:J)+SUMIF('11.ПЗС'!$E:$E, $I22, '11.ПЗС'!K:K))","v":0},{"$f":"IF($I22=\"\", 0, SUMIF('7.СМР'!$E:$E, $I22, '7.СМР'!K:K)+SUMIF('8.ОСС'!$E:$E, $I22, '8.ОСС'!AC:AC)+SUMIF('9.ПИР'!$E:$E, $I22, '9.ПИР'!K:K)+SUMIF('10.БКП'!$E:$E, $I22, '10.БКП'!K:K)+SUMIF('11.ПЗС'!$E:$E, $I22, '11.ПЗС'!L:L))","v":0},{"$f":"IF($I22=\"\", 0, SUMIF('7.СМР'!$E:$E, $I22, '7.СМР'!L:L)+SUMIF('8.ОСС'!$E:$E, $I22, '8.ОСС'!AD:AD)+SUMIF('9.ПИР'!$E:$E, $I22, '9.ПИР'!L:L)+SUMIF('10.БКП'!$E:$E, $I22, '10.БКП'!L:L)+SUMIF('11.ПЗС'!$E:$E, $I22, '11.ПЗС'!M:M))","v":0},{"$f":"IF($I22=\"\", 0, SUMIF('7.СМР'!$E:$E, $I22, '7.СМР'!M:M)+SUMIF('8.ОСС'!$E:$E, $I22, '8.ОСС'!AE:AE)+SUMIF('9.ПИР'!$E:$E, $I22, '9.ПИР'!M:M)+SUMIF('10.БКП'!$E:$E, $I22, '10.БКП'!M:M)+SUMIF('11.ПЗС'!$E:$E, $I22, '11.ПЗС'!N:N))","v":0},{"$f":"IF($I22=\"\", 0, SUMIF('7.СМР'!$E:$E, $I22, '7.СМР'!N:N)+SUMIF('8.ОСС'!$E:$E, $I22, '8.ОСС'!AF:AF)+SUMIF('9.ПИР'!$E:$E, $I22, '9.ПИР'!N:N)+SUMIF('10.БКП'!$E:$E, $I22, '10.БКП'!N:N)+SUMIF('11.ПЗС'!$E:$E, $I22, '11.ПЗС'!O:O))","v":0},{"$f":"IF($I22=\"\", 0, SUMIF('7.СМР'!$E:$E, $I22, '7.СМР'!O:O)+SUMIF('8.ОСС'!$E:$E, $I22, '8.ОСС'!AG:AG)+SUMIF('9.ПИР'!$E:$E, $I22, '9.ПИР'!O:O)+SUMIF('10.БКП'!$E:$E, $I22, '10.БКП'!O:O)+SUMIF('11.ПЗС'!$E:$E, $I22, '11.ПЗС'!P:P))","v":0},{"$f":"IF($I22=\"\", 0, SUMIF('7.СМР'!$E:$E, $I22, '7.СМР'!P:P)+SUMIF('8.ОСС'!$E:$E, $I22, '8.ОСС'!AH:AH)+SUMIF('9.ПИР'!$E:$E, $I22, '9.ПИР'!P:P)+SUMIF('10.БКП'!$E:$E, $I22, '10.БКП'!P:P)+SUMIF('11.ПЗС'!$E:$E, $I22, '11.ПЗС'!Q:Q))","v":0},0,0,0,0,null,0,0,{"$f":"IF($I22=\"\", 0, SUMIF('7.СМР'!$E:$E, $I22, '7.СМР'!X:X)+SUMIF('8.ОСС'!$E:$E, $I22, '8.ОСС'!AP:AP)+SUMIF('9.ПИР'!$E:$E, $I22, '9.ПИР'!X:X)+SUMIF('10.БКП'!$E:$E, $I22, '10.БКП'!X:X)+SUMIF('11.ПЗС'!$E:$E, $I22, '11.ПЗС'!Y:Y))","v":0},{"$f":"IF($I22=\"\", 0, SUMIF('7.СМР'!$E:$E, $I22, '7.СМР'!Y:Y)+SUMIF('8.ОСС'!$E:$E, $I22, '8.ОСС'!AQ:AQ)+SUMIF('9.ПИР'!$E:$E, $I22, '9.ПИР'!Y:Y)+SUMIF('10.БКП'!$E:$E, $I22, '10.БКП'!Y:Y)+SUMIF('11.ПЗС'!$E:$E, $I22, '11.ПЗС'!Z:Z))","v":0},{"$f":"IF($I22=\"\", 0, SUMIF('7.СМР'!$E:$E, $I22, '7.СМР'!Z:Z)+SUMIF('8.ОСС'!$E:$E, $I22, '8.ОСС'!AR:AR)+SUMIF('9.ПИР'!$E:$E, $I22, '9.ПИР'!Z:Z)+SUMIF('10.БКП'!$E:$E, $I22, '10.БКП'!Z:Z)+SUMIF('11.ПЗС'!$E:$E, $I22, '11.ПЗС'!AA:AA))","v":0},{"$f":"IF($I22=\"\", 0, SUMIF('7.СМР'!$E:$E, $I22, '7.СМР'!AA:AA)+SUMIF('8.ОСС'!$E:$E, $I22, '8.ОСС'!AS:AS)+SUMIF('9.ПИР'!$E:$E, $I22, '9.ПИР'!AA:AA)+SUMIF('10.БКП'!$E:$E, $I22, '10.БКП'!AA:AA)+SUMIF('11.ПЗС'!$E:$E, $I22, '11.ПЗС'!AB:AB))","v":0},{"$f":"IF($I22=\"\", 0, SUMIF('7.СМР'!$E:$E, $I22, '7.СМР'!AB:AB)+SUMIF('8.ОСС'!$E:$E, $I22, '8.ОСС'!AT:AT)+SUMIF('9.ПИР'!$E:$E, $I22, '9.ПИР'!AB:AB)+SUMIF('10.БКП'!$E:$E, $I22, '10.БКП'!AB:AB)+SUMIF('11.ПЗС'!$E:$E, $I22, '11.ПЗС'!AC:AC))","v":0},{"$f":"IF($I22=\"\", 0, SUMIF('7.СМР'!$E:$E, $I22, '7.СМР'!AC:AC)+SUMIF('8.ОСС'!$E:$E, $I22, '8.ОСС'!AU:AU)+SUMIF('9.ПИР'!$E:$E, $I22, '9.ПИР'!AC:AC)+SUMIF('10.БКП'!$E:$E, $I22, '10.БКП'!AC:AC)+SUMIF('11.ПЗС'!$E:$E, $I22, '11.ПЗС'!AD:AD))","v":0},{"$f":"IF($I22=\"\", 0, SUMIF('7.СМР'!$E:$E, $I22, '7.СМР'!AD:AD)+SUMIF('8.ОСС'!$E:$E, $I22, '8.ОСС'!AV:AV)+SUMIF('9.ПИР'!$E:$E, $I22, '9.ПИР'!AD:AD)+SUMIF('10.БКП'!$E:$E, $I22, '10.БКП'!AD:AD)+SUMIF('11.ПЗС'!$E:$E, $I22, '11.ПЗС'!AE:AE))","v":0},{"$f":"IF($I22=\"\", 0, SUMIF('7.СМР'!$E:$E, $I22, '7.СМР'!AE:AE)+SUMIF('8.ОСС'!$E:$E, $I22, '8.ОСС'!AW:AW)+SUMIF('9.ПИР'!$E:$E, $I22, '9.ПИР'!AE:AE)+SUMIF('10.БКП'!$E:$E, $I22, '10.БКП'!AE:AE)+SUMIF('11.ПЗС'!$E:$E, $I22, '11.ПЗС'!AF:AF))","v":0},null,12961,0,12961,{"$f":"IF($I22=\"\", \"\", VLOOKUP($I22,objects, '05.РКС'!L$18-'05.РКС'!$B$18+1, 0))","v":"2017-04-01"},{"$f":"IF($I22=\"\", \"\", VLOOKUP($I22,objects, '05.РКС'!M$18-'05.РКС'!$B$18+1, 0))","v":"2017-12-30"},{"$f":"IF($I22=\"\", \"\", VLOOKUP($I22,objects, '05.РКС'!N$18-'05.РКС'!$B$18+1, 0))","v":"Правила  по обеспечению  безопасности  и   антитеррористической  защищенности   объектов топливно-энергетического комплекса   п.302,  утв. Правительством  РФ от 05.05.2012г №458,  рекомендации  техаудита ПАО \"РусГидро\" 01.07.2016г "},{"$f":"IF($I22=\"\", \"\", VLOOKUP($I22,objects, '05.РКС'!P$18-'05.РКС'!$B$18+1, 0))","v":0},0]
[null,null,"АО \"Вилюйская ГЭС-3\"","Прочее",0,"","Прочая основная деятельность","Высокий",{"$f":"IF(ISBLANK('05.РКС'!B24), \"\", '05.РКС'!B24)","v":"2016-1.4.2."},"Здание ГЭС.Противотаранное устройство на границе охранной зоны   акватории. Оборудование",{"$f":"IF($I23=\"\", 0, SUMIF('7.СМР'!$E:$E, $I23, '7.СМР'!G:G)+SUMIF('8.ОСС'!$E:$E, $I23, '8.ОСС'!Y:Y)+SUMIF('9.ПИР'!$E:$E, $I23, '9.ПИР'!G:G)+SUMIF('10.БКП'!$E:$E, $I23, '10.БКП'!G:G)+SUMIF('11.ПЗС'!$E:$E, $I23, '11.ПЗС'!H:H))","v":0},{"$f":"IF($I23=\"\", 0, SUMIF('7.СМР'!$E:$E, $I23, '7.СМР'!H:H)+SUMIF('8.ОСС'!$E:$E, $I23, '8.ОСС'!Z:Z)+SUMIF('9.ПИР'!$E:$E, $I23, '9.ПИР'!H:H)+SUMIF('10.БКП'!$E:$E, $I23, '10.БКП'!H:H)+SUMIF('11.ПЗС'!$E:$E, $I23, '11.ПЗС'!I:I))","v":0},{"$f":"IF($I23=\"\", 0, SUMIF('7.СМР'!$E:$E, $I23, '7.СМР'!I:I)+SUMIF('8.ОСС'!$E:$E, $I23, '8.ОСС'!AA:AA)+SUMIF('9.ПИР'!$E:$E, $I23, '9.ПИР'!I:I)+SUMIF('10.БКП'!$E:$E, $I23, '10.БКП'!I:I)+SUMIF('11.ПЗС'!$E:$E, $I23, '11.ПЗС'!J:J))","v":0},{"$f":"IF($I23=\"\", 0, SUMIF('7.СМР'!$E:$E, $I23, '7.СМР'!J:J)+SUMIF('8.ОСС'!$E:$E, $I23, '8.ОСС'!AB:AB)+SUMIF('9.ПИР'!$E:$E, $I23, '9.ПИР'!J:J)+SUMIF('10.БКП'!$E:$E, $I23, '10.БКП'!J:J)+SUMIF('11.ПЗС'!$E:$E, $I23, '11.ПЗС'!K:K))","v":0},{"$f":"IF($I23=\"\", 0, SUMIF('7.СМР'!$E:$E, $I23, '7.СМР'!K:K)+SUMIF('8.ОСС'!$E:$E, $I23, '8.ОСС'!AC:AC)+SUMIF('9.ПИР'!$E:$E, $I23, '9.ПИР'!K:K)+SUMIF('10.БКП'!$E:$E, $I23, '10.БКП'!K:K)+SUMIF('11.ПЗС'!$E:$E, $I23, '11.ПЗС'!L:L))","v":0},{"$f":"IF($I23=\"\", 0, SUMIF('7.СМР'!$E:$E, $I23, '7.СМР'!L:L)+SUMIF('8.ОСС'!$E:$E, $I23, '8.ОСС'!AD:AD)+SUMIF('9.ПИР'!$E:$E, $I23, '9.ПИР'!L:L)+SUMIF('10.БКП'!$E:$E, $I23, '10.БКП'!L:L)+SUMIF('11.ПЗС'!$E:$E, $I23, '11.ПЗС'!M:M))","v":0},{"$f":"IF($I23=\"\", 0, SUMIF('7.СМР'!$E:$E, $I23, '7.СМР'!M:M)+SUMIF('8.ОСС'!$E:$E, $I23, '8.ОСС'!AE:AE)+SUMIF('9.ПИР'!$E:$E, $I23, '9.ПИР'!M:M)+SUMIF('10.БКП'!$E:$E, $I23, '10.БКП'!M:M)+SUMIF('11.ПЗС'!$E:$E, $I23, '11.ПЗС'!N:N))","v":0},{"$f":"IF($I23=\"\", 0, SUMIF('7.СМР'!$E:$E, $I23, '7.СМР'!N:N)+SUMIF('8.ОСС'!$E:$E, $I23, '8.ОСС'!AF:AF)+SUMIF('9.ПИР'!$E:$E, $I23, '9.ПИР'!N:N)+SUMIF('10.БКП'!$E:$E, $I23, '10.БКП'!N:N)+SUMIF('11.ПЗС'!$E:$E, $I23, '11.ПЗС'!O:O))","v":0},{"$f":"IF($I23=\"\", 0, SUMIF('7.СМР'!$E:$E, $I23, '7.СМР'!O:O)+SUMIF('8.ОСС'!$E:$E, $I23, '8.ОСС'!AG:AG)+SUMIF('9.ПИР'!$E:$E, $I23, '9.ПИР'!O:O)+SUMIF('10.БКП'!$E:$E, $I23, '10.БКП'!O:O)+SUMIF('11.ПЗС'!$E:$E, $I23, '11.ПЗС'!P:P))","v":0},{"$f":"IF($I23=\"\", 0, SUMIF('7.СМР'!$E:$E, $I23, '7.СМР'!P:P)+SUMIF('8.ОСС'!$E:$E, $I23, '8.ОСС'!AH:AH)+SUMIF('9.ПИР'!$E:$E, $I23, '9.ПИР'!P:P)+SUMIF('10.БКП'!$E:$E, $I23, '10.БКП'!P:P)+SUMIF('11.ПЗС'!$E:$E, $I23, '11.ПЗС'!Q:Q))","v":0},0,0,0,0,null,0,0,{"$f":"IF($I23=\"\", 0, SUMIF('7.СМР'!$E:$E, $I23, '7.СМР'!X:X)+SUMIF('8.ОСС'!$E:$E, $I23, '8.ОСС'!AP:AP)+SUMIF('9.ПИР'!$E:$E, $I23, '9.ПИР'!X:X)+SUMIF('10.БКП'!$E:$E, $I23, '10.БКП'!X:X)+SUMIF('11.ПЗС'!$E:$E, $I23, '11.ПЗС'!Y:Y))","v":0},{"$f":"IF($I23=\"\", 0, SUMIF('7.СМР'!$E:$E, $I23, '7.СМР'!Y:Y)+SUMIF('8.ОСС'!$E:$E, $I23, '8.ОСС'!AQ:AQ)+SUMIF('9.ПИР'!$E:$E, $I23, '9.ПИР'!Y:Y)+SUMIF('10.БКП'!$E:$E, $I23, '10.БКП'!Y:Y)+SUMIF('11.ПЗС'!$E:$E, $I23, '11.ПЗС'!Z:Z))","v":0},{"$f":"IF($I23=\"\", 0, SUMIF('7.СМР'!$E:$E, $I23, '7.СМР'!Z:Z)+SUMIF('8.ОСС'!$E:$E, $I23, '8.ОСС'!AR:AR)+SUMIF('9.ПИР'!$E:$E, $I23, '9.ПИР'!Z:Z)+SUMIF('10.БКП'!$E:$E, $I23, '10.БКП'!Z:Z)+SUMIF('11.ПЗС'!$E:$E, $I23, '11.ПЗС'!AA:AA))","v":0},{"$f":"IF($I23=\"\", 0, SUMIF('7.СМР'!$E:$E, $I23, '7.СМР'!AA:AA)+SUMIF('8.ОСС'!$E:$E, $I23, '8.ОСС'!AS:AS)+SUMIF('9.ПИР'!$E:$E, $I23, '9.ПИР'!AA:AA)+SUMIF('10.БКП'!$E:$E, $I23, '10.БКП'!AA:AA)+SUMIF('11.ПЗС'!$E:$E, $I23, '11.ПЗС'!AB:AB))","v":0},{"$f":"IF($I23=\"\", 0, SUMIF('7.СМР'!$E:$E, $I23, '7.СМР'!AB:AB)+SUMIF('8.ОСС'!$E:$E, $I23, '8.ОСС'!AT:AT)+SUMIF('9.ПИР'!$E:$E, $I23, '9.ПИР'!AB:AB)+SUMIF('10.БКП'!$E:$E, $I23, '10.БКП'!AB:AB)+SUMIF('11.ПЗС'!$E:$E, $I23, '11.ПЗС'!AC:AC))","v":0},{"$f":"IF($I23=\"\", 0, SUMIF('7.СМР'!$E:$E, $I23, '7.СМР'!AC:AC)+SUMIF('8.ОСС'!$E:$E, $I23, '8.ОСС'!AU:AU)+SUMIF('9.ПИР'!$E:$E, $I23, '9.ПИР'!AC:AC)+SUMIF('10.БКП'!$E:$E, $I23, '10.БКП'!AC:AC)+SUMIF('11.ПЗС'!$E:$E, $I23, '11.ПЗС'!AD:AD))","v":0},{"$f":"IF($I23=\"\", 0, SUMIF('7.СМР'!$E:$E, $I23, '7.СМР'!AD:AD)+SUMIF('8.ОСС'!$E:$E, $I23, '8.ОСС'!AV:AV)+SUMIF('9.ПИР'!$E:$E, $I23, '9.ПИР'!AD:AD)+SUMIF('10.БКП'!$E:$E, $I23, '10.БКП'!AD:AD)+SUMIF('11.ПЗС'!$E:$E, $I23, '11.ПЗС'!AE:AE))","v":0},{"$f":"IF($I23=\"\", 0, SUMIF('7.СМР'!$E:$E, $I23, '7.СМР'!AE:AE)+SUMIF('8.ОСС'!$E:$E, $I23, '8.ОСС'!AW:AW)+SUMIF('9.ПИР'!$E:$E, $I23, '9.ПИР'!AE:AE)+SUMIF('10.БКП'!$E:$E, $I23, '10.БКП'!AE:AE)+SUMIF('11.ПЗС'!$E:$E, $I23, '11.ПЗС'!AF:AF))","v":0},null,1740,0,1740,{"$f":"IF($I23=\"\", \"\", VLOOKUP($I23,objects, '05.РКС'!L$18-'05.РКС'!$B$18+1, 0))","v":"2017-04-01"},{"$f":"IF($I23=\"\", \"\", VLOOKUP($I23,objects, '05.РКС'!M$18-'05.РКС'!$B$18+1, 0))","v":"2017-12-30"},{"$f":"IF($I23=\"\", \"\", VLOOKUP($I23,objects, '05.РКС'!N$18-'05.РКС'!$B$18+1, 0))","v":"Правила  по обеспечению  безопасности  и   антитеррористической  защищенности   объектов топливно-энергетического комплекса   п.302,  утв. Правительством  РФ от 05.05.2012г №458,  рекомендации  техаудита ПАО \"РусГидро\" 01.07.2016г "},{"$f":"IF($I23=\"\", \"\", VLOOKUP($I23,objects, '05.РКС'!P$18-'05.РКС'!$B$18+1, 0))","v":0},0]
[null,null,"АО \"Вилюйская ГЭС-3\"","Прочее",0,"","Прочая основная деятельность","Высокий",{"$f":"IF(ISBLANK('05.РКС'!B25), \"\", '05.РКС'!B25)","v":"2016-1.4.3."},"Здание ГЭС.Противотаранное устройство на границе охранной зоны   акватории. Оборудование",{"$f":"IF($I24=\"\", 0, SUMIF('7.СМР'!$E:$E, $I24, '7.СМР'!G:G)+SUMIF('8.ОСС'!$E:$E, $I24, '8.ОСС'!Y:Y)+SUMIF('9.ПИР'!$E:$E, $I24, '9.ПИР'!G:G)+SUMIF('10.БКП'!$E:$E, $I24, '10.БКП'!G:G)+SUMIF('11.ПЗС'!$E:$E, $I24, '11.ПЗС'!H:H))","v":0},{"$f":"IF($I24=\"\", 0, SUMIF('7.СМР'!$E:$E, $I24, '7.СМР'!H:H)+SUMIF('8.ОСС'!$E:$E, $I24, '8.ОСС'!Z:Z)+SUMIF('9.ПИР'!$E:$E, $I24, '9.ПИР'!H:H)+SUMIF('10.БКП'!$E:$E, $I24, '10.БКП'!H:H)+SUMIF('11.ПЗС'!$E:$E, $I24, '11.ПЗС'!I:I))","v":0},{"$f":"IF($I24=\"\", 0, SUMIF('7.СМР'!$E:$E, $I24, '7.СМР'!I:I)+SUMIF('8.ОСС'!$E:$E, $I24, '8.ОСС'!AA:AA)+SUMIF('9.ПИР'!$E:$E, $I24, '9.ПИР'!I:I)+SUMIF('10.БКП'!$E:$E, $I24, '10.БКП'!I:I)+SUMIF('11.ПЗС'!$E:$E, $I24, '11.ПЗС'!J:J))","v":0},{"$f":"IF($I24=\"\", 0, SUMIF('7.СМР'!$E:$E, $I24, '7.СМР'!J:J)+SUMIF('8.ОСС'!$E:$E, $I24, '8.ОСС'!AB:AB)+SUMIF('9.ПИР'!$E:$E, $I24, '9.ПИР'!J:J)+SUMIF('10.БКП'!$E:$E, $I24, '10.БКП'!J:J)+SUMIF('11.ПЗС'!$E:$E, $I24, '11.ПЗС'!K:K))","v":0},{"$f":"IF($I24=\"\", 0, SUMIF('7.СМР'!$E:$E, $I24, '7.СМР'!K:K)+SUMIF('8.ОСС'!$E:$E, $I24, '8.ОСС'!AC:AC)+SUMIF('9.ПИР'!$E:$E, $I24, '9.ПИР'!K:K)+SUMIF('10.БКП'!$E:$E, $I24, '10.БКП'!K:K)+SUMIF('11.ПЗС'!$E:$E, $I24, '11.ПЗС'!L:L))","v":0},{"$f":"IF($I24=\"\", 0, SUMIF('7.СМР'!$E:$E, $I24, '7.СМР'!L:L)+SUMIF('8.ОСС'!$E:$E, $I24, '8.ОСС'!AD:AD)+SUMIF('9.ПИР'!$E:$E, $I24, '9.ПИР'!L:L)+SUMIF('10.БКП'!$E:$E, $I24, '10.БКП'!L:L)+SUMIF('11.ПЗС'!$E:$E, $I24, '11.ПЗС'!M:M))","v":0},{"$f":"IF($I24=\"\", 0, SUMIF('7.СМР'!$E:$E, $I24, '7.СМР'!M:M)+SUMIF('8.ОСС'!$E:$E, $I24, '8.ОСС'!AE:AE)+SUMIF('9.ПИР'!$E:$E, $I24, '9.ПИР'!M:M)+SUMIF('10.БКП'!$E:$E, $I24, '10.БКП'!M:M)+SUMIF('11.ПЗС'!$E:$E, $I24, '11.ПЗС'!N:N))","v":0},{"$f":"IF($I24=\"\", 0, SUMIF('7.СМР'!$E:$E, $I24, '7.СМР'!N:N)+SUMIF('8.ОСС'!$E:$E, $I24, '8.ОСС'!AF:AF)+SUMIF('9.ПИР'!$E:$E, $I24, '9.ПИР'!N:N)+SUMIF('10.БКП'!$E:$E, $I24, '10.БКП'!N:N)+SUMIF('11.ПЗС'!$E:$E, $I24, '11.ПЗС'!O:O))","v":0},{"$f":"IF($I24=\"\", 0, SUMIF('7.СМР'!$E:$E, $I24, '7.СМР'!O:O)+SUMIF('8.ОСС'!$E:$E, $I24, '8.ОСС'!AG:AG)+SUMIF('9.ПИР'!$E:$E, $I24, '9.ПИР'!O:O)+SUMIF('10.БКП'!$E:$E, $I24, '10.БКП'!O:O)+SUMIF('11.ПЗС'!$E:$E, $I24, '11.ПЗС'!P:P))","v":0},{"$f":"IF($I24=\"\", 0, SUMIF('7.СМР'!$E:$E, $I24, '7.СМР'!P:P)+SUMIF('8.ОСС'!$E:$E, $I24, '8.ОСС'!AH:AH)+SUMIF('9.ПИР'!$E:$E, $I24, '9.ПИР'!P:P)+SUMIF('10.БКП'!$E:$E, $I24, '10.БКП'!P:P)+SUMIF('11.ПЗС'!$E:$E, $I24, '11.ПЗС'!Q:Q))","v":0},0,0,0,0,null,0,0,{"$f":"IF($I24=\"\", 0, SUMIF('7.СМР'!$E:$E, $I24, '7.СМР'!X:X)+SUMIF('8.ОСС'!$E:$E, $I24, '8.ОСС'!AP:AP)+SUMIF('9.ПИР'!$E:$E, $I24, '9.ПИР'!X:X)+SUMIF('10.БКП'!$E:$E, $I24, '10.БКП'!X:X)+SUMIF('11.ПЗС'!$E:$E, $I24, '11.ПЗС'!Y:Y))","v":0},{"$f":"IF($I24=\"\", 0, SUMIF('7.СМР'!$E:$E, $I24, '7.СМР'!Y:Y)+SUMIF('8.ОСС'!$E:$E, $I24, '8.ОСС'!AQ:AQ)+SUMIF('9.ПИР'!$E:$E, $I24, '9.ПИР'!Y:Y)+SUMIF('10.БКП'!$E:$E, $I24, '10.БКП'!Y:Y)+SUMIF('11.ПЗС'!$E:$E, $I24, '11.ПЗС'!Z:Z))","v":0},{"$f":"IF($I24=\"\", 0, SUMIF('7.СМР'!$E:$E, $I24, '7.СМР'!Z:Z)+SUMIF('8.ОСС'!$E:$E, $I24, '8.ОСС'!AR:AR)+SUMIF('9.ПИР'!$E:$E, $I24, '9.ПИР'!Z:Z)+SUMIF('10.БКП'!$E:$E, $I24, '10.БКП'!Z:Z)+SUMIF('11.ПЗС'!$E:$E, $I24, '11.ПЗС'!AA:AA))","v":0},{"$f":"IF($I24=\"\", 0, SUMIF('7.СМР'!$E:$E, $I24, '7.СМР'!AA:AA)+SUMIF('8.ОСС'!$E:$E, $I24, '8.ОСС'!AS:AS)+SUMIF('9.ПИР'!$E:$E, $I24, '9.ПИР'!AA:AA)+SUMIF('10.БКП'!$E:$E, $I24, '10.БКП'!AA:AA)+SUMIF('11.ПЗС'!$E:$E, $I24, '11.ПЗС'!AB:AB))","v":0},{"$f":"IF($I24=\"\", 0, SUMIF('7.СМР'!$E:$E, $I24, '7.СМР'!AB:AB)+SUMIF('8.ОСС'!$E:$E, $I24, '8.ОСС'!AT:AT)+SUMIF('9.ПИР'!$E:$E, $I24, '9.ПИР'!AB:AB)+SUMIF('10.БКП'!$E:$E, $I24, '10.БКП'!AB:AB)+SUMIF('11.ПЗС'!$E:$E, $I24, '11.ПЗС'!AC:AC))","v":0},{"$f":"IF($I24=\"\", 0, SUMIF('7.СМР'!$E:$E, $I24, '7.СМР'!AC:AC)+SUMIF('8.ОСС'!$E:$E, $I24, '8.ОСС'!AU:AU)+SUMIF('9.ПИР'!$E:$E, $I24, '9.ПИР'!AC:AC)+SUMIF('10.БКП'!$E:$E, $I24, '10.БКП'!AC:AC)+SUMIF('11.ПЗС'!$E:$E, $I24, '11.ПЗС'!AD:AD))","v":0},{"$f":"IF($I24=\"\", 0, SUMIF('7.СМР'!$E:$E, $I24, '7.СМР'!AD:AD)+SUMIF('8.ОСС'!$E:$E, $I24, '8.ОСС'!AV:AV)+SUMIF('9.ПИР'!$E:$E, $I24, '9.ПИР'!AD:AD)+SUMIF('10.БКП'!$E:$E, $I24, '10.БКП'!AD:AD)+SUMIF('11.ПЗС'!$E:$E, $I24, '11.ПЗС'!AE:AE))","v":0},{"$f":"IF($I24=\"\", 0, SUMIF('7.СМР'!$E:$E, $I24, '7.СМР'!AE:AE)+SUMIF('8.ОСС'!$E:$E, $I24, '8.ОСС'!AW:AW)+SUMIF('9.ПИР'!$E:$E, $I24, '9.ПИР'!AE:AE)+SUMIF('10.БКП'!$E:$E, $I24, '10.БКП'!AE:AE)+SUMIF('11.ПЗС'!$E:$E, $I24, '11.ПЗС'!AF:AF))","v":0},null,21,0,21,{"$f":"IF($I24=\"\", \"\", VLOOKUP($I24,objects, '05.РКС'!L$18-'05.РКС'!$B$18+1, 0))","v":"2017-04-01"},{"$f":"IF($I24=\"\", \"\", VLOOKUP($I24,objects, '05.РКС'!M$18-'05.РКС'!$B$18+1, 0))","v":"2017-12-30"},{"$f":"IF($I24=\"\", \"\", VLOOKUP($I24,objects, '05.РКС'!N$18-'05.РКС'!$B$18+1, 0))","v":"Правила  по обеспечению  безопасности  и   антитеррористической  защищенности   объектов топливно-энергетического комплекса   п.302,  утв. Правительством  РФ от 05.05.2012г №458,  рекомендации  техаудита ПАО \"РусГидро\" 01.07.2016г "},{"$f":"IF($I24=\"\", \"\", VLOOKUP($I24,objects, '05.РКС'!P$18-'05.РКС'!$B$18+1, 0))","v":0},0]
[null,null,"АО \"Вилюйская ГЭС-3\"","Прочее",0,"","Прочая основная деятельность","Высокий",{"$f":"IF(ISBLANK('05.РКС'!B26), \"\", '05.РКС'!B26)","v":"2016-1.5."},"Здание ГЭС. Электроосвещение помещения   окраски затворов (отм.154 оси А-1-2)",{"$f":"IF($I25=\"\", 0, SUMIF('7.СМР'!$E:$E, $I25, '7.СМР'!G:G)+SUMIF('8.ОСС'!$E:$E, $I25, '8.ОСС'!Y:Y)+SUMIF('9.ПИР'!$E:$E, $I25, '9.ПИР'!G:G)+SUMIF('10.БКП'!$E:$E, $I25, '10.БКП'!G:G)+SUMIF('11.ПЗС'!$E:$E, $I25, '11.ПЗС'!H:H))","v":0},{"$f":"IF($I25=\"\", 0, SUMIF('7.СМР'!$E:$E, $I25, '7.СМР'!H:H)+SUMIF('8.ОСС'!$E:$E, $I25, '8.ОСС'!Z:Z)+SUMIF('9.ПИР'!$E:$E, $I25, '9.ПИР'!H:H)+SUMIF('10.БКП'!$E:$E, $I25, '10.БКП'!H:H)+SUMIF('11.ПЗС'!$E:$E, $I25, '11.ПЗС'!I:I))","v":0},{"$f":"IF($I25=\"\", 0, SUMIF('7.СМР'!$E:$E, $I25, '7.СМР'!I:I)+SUMIF('8.ОСС'!$E:$E, $I25, '8.ОСС'!AA:AA)+SUMIF('9.ПИР'!$E:$E, $I25, '9.ПИР'!I:I)+SUMIF('10.БКП'!$E:$E, $I25, '10.БКП'!I:I)+SUMIF('11.ПЗС'!$E:$E, $I25, '11.ПЗС'!J:J))","v":0},{"$f":"IF($I25=\"\", 0, SUMIF('7.СМР'!$E:$E, $I25, '7.СМР'!J:J)+SUMIF('8.ОСС'!$E:$E, $I25, '8.ОСС'!AB:AB)+SUMIF('9.ПИР'!$E:$E, $I25, '9.ПИР'!J:J)+SUMIF('10.БКП'!$E:$E, $I25, '10.БКП'!J:J)+SUMIF('11.ПЗС'!$E:$E, $I25, '11.ПЗС'!K:K))","v":0},{"$f":"IF($I25=\"\", 0, SUMIF('7.СМР'!$E:$E, $I25, '7.СМР'!K:K)+SUMIF('8.ОСС'!$E:$E, $I25, '8.ОСС'!AC:AC)+SUMIF('9.ПИР'!$E:$E, $I25, '9.ПИР'!K:K)+SUMIF('10.БКП'!$E:$E, $I25, '10.БКП'!K:K)+SUMIF('11.ПЗС'!$E:$E, $I25, '11.ПЗС'!L:L))","v":0},{"$f":"IF($I25=\"\", 0, SUMIF('7.СМР'!$E:$E, $I25, '7.СМР'!L:L)+SUMIF('8.ОСС'!$E:$E, $I25, '8.ОСС'!AD:AD)+SUMIF('9.ПИР'!$E:$E, $I25, '9.ПИР'!L:L)+SUMIF('10.БКП'!$E:$E, $I25, '10.БКП'!L:L)+SUMIF('11.ПЗС'!$E:$E, $I25, '11.ПЗС'!M:M))","v":0},{"$f":"IF($I25=\"\", 0, SUMIF('7.СМР'!$E:$E, $I25, '7.СМР'!M:M)+SUMIF('8.ОСС'!$E:$E, $I25, '8.ОСС'!AE:AE)+SUMIF('9.ПИР'!$E:$E, $I25, '9.ПИР'!M:M)+SUMIF('10.БКП'!$E:$E, $I25, '10.БКП'!M:M)+SUMIF('11.ПЗС'!$E:$E, $I25, '11.ПЗС'!N:N))","v":0},{"$f":"IF($I25=\"\", 0, SUMIF('7.СМР'!$E:$E, $I25, '7.СМР'!N:N)+SUMIF('8.ОСС'!$E:$E, $I25, '8.ОСС'!AF:AF)+SUMIF('9.ПИР'!$E:$E, $I25, '9.ПИР'!N:N)+SUMIF('10.БКП'!$E:$E, $I25, '10.БКП'!N:N)+SUMIF('11.ПЗС'!$E:$E, $I25, '11.ПЗС'!O:O))","v":0},{"$f":"IF($I25=\"\", 0, SUMIF('7.СМР'!$E:$E, $I25, '7.СМР'!O:O)+SUMIF('8.ОСС'!$E:$E, $I25, '8.ОСС'!AG:AG)+SUMIF('9.ПИР'!$E:$E, $I25, '9.ПИР'!O:O)+SUMIF('10.БКП'!$E:$E, $I25, '10.БКП'!O:O)+SUMIF('11.ПЗС'!$E:$E, $I25, '11.ПЗС'!P:P))","v":0},{"$f":"IF($I25=\"\", 0, SUMIF('7.СМР'!$E:$E, $I25, '7.СМР'!P:P)+SUMIF('8.ОСС'!$E:$E, $I25, '8.ОСС'!AH:AH)+SUMIF('9.ПИР'!$E:$E, $I25, '9.ПИР'!P:P)+SUMIF('10.БКП'!$E:$E, $I25, '10.БКП'!P:P)+SUMIF('11.ПЗС'!$E:$E, $I25, '11.ПЗС'!Q:Q))","v":0},0,0,0,0,null,0,0,{"$f":"IF($I25=\"\", 0, SUMIF('7.СМР'!$E:$E, $I25, '7.СМР'!X:X)+SUMIF('8.ОСС'!$E:$E, $I25, '8.ОСС'!AP:AP)+SUMIF('9.ПИР'!$E:$E, $I25, '9.ПИР'!X:X)+SUMIF('10.БКП'!$E:$E, $I25, '10.БКП'!X:X)+SUMIF('11.ПЗС'!$E:$E, $I25, '11.ПЗС'!Y:Y))","v":0},{"$f":"IF($I25=\"\", 0, SUMIF('7.СМР'!$E:$E, $I25, '7.СМР'!Y:Y)+SUMIF('8.ОСС'!$E:$E, $I25, '8.ОСС'!AQ:AQ)+SUMIF('9.ПИР'!$E:$E, $I25, '9.ПИР'!Y:Y)+SUMIF('10.БКП'!$E:$E, $I25, '10.БКП'!Y:Y)+SUMIF('11.ПЗС'!$E:$E, $I25, '11.ПЗС'!Z:Z))","v":0},{"$f":"IF($I25=\"\", 0, SUMIF('7.СМР'!$E:$E, $I25, '7.СМР'!Z:Z)+SUMIF('8.ОСС'!$E:$E, $I25, '8.ОСС'!AR:AR)+SUMIF('9.ПИР'!$E:$E, $I25, '9.ПИР'!Z:Z)+SUMIF('10.БКП'!$E:$E, $I25, '10.БКП'!Z:Z)+SUMIF('11.ПЗС'!$E:$E, $I25, '11.ПЗС'!AA:AA))","v":0},{"$f":"IF($I25=\"\", 0, SUMIF('7.СМР'!$E:$E, $I25, '7.СМР'!AA:AA)+SUMIF('8.ОСС'!$E:$E, $I25, '8.ОСС'!AS:AS)+SUMIF('9.ПИР'!$E:$E, $I25, '9.ПИР'!AA:AA)+SUMIF('10.БКП'!$E:$E, $I25, '10.БКП'!AA:AA)+SUMIF('11.ПЗС'!$E:$E, $I25, '11.ПЗС'!AB:AB))","v":0},{"$f":"IF($I25=\"\", 0, SUMIF('7.СМР'!$E:$E, $I25, '7.СМР'!AB:AB)+SUMIF('8.ОСС'!$E:$E, $I25, '8.ОСС'!AT:AT)+SUMIF('9.ПИР'!$E:$E, $I25, '9.ПИР'!AB:AB)+SUMIF('10.БКП'!$E:$E, $I25, '10.БКП'!AB:AB)+SUMIF('11.ПЗС'!$E:$E, $I25, '11.ПЗС'!AC:AC))","v":0},{"$f":"IF($I25=\"\", 0, SUMIF('7.СМР'!$E:$E, $I25, '7.СМР'!AC:AC)+SUMIF('8.ОСС'!$E:$E, $I25, '8.ОСС'!AU:AU)+SUMIF('9.ПИР'!$E:$E, $I25, '9.ПИР'!AC:AC)+SUMIF('10.БКП'!$E:$E, $I25, '10.БКП'!AC:AC)+SUMIF('11.ПЗС'!$E:$E, $I25, '11.ПЗС'!AD:AD))","v":0},{"$f":"IF($I25=\"\", 0, SUMIF('7.СМР'!$E:$E, $I25, '7.СМР'!AD:AD)+SUMIF('8.ОСС'!$E:$E, $I25, '8.ОСС'!AV:AV)+SUMIF('9.ПИР'!$E:$E, $I25, '9.ПИР'!AD:AD)+SUMIF('10.БКП'!$E:$E, $I25, '10.БКП'!AD:AD)+SUMIF('11.ПЗС'!$E:$E, $I25, '11.ПЗС'!AE:AE))","v":0},{"$f":"IF($I25=\"\", 0, SUMIF('7.СМР'!$E:$E, $I25, '7.СМР'!AE:AE)+SUMIF('8.ОСС'!$E:$E, $I25, '8.ОСС'!AW:AW)+SUMIF('9.ПИР'!$E:$E, $I25, '9.ПИР'!AE:AE)+SUMIF('10.БКП'!$E:$E, $I25, '10.БКП'!AE:AE)+SUMIF('11.ПЗС'!$E:$E, $I25, '11.ПЗС'!AF:AF))","v":0},null,430,0,430,{"$f":"IF($I25=\"\", \"\", VLOOKUP($I25,objects, '05.РКС'!L$18-'05.РКС'!$B$18+1, 0))","v":"2017-01-01"},{"$f":"IF($I25=\"\", \"\", VLOOKUP($I25,objects, '05.РКС'!M$18-'05.РКС'!$B$18+1, 0))","v":"2017-07-30"},{"$f":"IF($I25=\"\", \"\", VLOOKUP($I25,objects, '05.РКС'!N$18-'05.РКС'!$B$18+1, 0))","v":"Приказ Министерства энергетики и электрификации СССР № 51пс от 19.04.1978 г. об утверждении ТЭО строительства Вилюйской ГЭС-3 на р.Вилюй; Разрешение на строительство № 8-5 от 15.06.2005 г., выданное УиАГ МО \"Мирнинский район\""},{"$f":"IF($I25=\"\", \"\", VLOOKUP($I25,objects, '05.РКС'!P$18-'05.РКС'!$B$18+1, 0))","v":0},0]
[null,null,"АО \"Вилюйская ГЭС-3\"","Прочее",0,"","Прочая основная деятельность","Высокий",{"$f":"IF(ISBLANK('05.РКС'!B27), \"\", '05.РКС'!B27)","v":"2016-1.6."},"Здание ГЭС.Электроосвещение  вспомогательного помещения",{"$f":"IF($I26=\"\", 0, SUMIF('7.СМР'!$E:$E, $I26, '7.СМР'!G:G)+SUMIF('8.ОСС'!$E:$E, $I26, '8.ОСС'!Y:Y)+SUMIF('9.ПИР'!$E:$E, $I26, '9.ПИР'!G:G)+SUMIF('10.БКП'!$E:$E, $I26, '10.БКП'!G:G)+SUMIF('11.ПЗС'!$E:$E, $I26, '11.ПЗС'!H:H))","v":0},{"$f":"IF($I26=\"\", 0, SUMIF('7.СМР'!$E:$E, $I26, '7.СМР'!H:H)+SUMIF('8.ОСС'!$E:$E, $I26, '8.ОСС'!Z:Z)+SUMIF('9.ПИР'!$E:$E, $I26, '9.ПИР'!H:H)+SUMIF('10.БКП'!$E:$E, $I26, '10.БКП'!H:H)+SUMIF('11.ПЗС'!$E:$E, $I26, '11.ПЗС'!I:I))","v":0},{"$f":"IF($I26=\"\", 0, SUMIF('7.СМР'!$E:$E, $I26, '7.СМР'!I:I)+SUMIF('8.ОСС'!$E:$E, $I26, '8.ОСС'!AA:AA)+SUMIF('9.ПИР'!$E:$E, $I26, '9.ПИР'!I:I)+SUMIF('10.БКП'!$E:$E, $I26, '10.БКП'!I:I)+SUMIF('11.ПЗС'!$E:$E, $I26, '11.ПЗС'!J:J))","v":0},{"$f":"IF($I26=\"\", 0, SUMIF('7.СМР'!$E:$E, $I26, '7.СМР'!J:J)+SUMIF('8.ОСС'!$E:$E, $I26, '8.ОСС'!AB:AB)+SUMIF('9.ПИР'!$E:$E, $I26, '9.ПИР'!J:J)+SUMIF('10.БКП'!$E:$E, $I26, '10.БКП'!J:J)+SUMIF('11.ПЗС'!$E:$E, $I26, '11.ПЗС'!K:K))","v":0},{"$f":"IF($I26=\"\", 0, SUMIF('7.СМР'!$E:$E, $I26, '7.СМР'!K:K)+SUMIF('8.ОСС'!$E:$E, $I26, '8.ОСС'!AC:AC)+SUMIF('9.ПИР'!$E:$E, $I26, '9.ПИР'!K:K)+SUMIF('10.БКП'!$E:$E, $I26, '10.БКП'!K:K)+SUMIF('11.ПЗС'!$E:$E, $I26, '11.ПЗС'!L:L))","v":0},{"$f":"IF($I26=\"\", 0, SUMIF('7.СМР'!$E:$E, $I26, '7.СМР'!L:L)+SUMIF('8.ОСС'!$E:$E, $I26, '8.ОСС'!AD:AD)+SUMIF('9.ПИР'!$E:$E, $I26, '9.ПИР'!L:L)+SUMIF('10.БКП'!$E:$E, $I26, '10.БКП'!L:L)+SUMIF('11.ПЗС'!$E:$E, $I26, '11.ПЗС'!M:M))","v":0},{"$f":"IF($I26=\"\", 0, SUMIF('7.СМР'!$E:$E, $I26, '7.СМР'!M:M)+SUMIF('8.ОСС'!$E:$E, $I26, '8.ОСС'!AE:AE)+SUMIF('9.ПИР'!$E:$E, $I26, '9.ПИР'!M:M)+SUMIF('10.БКП'!$E:$E, $I26, '10.БКП'!M:M)+SUMIF('11.ПЗС'!$E:$E, $I26, '11.ПЗС'!N:N))","v":0},{"$f":"IF($I26=\"\", 0, SUMIF('7.СМР'!$E:$E, $I26, '7.СМР'!N:N)+SUMIF('8.ОСС'!$E:$E, $I26, '8.ОСС'!AF:AF)+SUMIF('9.ПИР'!$E:$E, $I26, '9.ПИР'!N:N)+SUMIF('10.БКП'!$E:$E, $I26, '10.БКП'!N:N)+SUMIF('11.ПЗС'!$E:$E, $I26, '11.ПЗС'!O:O))","v":0},{"$f":"IF($I26=\"\", 0, SUMIF('7.СМР'!$E:$E, $I26, '7.СМР'!O:O)+SUMIF('8.ОСС'!$E:$E, $I26, '8.ОСС'!AG:AG)+SUMIF('9.ПИР'!$E:$E, $I26, '9.ПИР'!O:O)+SUMIF('10.БКП'!$E:$E, $I26, '10.БКП'!O:O)+SUMIF('11.ПЗС'!$E:$E, $I26, '11.ПЗС'!P:P))","v":0},{"$f":"IF($I26=\"\", 0, SUMIF('7.СМР'!$E:$E, $I26, '7.СМР'!P:P)+SUMIF('8.ОСС'!$E:$E, $I26, '8.ОСС'!AH:AH)+SUMIF('9.ПИР'!$E:$E, $I26, '9.ПИР'!P:P)+SUMIF('10.БКП'!$E:$E, $I26, '10.БКП'!P:P)+SUMIF('11.ПЗС'!$E:$E, $I26, '11.ПЗС'!Q:Q))","v":0},0,0,0,0,null,0,0,{"$f":"IF($I26=\"\", 0, SUMIF('7.СМР'!$E:$E, $I26, '7.СМР'!X:X)+SUMIF('8.ОСС'!$E:$E, $I26, '8.ОСС'!AP:AP)+SUMIF('9.ПИР'!$E:$E, $I26, '9.ПИР'!X:X)+SUMIF('10.БКП'!$E:$E, $I26, '10.БКП'!X:X)+SUMIF('11.ПЗС'!$E:$E, $I26, '11.ПЗС'!Y:Y))","v":0},{"$f":"IF($I26=\"\", 0, SUMIF('7.СМР'!$E:$E, $I26, '7.СМР'!Y:Y)+SUMIF('8.ОСС'!$E:$E, $I26, '8.ОСС'!AQ:AQ)+SUMIF('9.ПИР'!$E:$E, $I26, '9.ПИР'!Y:Y)+SUMIF('10.БКП'!$E:$E, $I26, '10.БКП'!Y:Y)+SUMIF('11.ПЗС'!$E:$E, $I26, '11.ПЗС'!Z:Z))","v":0},{"$f":"IF($I26=\"\", 0, SUMIF('7.СМР'!$E:$E, $I26, '7.СМР'!Z:Z)+SUMIF('8.ОСС'!$E:$E, $I26, '8.ОСС'!AR:AR)+SUMIF('9.ПИР'!$E:$E, $I26, '9.ПИР'!Z:Z)+SUMIF('10.БКП'!$E:$E, $I26, '10.БКП'!Z:Z)+SUMIF('11.ПЗС'!$E:$E, $I26, '11.ПЗС'!AA:AA))","v":0},{"$f":"IF($I26=\"\", 0, SUMIF('7.СМР'!$E:$E, $I26, '7.СМР'!AA:AA)+SUMIF('8.ОСС'!$E:$E, $I26, '8.ОСС'!AS:AS)+SUMIF('9.ПИР'!$E:$E, $I26, '9.ПИР'!AA:AA)+SUMIF('10.БКП'!$E:$E, $I26, '10.БКП'!AA:AA)+SUMIF('11.ПЗС'!$E:$E, $I26, '11.ПЗС'!AB:AB))","v":0},{"$f":"IF($I26=\"\", 0, SUMIF('7.СМР'!$E:$E, $I26, '7.СМР'!AB:AB)+SUMIF('8.ОСС'!$E:$E, $I26, '8.ОСС'!AT:AT)+SUMIF('9.ПИР'!$E:$E, $I26, '9.ПИР'!AB:AB)+SUMIF('10.БКП'!$E:$E, $I26, '10.БКП'!AB:AB)+SUMIF('11.ПЗС'!$E:$E, $I26, '11.ПЗС'!AC:AC))","v":0},{"$f":"IF($I26=\"\", 0, SUMIF('7.СМР'!$E:$E, $I26, '7.СМР'!AC:AC)+SUMIF('8.ОСС'!$E:$E, $I26, '8.ОСС'!AU:AU)+SUMIF('9.ПИР'!$E:$E, $I26, '9.ПИР'!AC:AC)+SUMIF('10.БКП'!$E:$E, $I26, '10.БКП'!AC:AC)+SUMIF('11.ПЗС'!$E:$E, $I26, '11.ПЗС'!AD:AD))","v":0},{"$f":"IF($I26=\"\", 0, SUMIF('7.СМР'!$E:$E, $I26, '7.СМР'!AD:AD)+SUMIF('8.ОСС'!$E:$E, $I26, '8.ОСС'!AV:AV)+SUMIF('9.ПИР'!$E:$E, $I26, '9.ПИР'!AD:AD)+SUMIF('10.БКП'!$E:$E, $I26, '10.БКП'!AD:AD)+SUMIF('11.ПЗС'!$E:$E, $I26, '11.ПЗС'!AE:AE))","v":0},{"$f":"IF($I26=\"\", 0, SUMIF('7.СМР'!$E:$E, $I26, '7.СМР'!AE:AE)+SUMIF('8.ОСС'!$E:$E, $I26, '8.ОСС'!AW:AW)+SUMIF('9.ПИР'!$E:$E, $I26, '9.ПИР'!AE:AE)+SUMIF('10.БКП'!$E:$E, $I26, '10.БКП'!AE:AE)+SUMIF('11.ПЗС'!$E:$E, $I26, '11.ПЗС'!AF:AF))","v":0},null,139,0,139,{"$f":"IF($I26=\"\", \"\", VLOOKUP($I26,objects, '05.РКС'!L$18-'05.РКС'!$B$18+1, 0))","v":"2017-04-01"},{"$f":"IF($I26=\"\", \"\", VLOOKUP($I26,objects, '05.РКС'!M$18-'05.РКС'!$B$18+1, 0))","v":"2017-06-30"},{"$f":"IF($I26=\"\", \"\", VLOOKUP($I26,objects, '05.РКС'!N$18-'05.РКС'!$B$18+1, 0))","v":"Приказ Министерства энергетики и электрификации СССР № 51пс от 19.04.1978 г. об утверждении ТЭО строительства Вилюйской ГЭС-3 на р.Вилюй; Разрешение на строительство № 8-5 от 15.06.2005 г., выданное УиАГ МО \"Мирнинский район\""},{"$f":"IF($I26=\"\", \"\", VLOOKUP($I26,objects, '05.РКС'!P$18-'05.РКС'!$B$18+1, 0))","v":0},0]
[null,null,"АО \"Вилюйская ГЭС-3\"","Прочее",0,"","Прочая основная деятельность","Высокий",{"$f":"IF(ISBLANK('05.РКС'!B28), \"\", '05.РКС'!B28)","v":"2016-1.7."},"Здание ГЭС.Электроосвещение и  заземление помещения венткамеры вытяжной (отм.165,20)",{"$f":"IF($I27=\"\", 0, SUMIF('7.СМР'!$E:$E, $I27, '7.СМР'!G:G)+SUMIF('8.ОСС'!$E:$E, $I27, '8.ОСС'!Y:Y)+SUMIF('9.ПИР'!$E:$E, $I27, '9.ПИР'!G:G)+SUMIF('10.БКП'!$E:$E, $I27, '10.БКП'!G:G)+SUMIF('11.ПЗС'!$E:$E, $I27, '11.ПЗС'!H:H))","v":0},{"$f":"IF($I27=\"\", 0, SUMIF('7.СМР'!$E:$E, $I27, '7.СМР'!H:H)+SUMIF('8.ОСС'!$E:$E, $I27, '8.ОСС'!Z:Z)+SUMIF('9.ПИР'!$E:$E, $I27, '9.ПИР'!H:H)+SUMIF('10.БКП'!$E:$E, $I27, '10.БКП'!H:H)+SUMIF('11.ПЗС'!$E:$E, $I27, '11.ПЗС'!I:I))","v":0},{"$f":"IF($I27=\"\", 0, SUMIF('7.СМР'!$E:$E, $I27, '7.СМР'!I:I)+SUMIF('8.ОСС'!$E:$E, $I27, '8.ОСС'!AA:AA)+SUMIF('9.ПИР'!$E:$E, $I27, '9.ПИР'!I:I)+SUMIF('10.БКП'!$E:$E, $I27, '10.БКП'!I:I)+SUMIF('11.ПЗС'!$E:$E, $I27, '11.ПЗС'!J:J))","v":0},{"$f":"IF($I27=\"\", 0, SUMIF('7.СМР'!$E:$E, $I27, '7.СМР'!J:J)+SUMIF('8.ОСС'!$E:$E, $I27, '8.ОСС'!AB:AB)+SUMIF('9.ПИР'!$E:$E, $I27, '9.ПИР'!J:J)+SUMIF('10.БКП'!$E:$E, $I27, '10.БКП'!J:J)+SUMIF('11.ПЗС'!$E:$E, $I27, '11.ПЗС'!K:K))","v":0},{"$f":"IF($I27=\"\", 0, SUMIF('7.СМР'!$E:$E, $I27, '7.СМР'!K:K)+SUMIF('8.ОСС'!$E:$E, $I27, '8.ОСС'!AC:AC)+SUMIF('9.ПИР'!$E:$E, $I27, '9.ПИР'!K:K)+SUMIF('10.БКП'!$E:$E, $I27, '10.БКП'!K:K)+SUMIF('11.ПЗС'!$E:$E, $I27, '11.ПЗС'!L:L))","v":0},{"$f":"IF($I27=\"\", 0, SUMIF('7.СМР'!$E:$E, $I27, '7.СМР'!L:L)+SUMIF('8.ОСС'!$E:$E, $I27, '8.ОСС'!AD:AD)+SUMIF('9.ПИР'!$E:$E, $I27, '9.ПИР'!L:L)+SUMIF('10.БКП'!$E:$E, $I27, '10.БКП'!L:L)+SUMIF('11.ПЗС'!$E:$E, $I27, '11.ПЗС'!M:M))","v":0},{"$f":"IF($I27=\"\", 0, SUMIF('7.СМР'!$E:$E, $I27, '7.СМР'!M:M)+SUMIF('8.ОСС'!$E:$E, $I27, '8.ОСС'!AE:AE)+SUMIF('9.ПИР'!$E:$E, $I27, '9.ПИР'!M:M)+SUMIF('10.БКП'!$E:$E, $I27, '10.БКП'!M:M)+SUMIF('11.ПЗС'!$E:$E, $I27, '11.ПЗС'!N:N))","v":0},{"$f":"IF($I27=\"\", 0, SUMIF('7.СМР'!$E:$E, $I27, '7.СМР'!N:N)+SUMIF('8.ОСС'!$E:$E, $I27, '8.ОСС'!AF:AF)+SUMIF('9.ПИР'!$E:$E, $I27, '9.ПИР'!N:N)+SUMIF('10.БКП'!$E:$E, $I27, '10.БКП'!N:N)+SUMIF('11.ПЗС'!$E:$E, $I27, '11.ПЗС'!O:O))","v":0},{"$f":"IF($I27=\"\", 0, SUMIF('7.СМР'!$E:$E, $I27, '7.СМР'!O:O)+SUMIF('8.ОСС'!$E:$E, $I27, '8.ОСС'!AG:AG)+SUMIF('9.ПИР'!$E:$E, $I27, '9.ПИР'!O:O)+SUMIF('10.БКП'!$E:$E, $I27, '10.БКП'!O:O)+SUMIF('11.ПЗС'!$E:$E, $I27, '11.ПЗС'!P:P))","v":0},{"$f":"IF($I27=\"\", 0, SUMIF('7.СМР'!$E:$E, $I27, '7.СМР'!P:P)+SUMIF('8.ОСС'!$E:$E, $I27, '8.ОСС'!AH:AH)+SUMIF('9.ПИР'!$E:$E, $I27, '9.ПИР'!P:P)+SUMIF('10.БКП'!$E:$E, $I27, '10.БКП'!P:P)+SUMIF('11.ПЗС'!$E:$E, $I27, '11.ПЗС'!Q:Q))","v":0},0,0,0,0,null,0,0,{"$f":"IF($I27=\"\", 0, SUMIF('7.СМР'!$E:$E, $I27, '7.СМР'!X:X)+SUMIF('8.ОСС'!$E:$E, $I27, '8.ОСС'!AP:AP)+SUMIF('9.ПИР'!$E:$E, $I27, '9.ПИР'!X:X)+SUMIF('10.БКП'!$E:$E, $I27, '10.БКП'!X:X)+SUMIF('11.ПЗС'!$E:$E, $I27, '11.ПЗС'!Y:Y))","v":0},{"$f":"IF($I27=\"\", 0, SUMIF('7.СМР'!$E:$E, $I27, '7.СМР'!Y:Y)+SUMIF('8.ОСС'!$E:$E, $I27, '8.ОСС'!AQ:AQ)+SUMIF('9.ПИР'!$E:$E, $I27, '9.ПИР'!Y:Y)+SUMIF('10.БКП'!$E:$E, $I27, '10.БКП'!Y:Y)+SUMIF('11.ПЗС'!$E:$E, $I27, '11.ПЗС'!Z:Z))","v":0},{"$f":"IF($I27=\"\", 0, SUMIF('7.СМР'!$E:$E, $I27, '7.СМР'!Z:Z)+SUMIF('8.ОСС'!$E:$E, $I27, '8.ОСС'!AR:AR)+SUMIF('9.ПИР'!$E:$E, $I27, '9.ПИР'!Z:Z)+SUMIF('10.БКП'!$E:$E, $I27, '10.БКП'!Z:Z)+SUMIF('11.ПЗС'!$E:$E, $I27, '11.ПЗС'!AA:AA))","v":0},{"$f":"IF($I27=\"\", 0, SUMIF('7.СМР'!$E:$E, $I27, '7.СМР'!AA:AA)+SUMIF('8.ОСС'!$E:$E, $I27, '8.ОСС'!AS:AS)+SUMIF('9.ПИР'!$E:$E, $I27, '9.ПИР'!AA:AA)+SUMIF('10.БКП'!$E:$E, $I27, '10.БКП'!AA:AA)+SUMIF('11.ПЗС'!$E:$E, $I27, '11.ПЗС'!AB:AB))","v":0},{"$f":"IF($I27=\"\", 0, SUMIF('7.СМР'!$E:$E, $I27, '7.СМР'!AB:AB)+SUMIF('8.ОСС'!$E:$E, $I27, '8.ОСС'!AT:AT)+SUMIF('9.ПИР'!$E:$E, $I27, '9.ПИР'!AB:AB)+SUMIF('10.БКП'!$E:$E, $I27, '10.БКП'!AB:AB)+SUMIF('11.ПЗС'!$E:$E, $I27, '11.ПЗС'!AC:AC))","v":0},{"$f":"IF($I27=\"\", 0, SUMIF('7.СМР'!$E:$E, $I27, '7.СМР'!AC:AC)+SUMIF('8.ОСС'!$E:$E, $I27, '8.ОСС'!AU:AU)+SUMIF('9.ПИР'!$E:$E, $I27, '9.ПИР'!AC:AC)+SUMIF('10.БКП'!$E:$E, $I27, '10.БКП'!AC:AC)+SUMIF('11.ПЗС'!$E:$E, $I27, '11.ПЗС'!AD:AD))","v":0},{"$f":"IF($I27=\"\", 0, SUMIF('7.СМР'!$E:$E, $I27, '7.СМР'!AD:AD)+SUMIF('8.ОСС'!$E:$E, $I27, '8.ОСС'!AV:AV)+SUMIF('9.ПИР'!$E:$E, $I27, '9.ПИР'!AD:AD)+SUMIF('10.БКП'!$E:$E, $I27, '10.БКП'!AD:AD)+SUMIF('11.ПЗС'!$E:$E, $I27, '11.ПЗС'!AE:AE))","v":0},{"$f":"IF($I27=\"\", 0, SUMIF('7.СМР'!$E:$E, $I27, '7.СМР'!AE:AE)+SUMIF('8.ОСС'!$E:$E, $I27, '8.ОСС'!AW:AW)+SUMIF('9.ПИР'!$E:$E, $I27, '9.ПИР'!AE:AE)+SUMIF('10.БКП'!$E:$E, $I27, '10.БКП'!AE:AE)+SUMIF('11.ПЗС'!$E:$E, $I27, '11.ПЗС'!AF:AF))","v":0},null,165,0,165,{"$f":"IF($I27=\"\", \"\", VLOOKUP($I27,objects, '05.РКС'!L$18-'05.РКС'!$B$18+1, 0))","v":"2017-04-01"},{"$f":"IF($I27=\"\", \"\", VLOOKUP($I27,objects, '05.РКС'!M$18-'05.РКС'!$B$18+1, 0))","v":"2017-06-30"},{"$f":"IF($I27=\"\", \"\", VLOOKUP($I27,objects, '05.РКС'!N$18-'05.РКС'!$B$18+1, 0))","v":"Приказ Министерства энергетики и электрификации СССР № 51пс от 19.04.1978 г. об утверждении ТЭО строительства Вилюйской ГЭС-3 на р.Вилюй; Разрешение на строительство № 8-5 от 15.06.2005 г., выданное УиАГ МО \"Мирнинский район\""},{"$f":"IF($I27=\"\", \"\", VLOOKUP($I27,objects, '05.РКС'!P$18-'05.РКС'!$B$18+1, 0))","v":0},0]
[null,null,"АО \"Вилюйская ГЭС-3\"","Прочее",0,"","Прочая основная деятельность","Высокий",{"$f":"IF(ISBLANK('05.РКС'!B29), \"\", '05.РКС'!B29)","v":"2016-1.8."},"Здание ГЭС.Электроосвещение и  заземление помещения венткамеры приточной (отм.165,20)",{"$f":"IF($I28=\"\", 0, SUMIF('7.СМР'!$E:$E, $I28, '7.СМР'!G:G)+SUMIF('8.ОСС'!$E:$E, $I28, '8.ОСС'!Y:Y)+SUMIF('9.ПИР'!$E:$E, $I28, '9.ПИР'!G:G)+SUMIF('10.БКП'!$E:$E, $I28, '10.БКП'!G:G)+SUMIF('11.ПЗС'!$E:$E, $I28, '11.ПЗС'!H:H))","v":0},{"$f":"IF($I28=\"\", 0, SUMIF('7.СМР'!$E:$E, $I28, '7.СМР'!H:H)+SUMIF('8.ОСС'!$E:$E, $I28, '8.ОСС'!Z:Z)+SUMIF('9.ПИР'!$E:$E, $I28, '9.ПИР'!H:H)+SUMIF('10.БКП'!$E:$E, $I28, '10.БКП'!H:H)+SUMIF('11.ПЗС'!$E:$E, $I28, '11.ПЗС'!I:I))","v":0},{"$f":"IF($I28=\"\", 0, SUMIF('7.СМР'!$E:$E, $I28, '7.СМР'!I:I)+SUMIF('8.ОСС'!$E:$E, $I28, '8.ОСС'!AA:AA)+SUMIF('9.ПИР'!$E:$E, $I28, '9.ПИР'!I:I)+SUMIF('10.БКП'!$E:$E, $I28, '10.БКП'!I:I)+SUMIF('11.ПЗС'!$E:$E, $I28, '11.ПЗС'!J:J))","v":0},{"$f":"IF($I28=\"\", 0, SUMIF('7.СМР'!$E:$E, $I28, '7.СМР'!J:J)+SUMIF('8.ОСС'!$E:$E, $I28, '8.ОСС'!AB:AB)+SUMIF('9.ПИР'!$E:$E, $I28, '9.ПИР'!J:J)+SUMIF('10.БКП'!$E:$E, $I28, '10.БКП'!J:J)+SUMIF('11.ПЗС'!$E:$E, $I28, '11.ПЗС'!K:K))","v":0},{"$f":"IF($I28=\"\", 0, SUMIF('7.СМР'!$E:$E, $I28, '7.СМР'!K:K)+SUMIF('8.ОСС'!$E:$E, $I28, '8.ОСС'!AC:AC)+SUMIF('9.ПИР'!$E:$E, $I28, '9.ПИР'!K:K)+SUMIF('10.БКП'!$E:$E, $I28, '10.БКП'!K:K)+SUMIF('11.ПЗС'!$E:$E, $I28, '11.ПЗС'!L:L))","v":0},{"$f":"IF($I28=\"\", 0, SUMIF('7.СМР'!$E:$E, $I28, '7.СМР'!L:L)+SUMIF('8.ОСС'!$E:$E, $I28, '8.ОСС'!AD:AD)+SUMIF('9.ПИР'!$E:$E, $I28, '9.ПИР'!L:L)+SUMIF('10.БКП'!$E:$E, $I28, '10.БКП'!L:L)+SUMIF('11.ПЗС'!$E:$E, $I28, '11.ПЗС'!M:M))","v":0},{"$f":"IF($I28=\"\", 0, SUMIF('7.СМР'!$E:$E, $I28, '7.СМР'!M:M)+SUMIF('8.ОСС'!$E:$E, $I28, '8.ОСС'!AE:AE)+SUMIF('9.ПИР'!$E:$E, $I28, '9.ПИР'!M:M)+SUMIF('10.БКП'!$E:$E, $I28, '10.БКП'!M:M)+SUMIF('11.ПЗС'!$E:$E, $I28, '11.ПЗС'!N:N))","v":0},{"$f":"IF($I28=\"\", 0, SUMIF('7.СМР'!$E:$E, $I28, '7.СМР'!N:N)+SUMIF('8.ОСС'!$E:$E, $I28, '8.ОСС'!AF:AF)+SUMIF('9.ПИР'!$E:$E, $I28, '9.ПИР'!N:N)+SUMIF('10.БКП'!$E:$E, $I28, '10.БКП'!N:N)+SUMIF('11.ПЗС'!$E:$E, $I28, '11.ПЗС'!O:O))","v":0},{"$f":"IF($I28=\"\", 0, SUMIF('7.СМР'!$E:$E, $I28, '7.СМР'!O:O)+SUMIF('8.ОСС'!$E:$E, $I28, '8.ОСС'!AG:AG)+SUMIF('9.ПИР'!$E:$E, $I28, '9.ПИР'!O:O)+SUMIF('10.БКП'!$E:$E, $I28, '10.БКП'!O:O)+SUMIF('11.ПЗС'!$E:$E, $I28, '11.ПЗС'!P:P))","v":0},{"$f":"IF($I28=\"\", 0, SUMIF('7.СМР'!$E:$E, $I28, '7.СМР'!P:P)+SUMIF('8.ОСС'!$E:$E, $I28, '8.ОСС'!AH:AH)+SUMIF('9.ПИР'!$E:$E, $I28, '9.ПИР'!P:P)+SUMIF('10.БКП'!$E:$E, $I28, '10.БКП'!P:P)+SUMIF('11.ПЗС'!$E:$E, $I28, '11.ПЗС'!Q:Q))","v":0},0,0,0,0,null,0,0,{"$f":"IF($I28=\"\", 0, SUMIF('7.СМР'!$E:$E, $I28, '7.СМР'!X:X)+SUMIF('8.ОСС'!$E:$E, $I28, '8.ОСС'!AP:AP)+SUMIF('9.ПИР'!$E:$E, $I28, '9.ПИР'!X:X)+SUMIF('10.БКП'!$E:$E, $I28, '10.БКП'!X:X)+SUMIF('11.ПЗС'!$E:$E, $I28, '11.ПЗС'!Y:Y))","v":0},{"$f":"IF($I28=\"\", 0, SUMIF('7.СМР'!$E:$E, $I28, '7.СМР'!Y:Y)+SUMIF('8.ОСС'!$E:$E, $I28, '8.ОСС'!AQ:AQ)+SUMIF('9.ПИР'!$E:$E, $I28, '9.ПИР'!Y:Y)+SUMIF('10.БКП'!$E:$E, $I28, '10.БКП'!Y:Y)+SUMIF('11.ПЗС'!$E:$E, $I28, '11.ПЗС'!Z:Z))","v":0},{"$f":"IF($I28=\"\", 0, SUMIF('7.СМР'!$E:$E, $I28, '7.СМР'!Z:Z)+SUMIF('8.ОСС'!$E:$E, $I28, '8.ОСС'!AR:AR)+SUMIF('9.ПИР'!$E:$E, $I28, '9.ПИР'!Z:Z)+SUMIF('10.БКП'!$E:$E, $I28, '10.БКП'!Z:Z)+SUMIF('11.ПЗС'!$E:$E, $I28, '11.ПЗС'!AA:AA))","v":0},{"$f":"IF($I28=\"\", 0, SUMIF('7.СМР'!$E:$E, $I28, '7.СМР'!AA:AA)+SUMIF('8.ОСС'!$E:$E, $I28, '8.ОСС'!AS:AS)+SUMIF('9.ПИР'!$E:$E, $I28, '9.ПИР'!AA:AA)+SUMIF('10.БКП'!$E:$E, $I28, '10.БКП'!AA:AA)+SUMIF('11.ПЗС'!$E:$E, $I28, '11.ПЗС'!AB:AB))","v":0},{"$f":"IF($I28=\"\", 0, SUMIF('7.СМР'!$E:$E, $I28, '7.СМР'!AB:AB)+SUMIF('8.ОСС'!$E:$E, $I28, '8.ОСС'!AT:AT)+SUMIF('9.ПИР'!$E:$E, $I28, '9.ПИР'!AB:AB)+SUMIF('10.БКП'!$E:$E, $I28, '10.БКП'!AB:AB)+SUMIF('11.ПЗС'!$E:$E, $I28, '11.ПЗС'!AC:AC))","v":0},{"$f":"IF($I28=\"\", 0, SUMIF('7.СМР'!$E:$E, $I28, '7.СМР'!AC:AC)+SUMIF('8.ОСС'!$E:$E, $I28, '8.ОСС'!AU:AU)+SUMIF('9.ПИР'!$E:$E, $I28, '9.ПИР'!AC:AC)+SUMIF('10.БКП'!$E:$E, $I28, '10.БКП'!AC:AC)+SUMIF('11.ПЗС'!$E:$E, $I28, '11.ПЗС'!AD:AD))","v":0},{"$f":"IF($I28=\"\", 0, SUMIF('7.СМР'!$E:$E, $I28, '7.СМР'!AD:AD)+SUMIF('8.ОСС'!$E:$E, $I28, '8.ОСС'!AV:AV)+SUMIF('9.ПИР'!$E:$E, $I28, '9.ПИР'!AD:AD)+SUMIF('10.БКП'!$E:$E, $I28, '10.БКП'!AD:AD)+SUMIF('11.ПЗС'!$E:$E, $I28, '11.ПЗС'!AE:AE))","v":0},{"$f":"IF($I28=\"\", 0, SUMIF('7.СМР'!$E:$E, $I28, '7.СМР'!AE:AE)+SUMIF('8.ОСС'!$E:$E, $I28, '8.ОСС'!AW:AW)+SUMIF('9.ПИР'!$E:$E, $I28, '9.ПИР'!AE:AE)+SUMIF('10.БКП'!$E:$E, $I28, '10.БКП'!AE:AE)+SUMIF('11.ПЗС'!$E:$E, $I28, '11.ПЗС'!AF:AF))","v":0},null,148,0,148,{"$f":"IF($I28=\"\", \"\", VLOOKUP($I28,objects, '05.РКС'!L$18-'05.РКС'!$B$18+1, 0))","v":"2017-07-01"},{"$f":"IF($I28=\"\", \"\", VLOOKUP($I28,objects, '05.РКС'!M$18-'05.РКС'!$B$18+1, 0))","v":"2017-09-30"},{"$f":"IF($I28=\"\", \"\", VLOOKUP($I28,objects, '05.РКС'!N$18-'05.РКС'!$B$18+1, 0))","v":"Приказ Министерства энергетики и электрификации СССР № 51пс от 19.04.1978 г. об утверждении ТЭО строительства Вилюйской ГЭС-3 на р.Вилюй; Разрешение на строительство № 8-5 от 15.06.2005 г., выданное УиАГ МО \"Мирнинский район\""},{"$f":"IF($I28=\"\", \"\", VLOOKUP($I28,objects, '05.РКС'!P$18-'05.РКС'!$B$18+1, 0))","v":0},0]
[null,null,"АО \"Вилюйская ГЭС-3\"","Прочее",0,"","Прочая основная деятельность","Высокий",{"$f":"IF(ISBLANK('05.РКС'!B30), \"\", '05.РКС'!B30)","v":"2016-1.9."},"Здание  ГЭС Электропомещение помещения  ГРУ",{"$f":"IF($I29=\"\", 0, SUMIF('7.СМР'!$E:$E, $I29, '7.СМР'!G:G)+SUMIF('8.ОСС'!$E:$E, $I29, '8.ОСС'!Y:Y)+SUMIF('9.ПИР'!$E:$E, $I29, '9.ПИР'!G:G)+SUMIF('10.БКП'!$E:$E, $I29, '10.БКП'!G:G)+SUMIF('11.ПЗС'!$E:$E, $I29, '11.ПЗС'!H:H))","v":0},{"$f":"IF($I29=\"\", 0, SUMIF('7.СМР'!$E:$E, $I29, '7.СМР'!H:H)+SUMIF('8.ОСС'!$E:$E, $I29, '8.ОСС'!Z:Z)+SUMIF('9.ПИР'!$E:$E, $I29, '9.ПИР'!H:H)+SUMIF('10.БКП'!$E:$E, $I29, '10.БКП'!H:H)+SUMIF('11.ПЗС'!$E:$E, $I29, '11.ПЗС'!I:I))","v":0},{"$f":"IF($I29=\"\", 0, SUMIF('7.СМР'!$E:$E, $I29, '7.СМР'!I:I)+SUMIF('8.ОСС'!$E:$E, $I29, '8.ОСС'!AA:AA)+SUMIF('9.ПИР'!$E:$E, $I29, '9.ПИР'!I:I)+SUMIF('10.БКП'!$E:$E, $I29, '10.БКП'!I:I)+SUMIF('11.ПЗС'!$E:$E, $I29, '11.ПЗС'!J:J))","v":0},{"$f":"IF($I29=\"\", 0, SUMIF('7.СМР'!$E:$E, $I29, '7.СМР'!J:J)+SUMIF('8.ОСС'!$E:$E, $I29, '8.ОСС'!AB:AB)+SUMIF('9.ПИР'!$E:$E, $I29, '9.ПИР'!J:J)+SUMIF('10.БКП'!$E:$E, $I29, '10.БКП'!J:J)+SUMIF('11.ПЗС'!$E:$E, $I29, '11.ПЗС'!K:K))","v":0},{"$f":"IF($I29=\"\", 0, SUMIF('7.СМР'!$E:$E, $I29, '7.СМР'!K:K)+SUMIF('8.ОСС'!$E:$E, $I29, '8.ОСС'!AC:AC)+SUMIF('9.ПИР'!$E:$E, $I29, '9.ПИР'!K:K)+SUMIF('10.БКП'!$E:$E, $I29, '10.БКП'!K:K)+SUMIF('11.ПЗС'!$E:$E, $I29, '11.ПЗС'!L:L))","v":0},{"$f":"IF($I29=\"\", 0, SUMIF('7.СМР'!$E:$E, $I29, '7.СМР'!L:L)+SUMIF('8.ОСС'!$E:$E, $I29, '8.ОСС'!AD:AD)+SUMIF('9.ПИР'!$E:$E, $I29, '9.ПИР'!L:L)+SUMIF('10.БКП'!$E:$E, $I29, '10.БКП'!L:L)+SUMIF('11.ПЗС'!$E:$E, $I29, '11.ПЗС'!M:M))","v":0},{"$f":"IF($I29=\"\", 0, SUMIF('7.СМР'!$E:$E, $I29, '7.СМР'!M:M)+SUMIF('8.ОСС'!$E:$E, $I29, '8.ОСС'!AE:AE)+SUMIF('9.ПИР'!$E:$E, $I29, '9.ПИР'!M:M)+SUMIF('10.БКП'!$E:$E, $I29, '10.БКП'!M:M)+SUMIF('11.ПЗС'!$E:$E, $I29, '11.ПЗС'!N:N))","v":0},{"$f":"IF($I29=\"\", 0, SUMIF('7.СМР'!$E:$E, $I29, '7.СМР'!N:N)+SUMIF('8.ОСС'!$E:$E, $I29, '8.ОСС'!AF:AF)+SUMIF('9.ПИР'!$E:$E, $I29, '9.ПИР'!N:N)+SUMIF('10.БКП'!$E:$E, $I29, '10.БКП'!N:N)+SUMIF('11.ПЗС'!$E:$E, $I29, '11.ПЗС'!O:O))","v":0},{"$f":"IF($I29=\"\", 0, SUMIF('7.СМР'!$E:$E, $I29, '7.СМР'!O:O)+SUMIF('8.ОСС'!$E:$E, $I29, '8.ОСС'!AG:AG)+SUMIF('9.ПИР'!$E:$E, $I29, '9.ПИР'!O:O)+SUMIF('10.БКП'!$E:$E, $I29, '10.БКП'!O:O)+SUMIF('11.ПЗС'!$E:$E, $I29, '11.ПЗС'!P:P))","v":0},{"$f":"IF($I29=\"\", 0, SUMIF('7.СМР'!$E:$E, $I29, '7.СМР'!P:P)+SUMIF('8.ОСС'!$E:$E, $I29, '8.ОСС'!AH:AH)+SUMIF('9.ПИР'!$E:$E, $I29, '9.ПИР'!P:P)+SUMIF('10.БКП'!$E:$E, $I29, '10.БКП'!P:P)+SUMIF('11.ПЗС'!$E:$E, $I29, '11.ПЗС'!Q:Q))","v":0},0,0,0,0,null,0,0,{"$f":"IF($I29=\"\", 0, SUMIF('7.СМР'!$E:$E, $I29, '7.СМР'!X:X)+SUMIF('8.ОСС'!$E:$E, $I29, '8.ОСС'!AP:AP)+SUMIF('9.ПИР'!$E:$E, $I29, '9.ПИР'!X:X)+SUMIF('10.БКП'!$E:$E, $I29, '10.БКП'!X:X)+SUMIF('11.ПЗС'!$E:$E, $I29, '11.ПЗС'!Y:Y))","v":0},{"$f":"IF($I29=\"\", 0, SUMIF('7.СМР'!$E:$E, $I29, '7.СМР'!Y:Y)+SUMIF('8.ОСС'!$E:$E, $I29, '8.ОСС'!AQ:AQ)+SUMIF('9.ПИР'!$E:$E, $I29, '9.ПИР'!Y:Y)+SUMIF('10.БКП'!$E:$E, $I29, '10.БКП'!Y:Y)+SUMIF('11.ПЗС'!$E:$E, $I29, '11.ПЗС'!Z:Z))","v":0},{"$f":"IF($I29=\"\", 0, SUMIF('7.СМР'!$E:$E, $I29, '7.СМР'!Z:Z)+SUMIF('8.ОСС'!$E:$E, $I29, '8.ОСС'!AR:AR)+SUMIF('9.ПИР'!$E:$E, $I29, '9.ПИР'!Z:Z)+SUMIF('10.БКП'!$E:$E, $I29, '10.БКП'!Z:Z)+SUMIF('11.ПЗС'!$E:$E, $I29, '11.ПЗС'!AA:AA))","v":0},{"$f":"IF($I29=\"\", 0, SUMIF('7.СМР'!$E:$E, $I29, '7.СМР'!AA:AA)+SUMIF('8.ОСС'!$E:$E, $I29, '8.ОСС'!AS:AS)+SUMIF('9.ПИР'!$E:$E, $I29, '9.ПИР'!AA:AA)+SUMIF('10.БКП'!$E:$E, $I29, '10.БКП'!AA:AA)+SUMIF('11.ПЗС'!$E:$E, $I29, '11.ПЗС'!AB:AB))","v":0},{"$f":"IF($I29=\"\", 0, SUMIF('7.СМР'!$E:$E, $I29, '7.СМР'!AB:AB)+SUMIF('8.ОСС'!$E:$E, $I29, '8.ОСС'!AT:AT)+SUMIF('9.ПИР'!$E:$E, $I29, '9.ПИР'!AB:AB)+SUMIF('10.БКП'!$E:$E, $I29, '10.БКП'!AB:AB)+SUMIF('11.ПЗС'!$E:$E, $I29, '11.ПЗС'!AC:AC))","v":0},{"$f":"IF($I29=\"\", 0, SUMIF('7.СМР'!$E:$E, $I29, '7.СМР'!AC:AC)+SUMIF('8.ОСС'!$E:$E, $I29, '8.ОСС'!AU:AU)+SUMIF('9.ПИР'!$E:$E, $I29, '9.ПИР'!AC:AC)+SUMIF('10.БКП'!$E:$E, $I29, '10.БКП'!AC:AC)+SUMIF('11.ПЗС'!$E:$E, $I29, '11.ПЗС'!AD:AD))","v":0},{"$f":"IF($I29=\"\", 0, SUMIF('7.СМР'!$E:$E, $I29, '7.СМР'!AD:AD)+SUMIF('8.ОСС'!$E:$E, $I29, '8.ОСС'!AV:AV)+SUMIF('9.ПИР'!$E:$E, $I29, '9.ПИР'!AD:AD)+SUMIF('10.БКП'!$E:$E, $I29, '10.БКП'!AD:AD)+SUMIF('11.ПЗС'!$E:$E, $I29, '11.ПЗС'!AE:AE))","v":0},{"$f":"IF($I29=\"\", 0, SUMIF('7.СМР'!$E:$E, $I29, '7.СМР'!AE:AE)+SUMIF('8.ОСС'!$E:$E, $I29, '8.ОСС'!AW:AW)+SUMIF('9.ПИР'!$E:$E, $I29, '9.ПИР'!AE:AE)+SUMIF('10.БКП'!$E:$E, $I29, '10.БКП'!AE:AE)+SUMIF('11.ПЗС'!$E:$E, $I29, '11.ПЗС'!AF:AF))","v":0},null,165,0,165,{"$f":"IF($I29=\"\", \"\", VLOOKUP($I29,objects, '05.РКС'!L$18-'05.РКС'!$B$18+1, 0))","v":"2017-07-01"},{"$f":"IF($I29=\"\", \"\", VLOOKUP($I29,objects, '05.РКС'!M$18-'05.РКС'!$B$18+1, 0))","v":"2017-09-30"},{"$f":"IF($I29=\"\", \"\", VLOOKUP($I29,objects, '05.РКС'!N$18-'05.РКС'!$B$18+1, 0))","v":"Приказ Министерства энергетики и электрификации СССР № 51пс от 19.04.1978 г. об утверждении ТЭО строительства Вилюйской ГЭС-3 на р.Вилюй; Разрешение на строительство № 8-5 от 15.06.2005 г., выданное УиАГ МО \"Мирнинский район\""},{"$f":"IF($I29=\"\", \"\", VLOOKUP($I29,objects, '05.РКС'!P$18-'05.РКС'!$B$18+1, 0))","v":0},0]
[null,null,"АО \"Вилюйская ГЭС-3\"","Прочее",0,"","Прочая основная деятельность","Высокий",{"$f":"IF(ISBLANK('05.РКС'!B31), \"\", '05.РКС'!B31)","v":"2016-3.1."},"ЛКЗП.Ликвидация    изыскательной штольни  №1000",{"$f":"IF($I30=\"\", 0, SUMIF('7.СМР'!$E:$E, $I30, '7.СМР'!G:G)+SUMIF('8.ОСС'!$E:$E, $I30, '8.ОСС'!Y:Y)+SUMIF('9.ПИР'!$E:$E, $I30, '9.ПИР'!G:G)+SUMIF('10.БКП'!$E:$E, $I30, '10.БКП'!G:G)+SUMIF('11.ПЗС'!$E:$E, $I30, '11.ПЗС'!H:H))","v":0},{"$f":"IF($I30=\"\", 0, SUMIF('7.СМР'!$E:$E, $I30, '7.СМР'!H:H)+SUMIF('8.ОСС'!$E:$E, $I30, '8.ОСС'!Z:Z)+SUMIF('9.ПИР'!$E:$E, $I30, '9.ПИР'!H:H)+SUMIF('10.БКП'!$E:$E, $I30, '10.БКП'!H:H)+SUMIF('11.ПЗС'!$E:$E, $I30, '11.ПЗС'!I:I))","v":0},{"$f":"IF($I30=\"\", 0, SUMIF('7.СМР'!$E:$E, $I30, '7.СМР'!I:I)+SUMIF('8.ОСС'!$E:$E, $I30, '8.ОСС'!AA:AA)+SUMIF('9.ПИР'!$E:$E, $I30, '9.ПИР'!I:I)+SUMIF('10.БКП'!$E:$E, $I30, '10.БКП'!I:I)+SUMIF('11.ПЗС'!$E:$E, $I30, '11.ПЗС'!J:J))","v":0},{"$f":"IF($I30=\"\", 0, SUMIF('7.СМР'!$E:$E, $I30, '7.СМР'!J:J)+SUMIF('8.ОСС'!$E:$E, $I30, '8.ОСС'!AB:AB)+SUMIF('9.ПИР'!$E:$E, $I30, '9.ПИР'!J:J)+SUMIF('10.БКП'!$E:$E, $I30, '10.БКП'!J:J)+SUMIF('11.ПЗС'!$E:$E, $I30, '11.ПЗС'!K:K))","v":0},{"$f":"IF($I30=\"\", 0, SUMIF('7.СМР'!$E:$E, $I30, '7.СМР'!K:K)+SUMIF('8.ОСС'!$E:$E, $I30, '8.ОСС'!AC:AC)+SUMIF('9.ПИР'!$E:$E, $I30, '9.ПИР'!K:K)+SUMIF('10.БКП'!$E:$E, $I30, '10.БКП'!K:K)+SUMIF('11.ПЗС'!$E:$E, $I30, '11.ПЗС'!L:L))","v":0},{"$f":"IF($I30=\"\", 0, SUMIF('7.СМР'!$E:$E, $I30, '7.СМР'!L:L)+SUMIF('8.ОСС'!$E:$E, $I30, '8.ОСС'!AD:AD)+SUMIF('9.ПИР'!$E:$E, $I30, '9.ПИР'!L:L)+SUMIF('10.БКП'!$E:$E, $I30, '10.БКП'!L:L)+SUMIF('11.ПЗС'!$E:$E, $I30, '11.ПЗС'!M:M))","v":0},{"$f":"IF($I30=\"\", 0, SUMIF('7.СМР'!$E:$E, $I30, '7.СМР'!M:M)+SUMIF('8.ОСС'!$E:$E, $I30, '8.ОСС'!AE:AE)+SUMIF('9.ПИР'!$E:$E, $I30, '9.ПИР'!M:M)+SUMIF('10.БКП'!$E:$E, $I30, '10.БКП'!M:M)+SUMIF('11.ПЗС'!$E:$E, $I30, '11.ПЗС'!N:N))","v":0},{"$f":"IF($I30=\"\", 0, SUMIF('7.СМР'!$E:$E, $I30, '7.СМР'!N:N)+SUMIF('8.ОСС'!$E:$E, $I30, '8.ОСС'!AF:AF)+SUMIF('9.ПИР'!$E:$E, $I30, '9.ПИР'!N:N)+SUMIF('10.БКП'!$E:$E, $I30, '10.БКП'!N:N)+SUMIF('11.ПЗС'!$E:$E, $I30, '11.ПЗС'!O:O))","v":0},{"$f":"IF($I30=\"\", 0, SUMIF('7.СМР'!$E:$E, $I30, '7.СМР'!O:O)+SUMIF('8.ОСС'!$E:$E, $I30, '8.ОСС'!AG:AG)+SUMIF('9.ПИР'!$E:$E, $I30, '9.ПИР'!O:O)+SUMIF('10.БКП'!$E:$E, $I30, '10.БКП'!O:O)+SUMIF('11.ПЗС'!$E:$E, $I30, '11.ПЗС'!P:P))","v":0},{"$f":"IF($I30=\"\", 0, SUMIF('7.СМР'!$E:$E, $I30, '7.СМР'!P:P)+SUMIF('8.ОСС'!$E:$E, $I30, '8.ОСС'!AH:AH)+SUMIF('9.ПИР'!$E:$E, $I30, '9.ПИР'!P:P)+SUMIF('10.БКП'!$E:$E, $I30, '10.БКП'!P:P)+SUMIF('11.ПЗС'!$E:$E, $I30, '11.ПЗС'!Q:Q))","v":0},0,0,0,0,null,0,0,{"$f":"IF($I30=\"\", 0, SUMIF('7.СМР'!$E:$E, $I30, '7.СМР'!X:X)+SUMIF('8.ОСС'!$E:$E, $I30, '8.ОСС'!AP:AP)+SUMIF('9.ПИР'!$E:$E, $I30, '9.ПИР'!X:X)+SUMIF('10.БКП'!$E:$E, $I30, '10.БКП'!X:X)+SUMIF('11.ПЗС'!$E:$E, $I30, '11.ПЗС'!Y:Y))","v":0},{"$f":"IF($I30=\"\", 0, SUMIF('7.СМР'!$E:$E, $I30, '7.СМР'!Y:Y)+SUMIF('8.ОСС'!$E:$E, $I30, '8.ОСС'!AQ:AQ)+SUMIF('9.ПИР'!$E:$E, $I30, '9.ПИР'!Y:Y)+SUMIF('10.БКП'!$E:$E, $I30, '10.БКП'!Y:Y)+SUMIF('11.ПЗС'!$E:$E, $I30, '11.ПЗС'!Z:Z))","v":0},{"$f":"IF($I30=\"\", 0, SUMIF('7.СМР'!$E:$E, $I30, '7.СМР'!Z:Z)+SUMIF('8.ОСС'!$E:$E, $I30, '8.ОСС'!AR:AR)+SUMIF('9.ПИР'!$E:$E, $I30, '9.ПИР'!Z:Z)+SUMIF('10.БКП'!$E:$E, $I30, '10.БКП'!Z:Z)+SUMIF('11.ПЗС'!$E:$E, $I30, '11.ПЗС'!AA:AA))","v":0},{"$f":"IF($I30=\"\", 0, SUMIF('7.СМР'!$E:$E, $I30, '7.СМР'!AA:AA)+SUMIF('8.ОСС'!$E:$E, $I30, '8.ОСС'!AS:AS)+SUMIF('9.ПИР'!$E:$E, $I30, '9.ПИР'!AA:AA)+SUMIF('10.БКП'!$E:$E, $I30, '10.БКП'!AA:AA)+SUMIF('11.ПЗС'!$E:$E, $I30, '11.ПЗС'!AB:AB))","v":0},{"$f":"IF($I30=\"\", 0, SUMIF('7.СМР'!$E:$E, $I30, '7.СМР'!AB:AB)+SUMIF('8.ОСС'!$E:$E, $I30, '8.ОСС'!AT:AT)+SUMIF('9.ПИР'!$E:$E, $I30, '9.ПИР'!AB:AB)+SUMIF('10.БКП'!$E:$E, $I30, '10.БКП'!AB:AB)+SUMIF('11.ПЗС'!$E:$E, $I30, '11.ПЗС'!AC:AC))","v":0},{"$f":"IF($I30=\"\", 0, SUMIF('7.СМР'!$E:$E, $I30, '7.СМР'!AC:AC)+SUMIF('8.ОСС'!$E:$E, $I30, '8.ОСС'!AU:AU)+SUMIF('9.ПИР'!$E:$E, $I30, '9.ПИР'!AC:AC)+SUMIF('10.БКП'!$E:$E, $I30, '10.БКП'!AC:AC)+SUMIF('11.ПЗС'!$E:$E, $I30, '11.ПЗС'!AD:AD))","v":0},{"$f":"IF($I30=\"\", 0, SUMIF('7.СМР'!$E:$E, $I30, '7.СМР'!AD:AD)+SUMIF('8.ОСС'!$E:$E, $I30, '8.ОСС'!AV:AV)+SUMIF('9.ПИР'!$E:$E, $I30, '9.ПИР'!AD:AD)+SUMIF('10.БКП'!$E:$E, $I30, '10.БКП'!AD:AD)+SUMIF('11.ПЗС'!$E:$E, $I30, '11.ПЗС'!AE:AE))","v":0},{"$f":"IF($I30=\"\", 0, SUMIF('7.СМР'!$E:$E, $I30, '7.СМР'!AE:AE)+SUMIF('8.ОСС'!$E:$E, $I30, '8.ОСС'!AW:AW)+SUMIF('9.ПИР'!$E:$E, $I30, '9.ПИР'!AE:AE)+SUMIF('10.БКП'!$E:$E, $I30, '10.БКП'!AE:AE)+SUMIF('11.ПЗС'!$E:$E, $I30, '11.ПЗС'!AF:AF))","v":0},null,53765,26682,27083,{"$f":"IF($I30=\"\", \"\", VLOOKUP($I30,objects, '05.РКС'!L$18-'05.РКС'!$B$18+1, 0))","v":"2016-06-01"},{"$f":"IF($I30=\"\", \"\", VLOOKUP($I30,objects, '05.РКС'!M$18-'05.РКС'!$B$18+1, 0))","v":"2017-10-01"},{"$f":"IF($I30=\"\", \"\", VLOOKUP($I30,objects, '05.РКС'!N$18-'05.РКС'!$B$18+1, 0))","v":"Приказ Министерства энергетики и электрификации СССР № 51пс от 19.04.1978 г. об утверждении ТЭО строительства Вилюйской ГЭС-3 на р.Вилюй; Разрешение на строительство № 8-5 от 15.06.2005 г., выданное УиАГ МО \"Мирнинский район\". Декларация  безопасности  ГТ  сооружений п.10"},{"$f":"IF($I30=\"\", \"\", VLOOKUP($I30,objects, '05.РКС'!P$18-'05.РКС'!$B$18+1, 0))","v":0},0]
[null,null,"АО \"Вилюйская ГЭС-3\"","Прочее",0,"","Прочая основная деятельность","Высокий",{"$f":"IF(ISBLANK('05.РКС'!B32), \"\", '05.РКС'!B32)","v":"2016-3.2."},"ЛКЗП.КИА. Буровые работы   по программе  КИС на  штольнях  ",{"$f":"IF($I31=\"\", 0, SUMIF('7.СМР'!$E:$E, $I31, '7.СМР'!G:G)+SUMIF('8.ОСС'!$E:$E, $I31, '8.ОСС'!Y:Y)+SUMIF('9.ПИР'!$E:$E, $I31, '9.ПИР'!G:G)+SUMIF('10.БКП'!$E:$E, $I31, '10.БКП'!G:G)+SUMIF('11.ПЗС'!$E:$E, $I31, '11.ПЗС'!H:H))","v":951.25},{"$f":"IF($I31=\"\", 0, SUMIF('7.СМР'!$E:$E, $I31, '7.СМР'!H:H)+SUMIF('8.ОСС'!$E:$E, $I31, '8.ОСС'!Z:Z)+SUMIF('9.ПИР'!$E:$E, $I31, '9.ПИР'!H:H)+SUMIF('10.БКП'!$E:$E, $I31, '10.БКП'!H:H)+SUMIF('11.ПЗС'!$E:$E, $I31, '11.ПЗС'!I:I))","v":6.25},{"$f":"IF($I31=\"\", 0, SUMIF('7.СМР'!$E:$E, $I31, '7.СМР'!I:I)+SUMIF('8.ОСС'!$E:$E, $I31, '8.ОСС'!AA:AA)+SUMIF('9.ПИР'!$E:$E, $I31, '9.ПИР'!I:I)+SUMIF('10.БКП'!$E:$E, $I31, '10.БКП'!I:I)+SUMIF('11.ПЗС'!$E:$E, $I31, '11.ПЗС'!J:J))","v":201},{"$f":"IF($I31=\"\", 0, SUMIF('7.СМР'!$E:$E, $I31, '7.СМР'!J:J)+SUMIF('8.ОСС'!$E:$E, $I31, '8.ОСС'!AB:AB)+SUMIF('9.ПИР'!$E:$E, $I31, '9.ПИР'!J:J)+SUMIF('10.БКП'!$E:$E, $I31, '10.БКП'!J:J)+SUMIF('11.ПЗС'!$E:$E, $I31, '11.ПЗС'!K:K))","v":701},{"$f":"IF($I31=\"\", 0, SUMIF('7.СМР'!$E:$E, $I31, '7.СМР'!K:K)+SUMIF('8.ОСС'!$E:$E, $I31, '8.ОСС'!AC:AC)+SUMIF('9.ПИР'!$E:$E, $I31, '9.ПИР'!K:K)+SUMIF('10.БКП'!$E:$E, $I31, '10.БКП'!K:K)+SUMIF('11.ПЗС'!$E:$E, $I31, '11.ПЗС'!L:L))","v":43},{"$f":"IF($I31=\"\", 0, SUMIF('7.СМР'!$E:$E, $I31, '7.СМР'!L:L)+SUMIF('8.ОСС'!$E:$E, $I31, '8.ОСС'!AD:AD)+SUMIF('9.ПИР'!$E:$E, $I31, '9.ПИР'!L:L)+SUMIF('10.БКП'!$E:$E, $I31, '10.БКП'!L:L)+SUMIF('11.ПЗС'!$E:$E, $I31, '11.ПЗС'!M:M))","v":575.44399999999996},{"$f":"IF($I31=\"\", 0, SUMIF('7.СМР'!$E:$E, $I31, '7.СМР'!M:M)+SUMIF('8.ОСС'!$E:$E, $I31, '8.ОСС'!AE:AE)+SUMIF('9.ПИР'!$E:$E, $I31, '9.ПИР'!M:M)+SUMIF('10.БКП'!$E:$E, $I31, '10.БКП'!M:M)+SUMIF('11.ПЗС'!$E:$E, $I31, '11.ПЗС'!N:N))","v":6.25},{"$f":"IF($I31=\"\", 0, SUMIF('7.СМР'!$E:$E, $I31, '7.СМР'!N:N)+SUMIF('8.ОСС'!$E:$E, $I31, '8.ОСС'!AF:AF)+SUMIF('9.ПИР'!$E:$E, $I31, '9.ПИР'!N:N)+SUMIF('10.БКП'!$E:$E, $I31, '10.БКП'!N:N)+SUMIF('11.ПЗС'!$E:$E, $I31, '11.ПЗС'!O:O))","v":201.02},{"$f":"IF($I31=\"\", 0, SUMIF('7.СМР'!$E:$E, $I31, '7.СМР'!O:O)+SUMIF('8.ОСС'!$E:$E, $I31, '8.ОСС'!AG:AG)+SUMIF('9.ПИР'!$E:$E, $I31, '9.ПИР'!O:O)+SUMIF('10.БКП'!$E:$E, $I31, '10.БКП'!O:O)+SUMIF('11.ПЗС'!$E:$E, $I31, '11.ПЗС'!P:P))","v":242.458},{"$f":"IF($I31=\"\", 0, SUMIF('7.СМР'!$E:$E, $I31, '7.СМР'!P:P)+SUMIF('8.ОСС'!$E:$E, $I31, '8.ОСС'!AH:AH)+SUMIF('9.ПИР'!$E:$E, $I31, '9.ПИР'!P:P)+SUMIF('10.БКП'!$E:$E, $I31, '10.БКП'!P:P)+SUMIF('11.ПЗС'!$E:$E, $I31, '11.ПЗС'!Q:Q))","v":125.71599999999999},951.25,575.44399999999996,-375.80600000000004,-0.3950654402102497,null,-0.24000000000000909,-2.522996057818755E-4,{"$f":"IF($I31=\"\", 0, SUMIF('7.СМР'!$E:$E, $I31, '7.СМР'!X:X)+SUMIF('8.ОСС'!$E:$E, $I31, '8.ОСС'!AP:AP)+SUMIF('9.ПИР'!$E:$E, $I31, '9.ПИР'!X:X)+SUMIF('10.БКП'!$E:$E, $I31, '10.БКП'!X:X)+SUMIF('11.ПЗС'!$E:$E, $I31, '11.ПЗС'!Y:Y))","v":0},{"$f":"IF($I31=\"\", 0, SUMIF('7.СМР'!$E:$E, $I31, '7.СМР'!Y:Y)+SUMIF('8.ОСС'!$E:$E, $I31, '8.ОСС'!AQ:AQ)+SUMIF('9.ПИР'!$E:$E, $I31, '9.ПИР'!Y:Y)+SUMIF('10.БКП'!$E:$E, $I31, '10.БКП'!Y:Y)+SUMIF('11.ПЗС'!$E:$E, $I31, '11.ПЗС'!Z:Z))","v":0},{"$f":"IF($I31=\"\", 0, SUMIF('7.СМР'!$E:$E, $I31, '7.СМР'!Z:Z)+SUMIF('8.ОСС'!$E:$E, $I31, '8.ОСС'!AR:AR)+SUMIF('9.ПИР'!$E:$E, $I31, '9.ПИР'!Z:Z)+SUMIF('10.БКП'!$E:$E, $I31, '10.БКП'!Z:Z)+SUMIF('11.ПЗС'!$E:$E, $I31, '11.ПЗС'!AA:AA))","v":-0.24000000000000909},{"$f":"IF($I31=\"\", 0, SUMIF('7.СМР'!$E:$E, $I31, '7.СМР'!AA:AA)+SUMIF('8.ОСС'!$E:$E, $I31, '8.ОСС'!AS:AS)+SUMIF('9.ПИР'!$E:$E, $I31, '9.ПИР'!AA:AA)+SUMIF('10.БКП'!$E:$E, $I31, '10.БКП'!AA:AA)+SUMIF('11.ПЗС'!$E:$E, $I31, '11.ПЗС'!AB:AB))","v":951.01},{"$f":"IF($I31=\"\", 0, SUMIF('7.СМР'!$E:$E, $I31, '7.СМР'!AB:AB)+SUMIF('8.ОСС'!$E:$E, $I31, '8.ОСС'!AT:AT)+SUMIF('9.ПИР'!$E:$E, $I31, '9.ПИР'!AB:AB)+SUMIF('10.БКП'!$E:$E, $I31, '10.БКП'!AB:AB)+SUMIF('11.ПЗС'!$E:$E, $I31, '11.ПЗС'!AC:AC))","v":6.25},{"$f":"IF($I31=\"\", 0, SUMIF('7.СМР'!$E:$E, $I31, '7.СМР'!AC:AC)+SUMIF('8.ОСС'!$E:$E, $I31, '8.ОСС'!AU:AU)+SUMIF('9.ПИР'!$E:$E, $I31, '9.ПИР'!AC:AC)+SUMIF('10.БКП'!$E:$E, $I31, '10.БКП'!AC:AC)+SUMIF('11.ПЗС'!$E:$E, $I31, '11.ПЗС'!AD:AD))","v":201.02},{"$f":"IF($I31=\"\", 0, SUMIF('7.СМР'!$E:$E, $I31, '7.СМР'!AD:AD)+SUMIF('8.ОСС'!$E:$E, $I31, '8.ОСС'!AV:AV)+SUMIF('9.ПИР'!$E:$E, $I31, '9.ПИР'!AD:AD)+SUMIF('10.БКП'!$E:$E, $I31, '10.БКП'!AD:AD)+SUMIF('11.ПЗС'!$E:$E, $I31, '11.ПЗС'!AE:AE))","v":701},{"$f":"IF($I31=\"\", 0, SUMIF('7.СМР'!$E:$E, $I31, '7.СМР'!AE:AE)+SUMIF('8.ОСС'!$E:$E, $I31, '8.ОСС'!AW:AW)+SUMIF('9.ПИР'!$E:$E, $I31, '9.ПИР'!AE:AE)+SUMIF('10.БКП'!$E:$E, $I31, '10.БКП'!AE:AE)+SUMIF('11.ПЗС'!$E:$E, $I31, '11.ПЗС'!AF:AF))","v":42.74},null,951,0,-0.25,{"$f":"IF($I31=\"\", \"\", VLOOKUP($I31,objects, '05.РКС'!L$18-'05.РКС'!$B$18+1, 0))","v":"2017-01-01"},{"$f":"IF($I31=\"\", \"\", VLOOKUP($I31,objects, '05.РКС'!M$18-'05.РКС'!$B$18+1, 0))","v":"2017-10-01"},{"$f":"IF($I31=\"\", \"\", VLOOKUP($I31,objects, '05.РКС'!N$18-'05.РКС'!$B$18+1, 0))","v":"Приказ Министерства энергетики и электрификации СССР № 51пс от 19.04.1978 г. об утверждении ТЭО строительства Вилюйской ГЭС-3 на р.Вилюй; Разрешение на строительство № 8-5 от 15.06.2005 г., выданное УиАГ МО \"Мирнинский район\""},{"$f":"IF($I31=\"\", \"\", VLOOKUP($I31,objects, '05.РКС'!P$18-'05.РКС'!$B$18+1, 0))","v":0},0]
[null,null,"АО \"Вилюйская ГЭС-3\"","Прочее",0,"","Прочая основная деятельность","Высокий",{"$f":"IF(ISBLANK('05.РКС'!B33), \"\", '05.РКС'!B33)","v":"2016-3.3."},"ЛКЗП.Обустройство приплотинной  площадки на   левом берегу",{"$f":"IF($I32=\"\", 0, SUMIF('7.СМР'!$E:$E, $I32, '7.СМР'!G:G)+SUMIF('8.ОСС'!$E:$E, $I32, '8.ОСС'!Y:Y)+SUMIF('9.ПИР'!$E:$E, $I32, '9.ПИР'!G:G)+SUMIF('10.БКП'!$E:$E, $I32, '10.БКП'!G:G)+SUMIF('11.ПЗС'!$E:$E, $I32, '11.ПЗС'!H:H))","v":1000},{"$f":"IF($I32=\"\", 0, SUMIF('7.СМР'!$E:$E, $I32, '7.СМР'!H:H)+SUMIF('8.ОСС'!$E:$E, $I32, '8.ОСС'!Z:Z)+SUMIF('9.ПИР'!$E:$E, $I32, '9.ПИР'!H:H)+SUMIF('10.БКП'!$E:$E, $I32, '10.БКП'!H:H)+SUMIF('11.ПЗС'!$E:$E, $I32, '11.ПЗС'!I:I))","v":0},{"$f":"IF($I32=\"\", 0, SUMIF('7.СМР'!$E:$E, $I32, '7.СМР'!I:I)+SUMIF('8.ОСС'!$E:$E, $I32, '8.ОСС'!AA:AA)+SUMIF('9.ПИР'!$E:$E, $I32, '9.ПИР'!I:I)+SUMIF('10.БКП'!$E:$E, $I32, '10.БКП'!I:I)+SUMIF('11.ПЗС'!$E:$E, $I32, '11.ПЗС'!J:J))","v":0},{"$f":"IF($I32=\"\", 0, SUMIF('7.СМР'!$E:$E, $I32, '7.СМР'!J:J)+SUMIF('8.ОСС'!$E:$E, $I32, '8.ОСС'!AB:AB)+SUMIF('9.ПИР'!$E:$E, $I32, '9.ПИР'!J:J)+SUMIF('10.БКП'!$E:$E, $I32, '10.БКП'!J:J)+SUMIF('11.ПЗС'!$E:$E, $I32, '11.ПЗС'!K:K))","v":1000},{"$f":"IF($I32=\"\", 0, SUMIF('7.СМР'!$E:$E, $I32, '7.СМР'!K:K)+SUMIF('8.ОСС'!$E:$E, $I32, '8.ОСС'!AC:AC)+SUMIF('9.ПИР'!$E:$E, $I32, '9.ПИР'!K:K)+SUMIF('10.БКП'!$E:$E, $I32, '10.БКП'!K:K)+SUMIF('11.ПЗС'!$E:$E, $I32, '11.ПЗС'!L:L))","v":0},{"$f":"IF($I32=\"\", 0, SUMIF('7.СМР'!$E:$E, $I32, '7.СМР'!L:L)+SUMIF('8.ОСС'!$E:$E, $I32, '8.ОСС'!AD:AD)+SUMIF('9.ПИР'!$E:$E, $I32, '9.ПИР'!L:L)+SUMIF('10.БКП'!$E:$E, $I32, '10.БКП'!L:L)+SUMIF('11.ПЗС'!$E:$E, $I32, '11.ПЗС'!M:M))","v":119.889},{"$f":"IF($I32=\"\", 0, SUMIF('7.СМР'!$E:$E, $I32, '7.СМР'!M:M)+SUMIF('8.ОСС'!$E:$E, $I32, '8.ОСС'!AE:AE)+SUMIF('9.ПИР'!$E:$E, $I32, '9.ПИР'!M:M)+SUMIF('10.БКП'!$E:$E, $I32, '10.БКП'!M:M)+SUMIF('11.ПЗС'!$E:$E, $I32, '11.ПЗС'!N:N))","v":0},{"$f":"IF($I32=\"\", 0, SUMIF('7.СМР'!$E:$E, $I32, '7.СМР'!N:N)+SUMIF('8.ОСС'!$E:$E, $I32, '8.ОСС'!AF:AF)+SUMIF('9.ПИР'!$E:$E, $I32, '9.ПИР'!N:N)+SUMIF('10.БКП'!$E:$E, $I32, '10.БКП'!N:N)+SUMIF('11.ПЗС'!$E:$E, $I32, '11.ПЗС'!O:O))","v":0},{"$f":"IF($I32=\"\", 0, SUMIF('7.СМР'!$E:$E, $I32, '7.СМР'!O:O)+SUMIF('8.ОСС'!$E:$E, $I32, '8.ОСС'!AG:AG)+SUMIF('9.ПИР'!$E:$E, $I32, '9.ПИР'!O:O)+SUMIF('10.БКП'!$E:$E, $I32, '10.БКП'!O:O)+SUMIF('11.ПЗС'!$E:$E, $I32, '11.ПЗС'!P:P))","v":0},{"$f":"IF($I32=\"\", 0, SUMIF('7.СМР'!$E:$E, $I32, '7.СМР'!P:P)+SUMIF('8.ОСС'!$E:$E, $I32, '8.ОСС'!AH:AH)+SUMIF('9.ПИР'!$E:$E, $I32, '9.ПИР'!P:P)+SUMIF('10.БКП'!$E:$E, $I32, '10.БКП'!P:P)+SUMIF('11.ПЗС'!$E:$E, $I32, '11.ПЗС'!Q:Q))","v":119.889},1000,119.889,-880.11099999999999,-0.88011099999999998,null,0,0,{"$f":"IF($I32=\"\", 0, SUMIF('7.СМР'!$E:$E, $I32, '7.СМР'!X:X)+SUMIF('8.ОСС'!$E:$E, $I32, '8.ОСС'!AP:AP)+SUMIF('9.ПИР'!$E:$E, $I32, '9.ПИР'!X:X)+SUMIF('10.БКП'!$E:$E, $I32, '10.БКП'!X:X)+SUMIF('11.ПЗС'!$E:$E, $I32, '11.ПЗС'!Y:Y))","v":0},{"$f":"IF($I32=\"\", 0, SUMIF('7.СМР'!$E:$E, $I32, '7.СМР'!Y:Y)+SUMIF('8.ОСС'!$E:$E, $I32, '8.ОСС'!AQ:AQ)+SUMIF('9.ПИР'!$E:$E, $I32, '9.ПИР'!Y:Y)+SUMIF('10.БКП'!$E:$E, $I32, '10.БКП'!Y:Y)+SUMIF('11.ПЗС'!$E:$E, $I32, '11.ПЗС'!Z:Z))","v":0},{"$f":"IF($I32=\"\", 0, SUMIF('7.СМР'!$E:$E, $I32, '7.СМР'!Z:Z)+SUMIF('8.ОСС'!$E:$E, $I32, '8.ОСС'!AR:AR)+SUMIF('9.ПИР'!$E:$E, $I32, '9.ПИР'!Z:Z)+SUMIF('10.БКП'!$E:$E, $I32, '10.БКП'!Z:Z)+SUMIF('11.ПЗС'!$E:$E, $I32, '11.ПЗС'!AA:AA))","v":0},{"$f":"IF($I32=\"\", 0, SUMIF('7.СМР'!$E:$E, $I32, '7.СМР'!AA:AA)+SUMIF('8.ОСС'!$E:$E, $I32, '8.ОСС'!AS:AS)+SUMIF('9.ПИР'!$E:$E, $I32, '9.ПИР'!AA:AA)+SUMIF('10.БКП'!$E:$E, $I32, '10.БКП'!AA:AA)+SUMIF('11.ПЗС'!$E:$E, $I32, '11.ПЗС'!AB:AB))","v":1000},{"$f":"IF($I32=\"\", 0, SUMIF('7.СМР'!$E:$E, $I32, '7.СМР'!AB:AB)+SUMIF('8.ОСС'!$E:$E, $I32, '8.ОСС'!AT:AT)+SUMIF('9.ПИР'!$E:$E, $I32, '9.ПИР'!AB:AB)+SUMIF('10.БКП'!$E:$E, $I32, '10.БКП'!AB:AB)+SUMIF('11.ПЗС'!$E:$E, $I32, '11.ПЗС'!AC:AC))","v":0},{"$f":"IF($I32=\"\", 0, SUMIF('7.СМР'!$E:$E, $I32, '7.СМР'!AC:AC)+SUMIF('8.ОСС'!$E:$E, $I32, '8.ОСС'!AU:AU)+SUMIF('9.ПИР'!$E:$E, $I32, '9.ПИР'!AC:AC)+SUMIF('10.БКП'!$E:$E, $I32, '10.БКП'!AC:AC)+SUMIF('11.ПЗС'!$E:$E, $I32, '11.ПЗС'!AD:AD))","v":0},{"$f":"IF($I32=\"\", 0, SUMIF('7.СМР'!$E:$E, $I32, '7.СМР'!AD:AD)+SUMIF('8.ОСС'!$E:$E, $I32, '8.ОСС'!AV:AV)+SUMIF('9.ПИР'!$E:$E, $I32, '9.ПИР'!AD:AD)+SUMIF('10.БКП'!$E:$E, $I32, '10.БКП'!AD:AD)+SUMIF('11.ПЗС'!$E:$E, $I32, '11.ПЗС'!AE:AE))","v":1000},{"$f":"IF($I32=\"\", 0, SUMIF('7.СМР'!$E:$E, $I32, '7.СМР'!AE:AE)+SUMIF('8.ОСС'!$E:$E, $I32, '8.ОСС'!AW:AW)+SUMIF('9.ПИР'!$E:$E, $I32, '9.ПИР'!AE:AE)+SUMIF('10.БКП'!$E:$E, $I32, '10.БКП'!AE:AE)+SUMIF('11.ПЗС'!$E:$E, $I32, '11.ПЗС'!AF:AF))","v":0},null,4000,0,3000,{"$f":"IF($I32=\"\", \"\", VLOOKUP($I32,objects, '05.РКС'!L$18-'05.РКС'!$B$18+1, 0))","v":"2017-06-01"},{"$f":"IF($I32=\"\", \"\", VLOOKUP($I32,objects, '05.РКС'!M$18-'05.РКС'!$B$18+1, 0))","v":"2017-10-01"},{"$f":"IF($I32=\"\", \"\", VLOOKUP($I32,objects, '05.РКС'!N$18-'05.РКС'!$B$18+1, 0))","v":"Приказ Министерства энергетики и электрификации СССР № 51пс от 19.04.1978 г. об утверждении ТЭО строительства Вилюйской ГЭС-3 на р.Вилюй; Разрешение на строительство № 8-5 от 15.06.2005 г., выданное УиАГ МО \"Мирнинский район\""},{"$f":"IF($I32=\"\", \"\", VLOOKUP($I32,objects, '05.РКС'!P$18-'05.РКС'!$B$18+1, 0))","v":0},0]
[null,null,"АО \"Вилюйская ГЭС-3\"","Прочее",0,"","Прочая основная деятельность","Высокий",{"$f":"IF(ISBLANK('05.РКС'!B34), \"\", '05.РКС'!B34)","v":"2016-3.4."},"ЛКЗП.Устройство вторых ворот   низовой  штольни (п.36 акта  техаудита),  в т.ч. ",{"$f":"IF($I33=\"\", 0, SUMIF('7.СМР'!$E:$E, $I33, '7.СМР'!G:G)+SUMIF('8.ОСС'!$E:$E, $I33, '8.ОСС'!Y:Y)+SUMIF('9.ПИР'!$E:$E, $I33, '9.ПИР'!G:G)+SUMIF('10.БКП'!$E:$E, $I33, '10.БКП'!G:G)+SUMIF('11.ПЗС'!$E:$E, $I33, '11.ПЗС'!H:H))","v":84},{"$f":"IF($I33=\"\", 0, SUMIF('7.СМР'!$E:$E, $I33, '7.СМР'!H:H)+SUMIF('8.ОСС'!$E:$E, $I33, '8.ОСС'!Z:Z)+SUMIF('9.ПИР'!$E:$E, $I33, '9.ПИР'!H:H)+SUMIF('10.БКП'!$E:$E, $I33, '10.БКП'!H:H)+SUMIF('11.ПЗС'!$E:$E, $I33, '11.ПЗС'!I:I))","v":0},{"$f":"IF($I33=\"\", 0, SUMIF('7.СМР'!$E:$E, $I33, '7.СМР'!I:I)+SUMIF('8.ОСС'!$E:$E, $I33, '8.ОСС'!AA:AA)+SUMIF('9.ПИР'!$E:$E, $I33, '9.ПИР'!I:I)+SUMIF('10.БКП'!$E:$E, $I33, '10.БКП'!I:I)+SUMIF('11.ПЗС'!$E:$E, $I33, '11.ПЗС'!J:J))","v":84},{"$f":"IF($I33=\"\", 0, SUMIF('7.СМР'!$E:$E, $I33, '7.СМР'!J:J)+SUMIF('8.ОСС'!$E:$E, $I33, '8.ОСС'!AB:AB)+SUMIF('9.ПИР'!$E:$E, $I33, '9.ПИР'!J:J)+SUMIF('10.БКП'!$E:$E, $I33, '10.БКП'!J:J)+SUMIF('11.ПЗС'!$E:$E, $I33, '11.ПЗС'!K:K))","v":0},{"$f":"IF($I33=\"\", 0, SUMIF('7.СМР'!$E:$E, $I33, '7.СМР'!K:K)+SUMIF('8.ОСС'!$E:$E, $I33, '8.ОСС'!AC:AC)+SUMIF('9.ПИР'!$E:$E, $I33, '9.ПИР'!K:K)+SUMIF('10.БКП'!$E:$E, $I33, '10.БКП'!K:K)+SUMIF('11.ПЗС'!$E:$E, $I33, '11.ПЗС'!L:L))","v":0},{"$f":"IF($I33=\"\", 0, SUMIF('7.СМР'!$E:$E, $I33, '7.СМР'!L:L)+SUMIF('8.ОСС'!$E:$E, $I33, '8.ОСС'!AD:AD)+SUMIF('9.ПИР'!$E:$E, $I33, '9.ПИР'!L:L)+SUMIF('10.БКП'!$E:$E, $I33, '10.БКП'!L:L)+SUMIF('11.ПЗС'!$E:$E, $I33, '11.ПЗС'!M:M))","v":83.81},{"$f":"IF($I33=\"\", 0, SUMIF('7.СМР'!$E:$E, $I33, '7.СМР'!M:M)+SUMIF('8.ОСС'!$E:$E, $I33, '8.ОСС'!AE:AE)+SUMIF('9.ПИР'!$E:$E, $I33, '9.ПИР'!M:M)+SUMIF('10.БКП'!$E:$E, $I33, '10.БКП'!M:M)+SUMIF('11.ПЗС'!$E:$E, $I33, '11.ПЗС'!N:N))","v":0},{"$f":"IF($I33=\"\", 0, SUMIF('7.СМР'!$E:$E, $I33, '7.СМР'!N:N)+SUMIF('8.ОСС'!$E:$E, $I33, '8.ОСС'!AF:AF)+SUMIF('9.ПИР'!$E:$E, $I33, '9.ПИР'!N:N)+SUMIF('10.БКП'!$E:$E, $I33, '10.БКП'!N:N)+SUMIF('11.ПЗС'!$E:$E, $I33, '11.ПЗС'!O:O))","v":83.81},{"$f":"IF($I33=\"\", 0, SUMIF('7.СМР'!$E:$E, $I33, '7.СМР'!O:O)+SUMIF('8.ОСС'!$E:$E, $I33, '8.ОСС'!AG:AG)+SUMIF('9.ПИР'!$E:$E, $I33, '9.ПИР'!O:O)+SUMIF('10.БКП'!$E:$E, $I33, '10.БКП'!O:O)+SUMIF('11.ПЗС'!$E:$E, $I33, '11.ПЗС'!P:P))","v":0},{"$f":"IF($I33=\"\", 0, SUMIF('7.СМР'!$E:$E, $I33, '7.СМР'!P:P)+SUMIF('8.ОСС'!$E:$E, $I33, '8.ОСС'!AH:AH)+SUMIF('9.ПИР'!$E:$E, $I33, '9.ПИР'!P:P)+SUMIF('10.БКП'!$E:$E, $I33, '10.БКП'!P:P)+SUMIF('11.ПЗС'!$E:$E, $I33, '11.ПЗС'!Q:Q))","v":0},84,83.81,-0.18999999999999773,-2.261904761904735E-3,null,-0.18999999999999773,-2.261904761904735E-3,{"$f":"IF($I33=\"\", 0, SUMIF('7.СМР'!$E:$E, $I33, '7.СМР'!X:X)+SUMIF('8.ОСС'!$E:$E, $I33, '8.ОСС'!AP:AP)+SUMIF('9.ПИР'!$E:$E, $I33, '9.ПИР'!X:X)+SUMIF('10.БКП'!$E:$E, $I33, '10.БКП'!X:X)+SUMIF('11.ПЗС'!$E:$E, $I33, '11.ПЗС'!Y:Y))","v":0},{"$f":"IF($I33=\"\", 0, SUMIF('7.СМР'!$E:$E, $I33, '7.СМР'!Y:Y)+SUMIF('8.ОСС'!$E:$E, $I33, '8.ОСС'!AQ:AQ)+SUMIF('9.ПИР'!$E:$E, $I33, '9.ПИР'!Y:Y)+SUMIF('10.БКП'!$E:$E, $I33, '10.БКП'!Y:Y)+SUMIF('11.ПЗС'!$E:$E, $I33, '11.ПЗС'!Z:Z))","v":0},{"$f":"IF($I33=\"\", 0, SUMIF('7.СМР'!$E:$E, $I33, '7.СМР'!Z:Z)+SUMIF('8.ОСС'!$E:$E, $I33, '8.ОСС'!AR:AR)+SUMIF('9.ПИР'!$E:$E, $I33, '9.ПИР'!Z:Z)+SUMIF('10.БКП'!$E:$E, $I33, '10.БКП'!Z:Z)+SUMIF('11.ПЗС'!$E:$E, $I33, '11.ПЗС'!AA:AA))","v":-0.18999999999999773},{"$f":"IF($I33=\"\", 0, SUMIF('7.СМР'!$E:$E, $I33, '7.СМР'!AA:AA)+SUMIF('8.ОСС'!$E:$E, $I33, '8.ОСС'!AS:AS)+SUMIF('9.ПИР'!$E:$E, $I33, '9.ПИР'!AA:AA)+SUMIF('10.БКП'!$E:$E, $I33, '10.БКП'!AA:AA)+SUMIF('11.ПЗС'!$E:$E, $I33, '11.ПЗС'!AB:AB))","v":83.81},{"$f":"IF($I33=\"\", 0, SUMIF('7.СМР'!$E:$E, $I33, '7.СМР'!AB:AB)+SUMIF('8.ОСС'!$E:$E, $I33, '8.ОСС'!AT:AT)+SUMIF('9.ПИР'!$E:$E, $I33, '9.ПИР'!AB:AB)+SUMIF('10.БКП'!$E:$E, $I33, '10.БКП'!AB:AB)+SUMIF('11.ПЗС'!$E:$E, $I33, '11.ПЗС'!AC:AC))","v":0},{"$f":"IF($I33=\"\", 0, SUMIF('7.СМР'!$E:$E, $I33, '7.СМР'!AC:AC)+SUMIF('8.ОСС'!$E:$E, $I33, '8.ОСС'!AU:AU)+SUMIF('9.ПИР'!$E:$E, $I33, '9.ПИР'!AC:AC)+SUMIF('10.БКП'!$E:$E, $I33, '10.БКП'!AC:AC)+SUMIF('11.ПЗС'!$E:$E, $I33, '11.ПЗС'!AD:AD))","v":83.81},{"$f":"IF($I33=\"\", 0, SUMIF('7.СМР'!$E:$E, $I33, '7.СМР'!AD:AD)+SUMIF('8.ОСС'!$E:$E, $I33, '8.ОСС'!AV:AV)+SUMIF('9.ПИР'!$E:$E, $I33, '9.ПИР'!AD:AD)+SUMIF('10.БКП'!$E:$E, $I33, '10.БКП'!AD:AD)+SUMIF('11.ПЗС'!$E:$E, $I33, '11.ПЗС'!AE:AE))","v":0},{"$f":"IF($I33=\"\", 0, SUMIF('7.СМР'!$E:$E, $I33, '7.СМР'!AE:AE)+SUMIF('8.ОСС'!$E:$E, $I33, '8.ОСС'!AW:AW)+SUMIF('9.ПИР'!$E:$E, $I33, '9.ПИР'!AE:AE)+SUMIF('10.БКП'!$E:$E, $I33, '10.БКП'!AE:AE)+SUMIF('11.ПЗС'!$E:$E, $I33, '11.ПЗС'!AF:AF))","v":0},null,724,0,640,{"$f":"IF($I33=\"\", \"\", VLOOKUP($I33,objects, '05.РКС'!L$18-'05.РКС'!$B$18+1, 0))","v":"2017-07-01"},{"$f":"IF($I33=\"\", \"\", VLOOKUP($I33,objects, '05.РКС'!M$18-'05.РКС'!$B$18+1, 0))","v":"2017-10-01"},{"$f":"IF($I33=\"\", \"\", VLOOKUP($I33,objects, '05.РКС'!N$18-'05.РКС'!$B$18+1, 0))","v":"Рекомендации техаудита   \"РусГидро\" п.36"},{"$f":"IF($I33=\"\", \"\", VLOOKUP($I33,objects, '05.РКС'!P$18-'05.РКС'!$B$18+1, 0))","v":0},0]
[null,null,"АО \"Вилюйская ГЭС-3\"","Прочее",0,"","Прочая основная деятельность","Высокий",{"$f":"IF(ISBLANK('05.РКС'!B35), \"\", '05.РКС'!B35)","v":"2016-3.5."},"ЛКЗП.Защитная  облицовка портала.Теплозащитный  экран и анкера крепления стенко к  массиву (п.35 акта  техаудита)",{"$f":"IF($I34=\"\", 0, SUMIF('7.СМР'!$E:$E, $I34, '7.СМР'!G:G)+SUMIF('8.ОСС'!$E:$E, $I34, '8.ОСС'!Y:Y)+SUMIF('9.ПИР'!$E:$E, $I34, '9.ПИР'!G:G)+SUMIF('10.БКП'!$E:$E, $I34, '10.БКП'!G:G)+SUMIF('11.ПЗС'!$E:$E, $I34, '11.ПЗС'!H:H))","v":584},{"$f":"IF($I34=\"\", 0, SUMIF('7.СМР'!$E:$E, $I34, '7.СМР'!H:H)+SUMIF('8.ОСС'!$E:$E, $I34, '8.ОСС'!Z:Z)+SUMIF('9.ПИР'!$E:$E, $I34, '9.ПИР'!H:H)+SUMIF('10.БКП'!$E:$E, $I34, '10.БКП'!H:H)+SUMIF('11.ПЗС'!$E:$E, $I34, '11.ПЗС'!I:I))","v":0},{"$f":"IF($I34=\"\", 0, SUMIF('7.СМР'!$E:$E, $I34, '7.СМР'!I:I)+SUMIF('8.ОСС'!$E:$E, $I34, '8.ОСС'!AA:AA)+SUMIF('9.ПИР'!$E:$E, $I34, '9.ПИР'!I:I)+SUMIF('10.БКП'!$E:$E, $I34, '10.БКП'!I:I)+SUMIF('11.ПЗС'!$E:$E, $I34, '11.ПЗС'!J:J))","v":584},{"$f":"IF($I34=\"\", 0, SUMIF('7.СМР'!$E:$E, $I34, '7.СМР'!J:J)+SUMIF('8.ОСС'!$E:$E, $I34, '8.ОСС'!AB:AB)+SUMIF('9.ПИР'!$E:$E, $I34, '9.ПИР'!J:J)+SUMIF('10.БКП'!$E:$E, $I34, '10.БКП'!J:J)+SUMIF('11.ПЗС'!$E:$E, $I34, '11.ПЗС'!K:K))","v":0},{"$f":"IF($I34=\"\", 0, SUMIF('7.СМР'!$E:$E, $I34, '7.СМР'!K:K)+SUMIF('8.ОСС'!$E:$E, $I34, '8.ОСС'!AC:AC)+SUMIF('9.ПИР'!$E:$E, $I34, '9.ПИР'!K:K)+SUMIF('10.БКП'!$E:$E, $I34, '10.БКП'!K:K)+SUMIF('11.ПЗС'!$E:$E, $I34, '11.ПЗС'!L:L))","v":0},{"$f":"IF($I34=\"\", 0, SUMIF('7.СМР'!$E:$E, $I34, '7.СМР'!L:L)+SUMIF('8.ОСС'!$E:$E, $I34, '8.ОСС'!AD:AD)+SUMIF('9.ПИР'!$E:$E, $I34, '9.ПИР'!L:L)+SUMIF('10.БКП'!$E:$E, $I34, '10.БКП'!L:L)+SUMIF('11.ПЗС'!$E:$E, $I34, '11.ПЗС'!M:M))","v":584.29999999999995},{"$f":"IF($I34=\"\", 0, SUMIF('7.СМР'!$E:$E, $I34, '7.СМР'!M:M)+SUMIF('8.ОСС'!$E:$E, $I34, '8.ОСС'!AE:AE)+SUMIF('9.ПИР'!$E:$E, $I34, '9.ПИР'!M:M)+SUMIF('10.БКП'!$E:$E, $I34, '10.БКП'!M:M)+SUMIF('11.ПЗС'!$E:$E, $I34, '11.ПЗС'!N:N))","v":0},{"$f":"IF($I34=\"\", 0, SUMIF('7.СМР'!$E:$E, $I34, '7.СМР'!N:N)+SUMIF('8.ОСС'!$E:$E, $I34, '8.ОСС'!AF:AF)+SUMIF('9.ПИР'!$E:$E, $I34, '9.ПИР'!N:N)+SUMIF('10.БКП'!$E:$E, $I34, '10.БКП'!N:N)+SUMIF('11.ПЗС'!$E:$E, $I34, '11.ПЗС'!O:O))","v":584.29999999999995},{"$f":"IF($I34=\"\", 0, SUMIF('7.СМР'!$E:$E, $I34, '7.СМР'!O:O)+SUMIF('8.ОСС'!$E:$E, $I34, '8.ОСС'!AG:AG)+SUMIF('9.ПИР'!$E:$E, $I34, '9.ПИР'!O:O)+SUMIF('10.БКП'!$E:$E, $I34, '10.БКП'!O:O)+SUMIF('11.ПЗС'!$E:$E, $I34, '11.ПЗС'!P:P))","v":0},{"$f":"IF($I34=\"\", 0, SUMIF('7.СМР'!$E:$E, $I34, '7.СМР'!P:P)+SUMIF('8.ОСС'!$E:$E, $I34, '8.ОСС'!AH:AH)+SUMIF('9.ПИР'!$E:$E, $I34, '9.ПИР'!P:P)+SUMIF('10.БКП'!$E:$E, $I34, '10.БКП'!P:P)+SUMIF('11.ПЗС'!$E:$E, $I34, '11.ПЗС'!Q:Q))","v":0},584,584.29999999999995,0.29999999999995453,5.1369863013690841E-4,null,0.29999999999995453,5.1369863013690841E-4,{"$f":"IF($I34=\"\", 0, SUMIF('7.СМР'!$E:$E, $I34, '7.СМР'!X:X)+SUMIF('8.ОСС'!$E:$E, $I34, '8.ОСС'!AP:AP)+SUMIF('9.ПИР'!$E:$E, $I34, '9.ПИР'!X:X)+SUMIF('10.БКП'!$E:$E, $I34, '10.БКП'!X:X)+SUMIF('11.ПЗС'!$E:$E, $I34, '11.ПЗС'!Y:Y))","v":0},{"$f":"IF($I34=\"\", 0, SUMIF('7.СМР'!$E:$E, $I34, '7.СМР'!Y:Y)+SUMIF('8.ОСС'!$E:$E, $I34, '8.ОСС'!AQ:AQ)+SUMIF('9.ПИР'!$E:$E, $I34, '9.ПИР'!Y:Y)+SUMIF('10.БКП'!$E:$E, $I34, '10.БКП'!Y:Y)+SUMIF('11.ПЗС'!$E:$E, $I34, '11.ПЗС'!Z:Z))","v":0},{"$f":"IF($I34=\"\", 0, SUMIF('7.СМР'!$E:$E, $I34, '7.СМР'!Z:Z)+SUMIF('8.ОСС'!$E:$E, $I34, '8.ОСС'!AR:AR)+SUMIF('9.ПИР'!$E:$E, $I34, '9.ПИР'!Z:Z)+SUMIF('10.БКП'!$E:$E, $I34, '10.БКП'!Z:Z)+SUMIF('11.ПЗС'!$E:$E, $I34, '11.ПЗС'!AA:AA))","v":0.29999999999995453},{"$f":"IF($I34=\"\", 0, SUMIF('7.СМР'!$E:$E, $I34, '7.СМР'!AA:AA)+SUMIF('8.ОСС'!$E:$E, $I34, '8.ОСС'!AS:AS)+SUMIF('9.ПИР'!$E:$E, $I34, '9.ПИР'!AA:AA)+SUMIF('10.БКП'!$E:$E, $I34, '10.БКП'!AA:AA)+SUMIF('11.ПЗС'!$E:$E, $I34, '11.ПЗС'!AB:AB))","v":584.29999999999995},{"$f":"IF($I34=\"\", 0, SUMIF('7.СМР'!$E:$E, $I34, '7.СМР'!AB:AB)+SUMIF('8.ОСС'!$E:$E, $I34, '8.ОСС'!AT:AT)+SUMIF('9.ПИР'!$E:$E, $I34, '9.ПИР'!AB:AB)+SUMIF('10.БКП'!$E:$E, $I34, '10.БКП'!AB:AB)+SUMIF('11.ПЗС'!$E:$E, $I34, '11.ПЗС'!AC:AC))","v":0},{"$f":"IF($I34=\"\", 0, SUMIF('7.СМР'!$E:$E, $I34, '7.СМР'!AC:AC)+SUMIF('8.ОСС'!$E:$E, $I34, '8.ОСС'!AU:AU)+SUMIF('9.ПИР'!$E:$E, $I34, '9.ПИР'!AC:AC)+SUMIF('10.БКП'!$E:$E, $I34, '10.БКП'!AC:AC)+SUMIF('11.ПЗС'!$E:$E, $I34, '11.ПЗС'!AD:AD))","v":584.29999999999995},{"$f":"IF($I34=\"\", 0, SUMIF('7.СМР'!$E:$E, $I34, '7.СМР'!AD:AD)+SUMIF('8.ОСС'!$E:$E, $I34, '8.ОСС'!AV:AV)+SUMIF('9.ПИР'!$E:$E, $I34, '9.ПИР'!AD:AD)+SUMIF('10.БКП'!$E:$E, $I34, '10.БКП'!AD:AD)+SUMIF('11.ПЗС'!$E:$E, $I34, '11.ПЗС'!AE:AE))","v":0},{"$f":"IF($I34=\"\", 0, SUMIF('7.СМР'!$E:$E, $I34, '7.СМР'!AE:AE)+SUMIF('8.ОСС'!$E:$E, $I34, '8.ОСС'!AW:AW)+SUMIF('9.ПИР'!$E:$E, $I34, '9.ПИР'!AE:AE)+SUMIF('10.БКП'!$E:$E, $I34, '10.БКП'!AE:AE)+SUMIF('11.ПЗС'!$E:$E, $I34, '11.ПЗС'!AF:AF))","v":0},null,1500,0,916,{"$f":"IF($I34=\"\", \"\", VLOOKUP($I34,objects, '05.РКС'!L$18-'05.РКС'!$B$18+1, 0))","v":"2017-07-01"},{"$f":"IF($I34=\"\", \"\", VLOOKUP($I34,objects, '05.РКС'!M$18-'05.РКС'!$B$18+1, 0))","v":"2017-10-01"},{"$f":"IF($I34=\"\", \"\", VLOOKUP($I34,objects, '05.РКС'!N$18-'05.РКС'!$B$18+1, 0))","v":"Рекомендации техаудита   \"РусГидро\" п.36"},{"$f":"IF($I34=\"\", \"\", VLOOKUP($I34,objects, '05.РКС'!P$18-'05.РКС'!$B$18+1, 0))","v":0},0]
[null,null,"АО \"Вилюйская ГЭС-3\"","Прочее",0,"","Прочая основная деятельность","Высокий",{"$f":"IF(ISBLANK('05.РКС'!B36), \"\", '05.РКС'!B36)","v":"2016-4.1."},"ПКЗП. Переход через ручей Сыылага (Добыча скального  грунта  в карьере 14 ИД, земельно-скальные работы)",{"$f":"IF($I35=\"\", 0, SUMIF('7.СМР'!$E:$E, $I35, '7.СМР'!G:G)+SUMIF('8.ОСС'!$E:$E, $I35, '8.ОСС'!Y:Y)+SUMIF('9.ПИР'!$E:$E, $I35, '9.ПИР'!G:G)+SUMIF('10.БКП'!$E:$E, $I35, '10.БКП'!G:G)+SUMIF('11.ПЗС'!$E:$E, $I35, '11.ПЗС'!H:H))","v":57262},{"$f":"IF($I35=\"\", 0, SUMIF('7.СМР'!$E:$E, $I35, '7.СМР'!H:H)+SUMIF('8.ОСС'!$E:$E, $I35, '8.ОСС'!Z:Z)+SUMIF('9.ПИР'!$E:$E, $I35, '9.ПИР'!H:H)+SUMIF('10.БКП'!$E:$E, $I35, '10.БКП'!H:H)+SUMIF('11.ПЗС'!$E:$E, $I35, '11.ПЗС'!I:I))","v":0},{"$f":"IF($I35=\"\", 0, SUMIF('7.СМР'!$E:$E, $I35, '7.СМР'!I:I)+SUMIF('8.ОСС'!$E:$E, $I35, '8.ОСС'!AA:AA)+SUMIF('9.ПИР'!$E:$E, $I35, '9.ПИР'!I:I)+SUMIF('10.БКП'!$E:$E, $I35, '10.БКП'!I:I)+SUMIF('11.ПЗС'!$E:$E, $I35, '11.ПЗС'!J:J))","v":0},{"$f":"IF($I35=\"\", 0, SUMIF('7.СМР'!$E:$E, $I35, '7.СМР'!J:J)+SUMIF('8.ОСС'!$E:$E, $I35, '8.ОСС'!AB:AB)+SUMIF('9.ПИР'!$E:$E, $I35, '9.ПИР'!J:J)+SUMIF('10.БКП'!$E:$E, $I35, '10.БКП'!J:J)+SUMIF('11.ПЗС'!$E:$E, $I35, '11.ПЗС'!K:K))","v":28631},{"$f":"IF($I35=\"\", 0, SUMIF('7.СМР'!$E:$E, $I35, '7.СМР'!K:K)+SUMIF('8.ОСС'!$E:$E, $I35, '8.ОСС'!AC:AC)+SUMIF('9.ПИР'!$E:$E, $I35, '9.ПИР'!K:K)+SUMIF('10.БКП'!$E:$E, $I35, '10.БКП'!K:K)+SUMIF('11.ПЗС'!$E:$E, $I35, '11.ПЗС'!L:L))","v":28631},{"$f":"IF($I35=\"\", 0, SUMIF('7.СМР'!$E:$E, $I35, '7.СМР'!L:L)+SUMIF('8.ОСС'!$E:$E, $I35, '8.ОСС'!AD:AD)+SUMIF('9.ПИР'!$E:$E, $I35, '9.ПИР'!L:L)+SUMIF('10.БКП'!$E:$E, $I35, '10.БКП'!L:L)+SUMIF('11.ПЗС'!$E:$E, $I35, '11.ПЗС'!M:M))","v":34921.311999999998},{"$f":"IF($I35=\"\", 0, SUMIF('7.СМР'!$E:$E, $I35, '7.СМР'!M:M)+SUMIF('8.ОСС'!$E:$E, $I35, '8.ОСС'!AE:AE)+SUMIF('9.ПИР'!$E:$E, $I35, '9.ПИР'!M:M)+SUMIF('10.БКП'!$E:$E, $I35, '10.БКП'!M:M)+SUMIF('11.ПЗС'!$E:$E, $I35, '11.ПЗС'!N:N))","v":0},{"$f":"IF($I35=\"\", 0, SUMIF('7.СМР'!$E:$E, $I35, '7.СМР'!N:N)+SUMIF('8.ОСС'!$E:$E, $I35, '8.ОСС'!AF:AF)+SUMIF('9.ПИР'!$E:$E, $I35, '9.ПИР'!N:N)+SUMIF('10.БКП'!$E:$E, $I35, '10.БКП'!N:N)+SUMIF('11.ПЗС'!$E:$E, $I35, '11.ПЗС'!O:O))","v":0},{"$f":"IF($I35=\"\", 0, SUMIF('7.СМР'!$E:$E, $I35, '7.СМР'!O:O)+SUMIF('8.ОСС'!$E:$E, $I35, '8.ОСС'!AG:AG)+SUMIF('9.ПИР'!$E:$E, $I35, '9.ПИР'!O:O)+SUMIF('10.БКП'!$E:$E, $I35, '10.БКП'!O:O)+SUMIF('11.ПЗС'!$E:$E, $I35, '11.ПЗС'!P:P))","v":0},{"$f":"IF($I35=\"\", 0, SUMIF('7.СМР'!$E:$E, $I35, '7.СМР'!P:P)+SUMIF('8.ОСС'!$E:$E, $I35, '8.ОСС'!AH:AH)+SUMIF('9.ПИР'!$E:$E, $I35, '9.ПИР'!P:P)+SUMIF('10.БКП'!$E:$E, $I35, '10.БКП'!P:P)+SUMIF('11.ПЗС'!$E:$E, $I35, '11.ПЗС'!Q:Q))","v":34921.311999999998},57262,34921.311999999998,-22340.688000000002,-0.39014858021026166,null,0,0,{"$f":"IF($I35=\"\", 0, SUMIF('7.СМР'!$E:$E, $I35, '7.СМР'!X:X)+SUMIF('8.ОСС'!$E:$E, $I35, '8.ОСС'!AP:AP)+SUMIF('9.ПИР'!$E:$E, $I35, '9.ПИР'!X:X)+SUMIF('10.БКП'!$E:$E, $I35, '10.БКП'!X:X)+SUMIF('11.ПЗС'!$E:$E, $I35, '11.ПЗС'!Y:Y))","v":0},{"$f":"IF($I35=\"\", 0, SUMIF('7.СМР'!$E:$E, $I35, '7.СМР'!Y:Y)+SUMIF('8.ОСС'!$E:$E, $I35, '8.ОСС'!AQ:AQ)+SUMIF('9.ПИР'!$E:$E, $I35, '9.ПИР'!Y:Y)+SUMIF('10.БКП'!$E:$E, $I35, '10.БКП'!Y:Y)+SUMIF('11.ПЗС'!$E:$E, $I35, '11.ПЗС'!Z:Z))","v":0},{"$f":"IF($I35=\"\", 0, SUMIF('7.СМР'!$E:$E, $I35, '7.СМР'!Z:Z)+SUMIF('8.ОСС'!$E:$E, $I35, '8.ОСС'!AR:AR)+SUMIF('9.ПИР'!$E:$E, $I35, '9.ПИР'!Z:Z)+SUMIF('10.БКП'!$E:$E, $I35, '10.БКП'!Z:Z)+SUMIF('11.ПЗС'!$E:$E, $I35, '11.ПЗС'!AA:AA))","v":0},{"$f":"IF($I35=\"\", 0, SUMIF('7.СМР'!$E:$E, $I35, '7.СМР'!AA:AA)+SUMIF('8.ОСС'!$E:$E, $I35, '8.ОСС'!AS:AS)+SUMIF('9.ПИР'!$E:$E, $I35, '9.ПИР'!AA:AA)+SUMIF('10.БКП'!$E:$E, $I35, '10.БКП'!AA:AA)+SUMIF('11.ПЗС'!$E:$E, $I35, '11.ПЗС'!AB:AB))","v":57262},{"$f":"IF($I35=\"\", 0, SUMIF('7.СМР'!$E:$E, $I35, '7.СМР'!AB:AB)+SUMIF('8.ОСС'!$E:$E, $I35, '8.ОСС'!AT:AT)+SUMIF('9.ПИР'!$E:$E, $I35, '9.ПИР'!AB:AB)+SUMIF('10.БКП'!$E:$E, $I35, '10.БКП'!AB:AB)+SUMIF('11.ПЗС'!$E:$E, $I35, '11.ПЗС'!AC:AC))","v":0},{"$f":"IF($I35=\"\", 0, SUMIF('7.СМР'!$E:$E, $I35, '7.СМР'!AC:AC)+SUMIF('8.ОСС'!$E:$E, $I35, '8.ОСС'!AU:AU)+SUMIF('9.ПИР'!$E:$E, $I35, '9.ПИР'!AC:AC)+SUMIF('10.БКП'!$E:$E, $I35, '10.БКП'!AC:AC)+SUMIF('11.ПЗС'!$E:$E, $I35, '11.ПЗС'!AD:AD))","v":0},{"$f":"IF($I35=\"\", 0, SUMIF('7.СМР'!$E:$E, $I35, '7.СМР'!AD:AD)+SUMIF('8.ОСС'!$E:$E, $I35, '8.ОСС'!AV:AV)+SUMIF('9.ПИР'!$E:$E, $I35, '9.ПИР'!AD:AD)+SUMIF('10.БКП'!$E:$E, $I35, '10.БКП'!AD:AD)+SUMIF('11.ПЗС'!$E:$E, $I35, '11.ПЗС'!AE:AE))","v":28631},{"$f":"IF($I35=\"\", 0, SUMIF('7.СМР'!$E:$E, $I35, '7.СМР'!AE:AE)+SUMIF('8.ОСС'!$E:$E, $I35, '8.ОСС'!AW:AW)+SUMIF('9.ПИР'!$E:$E, $I35, '9.ПИР'!AE:AE)+SUMIF('10.БКП'!$E:$E, $I35, '10.БКП'!AE:AE)+SUMIF('11.ПЗС'!$E:$E, $I35, '11.ПЗС'!AF:AF))","v":28631},null,130223,0,72961,{"$f":"IF($I35=\"\", \"\", VLOOKUP($I35,objects, '05.РКС'!L$18-'05.РКС'!$B$18+1, 0))","v":"2017-06-01"},{"$f":"IF($I35=\"\", \"\", VLOOKUP($I35,objects, '05.РКС'!M$18-'05.РКС'!$B$18+1, 0))","v":"2018-11-01"},{"$f":"IF($I35=\"\", \"\", VLOOKUP($I35,objects, '05.РКС'!N$18-'05.РКС'!$B$18+1, 0))","v":"Приказ Министерства энергетики и электрификации СССР № 51пс от 19.04.1978 г. об утверждении ТЭО строительства Вилюйской ГЭС-3 на р.Вилюй; Разрешение на строительство № 8-5 от 15.06.2005 г., выданное УиАГ МО \"Мирнинский район\""},{"$f":"IF($I35=\"\", \"\", VLOOKUP($I35,objects, '05.РКС'!P$18-'05.РКС'!$B$18+1, 0))","v":0},0]
[null,null,"АО \"Вилюйская ГЭС-3\"","Прочее",0,"","Прочая основная деятельность","Высокий",{"$f":"IF(ISBLANK('05.РКС'!B37), \"\", '05.РКС'!B37)","v":"2016-4.2."},"ПКЗП.Электромонтажные работы по подключению и обеспечению водоотлива, монтажу и демонтажу оборудования на период взрывов в карьере 14 ИД.",{"$f":"IF($I36=\"\", 0, SUMIF('7.СМР'!$E:$E, $I36, '7.СМР'!G:G)+SUMIF('8.ОСС'!$E:$E, $I36, '8.ОСС'!Y:Y)+SUMIF('9.ПИР'!$E:$E, $I36, '9.ПИР'!G:G)+SUMIF('10.БКП'!$E:$E, $I36, '10.БКП'!G:G)+SUMIF('11.ПЗС'!$E:$E, $I36, '11.ПЗС'!H:H))","v":700},{"$f":"IF($I36=\"\", 0, SUMIF('7.СМР'!$E:$E, $I36, '7.СМР'!H:H)+SUMIF('8.ОСС'!$E:$E, $I36, '8.ОСС'!Z:Z)+SUMIF('9.ПИР'!$E:$E, $I36, '9.ПИР'!H:H)+SUMIF('10.БКП'!$E:$E, $I36, '10.БКП'!H:H)+SUMIF('11.ПЗС'!$E:$E, $I36, '11.ПЗС'!I:I))","v":0},{"$f":"IF($I36=\"\", 0, SUMIF('7.СМР'!$E:$E, $I36, '7.СМР'!I:I)+SUMIF('8.ОСС'!$E:$E, $I36, '8.ОСС'!AA:AA)+SUMIF('9.ПИР'!$E:$E, $I36, '9.ПИР'!I:I)+SUMIF('10.БКП'!$E:$E, $I36, '10.БКП'!I:I)+SUMIF('11.ПЗС'!$E:$E, $I36, '11.ПЗС'!J:J))","v":0},{"$f":"IF($I36=\"\", 0, SUMIF('7.СМР'!$E:$E, $I36, '7.СМР'!J:J)+SUMIF('8.ОСС'!$E:$E, $I36, '8.ОСС'!AB:AB)+SUMIF('9.ПИР'!$E:$E, $I36, '9.ПИР'!J:J)+SUMIF('10.БКП'!$E:$E, $I36, '10.БКП'!J:J)+SUMIF('11.ПЗС'!$E:$E, $I36, '11.ПЗС'!K:K))","v":700},{"$f":"IF($I36=\"\", 0, SUMIF('7.СМР'!$E:$E, $I36, '7.СМР'!K:K)+SUMIF('8.ОСС'!$E:$E, $I36, '8.ОСС'!AC:AC)+SUMIF('9.ПИР'!$E:$E, $I36, '9.ПИР'!K:K)+SUMIF('10.БКП'!$E:$E, $I36, '10.БКП'!K:K)+SUMIF('11.ПЗС'!$E:$E, $I36, '11.ПЗС'!L:L))","v":0},{"$f":"IF($I36=\"\", 0, SUMIF('7.СМР'!$E:$E, $I36, '7.СМР'!L:L)+SUMIF('8.ОСС'!$E:$E, $I36, '8.ОСС'!AD:AD)+SUMIF('9.ПИР'!$E:$E, $I36, '9.ПИР'!L:L)+SUMIF('10.БКП'!$E:$E, $I36, '10.БКП'!L:L)+SUMIF('11.ПЗС'!$E:$E, $I36, '11.ПЗС'!M:M))","v":0},{"$f":"IF($I36=\"\", 0, SUMIF('7.СМР'!$E:$E, $I36, '7.СМР'!M:M)+SUMIF('8.ОСС'!$E:$E, $I36, '8.ОСС'!AE:AE)+SUMIF('9.ПИР'!$E:$E, $I36, '9.ПИР'!M:M)+SUMIF('10.БКП'!$E:$E, $I36, '10.БКП'!M:M)+SUMIF('11.ПЗС'!$E:$E, $I36, '11.ПЗС'!N:N))","v":0},{"$f":"IF($I36=\"\", 0, SUMIF('7.СМР'!$E:$E, $I36, '7.СМР'!N:N)+SUMIF('8.ОСС'!$E:$E, $I36, '8.ОСС'!AF:AF)+SUMIF('9.ПИР'!$E:$E, $I36, '9.ПИР'!N:N)+SUMIF('10.БКП'!$E:$E, $I36, '10.БКП'!N:N)+SUMIF('11.ПЗС'!$E:$E, $I36, '11.ПЗС'!O:O))","v":0},{"$f":"IF($I36=\"\", 0, SUMIF('7.СМР'!$E:$E, $I36, '7.СМР'!O:O)+SUMIF('8.ОСС'!$E:$E, $I36, '8.ОСС'!AG:AG)+SUMIF('9.ПИР'!$E:$E, $I36, '9.ПИР'!O:O)+SUMIF('10.БКП'!$E:$E, $I36, '10.БКП'!O:O)+SUMIF('11.ПЗС'!$E:$E, $I36, '11.ПЗС'!P:P))","v":0},{"$f":"IF($I36=\"\", 0, SUMIF('7.СМР'!$E:$E, $I36, '7.СМР'!P:P)+SUMIF('8.ОСС'!$E:$E, $I36, '8.ОСС'!AH:AH)+SUMIF('9.ПИР'!$E:$E, $I36, '9.ПИР'!P:P)+SUMIF('10.БКП'!$E:$E, $I36, '10.БКП'!P:P)+SUMIF('11.ПЗС'!$E:$E, $I36, '11.ПЗС'!Q:Q))","v":0},700,0,-700,-1,null,0,0,{"$f":"IF($I36=\"\", 0, SUMIF('7.СМР'!$E:$E, $I36, '7.СМР'!X:X)+SUMIF('8.ОСС'!$E:$E, $I36, '8.ОСС'!AP:AP)+SUMIF('9.ПИР'!$E:$E, $I36, '9.ПИР'!X:X)+SUMIF('10.БКП'!$E:$E, $I36, '10.БКП'!X:X)+SUMIF('11.ПЗС'!$E:$E, $I36, '11.ПЗС'!Y:Y))","v":0},{"$f":"IF($I36=\"\", 0, SUMIF('7.СМР'!$E:$E, $I36, '7.СМР'!Y:Y)+SUMIF('8.ОСС'!$E:$E, $I36, '8.ОСС'!AQ:AQ)+SUMIF('9.ПИР'!$E:$E, $I36, '9.ПИР'!Y:Y)+SUMIF('10.БКП'!$E:$E, $I36, '10.БКП'!Y:Y)+SUMIF('11.ПЗС'!$E:$E, $I36, '11.ПЗС'!Z:Z))","v":0},{"$f":"IF($I36=\"\", 0, SUMIF('7.СМР'!$E:$E, $I36, '7.СМР'!Z:Z)+SUMIF('8.ОСС'!$E:$E, $I36, '8.ОСС'!AR:AR)+SUMIF('9.ПИР'!$E:$E, $I36, '9.ПИР'!Z:Z)+SUMIF('10.БКП'!$E:$E, $I36, '10.БКП'!Z:Z)+SUMIF('11.ПЗС'!$E:$E, $I36, '11.ПЗС'!AA:AA))","v":0},{"$f":"IF($I36=\"\", 0, SUMIF('7.СМР'!$E:$E, $I36, '7.СМР'!AA:AA)+SUMIF('8.ОСС'!$E:$E, $I36, '8.ОСС'!AS:AS)+SUMIF('9.ПИР'!$E:$E, $I36, '9.ПИР'!AA:AA)+SUMIF('10.БКП'!$E:$E, $I36, '10.БКП'!AA:AA)+SUMIF('11.ПЗС'!$E:$E, $I36, '11.ПЗС'!AB:AB))","v":700},{"$f":"IF($I36=\"\", 0, SUMIF('7.СМР'!$E:$E, $I36, '7.СМР'!AB:AB)+SUMIF('8.ОСС'!$E:$E, $I36, '8.ОСС'!AT:AT)+SUMIF('9.ПИР'!$E:$E, $I36, '9.ПИР'!AB:AB)+SUMIF('10.БКП'!$E:$E, $I36, '10.БКП'!AB:AB)+SUMIF('11.ПЗС'!$E:$E, $I36, '11.ПЗС'!AC:AC))","v":0},{"$f":"IF($I36=\"\", 0, SUMIF('7.СМР'!$E:$E, $I36, '7.СМР'!AC:AC)+SUMIF('8.ОСС'!$E:$E, $I36, '8.ОСС'!AU:AU)+SUMIF('9.ПИР'!$E:$E, $I36, '9.ПИР'!AC:AC)+SUMIF('10.БКП'!$E:$E, $I36, '10.БКП'!AC:AC)+SUMIF('11.ПЗС'!$E:$E, $I36, '11.ПЗС'!AD:AD))","v":0},{"$f":"IF($I36=\"\", 0, SUMIF('7.СМР'!$E:$E, $I36, '7.СМР'!AD:AD)+SUMIF('8.ОСС'!$E:$E, $I36, '8.ОСС'!AV:AV)+SUMIF('9.ПИР'!$E:$E, $I36, '9.ПИР'!AD:AD)+SUMIF('10.БКП'!$E:$E, $I36, '10.БКП'!AD:AD)+SUMIF('11.ПЗС'!$E:$E, $I36, '11.ПЗС'!AE:AE))","v":700},{"$f":"IF($I36=\"\", 0, SUMIF('7.СМР'!$E:$E, $I36, '7.СМР'!AE:AE)+SUMIF('8.ОСС'!$E:$E, $I36, '8.ОСС'!AW:AW)+SUMIF('9.ПИР'!$E:$E, $I36, '9.ПИР'!AE:AE)+SUMIF('10.БКП'!$E:$E, $I36, '10.БКП'!AE:AE)+SUMIF('11.ПЗС'!$E:$E, $I36, '11.ПЗС'!AF:AF))","v":0},null,700,0,0,{"$f":"IF($I36=\"\", \"\", VLOOKUP($I36,objects, '05.РКС'!L$18-'05.РКС'!$B$18+1, 0))","v":"00:00:00"},{"$f":"IF($I36=\"\", \"\", VLOOKUP($I36,objects, '05.РКС'!M$18-'05.РКС'!$B$18+1, 0))","v":"00:00:00"},{"$f":"IF($I36=\"\", \"\", VLOOKUP($I36,objects, '05.РКС'!N$18-'05.РКС'!$B$18+1, 0))","v":"Приказ Министерства энергетики и электрификации СССР № 51пс от 19.04.1978 г. об утверждении ТЭО строительства Вилюйской ГЭС-3 на р.Вилюй; Разрешение на строительство № 8-5 от 15.06.2005 г., выданное УиАГ МО \"Мирнинский район\""},{"$f":"IF($I36=\"\", \"\", VLOOKUP($I36,objects, '05.РКС'!P$18-'05.РКС'!$B$18+1, 0))","v":0},0]
[null,null,"АО \"Вилюйская ГЭС-3\"","Прочее",0,"","Прочая основная деятельность","Высокий",{"$f":"IF(ISBLANK('05.РКС'!B38), \"\", '05.РКС'!B38)","v":"2016-4.3."},"ПКЗП. Потребление электроэнергии в карьере 14 ИД  (июнь-декабрь)",{"$f":"IF($I37=\"\", 0, SUMIF('7.СМР'!$E:$E, $I37, '7.СМР'!G:G)+SUMIF('8.ОСС'!$E:$E, $I37, '8.ОСС'!Y:Y)+SUMIF('9.ПИР'!$E:$E, $I37, '9.ПИР'!G:G)+SUMIF('10.БКП'!$E:$E, $I37, '10.БКП'!G:G)+SUMIF('11.ПЗС'!$E:$E, $I37, '11.ПЗС'!H:H))","v":450},{"$f":"IF($I37=\"\", 0, SUMIF('7.СМР'!$E:$E, $I37, '7.СМР'!H:H)+SUMIF('8.ОСС'!$E:$E, $I37, '8.ОСС'!Z:Z)+SUMIF('9.ПИР'!$E:$E, $I37, '9.ПИР'!H:H)+SUMIF('10.БКП'!$E:$E, $I37, '10.БКП'!H:H)+SUMIF('11.ПЗС'!$E:$E, $I37, '11.ПЗС'!I:I))","v":0},{"$f":"IF($I37=\"\", 0, SUMIF('7.СМР'!$E:$E, $I37, '7.СМР'!I:I)+SUMIF('8.ОСС'!$E:$E, $I37, '8.ОСС'!AA:AA)+SUMIF('9.ПИР'!$E:$E, $I37, '9.ПИР'!I:I)+SUMIF('10.БКП'!$E:$E, $I37, '10.БКП'!I:I)+SUMIF('11.ПЗС'!$E:$E, $I37, '11.ПЗС'!J:J))","v":0},{"$f":"IF($I37=\"\", 0, SUMIF('7.СМР'!$E:$E, $I37, '7.СМР'!J:J)+SUMIF('8.ОСС'!$E:$E, $I37, '8.ОСС'!AB:AB)+SUMIF('9.ПИР'!$E:$E, $I37, '9.ПИР'!J:J)+SUMIF('10.БКП'!$E:$E, $I37, '10.БКП'!J:J)+SUMIF('11.ПЗС'!$E:$E, $I37, '11.ПЗС'!K:K))","v":450},{"$f":"IF($I37=\"\", 0, SUMIF('7.СМР'!$E:$E, $I37, '7.СМР'!K:K)+SUMIF('8.ОСС'!$E:$E, $I37, '8.ОСС'!AC:AC)+SUMIF('9.ПИР'!$E:$E, $I37, '9.ПИР'!K:K)+SUMIF('10.БКП'!$E:$E, $I37, '10.БКП'!K:K)+SUMIF('11.ПЗС'!$E:$E, $I37, '11.ПЗС'!L:L))","v":0},{"$f":"IF($I37=\"\", 0, SUMIF('7.СМР'!$E:$E, $I37, '7.СМР'!L:L)+SUMIF('8.ОСС'!$E:$E, $I37, '8.ОСС'!AD:AD)+SUMIF('9.ПИР'!$E:$E, $I37, '9.ПИР'!L:L)+SUMIF('10.БКП'!$E:$E, $I37, '10.БКП'!L:L)+SUMIF('11.ПЗС'!$E:$E, $I37, '11.ПЗС'!M:M))","v":0},{"$f":"IF($I37=\"\", 0, SUMIF('7.СМР'!$E:$E, $I37, '7.СМР'!M:M)+SUMIF('8.ОСС'!$E:$E, $I37, '8.ОСС'!AE:AE)+SUMIF('9.ПИР'!$E:$E, $I37, '9.ПИР'!M:M)+SUMIF('10.БКП'!$E:$E, $I37, '10.БКП'!M:M)+SUMIF('11.ПЗС'!$E:$E, $I37, '11.ПЗС'!N:N))","v":0},{"$f":"IF($I37=\"\", 0, SUMIF('7.СМР'!$E:$E, $I37, '7.СМР'!N:N)+SUMIF('8.ОСС'!$E:$E, $I37, '8.ОСС'!AF:AF)+SUMIF('9.ПИР'!$E:$E, $I37, '9.ПИР'!N:N)+SUMIF('10.БКП'!$E:$E, $I37, '10.БКП'!N:N)+SUMIF('11.ПЗС'!$E:$E, $I37, '11.ПЗС'!O:O))","v":0},{"$f":"IF($I37=\"\", 0, SUMIF('7.СМР'!$E:$E, $I37, '7.СМР'!O:O)+SUMIF('8.ОСС'!$E:$E, $I37, '8.ОСС'!AG:AG)+SUMIF('9.ПИР'!$E:$E, $I37, '9.ПИР'!O:O)+SUMIF('10.БКП'!$E:$E, $I37, '10.БКП'!O:O)+SUMIF('11.ПЗС'!$E:$E, $I37, '11.ПЗС'!P:P))","v":0},{"$f":"IF($I37=\"\", 0, SUMIF('7.СМР'!$E:$E, $I37, '7.СМР'!P:P)+SUMIF('8.ОСС'!$E:$E, $I37, '8.ОСС'!AH:AH)+SUMIF('9.ПИР'!$E:$E, $I37, '9.ПИР'!P:P)+SUMIF('10.БКП'!$E:$E, $I37, '10.БКП'!P:P)+SUMIF('11.ПЗС'!$E:$E, $I37, '11.ПЗС'!Q:Q))","v":0},450,0,-450,-1,null,0,0,{"$f":"IF($I37=\"\", 0, SUMIF('7.СМР'!$E:$E, $I37, '7.СМР'!X:X)+SUMIF('8.ОСС'!$E:$E, $I37, '8.ОСС'!AP:AP)+SUMIF('9.ПИР'!$E:$E, $I37, '9.ПИР'!X:X)+SUMIF('10.БКП'!$E:$E, $I37, '10.БКП'!X:X)+SUMIF('11.ПЗС'!$E:$E, $I37, '11.ПЗС'!Y:Y))","v":0},{"$f":"IF($I37=\"\", 0, SUMIF('7.СМР'!$E:$E, $I37, '7.СМР'!Y:Y)+SUMIF('8.ОСС'!$E:$E, $I37, '8.ОСС'!AQ:AQ)+SUMIF('9.ПИР'!$E:$E, $I37, '9.ПИР'!Y:Y)+SUMIF('10.БКП'!$E:$E, $I37, '10.БКП'!Y:Y)+SUMIF('11.ПЗС'!$E:$E, $I37, '11.ПЗС'!Z:Z))","v":0},{"$f":"IF($I37=\"\", 0, SUMIF('7.СМР'!$E:$E, $I37, '7.СМР'!Z:Z)+SUMIF('8.ОСС'!$E:$E, $I37, '8.ОСС'!AR:AR)+SUMIF('9.ПИР'!$E:$E, $I37, '9.ПИР'!Z:Z)+SUMIF('10.БКП'!$E:$E, $I37, '10.БКП'!Z:Z)+SUMIF('11.ПЗС'!$E:$E, $I37, '11.ПЗС'!AA:AA))","v":0},{"$f":"IF($I37=\"\", 0, SUMIF('7.СМР'!$E:$E, $I37, '7.СМР'!AA:AA)+SUMIF('8.ОСС'!$E:$E, $I37, '8.ОСС'!AS:AS)+SUMIF('9.ПИР'!$E:$E, $I37, '9.ПИР'!AA:AA)+SUMIF('10.БКП'!$E:$E, $I37, '10.БКП'!AA:AA)+SUMIF('11.ПЗС'!$E:$E, $I37, '11.ПЗС'!AB:AB))","v":450},{"$f":"IF($I37=\"\", 0, SUMIF('7.СМР'!$E:$E, $I37, '7.СМР'!AB:AB)+SUMIF('8.ОСС'!$E:$E, $I37, '8.ОСС'!AT:AT)+SUMIF('9.ПИР'!$E:$E, $I37, '9.ПИР'!AB:AB)+SUMIF('10.БКП'!$E:$E, $I37, '10.БКП'!AB:AB)+SUMIF('11.ПЗС'!$E:$E, $I37, '11.ПЗС'!AC:AC))","v":0},{"$f":"IF($I37=\"\", 0, SUMIF('7.СМР'!$E:$E, $I37, '7.СМР'!AC:AC)+SUMIF('8.ОСС'!$E:$E, $I37, '8.ОСС'!AU:AU)+SUMIF('9.ПИР'!$E:$E, $I37, '9.ПИР'!AC:AC)+SUMIF('10.БКП'!$E:$E, $I37, '10.БКП'!AC:AC)+SUMIF('11.ПЗС'!$E:$E, $I37, '11.ПЗС'!AD:AD))","v":0},{"$f":"IF($I37=\"\", 0, SUMIF('7.СМР'!$E:$E, $I37, '7.СМР'!AD:AD)+SUMIF('8.ОСС'!$E:$E, $I37, '8.ОСС'!AV:AV)+SUMIF('9.ПИР'!$E:$E, $I37, '9.ПИР'!AD:AD)+SUMIF('10.БКП'!$E:$E, $I37, '10.БКП'!AD:AD)+SUMIF('11.ПЗС'!$E:$E, $I37, '11.ПЗС'!AE:AE))","v":450},{"$f":"IF($I37=\"\", 0, SUMIF('7.СМР'!$E:$E, $I37, '7.СМР'!AE:AE)+SUMIF('8.ОСС'!$E:$E, $I37, '8.ОСС'!AW:AW)+SUMIF('9.ПИР'!$E:$E, $I37, '9.ПИР'!AE:AE)+SUMIF('10.БКП'!$E:$E, $I37, '10.БКП'!AE:AE)+SUMIF('11.ПЗС'!$E:$E, $I37, '11.ПЗС'!AF:AF))","v":0},null,440,0,-10,{"$f":"IF($I37=\"\", \"\", VLOOKUP($I37,objects, '05.РКС'!L$18-'05.РКС'!$B$18+1, 0))","v":"00:00:00"},{"$f":"IF($I37=\"\", \"\", VLOOKUP($I37,objects, '05.РКС'!M$18-'05.РКС'!$B$18+1, 0))","v":"00:00:00"},{"$f":"IF($I37=\"\", \"\", VLOOKUP($I37,objects, '05.РКС'!N$18-'05.РКС'!$B$18+1, 0))","v":"Приказ Министерства энергетики и электрификации СССР № 51пс от 19.04.1978 г. об утверждении ТЭО строительства Вилюйской ГЭС-3 на р.Вилюй; Разрешение на строительство № 8-5 от 15.06.2005 г., выданное УиАГ МО \"Мирнинский район\""},{"$f":"IF($I37=\"\", \"\", VLOOKUP($I37,objects, '05.РКС'!P$18-'05.РКС'!$B$18+1, 0))","v":0},0]
[null,null,"АО \"Вилюйская ГЭС-3\"","Прочее",0,"","Прочая основная деятельность","Высокий",{"$f":"IF(ISBLANK('05.РКС'!B39), \"\", '05.РКС'!B39)","v":"2016-5.1."},"Автодорожный проезд Промбаза-ГЭС. Устройство  автодороги  ПК0+00 - ПК43+36,1          ",{"$f":"IF($I38=\"\", 0, SUMIF('7.СМР'!$E:$E, $I38, '7.СМР'!G:G)+SUMIF('8.ОСС'!$E:$E, $I38, '8.ОСС'!Y:Y)+SUMIF('9.ПИР'!$E:$E, $I38, '9.ПИР'!G:G)+SUMIF('10.БКП'!$E:$E, $I38, '10.БКП'!G:G)+SUMIF('11.ПЗС'!$E:$E, $I38, '11.ПЗС'!H:H))","v":128572},{"$f":"IF($I38=\"\", 0, SUMIF('7.СМР'!$E:$E, $I38, '7.СМР'!H:H)+SUMIF('8.ОСС'!$E:$E, $I38, '8.ОСС'!Z:Z)+SUMIF('9.ПИР'!$E:$E, $I38, '9.ПИР'!H:H)+SUMIF('10.БКП'!$E:$E, $I38, '10.БКП'!H:H)+SUMIF('11.ПЗС'!$E:$E, $I38, '11.ПЗС'!I:I))","v":0},{"$f":"IF($I38=\"\", 0, SUMIF('7.СМР'!$E:$E, $I38, '7.СМР'!I:I)+SUMIF('8.ОСС'!$E:$E, $I38, '8.ОСС'!AA:AA)+SUMIF('9.ПИР'!$E:$E, $I38, '9.ПИР'!I:I)+SUMIF('10.БКП'!$E:$E, $I38, '10.БКП'!I:I)+SUMIF('11.ПЗС'!$E:$E, $I38, '11.ПЗС'!J:J))","v":919},{"$f":"IF($I38=\"\", 0, SUMIF('7.СМР'!$E:$E, $I38, '7.СМР'!J:J)+SUMIF('8.ОСС'!$E:$E, $I38, '8.ОСС'!AB:AB)+SUMIF('9.ПИР'!$E:$E, $I38, '9.ПИР'!J:J)+SUMIF('10.БКП'!$E:$E, $I38, '10.БКП'!J:J)+SUMIF('11.ПЗС'!$E:$E, $I38, '11.ПЗС'!K:K))","v":106421},{"$f":"IF($I38=\"\", 0, SUMIF('7.СМР'!$E:$E, $I38, '7.СМР'!K:K)+SUMIF('8.ОСС'!$E:$E, $I38, '8.ОСС'!AC:AC)+SUMIF('9.ПИР'!$E:$E, $I38, '9.ПИР'!K:K)+SUMIF('10.БКП'!$E:$E, $I38, '10.БКП'!K:K)+SUMIF('11.ПЗС'!$E:$E, $I38, '11.ПЗС'!L:L))","v":21232},{"$f":"IF($I38=\"\", 0, SUMIF('7.СМР'!$E:$E, $I38, '7.СМР'!L:L)+SUMIF('8.ОСС'!$E:$E, $I38, '8.ОСС'!AD:AD)+SUMIF('9.ПИР'!$E:$E, $I38, '9.ПИР'!L:L)+SUMIF('10.БКП'!$E:$E, $I38, '10.БКП'!L:L)+SUMIF('11.ПЗС'!$E:$E, $I38, '11.ПЗС'!M:M))","v":85147.587},{"$f":"IF($I38=\"\", 0, SUMIF('7.СМР'!$E:$E, $I38, '7.СМР'!M:M)+SUMIF('8.ОСС'!$E:$E, $I38, '8.ОСС'!AE:AE)+SUMIF('9.ПИР'!$E:$E, $I38, '9.ПИР'!M:M)+SUMIF('10.БКП'!$E:$E, $I38, '10.БКП'!M:M)+SUMIF('11.ПЗС'!$E:$E, $I38, '11.ПЗС'!N:N))","v":0},{"$f":"IF($I38=\"\", 0, SUMIF('7.СМР'!$E:$E, $I38, '7.СМР'!N:N)+SUMIF('8.ОСС'!$E:$E, $I38, '8.ОСС'!AF:AF)+SUMIF('9.ПИР'!$E:$E, $I38, '9.ПИР'!N:N)+SUMIF('10.БКП'!$E:$E, $I38, '10.БКП'!N:N)+SUMIF('11.ПЗС'!$E:$E, $I38, '11.ПЗС'!O:O))","v":919.17},{"$f":"IF($I38=\"\", 0, SUMIF('7.СМР'!$E:$E, $I38, '7.СМР'!O:O)+SUMIF('8.ОСС'!$E:$E, $I38, '8.ОСС'!AG:AG)+SUMIF('9.ПИР'!$E:$E, $I38, '9.ПИР'!O:O)+SUMIF('10.БКП'!$E:$E, $I38, '10.БКП'!O:O)+SUMIF('11.ПЗС'!$E:$E, $I38, '11.ПЗС'!P:P))","v":54285.745999999999},{"$f":"IF($I38=\"\", 0, SUMIF('7.СМР'!$E:$E, $I38, '7.СМР'!P:P)+SUMIF('8.ОСС'!$E:$E, $I38, '8.ОСС'!AH:AH)+SUMIF('9.ПИР'!$E:$E, $I38, '9.ПИР'!P:P)+SUMIF('10.БКП'!$E:$E, $I38, '10.БКП'!P:P)+SUMIF('11.ПЗС'!$E:$E, $I38, '11.ПЗС'!Q:Q))","v":29942.670999999998},128572,85147.587,-43424.413,-0.33774393336029618,null,-0.16999999999825377,-1.3222163456915485E-6,{"$f":"IF($I38=\"\", 0, SUMIF('7.СМР'!$E:$E, $I38, '7.СМР'!X:X)+SUMIF('8.ОСС'!$E:$E, $I38, '8.ОСС'!AP:AP)+SUMIF('9.ПИР'!$E:$E, $I38, '9.ПИР'!X:X)+SUMIF('10.БКП'!$E:$E, $I38, '10.БКП'!X:X)+SUMIF('11.ПЗС'!$E:$E, $I38, '11.ПЗС'!Y:Y))","v":0},{"$f":"IF($I38=\"\", 0, SUMIF('7.СМР'!$E:$E, $I38, '7.СМР'!Y:Y)+SUMIF('8.ОСС'!$E:$E, $I38, '8.ОСС'!AQ:AQ)+SUMIF('9.ПИР'!$E:$E, $I38, '9.ПИР'!Y:Y)+SUMIF('10.БКП'!$E:$E, $I38, '10.БКП'!Y:Y)+SUMIF('11.ПЗС'!$E:$E, $I38, '11.ПЗС'!Z:Z))","v":0},{"$f":"IF($I38=\"\", 0, SUMIF('7.СМР'!$E:$E, $I38, '7.СМР'!Z:Z)+SUMIF('8.ОСС'!$E:$E, $I38, '8.ОСС'!AR:AR)+SUMIF('9.ПИР'!$E:$E, $I38, '9.ПИР'!Z:Z)+SUMIF('10.БКП'!$E:$E, $I38, '10.БКП'!Z:Z)+SUMIF('11.ПЗС'!$E:$E, $I38, '11.ПЗС'!AA:AA))","v":-0.16999999999825377},{"$f":"IF($I38=\"\", 0, SUMIF('7.СМР'!$E:$E, $I38, '7.СМР'!AA:AA)+SUMIF('8.ОСС'!$E:$E, $I38, '8.ОСС'!AS:AS)+SUMIF('9.ПИР'!$E:$E, $I38, '9.ПИР'!AA:AA)+SUMIF('10.БКП'!$E:$E, $I38, '10.БКП'!AA:AA)+SUMIF('11.ПЗС'!$E:$E, $I38, '11.ПЗС'!AB:AB))","v":128571.83},{"$f":"IF($I38=\"\", 0, SUMIF('7.СМР'!$E:$E, $I38, '7.СМР'!AB:AB)+SUMIF('8.ОСС'!$E:$E, $I38, '8.ОСС'!AT:AT)+SUMIF('9.ПИР'!$E:$E, $I38, '9.ПИР'!AB:AB)+SUMIF('10.БКП'!$E:$E, $I38, '10.БКП'!AB:AB)+SUMIF('11.ПЗС'!$E:$E, $I38, '11.ПЗС'!AC:AC))","v":0},{"$f":"IF($I38=\"\", 0, SUMIF('7.СМР'!$E:$E, $I38, '7.СМР'!AC:AC)+SUMIF('8.ОСС'!$E:$E, $I38, '8.ОСС'!AU:AU)+SUMIF('9.ПИР'!$E:$E, $I38, '9.ПИР'!AC:AC)+SUMIF('10.БКП'!$E:$E, $I38, '10.БКП'!AC:AC)+SUMIF('11.ПЗС'!$E:$E, $I38, '11.ПЗС'!AD:AD))","v":919},{"$f":"IF($I38=\"\", 0, SUMIF('7.СМР'!$E:$E, $I38, '7.СМР'!AD:AD)+SUMIF('8.ОСС'!$E:$E, $I38, '8.ОСС'!AV:AV)+SUMIF('9.ПИР'!$E:$E, $I38, '9.ПИР'!AD:AD)+SUMIF('10.БКП'!$E:$E, $I38, '10.БКП'!AD:AD)+SUMIF('11.ПЗС'!$E:$E, $I38, '11.ПЗС'!AE:AE))","v":106420.83},{"$f":"IF($I38=\"\", 0, SUMIF('7.СМР'!$E:$E, $I38, '7.СМР'!AE:AE)+SUMIF('8.ОСС'!$E:$E, $I38, '8.ОСС'!AW:AW)+SUMIF('9.ПИР'!$E:$E, $I38, '9.ПИР'!AE:AE)+SUMIF('10.БКП'!$E:$E, $I38, '10.БКП'!AE:AE)+SUMIF('11.ПЗС'!$E:$E, $I38, '11.ПЗС'!AF:AF))","v":21232},null,257210,19317,109321,{"$f":"IF($I38=\"\", \"\", VLOOKUP($I38,objects, '05.РКС'!L$18-'05.РКС'!$B$18+1, 0))","v":"2016-09-01"},{"$f":"IF($I38=\"\", \"\", VLOOKUP($I38,objects, '05.РКС'!M$18-'05.РКС'!$B$18+1, 0))","v":"2018-10-30"},{"$f":"IF($I38=\"\", \"\", VLOOKUP($I38,objects, '05.РКС'!N$18-'05.РКС'!$B$18+1, 0))","v":"Приказ Министерства энергетики и электрификации СССР № 51пс от 19.04.1978 г. об утверждении ТЭО строительства Вилюйской ГЭС-3 на р.Вилюй; Разрешение на строительство № 8-5 от 15.06.2005 г., выданное УиАГ МО \"Мирнинский район\""},{"$f":"IF($I38=\"\", \"\", VLOOKUP($I38,objects, '05.РКС'!P$18-'05.РКС'!$B$18+1, 0))","v":0},0]
[null,null,"АО \"Вилюйская ГЭС-3\"","Прочее",0,"","Прочая основная деятельность","Высокий",{"$f":"IF(ISBLANK('05.РКС'!B40), \"\", '05.РКС'!B40)","v":"2016-5.2."},"Автодорпожный проезд Промбаза-ГЭС.Электромонтажные работы   по подключению  и  обеспечению водоотлива, монтажу и демонтажу оборудования   на  период  взрывов в карьере 14 ИД.",{"$f":"IF($I39=\"\", 0, SUMIF('7.СМР'!$E:$E, $I39, '7.СМР'!G:G)+SUMIF('8.ОСС'!$E:$E, $I39, '8.ОСС'!Y:Y)+SUMIF('9.ПИР'!$E:$E, $I39, '9.ПИР'!G:G)+SUMIF('10.БКП'!$E:$E, $I39, '10.БКП'!G:G)+SUMIF('11.ПЗС'!$E:$E, $I39, '11.ПЗС'!H:H))","v":2738},{"$f":"IF($I39=\"\", 0, SUMIF('7.СМР'!$E:$E, $I39, '7.СМР'!H:H)+SUMIF('8.ОСС'!$E:$E, $I39, '8.ОСС'!Z:Z)+SUMIF('9.ПИР'!$E:$E, $I39, '9.ПИР'!H:H)+SUMIF('10.БКП'!$E:$E, $I39, '10.БКП'!H:H)+SUMIF('11.ПЗС'!$E:$E, $I39, '11.ПЗС'!I:I))","v":0},{"$f":"IF($I39=\"\", 0, SUMIF('7.СМР'!$E:$E, $I39, '7.СМР'!I:I)+SUMIF('8.ОСС'!$E:$E, $I39, '8.ОСС'!AA:AA)+SUMIF('9.ПИР'!$E:$E, $I39, '9.ПИР'!I:I)+SUMIF('10.БКП'!$E:$E, $I39, '10.БКП'!I:I)+SUMIF('11.ПЗС'!$E:$E, $I39, '11.ПЗС'!J:J))","v":587},{"$f":"IF($I39=\"\", 0, SUMIF('7.СМР'!$E:$E, $I39, '7.СМР'!J:J)+SUMIF('8.ОСС'!$E:$E, $I39, '8.ОСС'!AB:AB)+SUMIF('9.ПИР'!$E:$E, $I39, '9.ПИР'!J:J)+SUMIF('10.БКП'!$E:$E, $I39, '10.БКП'!J:J)+SUMIF('11.ПЗС'!$E:$E, $I39, '11.ПЗС'!K:K))","v":2151},{"$f":"IF($I39=\"\", 0, SUMIF('7.СМР'!$E:$E, $I39, '7.СМР'!K:K)+SUMIF('8.ОСС'!$E:$E, $I39, '8.ОСС'!AC:AC)+SUMIF('9.ПИР'!$E:$E, $I39, '9.ПИР'!K:K)+SUMIF('10.БКП'!$E:$E, $I39, '10.БКП'!K:K)+SUMIF('11.ПЗС'!$E:$E, $I39, '11.ПЗС'!L:L))","v":0},{"$f":"IF($I39=\"\", 0, SUMIF('7.СМР'!$E:$E, $I39, '7.СМР'!L:L)+SUMIF('8.ОСС'!$E:$E, $I39, '8.ОСС'!AD:AD)+SUMIF('9.ПИР'!$E:$E, $I39, '9.ПИР'!L:L)+SUMIF('10.БКП'!$E:$E, $I39, '10.БКП'!L:L)+SUMIF('11.ПЗС'!$E:$E, $I39, '11.ПЗС'!M:M))","v":2101.221},{"$f":"IF($I39=\"\", 0, SUMIF('7.СМР'!$E:$E, $I39, '7.СМР'!M:M)+SUMIF('8.ОСС'!$E:$E, $I39, '8.ОСС'!AE:AE)+SUMIF('9.ПИР'!$E:$E, $I39, '9.ПИР'!M:M)+SUMIF('10.БКП'!$E:$E, $I39, '10.БКП'!M:M)+SUMIF('11.ПЗС'!$E:$E, $I39, '11.ПЗС'!N:N))","v":0},{"$f":"IF($I39=\"\", 0, SUMIF('7.СМР'!$E:$E, $I39, '7.СМР'!N:N)+SUMIF('8.ОСС'!$E:$E, $I39, '8.ОСС'!AF:AF)+SUMIF('9.ПИР'!$E:$E, $I39, '9.ПИР'!N:N)+SUMIF('10.БКП'!$E:$E, $I39, '10.БКП'!N:N)+SUMIF('11.ПЗС'!$E:$E, $I39, '11.ПЗС'!O:O))","v":586.77},{"$f":"IF($I39=\"\", 0, SUMIF('7.СМР'!$E:$E, $I39, '7.СМР'!O:O)+SUMIF('8.ОСС'!$E:$E, $I39, '8.ОСС'!AG:AG)+SUMIF('9.ПИР'!$E:$E, $I39, '9.ПИР'!O:O)+SUMIF('10.БКП'!$E:$E, $I39, '10.БКП'!O:O)+SUMIF('11.ПЗС'!$E:$E, $I39, '11.ПЗС'!P:P))","v":1514.451},{"$f":"IF($I39=\"\", 0, SUMIF('7.СМР'!$E:$E, $I39, '7.СМР'!P:P)+SUMIF('8.ОСС'!$E:$E, $I39, '8.ОСС'!AH:AH)+SUMIF('9.ПИР'!$E:$E, $I39, '9.ПИР'!P:P)+SUMIF('10.БКП'!$E:$E, $I39, '10.БКП'!P:P)+SUMIF('11.ПЗС'!$E:$E, $I39, '11.ПЗС'!Q:Q))","v":0},2738,2101.221,-636.779,-0.2325708546384222,null,0,0,{"$f":"IF($I39=\"\", 0, SUMIF('7.СМР'!$E:$E, $I39, '7.СМР'!X:X)+SUMIF('8.ОСС'!$E:$E, $I39, '8.ОСС'!AP:AP)+SUMIF('9.ПИР'!$E:$E, $I39, '9.ПИР'!X:X)+SUMIF('10.БКП'!$E:$E, $I39, '10.БКП'!X:X)+SUMIF('11.ПЗС'!$E:$E, $I39, '11.ПЗС'!Y:Y))","v":0},{"$f":"IF($I39=\"\", 0, SUMIF('7.СМР'!$E:$E, $I39, '7.СМР'!Y:Y)+SUMIF('8.ОСС'!$E:$E, $I39, '8.ОСС'!AQ:AQ)+SUMIF('9.ПИР'!$E:$E, $I39, '9.ПИР'!Y:Y)+SUMIF('10.БКП'!$E:$E, $I39, '10.БКП'!Y:Y)+SUMIF('11.ПЗС'!$E:$E, $I39, '11.ПЗС'!Z:Z))","v":0},{"$f":"IF($I39=\"\", 0, SUMIF('7.СМР'!$E:$E, $I39, '7.СМР'!Z:Z)+SUMIF('8.ОСС'!$E:$E, $I39, '8.ОСС'!AR:AR)+SUMIF('9.ПИР'!$E:$E, $I39, '9.ПИР'!Z:Z)+SUMIF('10.БКП'!$E:$E, $I39, '10.БКП'!Z:Z)+SUMIF('11.ПЗС'!$E:$E, $I39, '11.ПЗС'!AA:AA))","v":0},{"$f":"IF($I39=\"\", 0, SUMIF('7.СМР'!$E:$E, $I39, '7.СМР'!AA:AA)+SUMIF('8.ОСС'!$E:$E, $I39, '8.ОСС'!AS:AS)+SUMIF('9.ПИР'!$E:$E, $I39, '9.ПИР'!AA:AA)+SUMIF('10.БКП'!$E:$E, $I39, '10.БКП'!AA:AA)+SUMIF('11.ПЗС'!$E:$E, $I39, '11.ПЗС'!AB:AB))","v":2738},{"$f":"IF($I39=\"\", 0, SUMIF('7.СМР'!$E:$E, $I39, '7.СМР'!AB:AB)+SUMIF('8.ОСС'!$E:$E, $I39, '8.ОСС'!AT:AT)+SUMIF('9.ПИР'!$E:$E, $I39, '9.ПИР'!AB:AB)+SUMIF('10.БКП'!$E:$E, $I39, '10.БКП'!AB:AB)+SUMIF('11.ПЗС'!$E:$E, $I39, '11.ПЗС'!AC:AC))","v":0},{"$f":"IF($I39=\"\", 0, SUMIF('7.СМР'!$E:$E, $I39, '7.СМР'!AC:AC)+SUMIF('8.ОСС'!$E:$E, $I39, '8.ОСС'!AU:AU)+SUMIF('9.ПИР'!$E:$E, $I39, '9.ПИР'!AC:AC)+SUMIF('10.БКП'!$E:$E, $I39, '10.БКП'!AC:AC)+SUMIF('11.ПЗС'!$E:$E, $I39, '11.ПЗС'!AD:AD))","v":586.77},{"$f":"IF($I39=\"\", 0, SUMIF('7.СМР'!$E:$E, $I39, '7.СМР'!AD:AD)+SUMIF('8.ОСС'!$E:$E, $I39, '8.ОСС'!AV:AV)+SUMIF('9.ПИР'!$E:$E, $I39, '9.ПИР'!AD:AD)+SUMIF('10.БКП'!$E:$E, $I39, '10.БКП'!AD:AD)+SUMIF('11.ПЗС'!$E:$E, $I39, '11.ПЗС'!AE:AE))","v":2151.23},{"$f":"IF($I39=\"\", 0, SUMIF('7.СМР'!$E:$E, $I39, '7.СМР'!AE:AE)+SUMIF('8.ОСС'!$E:$E, $I39, '8.ОСС'!AW:AW)+SUMIF('9.ПИР'!$E:$E, $I39, '9.ПИР'!AE:AE)+SUMIF('10.БКП'!$E:$E, $I39, '10.БКП'!AE:AE)+SUMIF('11.ПЗС'!$E:$E, $I39, '11.ПЗС'!AF:AF))","v":0},null,2738,0,0,{"$f":"IF($I39=\"\", \"\", VLOOKUP($I39,objects, '05.РКС'!L$18-'05.РКС'!$B$18+1, 0))","v":"2017-03-01"},{"$f":"IF($I39=\"\", \"\", VLOOKUP($I39,objects, '05.РКС'!M$18-'05.РКС'!$B$18+1, 0))","v":"2018-12-01"},{"$f":"IF($I39=\"\", \"\", VLOOKUP($I39,objects, '05.РКС'!N$18-'05.РКС'!$B$18+1, 0))","v":"Приказ Министерства энергетики и электрификации СССР № 51пс от 19.04.1978 г. об утверждении ТЭО строительства Вилюйской ГЭС-3 на р.Вилюй; Разрешение на строительство № 8-5 от 15.06.2005 г., выданное УиАГ МО \"Мирнинский район\""},{"$f":"IF($I39=\"\", \"\", VLOOKUP($I39,objects, '05.РКС'!P$18-'05.РКС'!$B$18+1, 0))","v":0},0]
[null,null,"АО \"Вилюйская ГЭС-3\"","Прочее",0,"","Прочая основная деятельность","Высокий",{"$f":"IF(ISBLANK('05.РКС'!B41), \"\", '05.РКС'!B41)","v":"2016-5.3."},"Автодорожный  проезд Промбаза-ГЭС. Потребление электроэнергии в карьере 14 ИД  (июнь-декабрь)",{"$f":"IF($I40=\"\", 0, SUMIF('7.СМР'!$E:$E, $I40, '7.СМР'!G:G)+SUMIF('8.ОСС'!$E:$E, $I40, '8.ОСС'!Y:Y)+SUMIF('9.ПИР'!$E:$E, $I40, '9.ПИР'!G:G)+SUMIF('10.БКП'!$E:$E, $I40, '10.БКП'!G:G)+SUMIF('11.ПЗС'!$E:$E, $I40, '11.ПЗС'!H:H))","v":420},{"$f":"IF($I40=\"\", 0, SUMIF('7.СМР'!$E:$E, $I40, '7.СМР'!H:H)+SUMIF('8.ОСС'!$E:$E, $I40, '8.ОСС'!Z:Z)+SUMIF('9.ПИР'!$E:$E, $I40, '9.ПИР'!H:H)+SUMIF('10.БКП'!$E:$E, $I40, '10.БКП'!H:H)+SUMIF('11.ПЗС'!$E:$E, $I40, '11.ПЗС'!I:I))","v":0},{"$f":"IF($I40=\"\", 0, SUMIF('7.СМР'!$E:$E, $I40, '7.СМР'!I:I)+SUMIF('8.ОСС'!$E:$E, $I40, '8.ОСС'!AA:AA)+SUMIF('9.ПИР'!$E:$E, $I40, '9.ПИР'!I:I)+SUMIF('10.БКП'!$E:$E, $I40, '10.БКП'!I:I)+SUMIF('11.ПЗС'!$E:$E, $I40, '11.ПЗС'!J:J))","v":34},{"$f":"IF($I40=\"\", 0, SUMIF('7.СМР'!$E:$E, $I40, '7.СМР'!J:J)+SUMIF('8.ОСС'!$E:$E, $I40, '8.ОСС'!AB:AB)+SUMIF('9.ПИР'!$E:$E, $I40, '9.ПИР'!J:J)+SUMIF('10.БКП'!$E:$E, $I40, '10.БКП'!J:J)+SUMIF('11.ПЗС'!$E:$E, $I40, '11.ПЗС'!K:K))","v":386},{"$f":"IF($I40=\"\", 0, SUMIF('7.СМР'!$E:$E, $I40, '7.СМР'!K:K)+SUMIF('8.ОСС'!$E:$E, $I40, '8.ОСС'!AC:AC)+SUMIF('9.ПИР'!$E:$E, $I40, '9.ПИР'!K:K)+SUMIF('10.БКП'!$E:$E, $I40, '10.БКП'!K:K)+SUMIF('11.ПЗС'!$E:$E, $I40, '11.ПЗС'!L:L))","v":0},{"$f":"IF($I40=\"\", 0, SUMIF('7.СМР'!$E:$E, $I40, '7.СМР'!L:L)+SUMIF('8.ОСС'!$E:$E, $I40, '8.ОСС'!AD:AD)+SUMIF('9.ПИР'!$E:$E, $I40, '9.ПИР'!L:L)+SUMIF('10.БКП'!$E:$E, $I40, '10.БКП'!L:L)+SUMIF('11.ПЗС'!$E:$E, $I40, '11.ПЗС'!M:M))","v":46.16534},{"$f":"IF($I40=\"\", 0, SUMIF('7.СМР'!$E:$E, $I40, '7.СМР'!M:M)+SUMIF('8.ОСС'!$E:$E, $I40, '8.ОСС'!AE:AE)+SUMIF('9.ПИР'!$E:$E, $I40, '9.ПИР'!M:M)+SUMIF('10.БКП'!$E:$E, $I40, '10.БКП'!M:M)+SUMIF('11.ПЗС'!$E:$E, $I40, '11.ПЗС'!N:N))","v":0},{"$f":"IF($I40=\"\", 0, SUMIF('7.СМР'!$E:$E, $I40, '7.СМР'!N:N)+SUMIF('8.ОСС'!$E:$E, $I40, '8.ОСС'!AF:AF)+SUMIF('9.ПИР'!$E:$E, $I40, '9.ПИР'!N:N)+SUMIF('10.БКП'!$E:$E, $I40, '10.БКП'!N:N)+SUMIF('11.ПЗС'!$E:$E, $I40, '11.ПЗС'!O:O))","v":34.087339999999998},{"$f":"IF($I40=\"\", 0, SUMIF('7.СМР'!$E:$E, $I40, '7.СМР'!O:O)+SUMIF('8.ОСС'!$E:$E, $I40, '8.ОСС'!AG:AG)+SUMIF('9.ПИР'!$E:$E, $I40, '9.ПИР'!O:O)+SUMIF('10.БКП'!$E:$E, $I40, '10.БКП'!O:O)+SUMIF('11.ПЗС'!$E:$E, $I40, '11.ПЗС'!P:P))","v":12.077999999999999},{"$f":"IF($I40=\"\", 0, SUMIF('7.СМР'!$E:$E, $I40, '7.СМР'!P:P)+SUMIF('8.ОСС'!$E:$E, $I40, '8.ОСС'!AH:AH)+SUMIF('9.ПИР'!$E:$E, $I40, '9.ПИР'!P:P)+SUMIF('10.БКП'!$E:$E, $I40, '10.БКП'!P:P)+SUMIF('11.ПЗС'!$E:$E, $I40, '11.ПЗС'!Q:Q))","v":0},420,46.16534,-373.83465999999999,-0.8900825238095238,null,-2.9999999999859028E-3,-7.1428571428235782E-6,{"$f":"IF($I40=\"\", 0, SUMIF('7.СМР'!$E:$E, $I40, '7.СМР'!X:X)+SUMIF('8.ОСС'!$E:$E, $I40, '8.ОСС'!AP:AP)+SUMIF('9.ПИР'!$E:$E, $I40, '9.ПИР'!X:X)+SUMIF('10.БКП'!$E:$E, $I40, '10.БКП'!X:X)+SUMIF('11.ПЗС'!$E:$E, $I40, '11.ПЗС'!Y:Y))","v":0},{"$f":"IF($I40=\"\", 0, SUMIF('7.СМР'!$E:$E, $I40, '7.СМР'!Y:Y)+SUMIF('8.ОСС'!$E:$E, $I40, '8.ОСС'!AQ:AQ)+SUMIF('9.ПИР'!$E:$E, $I40, '9.ПИР'!Y:Y)+SUMIF('10.БКП'!$E:$E, $I40, '10.БКП'!Y:Y)+SUMIF('11.ПЗС'!$E:$E, $I40, '11.ПЗС'!Z:Z))","v":0},{"$f":"IF($I40=\"\", 0, SUMIF('7.СМР'!$E:$E, $I40, '7.СМР'!Z:Z)+SUMIF('8.ОСС'!$E:$E, $I40, '8.ОСС'!AR:AR)+SUMIF('9.ПИР'!$E:$E, $I40, '9.ПИР'!Z:Z)+SUMIF('10.БКП'!$E:$E, $I40, '10.БКП'!Z:Z)+SUMIF('11.ПЗС'!$E:$E, $I40, '11.ПЗС'!AA:AA))","v":-2.9999999999859028E-3},{"$f":"IF($I40=\"\", 0, SUMIF('7.СМР'!$E:$E, $I40, '7.СМР'!AA:AA)+SUMIF('8.ОСС'!$E:$E, $I40, '8.ОСС'!AS:AS)+SUMIF('9.ПИР'!$E:$E, $I40, '9.ПИР'!AA:AA)+SUMIF('10.БКП'!$E:$E, $I40, '10.БКП'!AA:AA)+SUMIF('11.ПЗС'!$E:$E, $I40, '11.ПЗС'!AB:AB))","v":419.99700000000001},{"$f":"IF($I40=\"\", 0, SUMIF('7.СМР'!$E:$E, $I40, '7.СМР'!AB:AB)+SUMIF('8.ОСС'!$E:$E, $I40, '8.ОСС'!AT:AT)+SUMIF('9.ПИР'!$E:$E, $I40, '9.ПИР'!AB:AB)+SUMIF('10.БКП'!$E:$E, $I40, '10.БКП'!AB:AB)+SUMIF('11.ПЗС'!$E:$E, $I40, '11.ПЗС'!AC:AC))","v":0},{"$f":"IF($I40=\"\", 0, SUMIF('7.СМР'!$E:$E, $I40, '7.СМР'!AC:AC)+SUMIF('8.ОСС'!$E:$E, $I40, '8.ОСС'!AU:AU)+SUMIF('9.ПИР'!$E:$E, $I40, '9.ПИР'!AC:AC)+SUMIF('10.БКП'!$E:$E, $I40, '10.БКП'!AC:AC)+SUMIF('11.ПЗС'!$E:$E, $I40, '11.ПЗС'!AD:AD))","v":34.087000000000003},{"$f":"IF($I40=\"\", 0, SUMIF('7.СМР'!$E:$E, $I40, '7.СМР'!AD:AD)+SUMIF('8.ОСС'!$E:$E, $I40, '8.ОСС'!AV:AV)+SUMIF('9.ПИР'!$E:$E, $I40, '9.ПИР'!AD:AD)+SUMIF('10.БКП'!$E:$E, $I40, '10.БКП'!AD:AD)+SUMIF('11.ПЗС'!$E:$E, $I40, '11.ПЗС'!AE:AE))","v":385.91},{"$f":"IF($I40=\"\", 0, SUMIF('7.СМР'!$E:$E, $I40, '7.СМР'!AE:AE)+SUMIF('8.ОСС'!$E:$E, $I40, '8.ОСС'!AW:AW)+SUMIF('9.ПИР'!$E:$E, $I40, '9.ПИР'!AE:AE)+SUMIF('10.БКП'!$E:$E, $I40, '10.БКП'!AE:AE)+SUMIF('11.ПЗС'!$E:$E, $I40, '11.ПЗС'!AF:AF))","v":0},null,420,0,0,{"$f":"IF($I40=\"\", \"\", VLOOKUP($I40,objects, '05.РКС'!L$18-'05.РКС'!$B$18+1, 0))","v":"2017-03-01"},{"$f":"IF($I40=\"\", \"\", VLOOKUP($I40,objects, '05.РКС'!M$18-'05.РКС'!$B$18+1, 0))","v":"2018-12-01"},{"$f":"IF($I40=\"\", \"\", VLOOKUP($I40,objects, '05.РКС'!N$18-'05.РКС'!$B$18+1, 0))","v":"Приказ Министерства энергетики и электрификации СССР № 51пс от 19.04.1978 г. об утверждении ТЭО строительства Вилюйской ГЭС-3 на р.Вилюй; Разрешение на строительство № 8-5 от 15.06.2005 г., выданное УиАГ МО \"Мирнинский район\""},{"$f":"IF($I40=\"\", \"\", VLOOKUP($I40,objects, '05.РКС'!P$18-'05.РКС'!$B$18+1, 0))","v":0},0]
[null,null,"АО \"Вилюйская ГЭС-3\"","Прочее",0,0,"Прочая основная деятельность","Высокий",{"$f":"IF(ISBLANK('05.РКС'!B42), \"\", '05.РКС'!B42)","v":"2016-1.10."},"Здание ГЭС.Проектно-изыскательские  работы    по  ВГЭС ",{"$f":"IF($I41=\"\", 0, SUMIF('7.СМР'!$E:$E, $I41, '7.СМР'!G:G)+SUMIF('8.ОСС'!$E:$E, $I41, '8.ОСС'!Y:Y)+SUMIF('9.ПИР'!$E:$E, $I41, '9.ПИР'!G:G)+SUMIF('10.БКП'!$E:$E, $I41, '10.БКП'!G:G)+SUMIF('11.ПЗС'!$E:$E, $I41, '11.ПЗС'!H:H))","v":4638},{"$f":"IF($I41=\"\", 0, SUMIF('7.СМР'!$E:$E, $I41, '7.СМР'!H:H)+SUMIF('8.ОСС'!$E:$E, $I41, '8.ОСС'!Z:Z)+SUMIF('9.ПИР'!$E:$E, $I41, '9.ПИР'!H:H)+SUMIF('10.БКП'!$E:$E, $I41, '10.БКП'!H:H)+SUMIF('11.ПЗС'!$E:$E, $I41, '11.ПЗС'!I:I))","v":0},{"$f":"IF($I41=\"\", 0, SUMIF('7.СМР'!$E:$E, $I41, '7.СМР'!I:I)+SUMIF('8.ОСС'!$E:$E, $I41, '8.ОСС'!AA:AA)+SUMIF('9.ПИР'!$E:$E, $I41, '9.ПИР'!I:I)+SUMIF('10.БКП'!$E:$E, $I41, '10.БКП'!I:I)+SUMIF('11.ПЗС'!$E:$E, $I41, '11.ПЗС'!J:J))","v":346},{"$f":"IF($I41=\"\", 0, SUMIF('7.СМР'!$E:$E, $I41, '7.СМР'!J:J)+SUMIF('8.ОСС'!$E:$E, $I41, '8.ОСС'!AB:AB)+SUMIF('9.ПИР'!$E:$E, $I41, '9.ПИР'!J:J)+SUMIF('10.БКП'!$E:$E, $I41, '10.БКП'!J:J)+SUMIF('11.ПЗС'!$E:$E, $I41, '11.ПЗС'!K:K))","v":1941},{"$f":"IF($I41=\"\", 0, SUMIF('7.СМР'!$E:$E, $I41, '7.СМР'!K:K)+SUMIF('8.ОСС'!$E:$E, $I41, '8.ОСС'!AC:AC)+SUMIF('9.ПИР'!$E:$E, $I41, '9.ПИР'!K:K)+SUMIF('10.БКП'!$E:$E, $I41, '10.БКП'!K:K)+SUMIF('11.ПЗС'!$E:$E, $I41, '11.ПЗС'!L:L))","v":2351},{"$f":"IF($I41=\"\", 0, SUMIF('7.СМР'!$E:$E, $I41, '7.СМР'!L:L)+SUMIF('8.ОСС'!$E:$E, $I41, '8.ОСС'!AD:AD)+SUMIF('9.ПИР'!$E:$E, $I41, '9.ПИР'!L:L)+SUMIF('10.БКП'!$E:$E, $I41, '10.БКП'!L:L)+SUMIF('11.ПЗС'!$E:$E, $I41, '11.ПЗС'!M:M))","v":4637.5320000000002},{"$f":"IF($I41=\"\", 0, SUMIF('7.СМР'!$E:$E, $I41, '7.СМР'!M:M)+SUMIF('8.ОСС'!$E:$E, $I41, '8.ОСС'!AE:AE)+SUMIF('9.ПИР'!$E:$E, $I41, '9.ПИР'!M:M)+SUMIF('10.БКП'!$E:$E, $I41, '10.БКП'!M:M)+SUMIF('11.ПЗС'!$E:$E, $I41, '11.ПЗС'!N:N))","v":0},{"$f":"IF($I41=\"\", 0, SUMIF('7.СМР'!$E:$E, $I41, '7.СМР'!N:N)+SUMIF('8.ОСС'!$E:$E, $I41, '8.ОСС'!AF:AF)+SUMIF('9.ПИР'!$E:$E, $I41, '9.ПИР'!N:N)+SUMIF('10.БКП'!$E:$E, $I41, '10.БКП'!N:N)+SUMIF('11.ПЗС'!$E:$E, $I41, '11.ПЗС'!O:O))","v":345.8},{"$f":"IF($I41=\"\", 0, SUMIF('7.СМР'!$E:$E, $I41, '7.СМР'!O:O)+SUMIF('8.ОСС'!$E:$E, $I41, '8.ОСС'!AG:AG)+SUMIF('9.ПИР'!$E:$E, $I41, '9.ПИР'!O:O)+SUMIF('10.БКП'!$E:$E, $I41, '10.БКП'!O:O)+SUMIF('11.ПЗС'!$E:$E, $I41, '11.ПЗС'!P:P))","v":604.35400000000004},{"$f":"IF($I41=\"\", 0, SUMIF('7.СМР'!$E:$E, $I41, '7.СМР'!P:P)+SUMIF('8.ОСС'!$E:$E, $I41, '8.ОСС'!AH:AH)+SUMIF('9.ПИР'!$E:$E, $I41, '9.ПИР'!P:P)+SUMIF('10.БКП'!$E:$E, $I41, '10.БКП'!P:P)+SUMIF('11.ПЗС'!$E:$E, $I41, '11.ПЗС'!Q:Q))","v":3687.3780000000002},4638,4637.5320000000002,-0.4679999999998472,-1.009055627425285E-4,null,-0.4679999999998472,-1.009055627425285E-4,{"$f":"IF($I41=\"\", 0, SUMIF('7.СМР'!$E:$E, $I41, '7.СМР'!X:X)+SUMIF('8.ОСС'!$E:$E, $I41, '8.ОСС'!AP:AP)+SUMIF('9.ПИР'!$E:$E, $I41, '9.ПИР'!X:X)+SUMIF('10.БКП'!$E:$E, $I41, '10.БКП'!X:X)+SUMIF('11.ПЗС'!$E:$E, $I41, '11.ПЗС'!Y:Y))","v":0},{"$f":"IF($I41=\"\", 0, SUMIF('7.СМР'!$E:$E, $I41, '7.СМР'!Y:Y)+SUMIF('8.ОСС'!$E:$E, $I41, '8.ОСС'!AQ:AQ)+SUMIF('9.ПИР'!$E:$E, $I41, '9.ПИР'!Y:Y)+SUMIF('10.БКП'!$E:$E, $I41, '10.БКП'!Y:Y)+SUMIF('11.ПЗС'!$E:$E, $I41, '11.ПЗС'!Z:Z))","v":0},{"$f":"IF($I41=\"\", 0, SUMIF('7.СМР'!$E:$E, $I41, '7.СМР'!Z:Z)+SUMIF('8.ОСС'!$E:$E, $I41, '8.ОСС'!AR:AR)+SUMIF('9.ПИР'!$E:$E, $I41, '9.ПИР'!Z:Z)+SUMIF('10.БКП'!$E:$E, $I41, '10.БКП'!Z:Z)+SUMIF('11.ПЗС'!$E:$E, $I41, '11.ПЗС'!AA:AA))","v":-0.4679999999998472},{"$f":"IF($I41=\"\", 0, SUMIF('7.СМР'!$E:$E, $I41, '7.СМР'!AA:AA)+SUMIF('8.ОСС'!$E:$E, $I41, '8.ОСС'!AS:AS)+SUMIF('9.ПИР'!$E:$E, $I41, '9.ПИР'!AA:AA)+SUMIF('10.БКП'!$E:$E, $I41, '10.БКП'!AA:AA)+SUMIF('11.ПЗС'!$E:$E, $I41, '11.ПЗС'!AB:AB))","v":4637.5320000000002},{"$f":"IF($I41=\"\", 0, SUMIF('7.СМР'!$E:$E, $I41, '7.СМР'!AB:AB)+SUMIF('8.ОСС'!$E:$E, $I41, '8.ОСС'!AT:AT)+SUMIF('9.ПИР'!$E:$E, $I41, '9.ПИР'!AB:AB)+SUMIF('10.БКП'!$E:$E, $I41, '10.БКП'!AB:AB)+SUMIF('11.ПЗС'!$E:$E, $I41, '11.ПЗС'!AC:AC))","v":0},{"$f":"IF($I41=\"\", 0, SUMIF('7.СМР'!$E:$E, $I41, '7.СМР'!AC:AC)+SUMIF('8.ОСС'!$E:$E, $I41, '8.ОСС'!AU:AU)+SUMIF('9.ПИР'!$E:$E, $I41, '9.ПИР'!AC:AC)+SUMIF('10.БКП'!$E:$E, $I41, '10.БКП'!AC:AC)+SUMIF('11.ПЗС'!$E:$E, $I41, '11.ПЗС'!AD:AD))","v":345.8},{"$f":"IF($I41=\"\", 0, SUMIF('7.СМР'!$E:$E, $I41, '7.СМР'!AD:AD)+SUMIF('8.ОСС'!$E:$E, $I41, '8.ОСС'!AV:AV)+SUMIF('9.ПИР'!$E:$E, $I41, '9.ПИР'!AD:AD)+SUMIF('10.БКП'!$E:$E, $I41, '10.БКП'!AD:AD)+SUMIF('11.ПЗС'!$E:$E, $I41, '11.ПЗС'!AE:AE))","v":1940.8040000000001},{"$f":"IF($I41=\"\", 0, SUMIF('7.СМР'!$E:$E, $I41, '7.СМР'!AE:AE)+SUMIF('8.ОСС'!$E:$E, $I41, '8.ОСС'!AW:AW)+SUMIF('9.ПИР'!$E:$E, $I41, '9.ПИР'!AE:AE)+SUMIF('10.БКП'!$E:$E, $I41, '10.БКП'!AE:AE)+SUMIF('11.ПЗС'!$E:$E, $I41, '11.ПЗС'!AF:AF))","v":2350.9279999999999},null,5400,0,762,{"$f":"IF($I41=\"\", \"\", VLOOKUP($I41,objects, '05.РКС'!L$18-'05.РКС'!$B$18+1, 0))","v":"2017-03-01"},{"$f":"IF($I41=\"\", \"\", VLOOKUP($I41,objects, '05.РКС'!M$18-'05.РКС'!$B$18+1, 0))","v":"2017-12-30"},{"$f":"IF($I41=\"\", \"\", VLOOKUP($I41,objects, '05.РКС'!N$18-'05.РКС'!$B$18+1, 0))","v":"Ежегодный договор с генпроектировщиком   АО \"Ленгидропроект\". Инженерно-геодезическе,гидрометеорологические  отчеты  по   данным \"Экспедиция №13\", стационарные наблюдения   постоянной  КИА на   склонах и сооружениях,наблюдения за горизонтальными смещениями  бетонных сооружений, наблюдение за устойчивость склонов  районе гидроузла. "},{"$f":"IF($I41=\"\", \"\", VLOOKUP($I41,objects, '05.РКС'!P$18-'05.РКС'!$B$18+1, 0))","v":0},0]
[null,null,"АО \"Вилюйская ГЭС-3\"","Прочее",0,0,"Прочая основная деятельность","Высокий",{"$f":"IF(ISBLANK('05.РКС'!B43), \"\", '05.РКС'!B43)","v":"2016-1.11."},"Здание ГЭС.ПИР.Разработка  технических решений  в  рамках програмы  по  подъему уровня водохранилища   (Акт тех.аудита)",{"$f":"IF($I42=\"\", 0, SUMIF('7.СМР'!$E:$E, $I42, '7.СМР'!G:G)+SUMIF('8.ОСС'!$E:$E, $I42, '8.ОСС'!Y:Y)+SUMIF('9.ПИР'!$E:$E, $I42, '9.ПИР'!G:G)+SUMIF('10.БКП'!$E:$E, $I42, '10.БКП'!G:G)+SUMIF('11.ПЗС'!$E:$E, $I42, '11.ПЗС'!H:H))","v":4695},{"$f":"IF($I42=\"\", 0, SUMIF('7.СМР'!$E:$E, $I42, '7.СМР'!H:H)+SUMIF('8.ОСС'!$E:$E, $I42, '8.ОСС'!Z:Z)+SUMIF('9.ПИР'!$E:$E, $I42, '9.ПИР'!H:H)+SUMIF('10.БКП'!$E:$E, $I42, '10.БКП'!H:H)+SUMIF('11.ПЗС'!$E:$E, $I42, '11.ПЗС'!I:I))","v":0},{"$f":"IF($I42=\"\", 0, SUMIF('7.СМР'!$E:$E, $I42, '7.СМР'!I:I)+SUMIF('8.ОСС'!$E:$E, $I42, '8.ОСС'!AA:AA)+SUMIF('9.ПИР'!$E:$E, $I42, '9.ПИР'!I:I)+SUMIF('10.БКП'!$E:$E, $I42, '10.БКП'!I:I)+SUMIF('11.ПЗС'!$E:$E, $I42, '11.ПЗС'!J:J))","v":396},{"$f":"IF($I42=\"\", 0, SUMIF('7.СМР'!$E:$E, $I42, '7.СМР'!J:J)+SUMIF('8.ОСС'!$E:$E, $I42, '8.ОСС'!AB:AB)+SUMIF('9.ПИР'!$E:$E, $I42, '9.ПИР'!J:J)+SUMIF('10.БКП'!$E:$E, $I42, '10.БКП'!J:J)+SUMIF('11.ПЗС'!$E:$E, $I42, '11.ПЗС'!K:K))","v":1199},{"$f":"IF($I42=\"\", 0, SUMIF('7.СМР'!$E:$E, $I42, '7.СМР'!K:K)+SUMIF('8.ОСС'!$E:$E, $I42, '8.ОСС'!AC:AC)+SUMIF('9.ПИР'!$E:$E, $I42, '9.ПИР'!K:K)+SUMIF('10.БКП'!$E:$E, $I42, '10.БКП'!K:K)+SUMIF('11.ПЗС'!$E:$E, $I42, '11.ПЗС'!L:L))","v":3100},{"$f":"IF($I42=\"\", 0, SUMIF('7.СМР'!$E:$E, $I42, '7.СМР'!L:L)+SUMIF('8.ОСС'!$E:$E, $I42, '8.ОСС'!AD:AD)+SUMIF('9.ПИР'!$E:$E, $I42, '9.ПИР'!L:L)+SUMIF('10.БКП'!$E:$E, $I42, '10.БКП'!L:L)+SUMIF('11.ПЗС'!$E:$E, $I42, '11.ПЗС'!M:M))","v":3195.1819999999998},{"$f":"IF($I42=\"\", 0, SUMIF('7.СМР'!$E:$E, $I42, '7.СМР'!M:M)+SUMIF('8.ОСС'!$E:$E, $I42, '8.ОСС'!AE:AE)+SUMIF('9.ПИР'!$E:$E, $I42, '9.ПИР'!M:M)+SUMIF('10.БКП'!$E:$E, $I42, '10.БКП'!M:M)+SUMIF('11.ПЗС'!$E:$E, $I42, '11.ПЗС'!N:N))","v":0},{"$f":"IF($I42=\"\", 0, SUMIF('7.СМР'!$E:$E, $I42, '7.СМР'!N:N)+SUMIF('8.ОСС'!$E:$E, $I42, '8.ОСС'!AF:AF)+SUMIF('9.ПИР'!$E:$E, $I42, '9.ПИР'!N:N)+SUMIF('10.БКП'!$E:$E, $I42, '10.БКП'!N:N)+SUMIF('11.ПЗС'!$E:$E, $I42, '11.ПЗС'!O:O))","v":395.76},{"$f":"IF($I42=\"\", 0, SUMIF('7.СМР'!$E:$E, $I42, '7.СМР'!O:O)+SUMIF('8.ОСС'!$E:$E, $I42, '8.ОСС'!AG:AG)+SUMIF('9.ПИР'!$E:$E, $I42, '9.ПИР'!O:O)+SUMIF('10.БКП'!$E:$E, $I42, '10.БКП'!O:O)+SUMIF('11.ПЗС'!$E:$E, $I42, '11.ПЗС'!P:P))","v":303.18599999999998},{"$f":"IF($I42=\"\", 0, SUMIF('7.СМР'!$E:$E, $I42, '7.СМР'!P:P)+SUMIF('8.ОСС'!$E:$E, $I42, '8.ОСС'!AH:AH)+SUMIF('9.ПИР'!$E:$E, $I42, '9.ПИР'!P:P)+SUMIF('10.БКП'!$E:$E, $I42, '10.БКП'!P:P)+SUMIF('11.ПЗС'!$E:$E, $I42, '11.ПЗС'!Q:Q))","v":2496.2359999999999},4695,3195.1819999999998,-1499.8180000000002,-0.31945005324813636,null,0.18000000000029104,3.8338658147026845E-5,{"$f":"IF($I42=\"\", 0, SUMIF('7.СМР'!$E:$E, $I42, '7.СМР'!X:X)+SUMIF('8.ОСС'!$E:$E, $I42, '8.ОСС'!AP:AP)+SUMIF('9.ПИР'!$E:$E, $I42, '9.ПИР'!X:X)+SUMIF('10.БКП'!$E:$E, $I42, '10.БКП'!X:X)+SUMIF('11.ПЗС'!$E:$E, $I42, '11.ПЗС'!Y:Y))","v":0},{"$f":"IF($I42=\"\", 0, SUMIF('7.СМР'!$E:$E, $I42, '7.СМР'!Y:Y)+SUMIF('8.ОСС'!$E:$E, $I42, '8.ОСС'!AQ:AQ)+SUMIF('9.ПИР'!$E:$E, $I42, '9.ПИР'!Y:Y)+SUMIF('10.БКП'!$E:$E, $I42, '10.БКП'!Y:Y)+SUMIF('11.ПЗС'!$E:$E, $I42, '11.ПЗС'!Z:Z))","v":0},{"$f":"IF($I42=\"\", 0, SUMIF('7.СМР'!$E:$E, $I42, '7.СМР'!Z:Z)+SUMIF('8.ОСС'!$E:$E, $I42, '8.ОСС'!AR:AR)+SUMIF('9.ПИР'!$E:$E, $I42, '9.ПИР'!Z:Z)+SUMIF('10.БКП'!$E:$E, $I42, '10.БКП'!Z:Z)+SUMIF('11.ПЗС'!$E:$E, $I42, '11.ПЗС'!AA:AA))","v":0.18000000000029104},{"$f":"IF($I42=\"\", 0, SUMIF('7.СМР'!$E:$E, $I42, '7.СМР'!AA:AA)+SUMIF('8.ОСС'!$E:$E, $I42, '8.ОСС'!AS:AS)+SUMIF('9.ПИР'!$E:$E, $I42, '9.ПИР'!AA:AA)+SUMIF('10.БКП'!$E:$E, $I42, '10.БКП'!AA:AA)+SUMIF('11.ПЗС'!$E:$E, $I42, '11.ПЗС'!AB:AB))","v":4695.18},{"$f":"IF($I42=\"\", 0, SUMIF('7.СМР'!$E:$E, $I42, '7.СМР'!AB:AB)+SUMIF('8.ОСС'!$E:$E, $I42, '8.ОСС'!AT:AT)+SUMIF('9.ПИР'!$E:$E, $I42, '9.ПИР'!AB:AB)+SUMIF('10.БКП'!$E:$E, $I42, '10.БКП'!AB:AB)+SUMIF('11.ПЗС'!$E:$E, $I42, '11.ПЗС'!AC:AC))","v":0},{"$f":"IF($I42=\"\", 0, SUMIF('7.СМР'!$E:$E, $I42, '7.СМР'!AC:AC)+SUMIF('8.ОСС'!$E:$E, $I42, '8.ОСС'!AU:AU)+SUMIF('9.ПИР'!$E:$E, $I42, '9.ПИР'!AC:AC)+SUMIF('10.БКП'!$E:$E, $I42, '10.БКП'!AC:AC)+SUMIF('11.ПЗС'!$E:$E, $I42, '11.ПЗС'!AD:AD))","v":395.76},{"$f":"IF($I42=\"\", 0, SUMIF('7.СМР'!$E:$E, $I42, '7.СМР'!AD:AD)+SUMIF('8.ОСС'!$E:$E, $I42, '8.ОСС'!AV:AV)+SUMIF('9.ПИР'!$E:$E, $I42, '9.ПИР'!AD:AD)+SUMIF('10.БКП'!$E:$E, $I42, '10.БКП'!AD:AD)+SUMIF('11.ПЗС'!$E:$E, $I42, '11.ПЗС'!AE:AE))","v":1199.42},{"$f":"IF($I42=\"\", 0, SUMIF('7.СМР'!$E:$E, $I42, '7.СМР'!AE:AE)+SUMIF('8.ОСС'!$E:$E, $I42, '8.ОСС'!AW:AW)+SUMIF('9.ПИР'!$E:$E, $I42, '9.ПИР'!AE:AE)+SUMIF('10.БКП'!$E:$E, $I42, '10.БКП'!AE:AE)+SUMIF('11.ПЗС'!$E:$E, $I42, '11.ПЗС'!AF:AF))","v":3100},null,10000,0,5305,{"$f":"IF($I42=\"\", \"\", VLOOKUP($I42,objects, '05.РКС'!L$18-'05.РКС'!$B$18+1, 0))","v":"2017-01-01"},{"$f":"IF($I42=\"\", \"\", VLOOKUP($I42,objects, '05.РКС'!M$18-'05.РКС'!$B$18+1, 0))","v":"2017-12-30"},{"$f":"IF($I42=\"\", \"\", VLOOKUP($I42,objects, '05.РКС'!N$18-'05.РКС'!$B$18+1, 0))","v":"Рекомендации техаудита   \"РусГидро\"  по разработке технических решений  по   подъему уровня  водохранилища."},{"$f":"IF($I42=\"\", \"\", VLOOKUP($I42,objects, '05.РКС'!P$18-'05.РКС'!$B$18+1, 0))","v":0},0]
[null,null,"АО \"Вилюйская ГЭС-3\"","Прочее",0,0,"Прочая основная деятельность","Высокий",{"$f":"IF(ISBLANK('05.РКС'!B44), \"\", '05.РКС'!B44)","v":"2016-4.4."},"ПКЗП. ПИР.Сыылага. Корректировка   технического проекта  разработки магматических пород (долеритов) открытым способом на  южном   участке месторождения 14ИД.",{"$f":"IF($I43=\"\", 0, SUMIF('7.СМР'!$E:$E, $I43, '7.СМР'!G:G)+SUMIF('8.ОСС'!$E:$E, $I43, '8.ОСС'!Y:Y)+SUMIF('9.ПИР'!$E:$E, $I43, '9.ПИР'!G:G)+SUMIF('10.БКП'!$E:$E, $I43, '10.БКП'!G:G)+SUMIF('11.ПЗС'!$E:$E, $I43, '11.ПЗС'!H:H))","v":377},{"$f":"IF($I43=\"\", 0, SUMIF('7.СМР'!$E:$E, $I43, '7.СМР'!H:H)+SUMIF('8.ОСС'!$E:$E, $I43, '8.ОСС'!Z:Z)+SUMIF('9.ПИР'!$E:$E, $I43, '9.ПИР'!H:H)+SUMIF('10.БКП'!$E:$E, $I43, '10.БКП'!H:H)+SUMIF('11.ПЗС'!$E:$E, $I43, '11.ПЗС'!I:I))","v":0},{"$f":"IF($I43=\"\", 0, SUMIF('7.СМР'!$E:$E, $I43, '7.СМР'!I:I)+SUMIF('8.ОСС'!$E:$E, $I43, '8.ОСС'!AA:AA)+SUMIF('9.ПИР'!$E:$E, $I43, '9.ПИР'!I:I)+SUMIF('10.БКП'!$E:$E, $I43, '10.БКП'!I:I)+SUMIF('11.ПЗС'!$E:$E, $I43, '11.ПЗС'!J:J))","v":0},{"$f":"IF($I43=\"\", 0, SUMIF('7.СМР'!$E:$E, $I43, '7.СМР'!J:J)+SUMIF('8.ОСС'!$E:$E, $I43, '8.ОСС'!AB:AB)+SUMIF('9.ПИР'!$E:$E, $I43, '9.ПИР'!J:J)+SUMIF('10.БКП'!$E:$E, $I43, '10.БКП'!J:J)+SUMIF('11.ПЗС'!$E:$E, $I43, '11.ПЗС'!K:K))","v":377},{"$f":"IF($I43=\"\", 0, SUMIF('7.СМР'!$E:$E, $I43, '7.СМР'!K:K)+SUMIF('8.ОСС'!$E:$E, $I43, '8.ОСС'!AC:AC)+SUMIF('9.ПИР'!$E:$E, $I43, '9.ПИР'!K:K)+SUMIF('10.БКП'!$E:$E, $I43, '10.БКП'!K:K)+SUMIF('11.ПЗС'!$E:$E, $I43, '11.ПЗС'!L:L))","v":0},{"$f":"IF($I43=\"\", 0, SUMIF('7.СМР'!$E:$E, $I43, '7.СМР'!L:L)+SUMIF('8.ОСС'!$E:$E, $I43, '8.ОСС'!AD:AD)+SUMIF('9.ПИР'!$E:$E, $I43, '9.ПИР'!L:L)+SUMIF('10.БКП'!$E:$E, $I43, '10.БКП'!L:L)+SUMIF('11.ПЗС'!$E:$E, $I43, '11.ПЗС'!M:M))","v":377.11799999999999},{"$f":"IF($I43=\"\", 0, SUMIF('7.СМР'!$E:$E, $I43, '7.СМР'!M:M)+SUMIF('8.ОСС'!$E:$E, $I43, '8.ОСС'!AE:AE)+SUMIF('9.ПИР'!$E:$E, $I43, '9.ПИР'!M:M)+SUMIF('10.БКП'!$E:$E, $I43, '10.БКП'!M:M)+SUMIF('11.ПЗС'!$E:$E, $I43, '11.ПЗС'!N:N))","v":0},{"$f":"IF($I43=\"\", 0, SUMIF('7.СМР'!$E:$E, $I43, '7.СМР'!N:N)+SUMIF('8.ОСС'!$E:$E, $I43, '8.ОСС'!AF:AF)+SUMIF('9.ПИР'!$E:$E, $I43, '9.ПИР'!N:N)+SUMIF('10.БКП'!$E:$E, $I43, '10.БКП'!N:N)+SUMIF('11.ПЗС'!$E:$E, $I43, '11.ПЗС'!O:O))","v":0},{"$f":"IF($I43=\"\", 0, SUMIF('7.СМР'!$E:$E, $I43, '7.СМР'!O:O)+SUMIF('8.ОСС'!$E:$E, $I43, '8.ОСС'!AG:AG)+SUMIF('9.ПИР'!$E:$E, $I43, '9.ПИР'!O:O)+SUMIF('10.БКП'!$E:$E, $I43, '10.БКП'!O:O)+SUMIF('11.ПЗС'!$E:$E, $I43, '11.ПЗС'!P:P))","v":377.11799999999999},{"$f":"IF($I43=\"\", 0, SUMIF('7.СМР'!$E:$E, $I43, '7.СМР'!P:P)+SUMIF('8.ОСС'!$E:$E, $I43, '8.ОСС'!AH:AH)+SUMIF('9.ПИР'!$E:$E, $I43, '9.ПИР'!P:P)+SUMIF('10.БКП'!$E:$E, $I43, '10.БКП'!P:P)+SUMIF('11.ПЗС'!$E:$E, $I43, '11.ПЗС'!Q:Q))","v":0},377,377.11799999999999,0.117999999999995,3.1299734748009285E-4,null,0.12000000000000455,3.1830238726791659E-4,{"$f":"IF($I43=\"\", 0, SUMIF('7.СМР'!$E:$E, $I43, '7.СМР'!X:X)+SUMIF('8.ОСС'!$E:$E, $I43, '8.ОСС'!AP:AP)+SUMIF('9.ПИР'!$E:$E, $I43, '9.ПИР'!X:X)+SUMIF('10.БКП'!$E:$E, $I43, '10.БКП'!X:X)+SUMIF('11.ПЗС'!$E:$E, $I43, '11.ПЗС'!Y:Y))","v":0},{"$f":"IF($I43=\"\", 0, SUMIF('7.СМР'!$E:$E, $I43, '7.СМР'!Y:Y)+SUMIF('8.ОСС'!$E:$E, $I43, '8.ОСС'!AQ:AQ)+SUMIF('9.ПИР'!$E:$E, $I43, '9.ПИР'!Y:Y)+SUMIF('10.БКП'!$E:$E, $I43, '10.БКП'!Y:Y)+SUMIF('11.ПЗС'!$E:$E, $I43, '11.ПЗС'!Z:Z))","v":0},{"$f":"IF($I43=\"\", 0, SUMIF('7.СМР'!$E:$E, $I43, '7.СМР'!Z:Z)+SUMIF('8.ОСС'!$E:$E, $I43, '8.ОСС'!AR:AR)+SUMIF('9.ПИР'!$E:$E, $I43, '9.ПИР'!Z:Z)+SUMIF('10.БКП'!$E:$E, $I43, '10.БКП'!Z:Z)+SUMIF('11.ПЗС'!$E:$E, $I43, '11.ПЗС'!AA:AA))","v":0.12000000000000455},{"$f":"IF($I43=\"\", 0, SUMIF('7.СМР'!$E:$E, $I43, '7.СМР'!AA:AA)+SUMIF('8.ОСС'!$E:$E, $I43, '8.ОСС'!AS:AS)+SUMIF('9.ПИР'!$E:$E, $I43, '9.ПИР'!AA:AA)+SUMIF('10.БКП'!$E:$E, $I43, '10.БКП'!AA:AA)+SUMIF('11.ПЗС'!$E:$E, $I43, '11.ПЗС'!AB:AB))","v":377.12},{"$f":"IF($I43=\"\", 0, SUMIF('7.СМР'!$E:$E, $I43, '7.СМР'!AB:AB)+SUMIF('8.ОСС'!$E:$E, $I43, '8.ОСС'!AT:AT)+SUMIF('9.ПИР'!$E:$E, $I43, '9.ПИР'!AB:AB)+SUMIF('10.БКП'!$E:$E, $I43, '10.БКП'!AB:AB)+SUMIF('11.ПЗС'!$E:$E, $I43, '11.ПЗС'!AC:AC))","v":0},{"$f":"IF($I43=\"\", 0, SUMIF('7.СМР'!$E:$E, $I43, '7.СМР'!AC:AC)+SUMIF('8.ОСС'!$E:$E, $I43, '8.ОСС'!AU:AU)+SUMIF('9.ПИР'!$E:$E, $I43, '9.ПИР'!AC:AC)+SUMIF('10.БКП'!$E:$E, $I43, '10.БКП'!AC:AC)+SUMIF('11.ПЗС'!$E:$E, $I43, '11.ПЗС'!AD:AD))","v":0},{"$f":"IF($I43=\"\", 0, SUMIF('7.СМР'!$E:$E, $I43, '7.СМР'!AD:AD)+SUMIF('8.ОСС'!$E:$E, $I43, '8.ОСС'!AV:AV)+SUMIF('9.ПИР'!$E:$E, $I43, '9.ПИР'!AD:AD)+SUMIF('10.БКП'!$E:$E, $I43, '10.БКП'!AD:AD)+SUMIF('11.ПЗС'!$E:$E, $I43, '11.ПЗС'!AE:AE))","v":377.12},{"$f":"IF($I43=\"\", 0, SUMIF('7.СМР'!$E:$E, $I43, '7.СМР'!AE:AE)+SUMIF('8.ОСС'!$E:$E, $I43, '8.ОСС'!AW:AW)+SUMIF('9.ПИР'!$E:$E, $I43, '9.ПИР'!AE:AE)+SUMIF('10.БКП'!$E:$E, $I43, '10.БКП'!AE:AE)+SUMIF('11.ПЗС'!$E:$E, $I43, '11.ПЗС'!AF:AF))","v":0},null,3500,0,3123,{"$f":"IF($I43=\"\", \"\", VLOOKUP($I43,objects, '05.РКС'!L$18-'05.РКС'!$B$18+1, 0))","v":"2017-04-01"},{"$f":"IF($I43=\"\", \"\", VLOOKUP($I43,objects, '05.РКС'!M$18-'05.РКС'!$B$18+1, 0))","v":"2017-06-01"},{"$f":"IF($I43=\"\", \"\", VLOOKUP($I43,objects, '05.РКС'!N$18-'05.РКС'!$B$18+1, 0))","v":"В соответствии с решением Протокола заседания ТКР Якутнедра № 182-тпи от 28.05.2012 г. при изменении горнотехнических условий разработки участка недр, изменении парка оборудования и иных условий технического регламента разработки запасов строительного камня необходимо выполнить корректировку технического проекта разработки месторождения и его согласование в установленном порядке. "},{"$f":"IF($I43=\"\", \"\", VLOOKUP($I43,objects, '05.РКС'!P$18-'05.РКС'!$B$18+1, 0))","v":0},0]
[null,null,"АО \"Вилюйская ГЭС-3\"","Прочее",0,0,"Прочая основная деятельность","Высокий",{"$f":"IF(ISBLANK('05.РКС'!B45), \"\", '05.РКС'!B45)","v":"2016-5.4."},"Автодорожный поезд Промбаза-ГЭС. ПИР. Электроосвещение  автодороги",{"$f":"IF($I44=\"\", 0, SUMIF('7.СМР'!$E:$E, $I44, '7.СМР'!G:G)+SUMIF('8.ОСС'!$E:$E, $I44, '8.ОСС'!Y:Y)+SUMIF('9.ПИР'!$E:$E, $I44, '9.ПИР'!G:G)+SUMIF('10.БКП'!$E:$E, $I44, '10.БКП'!G:G)+SUMIF('11.ПЗС'!$E:$E, $I44, '11.ПЗС'!H:H))","v":244},{"$f":"IF($I44=\"\", 0, SUMIF('7.СМР'!$E:$E, $I44, '7.СМР'!H:H)+SUMIF('8.ОСС'!$E:$E, $I44, '8.ОСС'!Z:Z)+SUMIF('9.ПИР'!$E:$E, $I44, '9.ПИР'!H:H)+SUMIF('10.БКП'!$E:$E, $I44, '10.БКП'!H:H)+SUMIF('11.ПЗС'!$E:$E, $I44, '11.ПЗС'!I:I))","v":244},{"$f":"IF($I44=\"\", 0, SUMIF('7.СМР'!$E:$E, $I44, '7.СМР'!I:I)+SUMIF('8.ОСС'!$E:$E, $I44, '8.ОСС'!AA:AA)+SUMIF('9.ПИР'!$E:$E, $I44, '9.ПИР'!I:I)+SUMIF('10.БКП'!$E:$E, $I44, '10.БКП'!I:I)+SUMIF('11.ПЗС'!$E:$E, $I44, '11.ПЗС'!J:J))","v":0},{"$f":"IF($I44=\"\", 0, SUMIF('7.СМР'!$E:$E, $I44, '7.СМР'!J:J)+SUMIF('8.ОСС'!$E:$E, $I44, '8.ОСС'!AB:AB)+SUMIF('9.ПИР'!$E:$E, $I44, '9.ПИР'!J:J)+SUMIF('10.БКП'!$E:$E, $I44, '10.БКП'!J:J)+SUMIF('11.ПЗС'!$E:$E, $I44, '11.ПЗС'!K:K))","v":0},{"$f":"IF($I44=\"\", 0, SUMIF('7.СМР'!$E:$E, $I44, '7.СМР'!K:K)+SUMIF('8.ОСС'!$E:$E, $I44, '8.ОСС'!AC:AC)+SUMIF('9.ПИР'!$E:$E, $I44, '9.ПИР'!K:K)+SUMIF('10.БКП'!$E:$E, $I44, '10.БКП'!K:K)+SUMIF('11.ПЗС'!$E:$E, $I44, '11.ПЗС'!L:L))","v":0},{"$f":"IF($I44=\"\", 0, SUMIF('7.СМР'!$E:$E, $I44, '7.СМР'!L:L)+SUMIF('8.ОСС'!$E:$E, $I44, '8.ОСС'!AD:AD)+SUMIF('9.ПИР'!$E:$E, $I44, '9.ПИР'!L:L)+SUMIF('10.БКП'!$E:$E, $I44, '10.БКП'!L:L)+SUMIF('11.ПЗС'!$E:$E, $I44, '11.ПЗС'!M:M))","v":244.15},{"$f":"IF($I44=\"\", 0, SUMIF('7.СМР'!$E:$E, $I44, '7.СМР'!M:M)+SUMIF('8.ОСС'!$E:$E, $I44, '8.ОСС'!AE:AE)+SUMIF('9.ПИР'!$E:$E, $I44, '9.ПИР'!M:M)+SUMIF('10.БКП'!$E:$E, $I44, '10.БКП'!M:M)+SUMIF('11.ПЗС'!$E:$E, $I44, '11.ПЗС'!N:N))","v":244.15},{"$f":"IF($I44=\"\", 0, SUMIF('7.СМР'!$E:$E, $I44, '7.СМР'!N:N)+SUMIF('8.ОСС'!$E:$E, $I44, '8.ОСС'!AF:AF)+SUMIF('9.ПИР'!$E:$E, $I44, '9.ПИР'!N:N)+SUMIF('10.БКП'!$E:$E, $I44, '10.БКП'!N:N)+SUMIF('11.ПЗС'!$E:$E, $I44, '11.ПЗС'!O:O))","v":0},{"$f":"IF($I44=\"\", 0, SUMIF('7.СМР'!$E:$E, $I44, '7.СМР'!O:O)+SUMIF('8.ОСС'!$E:$E, $I44, '8.ОСС'!AG:AG)+SUMIF('9.ПИР'!$E:$E, $I44, '9.ПИР'!O:O)+SUMIF('10.БКП'!$E:$E, $I44, '10.БКП'!O:O)+SUMIF('11.ПЗС'!$E:$E, $I44, '11.ПЗС'!P:P))","v":0},{"$f":"IF($I44=\"\", 0, SUMIF('7.СМР'!$E:$E, $I44, '7.СМР'!P:P)+SUMIF('8.ОСС'!$E:$E, $I44, '8.ОСС'!AH:AH)+SUMIF('9.ПИР'!$E:$E, $I44, '9.ПИР'!P:P)+SUMIF('10.БКП'!$E:$E, $I44, '10.БКП'!P:P)+SUMIF('11.ПЗС'!$E:$E, $I44, '11.ПЗС'!Q:Q))","v":0},244,244.15,0.15000000000000568,6.1475409836067899E-4,null,0.15000000000000568,6.1475409836067899E-4,{"$f":"IF($I44=\"\", 0, SUMIF('7.СМР'!$E:$E, $I44, '7.СМР'!X:X)+SUMIF('8.ОСС'!$E:$E, $I44, '8.ОСС'!AP:AP)+SUMIF('9.ПИР'!$E:$E, $I44, '9.ПИР'!X:X)+SUMIF('10.БКП'!$E:$E, $I44, '10.БКП'!X:X)+SUMIF('11.ПЗС'!$E:$E, $I44, '11.ПЗС'!Y:Y))","v":0},{"$f":"IF($I44=\"\", 0, SUMIF('7.СМР'!$E:$E, $I44, '7.СМР'!Y:Y)+SUMIF('8.ОСС'!$E:$E, $I44, '8.ОСС'!AQ:AQ)+SUMIF('9.ПИР'!$E:$E, $I44, '9.ПИР'!Y:Y)+SUMIF('10.БКП'!$E:$E, $I44, '10.БКП'!Y:Y)+SUMIF('11.ПЗС'!$E:$E, $I44, '11.ПЗС'!Z:Z))","v":0},{"$f":"IF($I44=\"\", 0, SUMIF('7.СМР'!$E:$E, $I44, '7.СМР'!Z:Z)+SUMIF('8.ОСС'!$E:$E, $I44, '8.ОСС'!AR:AR)+SUMIF('9.ПИР'!$E:$E, $I44, '9.ПИР'!Z:Z)+SUMIF('10.БКП'!$E:$E, $I44, '10.БКП'!Z:Z)+SUMIF('11.ПЗС'!$E:$E, $I44, '11.ПЗС'!AA:AA))","v":0.15000000000000568},{"$f":"IF($I44=\"\", 0, SUMIF('7.СМР'!$E:$E, $I44, '7.СМР'!AA:AA)+SUMIF('8.ОСС'!$E:$E, $I44, '8.ОСС'!AS:AS)+SUMIF('9.ПИР'!$E:$E, $I44, '9.ПИР'!AA:AA)+SUMIF('10.БКП'!$E:$E, $I44, '10.БКП'!AA:AA)+SUMIF('11.ПЗС'!$E:$E, $I44, '11.ПЗС'!AB:AB))","v":244.15},{"$f":"IF($I44=\"\", 0, SUMIF('7.СМР'!$E:$E, $I44, '7.СМР'!AB:AB)+SUMIF('8.ОСС'!$E:$E, $I44, '8.ОСС'!AT:AT)+SUMIF('9.ПИР'!$E:$E, $I44, '9.ПИР'!AB:AB)+SUMIF('10.БКП'!$E:$E, $I44, '10.БКП'!AB:AB)+SUMIF('11.ПЗС'!$E:$E, $I44, '11.ПЗС'!AC:AC))","v":244.15},{"$f":"IF($I44=\"\", 0, SUMIF('7.СМР'!$E:$E, $I44, '7.СМР'!AC:AC)+SUMIF('8.ОСС'!$E:$E, $I44, '8.ОСС'!AU:AU)+SUMIF('9.ПИР'!$E:$E, $I44, '9.ПИР'!AC:AC)+SUMIF('10.БКП'!$E:$E, $I44, '10.БКП'!AC:AC)+SUMIF('11.ПЗС'!$E:$E, $I44, '11.ПЗС'!AD:AD))","v":0},{"$f":"IF($I44=\"\", 0, SUMIF('7.СМР'!$E:$E, $I44, '7.СМР'!AD:AD)+SUMIF('8.ОСС'!$E:$E, $I44, '8.ОСС'!AV:AV)+SUMIF('9.ПИР'!$E:$E, $I44, '9.ПИР'!AD:AD)+SUMIF('10.БКП'!$E:$E, $I44, '10.БКП'!AD:AD)+SUMIF('11.ПЗС'!$E:$E, $I44, '11.ПЗС'!AE:AE))","v":0},{"$f":"IF($I44=\"\", 0, SUMIF('7.СМР'!$E:$E, $I44, '7.СМР'!AE:AE)+SUMIF('8.ОСС'!$E:$E, $I44, '8.ОСС'!AW:AW)+SUMIF('9.ПИР'!$E:$E, $I44, '9.ПИР'!AE:AE)+SUMIF('10.БКП'!$E:$E, $I44, '10.БКП'!AE:AE)+SUMIF('11.ПЗС'!$E:$E, $I44, '11.ПЗС'!AF:AF))","v":0},null,450,0,206,{"$f":"IF($I44=\"\", \"\", VLOOKUP($I44,objects, '05.РКС'!L$18-'05.РКС'!$B$18+1, 0))","v":"2017-01-01"},{"$f":"IF($I44=\"\", \"\", VLOOKUP($I44,objects, '05.РКС'!M$18-'05.РКС'!$B$18+1, 0))","v":"2017-03-30"},{"$f":"IF($I44=\"\", \"\", VLOOKUP($I44,objects, '05.РКС'!N$18-'05.РКС'!$B$18+1, 0))","v":"Приказ Министерства энергетики и электрификации СССР № 51пс от 19.04.1978 г. об утверждении ТЭО строительства Вилюйской ГЭС-3 на р.Вилюй; Разрешение на строительство № 8-5 от 15.06.2005 г., выданное УиАГ МО \"Мирнинский район\""},{"$f":"IF($I44=\"\", \"\", VLOOKUP($I44,objects, '05.РКС'!P$18-'05.РКС'!$B$18+1, 0))","v":0},0]
[null,null,"АО \"Вилюйская ГЭС-3\"","Прочее",0,0,"Прочая основная деятельность","Высокий",{"$f":"IF(ISBLANK('05.РКС'!B46), \"\", '05.РКС'!B46)","v":"2016-7.1."},"Прочие затраты. Автодорога. Налог на добычу ОПИ (НДПИ) ",{"$f":"IF($I45=\"\", 0, SUMIF('7.СМР'!$E:$E, $I45, '7.СМР'!G:G)+SUMIF('8.ОСС'!$E:$E, $I45, '8.ОСС'!Y:Y)+SUMIF('9.ПИР'!$E:$E, $I45, '9.ПИР'!G:G)+SUMIF('10.БКП'!$E:$E, $I45, '10.БКП'!G:G)+SUMIF('11.ПЗС'!$E:$E, $I45, '11.ПЗС'!H:H))","v":1581},{"$f":"IF($I45=\"\", 0, SUMIF('7.СМР'!$E:$E, $I45, '7.СМР'!H:H)+SUMIF('8.ОСС'!$E:$E, $I45, '8.ОСС'!Z:Z)+SUMIF('9.ПИР'!$E:$E, $I45, '9.ПИР'!H:H)+SUMIF('10.БКП'!$E:$E, $I45, '10.БКП'!H:H)+SUMIF('11.ПЗС'!$E:$E, $I45, '11.ПЗС'!I:I))","v":0},{"$f":"IF($I45=\"\", 0, SUMIF('7.СМР'!$E:$E, $I45, '7.СМР'!I:I)+SUMIF('8.ОСС'!$E:$E, $I45, '8.ОСС'!AA:AA)+SUMIF('9.ПИР'!$E:$E, $I45, '9.ПИР'!I:I)+SUMIF('10.БКП'!$E:$E, $I45, '10.БКП'!I:I)+SUMIF('11.ПЗС'!$E:$E, $I45, '11.ПЗС'!J:J))","v":0},{"$f":"IF($I45=\"\", 0, SUMIF('7.СМР'!$E:$E, $I45, '7.СМР'!J:J)+SUMIF('8.ОСС'!$E:$E, $I45, '8.ОСС'!AB:AB)+SUMIF('9.ПИР'!$E:$E, $I45, '9.ПИР'!J:J)+SUMIF('10.БКП'!$E:$E, $I45, '10.БКП'!J:J)+SUMIF('11.ПЗС'!$E:$E, $I45, '11.ПЗС'!K:K))","v":1581},{"$f":"IF($I45=\"\", 0, SUMIF('7.СМР'!$E:$E, $I45, '7.СМР'!K:K)+SUMIF('8.ОСС'!$E:$E, $I45, '8.ОСС'!AC:AC)+SUMIF('9.ПИР'!$E:$E, $I45, '9.ПИР'!K:K)+SUMIF('10.БКП'!$E:$E, $I45, '10.БКП'!K:K)+SUMIF('11.ПЗС'!$E:$E, $I45, '11.ПЗС'!L:L))","v":0},{"$f":"IF($I45=\"\", 0, SUMIF('7.СМР'!$E:$E, $I45, '7.СМР'!L:L)+SUMIF('8.ОСС'!$E:$E, $I45, '8.ОСС'!AD:AD)+SUMIF('9.ПИР'!$E:$E, $I45, '9.ПИР'!L:L)+SUMIF('10.БКП'!$E:$E, $I45, '10.БКП'!L:L)+SUMIF('11.ПЗС'!$E:$E, $I45, '11.ПЗС'!M:M))","v":1139.2839999999999},{"$f":"IF($I45=\"\", 0, SUMIF('7.СМР'!$E:$E, $I45, '7.СМР'!M:M)+SUMIF('8.ОСС'!$E:$E, $I45, '8.ОСС'!AE:AE)+SUMIF('9.ПИР'!$E:$E, $I45, '9.ПИР'!M:M)+SUMIF('10.БКП'!$E:$E, $I45, '10.БКП'!M:M)+SUMIF('11.ПЗС'!$E:$E, $I45, '11.ПЗС'!N:N))","v":0},{"$f":"IF($I45=\"\", 0, SUMIF('7.СМР'!$E:$E, $I45, '7.СМР'!N:N)+SUMIF('8.ОСС'!$E:$E, $I45, '8.ОСС'!AF:AF)+SUMIF('9.ПИР'!$E:$E, $I45, '9.ПИР'!N:N)+SUMIF('10.БКП'!$E:$E, $I45, '10.БКП'!N:N)+SUMIF('11.ПЗС'!$E:$E, $I45, '11.ПЗС'!O:O))","v":0},{"$f":"IF($I45=\"\", 0, SUMIF('7.СМР'!$E:$E, $I45, '7.СМР'!O:O)+SUMIF('8.ОСС'!$E:$E, $I45, '8.ОСС'!AG:AG)+SUMIF('9.ПИР'!$E:$E, $I45, '9.ПИР'!O:O)+SUMIF('10.БКП'!$E:$E, $I45, '10.БКП'!O:O)+SUMIF('11.ПЗС'!$E:$E, $I45, '11.ПЗС'!P:P))","v":934.78},{"$f":"IF($I45=\"\", 0, SUMIF('7.СМР'!$E:$E, $I45, '7.СМР'!P:P)+SUMIF('8.ОСС'!$E:$E, $I45, '8.ОСС'!AH:AH)+SUMIF('9.ПИР'!$E:$E, $I45, '9.ПИР'!P:P)+SUMIF('10.БКП'!$E:$E, $I45, '10.БКП'!P:P)+SUMIF('11.ПЗС'!$E:$E, $I45, '11.ПЗС'!Q:Q))","v":204.50399999999999},1581,1139.2839999999999,-441.71600000000012,-0.27939025932953837,null,0,0,{"$f":"IF($I45=\"\", 0, SUMIF('7.СМР'!$E:$E, $I45, '7.СМР'!X:X)+SUMIF('8.ОСС'!$E:$E, $I45, '8.ОСС'!AP:AP)+SUMIF('9.ПИР'!$E:$E, $I45, '9.ПИР'!X:X)+SUMIF('10.БКП'!$E:$E, $I45, '10.БКП'!X:X)+SUMIF('11.ПЗС'!$E:$E, $I45, '11.ПЗС'!Y:Y))","v":0},{"$f":"IF($I45=\"\", 0, SUMIF('7.СМР'!$E:$E, $I45, '7.СМР'!Y:Y)+SUMIF('8.ОСС'!$E:$E, $I45, '8.ОСС'!AQ:AQ)+SUMIF('9.ПИР'!$E:$E, $I45, '9.ПИР'!Y:Y)+SUMIF('10.БКП'!$E:$E, $I45, '10.БКП'!Y:Y)+SUMIF('11.ПЗС'!$E:$E, $I45, '11.ПЗС'!Z:Z))","v":0},{"$f":"IF($I45=\"\", 0, SUMIF('7.СМР'!$E:$E, $I45, '7.СМР'!Z:Z)+SUMIF('8.ОСС'!$E:$E, $I45, '8.ОСС'!AR:AR)+SUMIF('9.ПИР'!$E:$E, $I45, '9.ПИР'!Z:Z)+SUMIF('10.БКП'!$E:$E, $I45, '10.БКП'!Z:Z)+SUMIF('11.ПЗС'!$E:$E, $I45, '11.ПЗС'!AA:AA))","v":0},{"$f":"IF($I45=\"\", 0, SUMIF('7.СМР'!$E:$E, $I45, '7.СМР'!AA:AA)+SUMIF('8.ОСС'!$E:$E, $I45, '8.ОСС'!AS:AS)+SUMIF('9.ПИР'!$E:$E, $I45, '9.ПИР'!AA:AA)+SUMIF('10.БКП'!$E:$E, $I45, '10.БКП'!AA:AA)+SUMIF('11.ПЗС'!$E:$E, $I45, '11.ПЗС'!AB:AB))","v":1581},{"$f":"IF($I45=\"\", 0, SUMIF('7.СМР'!$E:$E, $I45, '7.СМР'!AB:AB)+SUMIF('8.ОСС'!$E:$E, $I45, '8.ОСС'!AT:AT)+SUMIF('9.ПИР'!$E:$E, $I45, '9.ПИР'!AB:AB)+SUMIF('10.БКП'!$E:$E, $I45, '10.БКП'!AB:AB)+SUMIF('11.ПЗС'!$E:$E, $I45, '11.ПЗС'!AC:AC))","v":0},{"$f":"IF($I45=\"\", 0, SUMIF('7.СМР'!$E:$E, $I45, '7.СМР'!AC:AC)+SUMIF('8.ОСС'!$E:$E, $I45, '8.ОСС'!AU:AU)+SUMIF('9.ПИР'!$E:$E, $I45, '9.ПИР'!AC:AC)+SUMIF('10.БКП'!$E:$E, $I45, '10.БКП'!AC:AC)+SUMIF('11.ПЗС'!$E:$E, $I45, '11.ПЗС'!AD:AD))","v":0},{"$f":"IF($I45=\"\", 0, SUMIF('7.СМР'!$E:$E, $I45, '7.СМР'!AD:AD)+SUMIF('8.ОСС'!$E:$E, $I45, '8.ОСС'!AV:AV)+SUMIF('9.ПИР'!$E:$E, $I45, '9.ПИР'!AD:AD)+SUMIF('10.БКП'!$E:$E, $I45, '10.БКП'!AD:AD)+SUMIF('11.ПЗС'!$E:$E, $I45, '11.ПЗС'!AE:AE))","v":1581},{"$f":"IF($I45=\"\", 0, SUMIF('7.СМР'!$E:$E, $I45, '7.СМР'!AE:AE)+SUMIF('8.ОСС'!$E:$E, $I45, '8.ОСС'!AW:AW)+SUMIF('9.ПИР'!$E:$E, $I45, '9.ПИР'!AE:AE)+SUMIF('10.БКП'!$E:$E, $I45, '10.БКП'!AE:AE)+SUMIF('11.ПЗС'!$E:$E, $I45, '11.ПЗС'!AF:AF))","v":0},null,1581.4,0,0.40000000000009095,{"$f":"IF($I45=\"\", \"\", VLOOKUP($I45,objects, '05.РКС'!L$18-'05.РКС'!$B$18+1, 0))","v":"00:00:00"},{"$f":"IF($I45=\"\", \"\", VLOOKUP($I45,objects, '05.РКС'!M$18-'05.РКС'!$B$18+1, 0))","v":"00:00:00"},{"$f":"IF($I45=\"\", \"\", VLOOKUP($I45,objects, '05.РКС'!N$18-'05.РКС'!$B$18+1, 0))","v":"Требование Налогового Кодекса"},{"$f":"IF($I45=\"\", \"\", VLOOKUP($I45,objects, '05.РКС'!P$18-'05.РКС'!$B$18+1, 0))","v":0},0]
[null,null,"АО \"Вилюйская ГЭС-3\"","Прочее",0,0,"Прочая основная деятельность","Высокий",{"$f":"IF(ISBLANK('05.РКС'!B47), \"\", '05.РКС'!B47)","v":"2016-7.2."},"Прочие затраты. Автодорога.Аренда  земельного участка",{"$f":"IF($I46=\"\", 0, SUMIF('7.СМР'!$E:$E, $I46, '7.СМР'!G:G)+SUMIF('8.ОСС'!$E:$E, $I46, '8.ОСС'!Y:Y)+SUMIF('9.ПИР'!$E:$E, $I46, '9.ПИР'!G:G)+SUMIF('10.БКП'!$E:$E, $I46, '10.БКП'!G:G)+SUMIF('11.ПЗС'!$E:$E, $I46, '11.ПЗС'!H:H))","v":582.45799999999997},{"$f":"IF($I46=\"\", 0, SUMIF('7.СМР'!$E:$E, $I46, '7.СМР'!H:H)+SUMIF('8.ОСС'!$E:$E, $I46, '8.ОСС'!Z:Z)+SUMIF('9.ПИР'!$E:$E, $I46, '9.ПИР'!H:H)+SUMIF('10.БКП'!$E:$E, $I46, '10.БКП'!H:H)+SUMIF('11.ПЗС'!$E:$E, $I46, '11.ПЗС'!I:I))","v":153},{"$f":"IF($I46=\"\", 0, SUMIF('7.СМР'!$E:$E, $I46, '7.СМР'!I:I)+SUMIF('8.ОСС'!$E:$E, $I46, '8.ОСС'!AA:AA)+SUMIF('9.ПИР'!$E:$E, $I46, '9.ПИР'!I:I)+SUMIF('10.БКП'!$E:$E, $I46, '10.БКП'!I:I)+SUMIF('11.ПЗС'!$E:$E, $I46, '11.ПЗС'!J:J))","v":153},{"$f":"IF($I46=\"\", 0, SUMIF('7.СМР'!$E:$E, $I46, '7.СМР'!J:J)+SUMIF('8.ОСС'!$E:$E, $I46, '8.ОСС'!AB:AB)+SUMIF('9.ПИР'!$E:$E, $I46, '9.ПИР'!J:J)+SUMIF('10.БКП'!$E:$E, $I46, '10.БКП'!J:J)+SUMIF('11.ПЗС'!$E:$E, $I46, '11.ПЗС'!K:K))","v":153.55000000000001},{"$f":"IF($I46=\"\", 0, SUMIF('7.СМР'!$E:$E, $I46, '7.СМР'!K:K)+SUMIF('8.ОСС'!$E:$E, $I46, '8.ОСС'!AC:AC)+SUMIF('9.ПИР'!$E:$E, $I46, '9.ПИР'!K:K)+SUMIF('10.БКП'!$E:$E, $I46, '10.БКП'!K:K)+SUMIF('11.ПЗС'!$E:$E, $I46, '11.ПЗС'!L:L))","v":122.908},{"$f":"IF($I46=\"\", 0, SUMIF('7.СМР'!$E:$E, $I46, '7.СМР'!L:L)+SUMIF('8.ОСС'!$E:$E, $I46, '8.ОСС'!AD:AD)+SUMIF('9.ПИР'!$E:$E, $I46, '9.ПИР'!L:L)+SUMIF('10.БКП'!$E:$E, $I46, '10.БКП'!L:L)+SUMIF('11.ПЗС'!$E:$E, $I46, '11.ПЗС'!M:M))","v":582.06520999999998},{"$f":"IF($I46=\"\", 0, SUMIF('7.СМР'!$E:$E, $I46, '7.СМР'!M:M)+SUMIF('8.ОСС'!$E:$E, $I46, '8.ОСС'!AE:AE)+SUMIF('9.ПИР'!$E:$E, $I46, '9.ПИР'!M:M)+SUMIF('10.БКП'!$E:$E, $I46, '10.БКП'!M:M)+SUMIF('11.ПЗС'!$E:$E, $I46, '11.ПЗС'!N:N))","v":152.55000000000001},{"$f":"IF($I46=\"\", 0, SUMIF('7.СМР'!$E:$E, $I46, '7.СМР'!N:N)+SUMIF('8.ОСС'!$E:$E, $I46, '8.ОСС'!AF:AF)+SUMIF('9.ПИР'!$E:$E, $I46, '9.ПИР'!N:N)+SUMIF('10.БКП'!$E:$E, $I46, '10.БКП'!N:N)+SUMIF('11.ПЗС'!$E:$E, $I46, '11.ПЗС'!O:O))","v":153.05121},{"$f":"IF($I46=\"\", 0, SUMIF('7.СМР'!$E:$E, $I46, '7.СМР'!O:O)+SUMIF('8.ОСС'!$E:$E, $I46, '8.ОСС'!AG:AG)+SUMIF('9.ПИР'!$E:$E, $I46, '9.ПИР'!O:O)+SUMIF('10.БКП'!$E:$E, $I46, '10.БКП'!O:O)+SUMIF('11.ПЗС'!$E:$E, $I46, '11.ПЗС'!P:P))","v":153.553},{"$f":"IF($I46=\"\", 0, SUMIF('7.СМР'!$E:$E, $I46, '7.СМР'!P:P)+SUMIF('8.ОСС'!$E:$E, $I46, '8.ОСС'!AH:AH)+SUMIF('9.ПИР'!$E:$E, $I46, '9.ПИР'!P:P)+SUMIF('10.БКП'!$E:$E, $I46, '10.БКП'!P:P)+SUMIF('11.ПЗС'!$E:$E, $I46, '11.ПЗС'!Q:Q))","v":122.911},582.45799999999997,582.06520999999998,-0.39278999999999087,-6.7436622039699148E-4,null,30.322000000000116,5.2058689210209348E-2,{"$f":"IF($I46=\"\", 0, SUMIF('7.СМР'!$E:$E, $I46, '7.СМР'!X:X)+SUMIF('8.ОСС'!$E:$E, $I46, '8.ОСС'!AP:AP)+SUMIF('9.ПИР'!$E:$E, $I46, '9.ПИР'!X:X)+SUMIF('10.БКП'!$E:$E, $I46, '10.БКП'!X:X)+SUMIF('11.ПЗС'!$E:$E, $I46, '11.ПЗС'!Y:Y))","v":0},{"$f":"IF($I46=\"\", 0, SUMIF('7.СМР'!$E:$E, $I46, '7.СМР'!Y:Y)+SUMIF('8.ОСС'!$E:$E, $I46, '8.ОСС'!AQ:AQ)+SUMIF('9.ПИР'!$E:$E, $I46, '9.ПИР'!Y:Y)+SUMIF('10.БКП'!$E:$E, $I46, '10.БКП'!Y:Y)+SUMIF('11.ПЗС'!$E:$E, $I46, '11.ПЗС'!Z:Z))","v":0},{"$f":"IF($I46=\"\", 0, SUMIF('7.СМР'!$E:$E, $I46, '7.СМР'!Z:Z)+SUMIF('8.ОСС'!$E:$E, $I46, '8.ОСС'!AR:AR)+SUMIF('9.ПИР'!$E:$E, $I46, '9.ПИР'!Z:Z)+SUMIF('10.БКП'!$E:$E, $I46, '10.БКП'!Z:Z)+SUMIF('11.ПЗС'!$E:$E, $I46, '11.ПЗС'!AA:AA))","v":30.322000000000116},{"$f":"IF($I46=\"\", 0, SUMIF('7.СМР'!$E:$E, $I46, '7.СМР'!AA:AA)+SUMIF('8.ОСС'!$E:$E, $I46, '8.ОСС'!AS:AS)+SUMIF('9.ПИР'!$E:$E, $I46, '9.ПИР'!AA:AA)+SUMIF('10.БКП'!$E:$E, $I46, '10.БКП'!AA:AA)+SUMIF('11.ПЗС'!$E:$E, $I46, '11.ПЗС'!AB:AB))","v":612.78000000000009},{"$f":"IF($I46=\"\", 0, SUMIF('7.СМР'!$E:$E, $I46, '7.СМР'!AB:AB)+SUMIF('8.ОСС'!$E:$E, $I46, '8.ОСС'!AT:AT)+SUMIF('9.ПИР'!$E:$E, $I46, '9.ПИР'!AB:AB)+SUMIF('10.БКП'!$E:$E, $I46, '10.БКП'!AB:AB)+SUMIF('11.ПЗС'!$E:$E, $I46, '11.ПЗС'!AC:AC))","v":152.55000000000001},{"$f":"IF($I46=\"\", 0, SUMIF('7.СМР'!$E:$E, $I46, '7.СМР'!AC:AC)+SUMIF('8.ОСС'!$E:$E, $I46, '8.ОСС'!AU:AU)+SUMIF('9.ПИР'!$E:$E, $I46, '9.ПИР'!AC:AC)+SUMIF('10.БКП'!$E:$E, $I46, '10.БКП'!AC:AC)+SUMIF('11.ПЗС'!$E:$E, $I46, '11.ПЗС'!AD:AD))","v":152.55000000000001},{"$f":"IF($I46=\"\", 0, SUMIF('7.СМР'!$E:$E, $I46, '7.СМР'!AD:AD)+SUMIF('8.ОСС'!$E:$E, $I46, '8.ОСС'!AV:AV)+SUMIF('9.ПИР'!$E:$E, $I46, '9.ПИР'!AD:AD)+SUMIF('10.БКП'!$E:$E, $I46, '10.БКП'!AD:AD)+SUMIF('11.ПЗС'!$E:$E, $I46, '11.ПЗС'!AE:AE))","v":153.84},{"$f":"IF($I46=\"\", 0, SUMIF('7.СМР'!$E:$E, $I46, '7.СМР'!AE:AE)+SUMIF('8.ОСС'!$E:$E, $I46, '8.ОСС'!AW:AW)+SUMIF('9.ПИР'!$E:$E, $I46, '9.ПИР'!AE:AE)+SUMIF('10.БКП'!$E:$E, $I46, '10.БКП'!AE:AE)+SUMIF('11.ПЗС'!$E:$E, $I46, '11.ПЗС'!AF:AF))","v":153.84},null,622.09,0,39.632000000000062,{"$f":"IF($I46=\"\", \"\", VLOOKUP($I46,objects, '05.РКС'!L$18-'05.РКС'!$B$18+1, 0))","v":"00:00:00"},{"$f":"IF($I46=\"\", \"\", VLOOKUP($I46,objects, '05.РКС'!M$18-'05.РКС'!$B$18+1, 0))","v":"00:00:00"},{"$f":"IF($I46=\"\", \"\", VLOOKUP($I46,objects, '05.РКС'!N$18-'05.РКС'!$B$18+1, 0))","v":"Договор аренды земельного участка с Администрацией  МО \"Поселок Светлый\""},{"$f":"IF($I46=\"\", \"\", VLOOKUP($I46,objects, '05.РКС'!P$18-'05.РКС'!$B$18+1, 0))","v":0},0]
[null,null,"АО \"Вилюйская ГЭС-3\"","Прочее",0,0,"Прочая основная деятельность","Высокий",{"$f":"IF(ISBLANK('05.РКС'!B48), \"\", '05.РКС'!B48)","v":"2016-7.3."},"Прочие затраты.ПКЗП.Сыылага.Налог на добычу (НДПИ)",{"$f":"IF($I47=\"\", 0, SUMIF('7.СМР'!$E:$E, $I47, '7.СМР'!G:G)+SUMIF('8.ОСС'!$E:$E, $I47, '8.ОСС'!Y:Y)+SUMIF('9.ПИР'!$E:$E, $I47, '9.ПИР'!G:G)+SUMIF('10.БКП'!$E:$E, $I47, '10.БКП'!G:G)+SUMIF('11.ПЗС'!$E:$E, $I47, '11.ПЗС'!H:H))","v":4309.8},{"$f":"IF($I47=\"\", 0, SUMIF('7.СМР'!$E:$E, $I47, '7.СМР'!H:H)+SUMIF('8.ОСС'!$E:$E, $I47, '8.ОСС'!Z:Z)+SUMIF('9.ПИР'!$E:$E, $I47, '9.ПИР'!H:H)+SUMIF('10.БКП'!$E:$E, $I47, '10.БКП'!H:H)+SUMIF('11.ПЗС'!$E:$E, $I47, '11.ПЗС'!I:I))","v":0},{"$f":"IF($I47=\"\", 0, SUMIF('7.СМР'!$E:$E, $I47, '7.СМР'!I:I)+SUMIF('8.ОСС'!$E:$E, $I47, '8.ОСС'!AA:AA)+SUMIF('9.ПИР'!$E:$E, $I47, '9.ПИР'!I:I)+SUMIF('10.БКП'!$E:$E, $I47, '10.БКП'!I:I)+SUMIF('11.ПЗС'!$E:$E, $I47, '11.ПЗС'!J:J))","v":0},{"$f":"IF($I47=\"\", 0, SUMIF('7.СМР'!$E:$E, $I47, '7.СМР'!J:J)+SUMIF('8.ОСС'!$E:$E, $I47, '8.ОСС'!AB:AB)+SUMIF('9.ПИР'!$E:$E, $I47, '9.ПИР'!J:J)+SUMIF('10.БКП'!$E:$E, $I47, '10.БКП'!J:J)+SUMIF('11.ПЗС'!$E:$E, $I47, '11.ПЗС'!K:K))","v":2938.5},{"$f":"IF($I47=\"\", 0, SUMIF('7.СМР'!$E:$E, $I47, '7.СМР'!K:K)+SUMIF('8.ОСС'!$E:$E, $I47, '8.ОСС'!AC:AC)+SUMIF('9.ПИР'!$E:$E, $I47, '9.ПИР'!K:K)+SUMIF('10.БКП'!$E:$E, $I47, '10.БКП'!K:K)+SUMIF('11.ПЗС'!$E:$E, $I47, '11.ПЗС'!L:L))","v":1371.3},{"$f":"IF($I47=\"\", 0, SUMIF('7.СМР'!$E:$E, $I47, '7.СМР'!L:L)+SUMIF('8.ОСС'!$E:$E, $I47, '8.ОСС'!AD:AD)+SUMIF('9.ПИР'!$E:$E, $I47, '9.ПИР'!L:L)+SUMIF('10.БКП'!$E:$E, $I47, '10.БКП'!L:L)+SUMIF('11.ПЗС'!$E:$E, $I47, '11.ПЗС'!M:M))","v":1912.8389999999999},{"$f":"IF($I47=\"\", 0, SUMIF('7.СМР'!$E:$E, $I47, '7.СМР'!M:M)+SUMIF('8.ОСС'!$E:$E, $I47, '8.ОСС'!AE:AE)+SUMIF('9.ПИР'!$E:$E, $I47, '9.ПИР'!M:M)+SUMIF('10.БКП'!$E:$E, $I47, '10.БКП'!M:M)+SUMIF('11.ПЗС'!$E:$E, $I47, '11.ПЗС'!N:N))","v":0},{"$f":"IF($I47=\"\", 0, SUMIF('7.СМР'!$E:$E, $I47, '7.СМР'!N:N)+SUMIF('8.ОСС'!$E:$E, $I47, '8.ОСС'!AF:AF)+SUMIF('9.ПИР'!$E:$E, $I47, '9.ПИР'!N:N)+SUMIF('10.БКП'!$E:$E, $I47, '10.БКП'!N:N)+SUMIF('11.ПЗС'!$E:$E, $I47, '11.ПЗС'!O:O))","v":0},{"$f":"IF($I47=\"\", 0, SUMIF('7.СМР'!$E:$E, $I47, '7.СМР'!O:O)+SUMIF('8.ОСС'!$E:$E, $I47, '8.ОСС'!AG:AG)+SUMIF('9.ПИР'!$E:$E, $I47, '9.ПИР'!O:O)+SUMIF('10.БКП'!$E:$E, $I47, '10.БКП'!O:O)+SUMIF('11.ПЗС'!$E:$E, $I47, '11.ПЗС'!P:P))","v":0},{"$f":"IF($I47=\"\", 0, SUMIF('7.СМР'!$E:$E, $I47, '7.СМР'!P:P)+SUMIF('8.ОСС'!$E:$E, $I47, '8.ОСС'!AH:AH)+SUMIF('9.ПИР'!$E:$E, $I47, '9.ПИР'!P:P)+SUMIF('10.БКП'!$E:$E, $I47, '10.БКП'!P:P)+SUMIF('11.ПЗС'!$E:$E, $I47, '11.ПЗС'!Q:Q))","v":1912.8389999999999},4309.8,1912.8389999999999,-2396.9610000000002,-0.55616525128776284,null,0,0,{"$f":"IF($I47=\"\", 0, SUMIF('7.СМР'!$E:$E, $I47, '7.СМР'!X:X)+SUMIF('8.ОСС'!$E:$E, $I47, '8.ОСС'!AP:AP)+SUMIF('9.ПИР'!$E:$E, $I47, '9.ПИР'!X:X)+SUMIF('10.БКП'!$E:$E, $I47, '10.БКП'!X:X)+SUMIF('11.ПЗС'!$E:$E, $I47, '11.ПЗС'!Y:Y))","v":0},{"$f":"IF($I47=\"\", 0, SUMIF('7.СМР'!$E:$E, $I47, '7.СМР'!Y:Y)+SUMIF('8.ОСС'!$E:$E, $I47, '8.ОСС'!AQ:AQ)+SUMIF('9.ПИР'!$E:$E, $I47, '9.ПИР'!Y:Y)+SUMIF('10.БКП'!$E:$E, $I47, '10.БКП'!Y:Y)+SUMIF('11.ПЗС'!$E:$E, $I47, '11.ПЗС'!Z:Z))","v":0},{"$f":"IF($I47=\"\", 0, SUMIF('7.СМР'!$E:$E, $I47, '7.СМР'!Z:Z)+SUMIF('8.ОСС'!$E:$E, $I47, '8.ОСС'!AR:AR)+SUMIF('9.ПИР'!$E:$E, $I47, '9.ПИР'!Z:Z)+SUMIF('10.БКП'!$E:$E, $I47, '10.БКП'!Z:Z)+SUMIF('11.ПЗС'!$E:$E, $I47, '11.ПЗС'!AA:AA))","v":0},{"$f":"IF($I47=\"\", 0, SUMIF('7.СМР'!$E:$E, $I47, '7.СМР'!AA:AA)+SUMIF('8.ОСС'!$E:$E, $I47, '8.ОСС'!AS:AS)+SUMIF('9.ПИР'!$E:$E, $I47, '9.ПИР'!AA:AA)+SUMIF('10.БКП'!$E:$E, $I47, '10.БКП'!AA:AA)+SUMIF('11.ПЗС'!$E:$E, $I47, '11.ПЗС'!AB:AB))","v":4309.8},{"$f":"IF($I47=\"\", 0, SUMIF('7.СМР'!$E:$E, $I47, '7.СМР'!AB:AB)+SUMIF('8.ОСС'!$E:$E, $I47, '8.ОСС'!AT:AT)+SUMIF('9.ПИР'!$E:$E, $I47, '9.ПИР'!AB:AB)+SUMIF('10.БКП'!$E:$E, $I47, '10.БКП'!AB:AB)+SUMIF('11.ПЗС'!$E:$E, $I47, '11.ПЗС'!AC:AC))","v":0},{"$f":"IF($I47=\"\", 0, SUMIF('7.СМР'!$E:$E, $I47, '7.СМР'!AC:AC)+SUMIF('8.ОСС'!$E:$E, $I47, '8.ОСС'!AU:AU)+SUMIF('9.ПИР'!$E:$E, $I47, '9.ПИР'!AC:AC)+SUMIF('10.БКП'!$E:$E, $I47, '10.БКП'!AC:AC)+SUMIF('11.ПЗС'!$E:$E, $I47, '11.ПЗС'!AD:AD))","v":0},{"$f":"IF($I47=\"\", 0, SUMIF('7.СМР'!$E:$E, $I47, '7.СМР'!AD:AD)+SUMIF('8.ОСС'!$E:$E, $I47, '8.ОСС'!AV:AV)+SUMIF('9.ПИР'!$E:$E, $I47, '9.ПИР'!AD:AD)+SUMIF('10.БКП'!$E:$E, $I47, '10.БКП'!AD:AD)+SUMIF('11.ПЗС'!$E:$E, $I47, '11.ПЗС'!AE:AE))","v":2938.5},{"$f":"IF($I47=\"\", 0, SUMIF('7.СМР'!$E:$E, $I47, '7.СМР'!AE:AE)+SUMIF('8.ОСС'!$E:$E, $I47, '8.ОСС'!AW:AW)+SUMIF('9.ПИР'!$E:$E, $I47, '9.ПИР'!AE:AE)+SUMIF('10.БКП'!$E:$E, $I47, '10.БКП'!AE:AE)+SUMIF('11.ПЗС'!$E:$E, $I47, '11.ПЗС'!AF:AF))","v":1371.3},null,4310,0,0.1999999999998181,{"$f":"IF($I47=\"\", \"\", VLOOKUP($I47,objects, '05.РКС'!L$18-'05.РКС'!$B$18+1, 0))","v":"00:00:00"},{"$f":"IF($I47=\"\", \"\", VLOOKUP($I47,objects, '05.РКС'!M$18-'05.РКС'!$B$18+1, 0))","v":"00:00:00"},{"$f":"IF($I47=\"\", \"\", VLOOKUP($I47,objects, '05.РКС'!N$18-'05.РКС'!$B$18+1, 0))","v":"Требование Налогового Кодекса"},{"$f":"IF($I47=\"\", \"\", VLOOKUP($I47,objects, '05.РКС'!P$18-'05.РКС'!$B$18+1, 0))","v":0},0]
[null,null,"АО \"Вилюйская ГЭС-3\"","Прочее",0,0,"Прочая основная деятельность","Высокий",{"$f":"IF(ISBLANK('05.РКС'!B49), \"\", '05.РКС'!B49)","v":"2016-7.4."},"Прочие  затраты. Аренда  земли. Водовод неочищенной  воды ",{"$f":"IF($I48=\"\", 0, SUMIF('7.СМР'!$E:$E, $I48, '7.СМР'!G:G)+SUMIF('8.ОСС'!$E:$E, $I48, '8.ОСС'!Y:Y)+SUMIF('9.ПИР'!$E:$E, $I48, '9.ПИР'!G:G)+SUMIF('10.БКП'!$E:$E, $I48, '10.БКП'!G:G)+SUMIF('11.ПЗС'!$E:$E, $I48, '11.ПЗС'!H:H))","v":299.89999999999998},{"$f":"IF($I48=\"\", 0, SUMIF('7.СМР'!$E:$E, $I48, '7.СМР'!H:H)+SUMIF('8.ОСС'!$E:$E, $I48, '8.ОСС'!Z:Z)+SUMIF('9.ПИР'!$E:$E, $I48, '9.ПИР'!H:H)+SUMIF('10.БКП'!$E:$E, $I48, '10.БКП'!H:H)+SUMIF('11.ПЗС'!$E:$E, $I48, '11.ПЗС'!I:I))","v":75},{"$f":"IF($I48=\"\", 0, SUMIF('7.СМР'!$E:$E, $I48, '7.СМР'!I:I)+SUMIF('8.ОСС'!$E:$E, $I48, '8.ОСС'!AA:AA)+SUMIF('9.ПИР'!$E:$E, $I48, '9.ПИР'!I:I)+SUMIF('10.БКП'!$E:$E, $I48, '10.БКП'!I:I)+SUMIF('11.ПЗС'!$E:$E, $I48, '11.ПЗС'!J:J))","v":74.900000000000006},{"$f":"IF($I48=\"\", 0, SUMIF('7.СМР'!$E:$E, $I48, '7.СМР'!J:J)+SUMIF('8.ОСС'!$E:$E, $I48, '8.ОСС'!AB:AB)+SUMIF('9.ПИР'!$E:$E, $I48, '9.ПИР'!J:J)+SUMIF('10.БКП'!$E:$E, $I48, '10.БКП'!J:J)+SUMIF('11.ПЗС'!$E:$E, $I48, '11.ПЗС'!K:K))","v":75},{"$f":"IF($I48=\"\", 0, SUMIF('7.СМР'!$E:$E, $I48, '7.СМР'!K:K)+SUMIF('8.ОСС'!$E:$E, $I48, '8.ОСС'!AC:AC)+SUMIF('9.ПИР'!$E:$E, $I48, '9.ПИР'!K:K)+SUMIF('10.БКП'!$E:$E, $I48, '10.БКП'!K:K)+SUMIF('11.ПЗС'!$E:$E, $I48, '11.ПЗС'!L:L))","v":75},{"$f":"IF($I48=\"\", 0, SUMIF('7.СМР'!$E:$E, $I48, '7.СМР'!L:L)+SUMIF('8.ОСС'!$E:$E, $I48, '8.ОСС'!AD:AD)+SUMIF('9.ПИР'!$E:$E, $I48, '9.ПИР'!L:L)+SUMIF('10.БКП'!$E:$E, $I48, '10.БКП'!L:L)+SUMIF('11.ПЗС'!$E:$E, $I48, '11.ПЗС'!M:M))","v":299.91410000000002},{"$f":"IF($I48=\"\", 0, SUMIF('7.СМР'!$E:$E, $I48, '7.СМР'!M:M)+SUMIF('8.ОСС'!$E:$E, $I48, '8.ОСС'!AE:AE)+SUMIF('9.ПИР'!$E:$E, $I48, '9.ПИР'!M:M)+SUMIF('10.БКП'!$E:$E, $I48, '10.БКП'!M:M)+SUMIF('11.ПЗС'!$E:$E, $I48, '11.ПЗС'!N:N))","v":74.98},{"$f":"IF($I48=\"\", 0, SUMIF('7.СМР'!$E:$E, $I48, '7.СМР'!N:N)+SUMIF('8.ОСС'!$E:$E, $I48, '8.ОСС'!AF:AF)+SUMIF('9.ПИР'!$E:$E, $I48, '9.ПИР'!N:N)+SUMIF('10.БКП'!$E:$E, $I48, '10.БКП'!N:N)+SUMIF('11.ПЗС'!$E:$E, $I48, '11.ПЗС'!O:O))","v":74.978099999999998},{"$f":"IF($I48=\"\", 0, SUMIF('7.СМР'!$E:$E, $I48, '7.СМР'!O:O)+SUMIF('8.ОСС'!$E:$E, $I48, '8.ОСС'!AG:AG)+SUMIF('9.ПИР'!$E:$E, $I48, '9.ПИР'!O:O)+SUMIF('10.БКП'!$E:$E, $I48, '10.БКП'!O:O)+SUMIF('11.ПЗС'!$E:$E, $I48, '11.ПЗС'!P:P))","v":74.977999999999994},{"$f":"IF($I48=\"\", 0, SUMIF('7.СМР'!$E:$E, $I48, '7.СМР'!P:P)+SUMIF('8.ОСС'!$E:$E, $I48, '8.ОСС'!AH:AH)+SUMIF('9.ПИР'!$E:$E, $I48, '9.ПИР'!P:P)+SUMIF('10.БКП'!$E:$E, $I48, '10.БКП'!P:P)+SUMIF('11.ПЗС'!$E:$E, $I48, '11.ПЗС'!Q:Q))","v":74.977999999999994},299.89999999999998,299.91410000000002,1.4100000000041746E-2,4.7015671890769411E-5,null,0.10000000000002274,3.334444814939071E-4,{"$f":"IF($I48=\"\", 0, SUMIF('7.СМР'!$E:$E, $I48, '7.СМР'!X:X)+SUMIF('8.ОСС'!$E:$E, $I48, '8.ОСС'!AP:AP)+SUMIF('9.ПИР'!$E:$E, $I48, '9.ПИР'!X:X)+SUMIF('10.БКП'!$E:$E, $I48, '10.БКП'!X:X)+SUMIF('11.ПЗС'!$E:$E, $I48, '11.ПЗС'!Y:Y))","v":0},{"$f":"IF($I48=\"\", 0, SUMIF('7.СМР'!$E:$E, $I48, '7.СМР'!Y:Y)+SUMIF('8.ОСС'!$E:$E, $I48, '8.ОСС'!AQ:AQ)+SUMIF('9.ПИР'!$E:$E, $I48, '9.ПИР'!Y:Y)+SUMIF('10.БКП'!$E:$E, $I48, '10.БКП'!Y:Y)+SUMIF('11.ПЗС'!$E:$E, $I48, '11.ПЗС'!Z:Z))","v":0},{"$f":"IF($I48=\"\", 0, SUMIF('7.СМР'!$E:$E, $I48, '7.СМР'!Z:Z)+SUMIF('8.ОСС'!$E:$E, $I48, '8.ОСС'!AR:AR)+SUMIF('9.ПИР'!$E:$E, $I48, '9.ПИР'!Z:Z)+SUMIF('10.БКП'!$E:$E, $I48, '10.БКП'!Z:Z)+SUMIF('11.ПЗС'!$E:$E, $I48, '11.ПЗС'!AA:AA))","v":0.10000000000002274},{"$f":"IF($I48=\"\", 0, SUMIF('7.СМР'!$E:$E, $I48, '7.СМР'!AA:AA)+SUMIF('8.ОСС'!$E:$E, $I48, '8.ОСС'!AS:AS)+SUMIF('9.ПИР'!$E:$E, $I48, '9.ПИР'!AA:AA)+SUMIF('10.БКП'!$E:$E, $I48, '10.БКП'!AA:AA)+SUMIF('11.ПЗС'!$E:$E, $I48, '11.ПЗС'!AB:AB))","v":300},{"$f":"IF($I48=\"\", 0, SUMIF('7.СМР'!$E:$E, $I48, '7.СМР'!AB:AB)+SUMIF('8.ОСС'!$E:$E, $I48, '8.ОСС'!AT:AT)+SUMIF('9.ПИР'!$E:$E, $I48, '9.ПИР'!AB:AB)+SUMIF('10.БКП'!$E:$E, $I48, '10.БКП'!AB:AB)+SUMIF('11.ПЗС'!$E:$E, $I48, '11.ПЗС'!AC:AC))","v":74.98},{"$f":"IF($I48=\"\", 0, SUMIF('7.СМР'!$E:$E, $I48, '7.СМР'!AC:AC)+SUMIF('8.ОСС'!$E:$E, $I48, '8.ОСС'!AU:AU)+SUMIF('9.ПИР'!$E:$E, $I48, '9.ПИР'!AC:AC)+SUMIF('10.БКП'!$E:$E, $I48, '10.БКП'!AC:AC)+SUMIF('11.ПЗС'!$E:$E, $I48, '11.ПЗС'!AD:AD))","v":74.98},{"$f":"IF($I48=\"\", 0, SUMIF('7.СМР'!$E:$E, $I48, '7.СМР'!AD:AD)+SUMIF('8.ОСС'!$E:$E, $I48, '8.ОСС'!AV:AV)+SUMIF('9.ПИР'!$E:$E, $I48, '9.ПИР'!AD:AD)+SUMIF('10.БКП'!$E:$E, $I48, '10.БКП'!AD:AD)+SUMIF('11.ПЗС'!$E:$E, $I48, '11.ПЗС'!AE:AE))","v":75.02},{"$f":"IF($I48=\"\", 0, SUMIF('7.СМР'!$E:$E, $I48, '7.СМР'!AE:AE)+SUMIF('8.ОСС'!$E:$E, $I48, '8.ОСС'!AW:AW)+SUMIF('9.ПИР'!$E:$E, $I48, '9.ПИР'!AE:AE)+SUMIF('10.БКП'!$E:$E, $I48, '10.БКП'!AE:AE)+SUMIF('11.ПЗС'!$E:$E, $I48, '11.ПЗС'!AF:AF))","v":75.02},null,307.39999999999998,0,7.5,{"$f":"IF($I48=\"\", \"\", VLOOKUP($I48,objects, '05.РКС'!L$18-'05.РКС'!$B$18+1, 0))","v":"00:00:00"},{"$f":"IF($I48=\"\", \"\", VLOOKUP($I48,objects, '05.РКС'!M$18-'05.РКС'!$B$18+1, 0))","v":"00:00:00"},{"$f":"IF($I48=\"\", \"\", VLOOKUP($I48,objects, '05.РКС'!N$18-'05.РКС'!$B$18+1, 0))","v":"Договор аренды земельного участка с Администрацией  МО \"Поселок Светлый\""},{"$f":"IF($I48=\"\", \"\", VLOOKUP($I48,objects, '05.РКС'!P$18-'05.РКС'!$B$18+1, 0))","v":0},0]
[null,null,"АО \"Вилюйская ГЭС-3\"","Прочее",0,0,"Прочая основная деятельность","Высокий",{"$f":"IF(ISBLANK('05.РКС'!B50), \"\", '05.РКС'!B50)","v":"2016-7.5."},"Прочие затраты на оформление  разрешительной  документации",{"$f":"IF($I49=\"\", 0, SUMIF('7.СМР'!$E:$E, $I49, '7.СМР'!G:G)+SUMIF('8.ОСС'!$E:$E, $I49, '8.ОСС'!Y:Y)+SUMIF('9.ПИР'!$E:$E, $I49, '9.ПИР'!G:G)+SUMIF('10.БКП'!$E:$E, $I49, '10.БКП'!G:G)+SUMIF('11.ПЗС'!$E:$E, $I49, '11.ПЗС'!H:H))","v":474.64099999999996},{"$f":"IF($I49=\"\", 0, SUMIF('7.СМР'!$E:$E, $I49, '7.СМР'!H:H)+SUMIF('8.ОСС'!$E:$E, $I49, '8.ОСС'!Z:Z)+SUMIF('9.ПИР'!$E:$E, $I49, '9.ПИР'!H:H)+SUMIF('10.БКП'!$E:$E, $I49, '10.БКП'!H:H)+SUMIF('11.ПЗС'!$E:$E, $I49, '11.ПЗС'!I:I))","v":6},{"$f":"IF($I49=\"\", 0, SUMIF('7.СМР'!$E:$E, $I49, '7.СМР'!I:I)+SUMIF('8.ОСС'!$E:$E, $I49, '8.ОСС'!AA:AA)+SUMIF('9.ПИР'!$E:$E, $I49, '9.ПИР'!I:I)+SUMIF('10.БКП'!$E:$E, $I49, '10.БКП'!I:I)+SUMIF('11.ПЗС'!$E:$E, $I49, '11.ПЗС'!J:J))","v":6.641},{"$f":"IF($I49=\"\", 0, SUMIF('7.СМР'!$E:$E, $I49, '7.СМР'!J:J)+SUMIF('8.ОСС'!$E:$E, $I49, '8.ОСС'!AB:AB)+SUMIF('9.ПИР'!$E:$E, $I49, '9.ПИР'!J:J)+SUMIF('10.БКП'!$E:$E, $I49, '10.БКП'!J:J)+SUMIF('11.ПЗС'!$E:$E, $I49, '11.ПЗС'!K:K))","v":231},{"$f":"IF($I49=\"\", 0, SUMIF('7.СМР'!$E:$E, $I49, '7.СМР'!K:K)+SUMIF('8.ОСС'!$E:$E, $I49, '8.ОСС'!AC:AC)+SUMIF('9.ПИР'!$E:$E, $I49, '9.ПИР'!K:K)+SUMIF('10.БКП'!$E:$E, $I49, '10.БКП'!K:K)+SUMIF('11.ПЗС'!$E:$E, $I49, '11.ПЗС'!L:L))","v":231},{"$f":"IF($I49=\"\", 0, SUMIF('7.СМР'!$E:$E, $I49, '7.СМР'!L:L)+SUMIF('8.ОСС'!$E:$E, $I49, '8.ОСС'!AD:AD)+SUMIF('9.ПИР'!$E:$E, $I49, '9.ПИР'!L:L)+SUMIF('10.БКП'!$E:$E, $I49, '10.БКП'!L:L)+SUMIF('11.ПЗС'!$E:$E, $I49, '11.ПЗС'!M:M))","v":70.342449999999999},{"$f":"IF($I49=\"\", 0, SUMIF('7.СМР'!$E:$E, $I49, '7.СМР'!M:M)+SUMIF('8.ОСС'!$E:$E, $I49, '8.ОСС'!AE:AE)+SUMIF('9.ПИР'!$E:$E, $I49, '9.ПИР'!M:M)+SUMIF('10.БКП'!$E:$E, $I49, '10.БКП'!M:M)+SUMIF('11.ПЗС'!$E:$E, $I49, '11.ПЗС'!N:N))","v":6.49},{"$f":"IF($I49=\"\", 0, SUMIF('7.СМР'!$E:$E, $I49, '7.СМР'!N:N)+SUMIF('8.ОСС'!$E:$E, $I49, '8.ОСС'!AF:AF)+SUMIF('9.ПИР'!$E:$E, $I49, '9.ПИР'!N:N)+SUMIF('10.БКП'!$E:$E, $I49, '10.БКП'!N:N)+SUMIF('11.ПЗС'!$E:$E, $I49, '11.ПЗС'!O:O))","v":6.5694499999999998},{"$f":"IF($I49=\"\", 0, SUMIF('7.СМР'!$E:$E, $I49, '7.СМР'!O:O)+SUMIF('8.ОСС'!$E:$E, $I49, '8.ОСС'!AG:AG)+SUMIF('9.ПИР'!$E:$E, $I49, '9.ПИР'!O:O)+SUMIF('10.БКП'!$E:$E, $I49, '10.БКП'!O:O)+SUMIF('11.ПЗС'!$E:$E, $I49, '11.ПЗС'!P:P))","v":6.641},{"$f":"IF($I49=\"\", 0, SUMIF('7.СМР'!$E:$E, $I49, '7.СМР'!P:P)+SUMIF('8.ОСС'!$E:$E, $I49, '8.ОСС'!AH:AH)+SUMIF('9.ПИР'!$E:$E, $I49, '9.ПИР'!P:P)+SUMIF('10.БКП'!$E:$E, $I49, '10.БКП'!P:P)+SUMIF('11.ПЗС'!$E:$E, $I49, '11.ПЗС'!Q:Q))","v":50.642000000000003},474.64099999999996,70.342449999999999,-404.29854999999998,-0.85179862253787597,null,0.41800000000000637,8.8066559778865797E-4,{"$f":"IF($I49=\"\", 0, SUMIF('7.СМР'!$E:$E, $I49, '7.СМР'!X:X)+SUMIF('8.ОСС'!$E:$E, $I49, '8.ОСС'!AP:AP)+SUMIF('9.ПИР'!$E:$E, $I49, '9.ПИР'!X:X)+SUMIF('10.БКП'!$E:$E, $I49, '10.БКП'!X:X)+SUMIF('11.ПЗС'!$E:$E, $I49, '11.ПЗС'!Y:Y))","v":0},{"$f":"IF($I49=\"\", 0, SUMIF('7.СМР'!$E:$E, $I49, '7.СМР'!Y:Y)+SUMIF('8.ОСС'!$E:$E, $I49, '8.ОСС'!AQ:AQ)+SUMIF('9.ПИР'!$E:$E, $I49, '9.ПИР'!Y:Y)+SUMIF('10.БКП'!$E:$E, $I49, '10.БКП'!Y:Y)+SUMIF('11.ПЗС'!$E:$E, $I49, '11.ПЗС'!Z:Z))","v":0},{"$f":"IF($I49=\"\", 0, SUMIF('7.СМР'!$E:$E, $I49, '7.СМР'!Z:Z)+SUMIF('8.ОСС'!$E:$E, $I49, '8.ОСС'!AR:AR)+SUMIF('9.ПИР'!$E:$E, $I49, '9.ПИР'!Z:Z)+SUMIF('10.БКП'!$E:$E, $I49, '10.БКП'!Z:Z)+SUMIF('11.ПЗС'!$E:$E, $I49, '11.ПЗС'!AA:AA))","v":0.41800000000000637},{"$f":"IF($I49=\"\", 0, SUMIF('7.СМР'!$E:$E, $I49, '7.СМР'!AA:AA)+SUMIF('8.ОСС'!$E:$E, $I49, '8.ОСС'!AS:AS)+SUMIF('9.ПИР'!$E:$E, $I49, '9.ПИР'!AA:AA)+SUMIF('10.БКП'!$E:$E, $I49, '10.БКП'!AA:AA)+SUMIF('11.ПЗС'!$E:$E, $I49, '11.ПЗС'!AB:AB))","v":475.05899999999997},{"$f":"IF($I49=\"\", 0, SUMIF('7.СМР'!$E:$E, $I49, '7.СМР'!AB:AB)+SUMIF('8.ОСС'!$E:$E, $I49, '8.ОСС'!AT:AT)+SUMIF('9.ПИР'!$E:$E, $I49, '9.ПИР'!AB:AB)+SUMIF('10.БКП'!$E:$E, $I49, '10.БКП'!AB:AB)+SUMIF('11.ПЗС'!$E:$E, $I49, '11.ПЗС'!AC:AC))","v":6.49},{"$f":"IF($I49=\"\", 0, SUMIF('7.СМР'!$E:$E, $I49, '7.СМР'!AC:AC)+SUMIF('8.ОСС'!$E:$E, $I49, '8.ОСС'!AU:AU)+SUMIF('9.ПИР'!$E:$E, $I49, '9.ПИР'!AC:AC)+SUMIF('10.БКП'!$E:$E, $I49, '10.БКП'!AC:AC)+SUMIF('11.ПЗС'!$E:$E, $I49, '11.ПЗС'!AD:AD))","v":6.569},{"$f":"IF($I49=\"\", 0, SUMIF('7.СМР'!$E:$E, $I49, '7.СМР'!AD:AD)+SUMIF('8.ОСС'!$E:$E, $I49, '8.ОСС'!AV:AV)+SUMIF('9.ПИР'!$E:$E, $I49, '9.ПИР'!AD:AD)+SUMIF('10.БКП'!$E:$E, $I49, '10.БКП'!AD:AD)+SUMIF('11.ПЗС'!$E:$E, $I49, '11.ПЗС'!AE:AE))","v":231},{"$f":"IF($I49=\"\", 0, SUMIF('7.СМР'!$E:$E, $I49, '7.СМР'!AE:AE)+SUMIF('8.ОСС'!$E:$E, $I49, '8.ОСС'!AW:AW)+SUMIF('9.ПИР'!$E:$E, $I49, '9.ПИР'!AE:AE)+SUMIF('10.БКП'!$E:$E, $I49, '10.БКП'!AE:AE)+SUMIF('11.ПЗС'!$E:$E, $I49, '11.ПЗС'!AF:AF))","v":231},null,3264,0,2789.3589999999999,{"$f":"IF($I49=\"\", \"\", VLOOKUP($I49,objects, '05.РКС'!L$18-'05.РКС'!$B$18+1, 0))","v":"00:00:00"},{"$f":"IF($I49=\"\", \"\", VLOOKUP($I49,objects, '05.РКС'!M$18-'05.РКС'!$B$18+1, 0))","v":"00:00:00"},{"$f":"IF($I49=\"\", \"\", VLOOKUP($I49,objects, '05.РКС'!N$18-'05.РКС'!$B$18+1, 0))","v":"Расчет "},{"$f":"IF($I49=\"\", \"\", VLOOKUP($I49,objects, '05.РКС'!P$18-'05.РКС'!$B$18+1, 0))","v":0},0]
[null,null,"АО \"Вилюйская ГЭС-3\"","Прочее",0,0,"Прочая основная деятельность","Высокий",{"$f":"IF(ISBLANK('05.РКС'!B51), \"\", '05.РКС'!B51)","v":"2016-3.6."},"ЛКЗП.Авторский надзор. Ликвидация изыскательской штольни № 1000 ГСП",{"$f":"IF($I50=\"\", 0, SUMIF('7.СМР'!$E:$E, $I50, '7.СМР'!G:G)+SUMIF('8.ОСС'!$E:$E, $I50, '8.ОСС'!Y:Y)+SUMIF('9.ПИР'!$E:$E, $I50, '9.ПИР'!G:G)+SUMIF('10.БКП'!$E:$E, $I50, '10.БКП'!G:G)+SUMIF('11.ПЗС'!$E:$E, $I50, '11.ПЗС'!H:H))","v":0},{"$f":"IF($I50=\"\", 0, SUMIF('7.СМР'!$E:$E, $I50, '7.СМР'!H:H)+SUMIF('8.ОСС'!$E:$E, $I50, '8.ОСС'!Z:Z)+SUMIF('9.ПИР'!$E:$E, $I50, '9.ПИР'!H:H)+SUMIF('10.БКП'!$E:$E, $I50, '10.БКП'!H:H)+SUMIF('11.ПЗС'!$E:$E, $I50, '11.ПЗС'!I:I))","v":0},{"$f":"IF($I50=\"\", 0, SUMIF('7.СМР'!$E:$E, $I50, '7.СМР'!I:I)+SUMIF('8.ОСС'!$E:$E, $I50, '8.ОСС'!AA:AA)+SUMIF('9.ПИР'!$E:$E, $I50, '9.ПИР'!I:I)+SUMIF('10.БКП'!$E:$E, $I50, '10.БКП'!I:I)+SUMIF('11.ПЗС'!$E:$E, $I50, '11.ПЗС'!J:J))","v":0},{"$f":"IF($I50=\"\", 0, SUMIF('7.СМР'!$E:$E, $I50, '7.СМР'!J:J)+SUMIF('8.ОСС'!$E:$E, $I50, '8.ОСС'!AB:AB)+SUMIF('9.ПИР'!$E:$E, $I50, '9.ПИР'!J:J)+SUMIF('10.БКП'!$E:$E, $I50, '10.БКП'!J:J)+SUMIF('11.ПЗС'!$E:$E, $I50, '11.ПЗС'!K:K))","v":0},{"$f":"IF($I50=\"\", 0, SUMIF('7.СМР'!$E:$E, $I50, '7.СМР'!K:K)+SUMIF('8.ОСС'!$E:$E, $I50, '8.ОСС'!AC:AC)+SUMIF('9.ПИР'!$E:$E, $I50, '9.ПИР'!K:K)+SUMIF('10.БКП'!$E:$E, $I50, '10.БКП'!K:K)+SUMIF('11.ПЗС'!$E:$E, $I50, '11.ПЗС'!L:L))","v":0},{"$f":"IF($I50=\"\", 0, SUMIF('7.СМР'!$E:$E, $I50, '7.СМР'!L:L)+SUMIF('8.ОСС'!$E:$E, $I50, '8.ОСС'!AD:AD)+SUMIF('9.ПИР'!$E:$E, $I50, '9.ПИР'!L:L)+SUMIF('10.БКП'!$E:$E, $I50, '10.БКП'!L:L)+SUMIF('11.ПЗС'!$E:$E, $I50, '11.ПЗС'!M:M))","v":0},{"$f":"IF($I50=\"\", 0, SUMIF('7.СМР'!$E:$E, $I50, '7.СМР'!M:M)+SUMIF('8.ОСС'!$E:$E, $I50, '8.ОСС'!AE:AE)+SUMIF('9.ПИР'!$E:$E, $I50, '9.ПИР'!M:M)+SUMIF('10.БКП'!$E:$E, $I50, '10.БКП'!M:M)+SUMIF('11.ПЗС'!$E:$E, $I50, '11.ПЗС'!N:N))","v":0},{"$f":"IF($I50=\"\", 0, SUMIF('7.СМР'!$E:$E, $I50, '7.СМР'!N:N)+SUMIF('8.ОСС'!$E:$E, $I50, '8.ОСС'!AF:AF)+SUMIF('9.ПИР'!$E:$E, $I50, '9.ПИР'!N:N)+SUMIF('10.БКП'!$E:$E, $I50, '10.БКП'!N:N)+SUMIF('11.ПЗС'!$E:$E, $I50, '11.ПЗС'!O:O))","v":0},{"$f":"IF($I50=\"\", 0, SUMIF('7.СМР'!$E:$E, $I50, '7.СМР'!O:O)+SUMIF('8.ОСС'!$E:$E, $I50, '8.ОСС'!AG:AG)+SUMIF('9.ПИР'!$E:$E, $I50, '9.ПИР'!O:O)+SUMIF('10.БКП'!$E:$E, $I50, '10.БКП'!O:O)+SUMIF('11.ПЗС'!$E:$E, $I50, '11.ПЗС'!P:P))","v":0},{"$f":"IF($I50=\"\", 0, SUMIF('7.СМР'!$E:$E, $I50, '7.СМР'!P:P)+SUMIF('8.ОСС'!$E:$E, $I50, '8.ОСС'!AH:AH)+SUMIF('9.ПИР'!$E:$E, $I50, '9.ПИР'!P:P)+SUMIF('10.БКП'!$E:$E, $I50, '10.БКП'!P:P)+SUMIF('11.ПЗС'!$E:$E, $I50, '11.ПЗС'!Q:Q))","v":0},0,0,0,0,null,0,0,{"$f":"IF($I50=\"\", 0, SUMIF('7.СМР'!$E:$E, $I50, '7.СМР'!X:X)+SUMIF('8.ОСС'!$E:$E, $I50, '8.ОСС'!AP:AP)+SUMIF('9.ПИР'!$E:$E, $I50, '9.ПИР'!X:X)+SUMIF('10.БКП'!$E:$E, $I50, '10.БКП'!X:X)+SUMIF('11.ПЗС'!$E:$E, $I50, '11.ПЗС'!Y:Y))","v":0},{"$f":"IF($I50=\"\", 0, SUMIF('7.СМР'!$E:$E, $I50, '7.СМР'!Y:Y)+SUMIF('8.ОСС'!$E:$E, $I50, '8.ОСС'!AQ:AQ)+SUMIF('9.ПИР'!$E:$E, $I50, '9.ПИР'!Y:Y)+SUMIF('10.БКП'!$E:$E, $I50, '10.БКП'!Y:Y)+SUMIF('11.ПЗС'!$E:$E, $I50, '11.ПЗС'!Z:Z))","v":0},{"$f":"IF($I50=\"\", 0, SUMIF('7.СМР'!$E:$E, $I50, '7.СМР'!Z:Z)+SUMIF('8.ОСС'!$E:$E, $I50, '8.ОСС'!AR:AR)+SUMIF('9.ПИР'!$E:$E, $I50, '9.ПИР'!Z:Z)+SUMIF('10.БКП'!$E:$E, $I50, '10.БКП'!Z:Z)+SUMIF('11.ПЗС'!$E:$E, $I50, '11.ПЗС'!AA:AA))","v":0},{"$f":"IF($I50=\"\", 0, SUMIF('7.СМР'!$E:$E, $I50, '7.СМР'!AA:AA)+SUMIF('8.ОСС'!$E:$E, $I50, '8.ОСС'!AS:AS)+SUMIF('9.ПИР'!$E:$E, $I50, '9.ПИР'!AA:AA)+SUMIF('10.БКП'!$E:$E, $I50, '10.БКП'!AA:AA)+SUMIF('11.ПЗС'!$E:$E, $I50, '11.ПЗС'!AB:AB))","v":0},{"$f":"IF($I50=\"\", 0, SUMIF('7.СМР'!$E:$E, $I50, '7.СМР'!AB:AB)+SUMIF('8.ОСС'!$E:$E, $I50, '8.ОСС'!AT:AT)+SUMIF('9.ПИР'!$E:$E, $I50, '9.ПИР'!AB:AB)+SUMIF('10.БКП'!$E:$E, $I50, '10.БКП'!AB:AB)+SUMIF('11.ПЗС'!$E:$E, $I50, '11.ПЗС'!AC:AC))","v":0},{"$f":"IF($I50=\"\", 0, SUMIF('7.СМР'!$E:$E, $I50, '7.СМР'!AC:AC)+SUMIF('8.ОСС'!$E:$E, $I50, '8.ОСС'!AU:AU)+SUMIF('9.ПИР'!$E:$E, $I50, '9.ПИР'!AC:AC)+SUMIF('10.БКП'!$E:$E, $I50, '10.БКП'!AC:AC)+SUMIF('11.ПЗС'!$E:$E, $I50, '11.ПЗС'!AD:AD))","v":0},{"$f":"IF($I50=\"\", 0, SUMIF('7.СМР'!$E:$E, $I50, '7.СМР'!AD:AD)+SUMIF('8.ОСС'!$E:$E, $I50, '8.ОСС'!AV:AV)+SUMIF('9.ПИР'!$E:$E, $I50, '9.ПИР'!AD:AD)+SUMIF('10.БКП'!$E:$E, $I50, '10.БКП'!AD:AD)+SUMIF('11.ПЗС'!$E:$E, $I50, '11.ПЗС'!AE:AE))","v":0},{"$f":"IF($I50=\"\", 0, SUMIF('7.СМР'!$E:$E, $I50, '7.СМР'!AE:AE)+SUMIF('8.ОСС'!$E:$E, $I50, '8.ОСС'!AW:AW)+SUMIF('9.ПИР'!$E:$E, $I50, '9.ПИР'!AE:AE)+SUMIF('10.БКП'!$E:$E, $I50, '10.БКП'!AE:AE)+SUMIF('11.ПЗС'!$E:$E, $I50, '11.ПЗС'!AF:AF))","v":0},null,1700,0,1700,{"$f":"IF($I50=\"\", \"\", VLOOKUP($I50,objects, '05.РКС'!L$18-'05.РКС'!$B$18+1, 0))","v":"00:00:00"},{"$f":"IF($I50=\"\", \"\", VLOOKUP($I50,objects, '05.РКС'!M$18-'05.РКС'!$B$18+1, 0))","v":"00:00:00"},{"$f":"IF($I50=\"\", \"\", VLOOKUP($I50,objects, '05.РКС'!N$18-'05.РКС'!$B$18+1, 0))","v":"Проектной документацией предусмотрена необходимость ведения авторского надзора"},{"$f":"IF($I50=\"\", \"\", VLOOKUP($I50,objects, '05.РКС'!P$18-'05.РКС'!$B$18+1, 0))","v":0},0]
[null,null,"АО \"Вилюйская ГЭС-3\"","Прочее",0,0,"Прочая основная деятельность","Высокий",{"$f":"IF(ISBLANK('05.РКС'!B52), \"\", '05.РКС'!B52)","v":"2016-4.5."},"ЛКЗП. Авторский надзор. Переход через ручей Сыылага",{"$f":"IF($I51=\"\", 0, SUMIF('7.СМР'!$E:$E, $I51, '7.СМР'!G:G)+SUMIF('8.ОСС'!$E:$E, $I51, '8.ОСС'!Y:Y)+SUMIF('9.ПИР'!$E:$E, $I51, '9.ПИР'!G:G)+SUMIF('10.БКП'!$E:$E, $I51, '10.БКП'!G:G)+SUMIF('11.ПЗС'!$E:$E, $I51, '11.ПЗС'!H:H))","v":500},{"$f":"IF($I51=\"\", 0, SUMIF('7.СМР'!$E:$E, $I51, '7.СМР'!H:H)+SUMIF('8.ОСС'!$E:$E, $I51, '8.ОСС'!Z:Z)+SUMIF('9.ПИР'!$E:$E, $I51, '9.ПИР'!H:H)+SUMIF('10.БКП'!$E:$E, $I51, '10.БКП'!H:H)+SUMIF('11.ПЗС'!$E:$E, $I51, '11.ПЗС'!I:I))","v":0},{"$f":"IF($I51=\"\", 0, SUMIF('7.СМР'!$E:$E, $I51, '7.СМР'!I:I)+SUMIF('8.ОСС'!$E:$E, $I51, '8.ОСС'!AA:AA)+SUMIF('9.ПИР'!$E:$E, $I51, '9.ПИР'!I:I)+SUMIF('10.БКП'!$E:$E, $I51, '10.БКП'!I:I)+SUMIF('11.ПЗС'!$E:$E, $I51, '11.ПЗС'!J:J))","v":0},{"$f":"IF($I51=\"\", 0, SUMIF('7.СМР'!$E:$E, $I51, '7.СМР'!J:J)+SUMIF('8.ОСС'!$E:$E, $I51, '8.ОСС'!AB:AB)+SUMIF('9.ПИР'!$E:$E, $I51, '9.ПИР'!J:J)+SUMIF('10.БКП'!$E:$E, $I51, '10.БКП'!J:J)+SUMIF('11.ПЗС'!$E:$E, $I51, '11.ПЗС'!K:K))","v":300},{"$f":"IF($I51=\"\", 0, SUMIF('7.СМР'!$E:$E, $I51, '7.СМР'!K:K)+SUMIF('8.ОСС'!$E:$E, $I51, '8.ОСС'!AC:AC)+SUMIF('9.ПИР'!$E:$E, $I51, '9.ПИР'!K:K)+SUMIF('10.БКП'!$E:$E, $I51, '10.БКП'!K:K)+SUMIF('11.ПЗС'!$E:$E, $I51, '11.ПЗС'!L:L))","v":200},{"$f":"IF($I51=\"\", 0, SUMIF('7.СМР'!$E:$E, $I51, '7.СМР'!L:L)+SUMIF('8.ОСС'!$E:$E, $I51, '8.ОСС'!AD:AD)+SUMIF('9.ПИР'!$E:$E, $I51, '9.ПИР'!L:L)+SUMIF('10.БКП'!$E:$E, $I51, '10.БКП'!L:L)+SUMIF('11.ПЗС'!$E:$E, $I51, '11.ПЗС'!M:M))","v":0},{"$f":"IF($I51=\"\", 0, SUMIF('7.СМР'!$E:$E, $I51, '7.СМР'!M:M)+SUMIF('8.ОСС'!$E:$E, $I51, '8.ОСС'!AE:AE)+SUMIF('9.ПИР'!$E:$E, $I51, '9.ПИР'!M:M)+SUMIF('10.БКП'!$E:$E, $I51, '10.БКП'!M:M)+SUMIF('11.ПЗС'!$E:$E, $I51, '11.ПЗС'!N:N))","v":0},{"$f":"IF($I51=\"\", 0, SUMIF('7.СМР'!$E:$E, $I51, '7.СМР'!N:N)+SUMIF('8.ОСС'!$E:$E, $I51, '8.ОСС'!AF:AF)+SUMIF('9.ПИР'!$E:$E, $I51, '9.ПИР'!N:N)+SUMIF('10.БКП'!$E:$E, $I51, '10.БКП'!N:N)+SUMIF('11.ПЗС'!$E:$E, $I51, '11.ПЗС'!O:O))","v":0},{"$f":"IF($I51=\"\", 0, SUMIF('7.СМР'!$E:$E, $I51, '7.СМР'!O:O)+SUMIF('8.ОСС'!$E:$E, $I51, '8.ОСС'!AG:AG)+SUMIF('9.ПИР'!$E:$E, $I51, '9.ПИР'!O:O)+SUMIF('10.БКП'!$E:$E, $I51, '10.БКП'!O:O)+SUMIF('11.ПЗС'!$E:$E, $I51, '11.ПЗС'!P:P))","v":0},{"$f":"IF($I51=\"\", 0, SUMIF('7.СМР'!$E:$E, $I51, '7.СМР'!P:P)+SUMIF('8.ОСС'!$E:$E, $I51, '8.ОСС'!AH:AH)+SUMIF('9.ПИР'!$E:$E, $I51, '9.ПИР'!P:P)+SUMIF('10.БКП'!$E:$E, $I51, '10.БКП'!P:P)+SUMIF('11.ПЗС'!$E:$E, $I51, '11.ПЗС'!Q:Q))","v":0},500,0,-500,-1,null,0,0,{"$f":"IF($I51=\"\", 0, SUMIF('7.СМР'!$E:$E, $I51, '7.СМР'!X:X)+SUMIF('8.ОСС'!$E:$E, $I51, '8.ОСС'!AP:AP)+SUMIF('9.ПИР'!$E:$E, $I51, '9.ПИР'!X:X)+SUMIF('10.БКП'!$E:$E, $I51, '10.БКП'!X:X)+SUMIF('11.ПЗС'!$E:$E, $I51, '11.ПЗС'!Y:Y))","v":0},{"$f":"IF($I51=\"\", 0, SUMIF('7.СМР'!$E:$E, $I51, '7.СМР'!Y:Y)+SUMIF('8.ОСС'!$E:$E, $I51, '8.ОСС'!AQ:AQ)+SUMIF('9.ПИР'!$E:$E, $I51, '9.ПИР'!Y:Y)+SUMIF('10.БКП'!$E:$E, $I51, '10.БКП'!Y:Y)+SUMIF('11.ПЗС'!$E:$E, $I51, '11.ПЗС'!Z:Z))","v":0},{"$f":"IF($I51=\"\", 0, SUMIF('7.СМР'!$E:$E, $I51, '7.СМР'!Z:Z)+SUMIF('8.ОСС'!$E:$E, $I51, '8.ОСС'!AR:AR)+SUMIF('9.ПИР'!$E:$E, $I51, '9.ПИР'!Z:Z)+SUMIF('10.БКП'!$E:$E, $I51, '10.БКП'!Z:Z)+SUMIF('11.ПЗС'!$E:$E, $I51, '11.ПЗС'!AA:AA))","v":0},{"$f":"IF($I51=\"\", 0, SUMIF('7.СМР'!$E:$E, $I51, '7.СМР'!AA:AA)+SUMIF('8.ОСС'!$E:$E, $I51, '8.ОСС'!AS:AS)+SUMIF('9.ПИР'!$E:$E, $I51, '9.ПИР'!AA:AA)+SUMIF('10.БКП'!$E:$E, $I51, '10.БКП'!AA:AA)+SUMIF('11.ПЗС'!$E:$E, $I51, '11.ПЗС'!AB:AB))","v":500},{"$f":"IF($I51=\"\", 0, SUMIF('7.СМР'!$E:$E, $I51, '7.СМР'!AB:AB)+SUMIF('8.ОСС'!$E:$E, $I51, '8.ОСС'!AT:AT)+SUMIF('9.ПИР'!$E:$E, $I51, '9.ПИР'!AB:AB)+SUMIF('10.БКП'!$E:$E, $I51, '10.БКП'!AB:AB)+SUMIF('11.ПЗС'!$E:$E, $I51, '11.ПЗС'!AC:AC))","v":0},{"$f":"IF($I51=\"\", 0, SUMIF('7.СМР'!$E:$E, $I51, '7.СМР'!AC:AC)+SUMIF('8.ОСС'!$E:$E, $I51, '8.ОСС'!AU:AU)+SUMIF('9.ПИР'!$E:$E, $I51, '9.ПИР'!AC:AC)+SUMIF('10.БКП'!$E:$E, $I51, '10.БКП'!AC:AC)+SUMIF('11.ПЗС'!$E:$E, $I51, '11.ПЗС'!AD:AD))","v":0},{"$f":"IF($I51=\"\", 0, SUMIF('7.СМР'!$E:$E, $I51, '7.СМР'!AD:AD)+SUMIF('8.ОСС'!$E:$E, $I51, '8.ОСС'!AV:AV)+SUMIF('9.ПИР'!$E:$E, $I51, '9.ПИР'!AD:AD)+SUMIF('10.БКП'!$E:$E, $I51, '10.БКП'!AD:AD)+SUMIF('11.ПЗС'!$E:$E, $I51, '11.ПЗС'!AE:AE))","v":300},{"$f":"IF($I51=\"\", 0, SUMIF('7.СМР'!$E:$E, $I51, '7.СМР'!AE:AE)+SUMIF('8.ОСС'!$E:$E, $I51, '8.ОСС'!AW:AW)+SUMIF('9.ПИР'!$E:$E, $I51, '9.ПИР'!AE:AE)+SUMIF('10.БКП'!$E:$E, $I51, '10.БКП'!AE:AE)+SUMIF('11.ПЗС'!$E:$E, $I51, '11.ПЗС'!AF:AF))","v":200},null,500,0,0,{"$f":"IF($I51=\"\", \"\", VLOOKUP($I51,objects, '05.РКС'!L$18-'05.РКС'!$B$18+1, 0))","v":"00:00:00"},{"$f":"IF($I51=\"\", \"\", VLOOKUP($I51,objects, '05.РКС'!M$18-'05.РКС'!$B$18+1, 0))","v":"00:00:00"},{"$f":"IF($I51=\"\", \"\", VLOOKUP($I51,objects, '05.РКС'!N$18-'05.РКС'!$B$18+1, 0))","v":0},{"$f":"IF($I51=\"\", \"\", VLOOKUP($I51,objects, '05.РКС'!P$18-'05.РКС'!$B$18+1, 0))","v":0},0]
[null,null,"АО \"Вилюйская ГЭС-3\"","Прочее",0,0,"Прочая основная деятельность","Высокий",{"$f":"IF(ISBLANK('05.РКС'!B53), \"\", '05.РКС'!B53)","v":"2016-1.12."},"Здание ГЭС. Авторский надзор здание ГЭС",{"$f":"IF($I52=\"\", 0, SUMIF('7.СМР'!$E:$E, $I52, '7.СМР'!G:G)+SUMIF('8.ОСС'!$E:$E, $I52, '8.ОСС'!Y:Y)+SUMIF('9.ПИР'!$E:$E, $I52, '9.ПИР'!G:G)+SUMIF('10.БКП'!$E:$E, $I52, '10.БКП'!G:G)+SUMIF('11.ПЗС'!$E:$E, $I52, '11.ПЗС'!H:H))","v":650},{"$f":"IF($I52=\"\", 0, SUMIF('7.СМР'!$E:$E, $I52, '7.СМР'!H:H)+SUMIF('8.ОСС'!$E:$E, $I52, '8.ОСС'!Z:Z)+SUMIF('9.ПИР'!$E:$E, $I52, '9.ПИР'!H:H)+SUMIF('10.БКП'!$E:$E, $I52, '10.БКП'!H:H)+SUMIF('11.ПЗС'!$E:$E, $I52, '11.ПЗС'!I:I))","v":0},{"$f":"IF($I52=\"\", 0, SUMIF('7.СМР'!$E:$E, $I52, '7.СМР'!I:I)+SUMIF('8.ОСС'!$E:$E, $I52, '8.ОСС'!AA:AA)+SUMIF('9.ПИР'!$E:$E, $I52, '9.ПИР'!I:I)+SUMIF('10.БКП'!$E:$E, $I52, '10.БКП'!I:I)+SUMIF('11.ПЗС'!$E:$E, $I52, '11.ПЗС'!J:J))","v":0},{"$f":"IF($I52=\"\", 0, SUMIF('7.СМР'!$E:$E, $I52, '7.СМР'!J:J)+SUMIF('8.ОСС'!$E:$E, $I52, '8.ОСС'!AB:AB)+SUMIF('9.ПИР'!$E:$E, $I52, '9.ПИР'!J:J)+SUMIF('10.БКП'!$E:$E, $I52, '10.БКП'!J:J)+SUMIF('11.ПЗС'!$E:$E, $I52, '11.ПЗС'!K:K))","v":325},{"$f":"IF($I52=\"\", 0, SUMIF('7.СМР'!$E:$E, $I52, '7.СМР'!K:K)+SUMIF('8.ОСС'!$E:$E, $I52, '8.ОСС'!AC:AC)+SUMIF('9.ПИР'!$E:$E, $I52, '9.ПИР'!K:K)+SUMIF('10.БКП'!$E:$E, $I52, '10.БКП'!K:K)+SUMIF('11.ПЗС'!$E:$E, $I52, '11.ПЗС'!L:L))","v":325},{"$f":"IF($I52=\"\", 0, SUMIF('7.СМР'!$E:$E, $I52, '7.СМР'!L:L)+SUMIF('8.ОСС'!$E:$E, $I52, '8.ОСС'!AD:AD)+SUMIF('9.ПИР'!$E:$E, $I52, '9.ПИР'!L:L)+SUMIF('10.БКП'!$E:$E, $I52, '10.БКП'!L:L)+SUMIF('11.ПЗС'!$E:$E, $I52, '11.ПЗС'!M:M))","v":650},{"$f":"IF($I52=\"\", 0, SUMIF('7.СМР'!$E:$E, $I52, '7.СМР'!M:M)+SUMIF('8.ОСС'!$E:$E, $I52, '8.ОСС'!AE:AE)+SUMIF('9.ПИР'!$E:$E, $I52, '9.ПИР'!M:M)+SUMIF('10.БКП'!$E:$E, $I52, '10.БКП'!M:M)+SUMIF('11.ПЗС'!$E:$E, $I52, '11.ПЗС'!N:N))","v":0},{"$f":"IF($I52=\"\", 0, SUMIF('7.СМР'!$E:$E, $I52, '7.СМР'!N:N)+SUMIF('8.ОСС'!$E:$E, $I52, '8.ОСС'!AF:AF)+SUMIF('9.ПИР'!$E:$E, $I52, '9.ПИР'!N:N)+SUMIF('10.БКП'!$E:$E, $I52, '10.БКП'!N:N)+SUMIF('11.ПЗС'!$E:$E, $I52, '11.ПЗС'!O:O))","v":0},{"$f":"IF($I52=\"\", 0, SUMIF('7.СМР'!$E:$E, $I52, '7.СМР'!O:O)+SUMIF('8.ОСС'!$E:$E, $I52, '8.ОСС'!AG:AG)+SUMIF('9.ПИР'!$E:$E, $I52, '9.ПИР'!O:O)+SUMIF('10.БКП'!$E:$E, $I52, '10.БКП'!O:O)+SUMIF('11.ПЗС'!$E:$E, $I52, '11.ПЗС'!P:P))","v":325},{"$f":"IF($I52=\"\", 0, SUMIF('7.СМР'!$E:$E, $I52, '7.СМР'!P:P)+SUMIF('8.ОСС'!$E:$E, $I52, '8.ОСС'!AH:AH)+SUMIF('9.ПИР'!$E:$E, $I52, '9.ПИР'!P:P)+SUMIF('10.БКП'!$E:$E, $I52, '10.БКП'!P:P)+SUMIF('11.ПЗС'!$E:$E, $I52, '11.ПЗС'!Q:Q))","v":325},650,650,0,0,null,0,0,{"$f":"IF($I52=\"\", 0, SUMIF('7.СМР'!$E:$E, $I52, '7.СМР'!X:X)+SUMIF('8.ОСС'!$E:$E, $I52, '8.ОСС'!AP:AP)+SUMIF('9.ПИР'!$E:$E, $I52, '9.ПИР'!X:X)+SUMIF('10.БКП'!$E:$E, $I52, '10.БКП'!X:X)+SUMIF('11.ПЗС'!$E:$E, $I52, '11.ПЗС'!Y:Y))","v":0},{"$f":"IF($I52=\"\", 0, SUMIF('7.СМР'!$E:$E, $I52, '7.СМР'!Y:Y)+SUMIF('8.ОСС'!$E:$E, $I52, '8.ОСС'!AQ:AQ)+SUMIF('9.ПИР'!$E:$E, $I52, '9.ПИР'!Y:Y)+SUMIF('10.БКП'!$E:$E, $I52, '10.БКП'!Y:Y)+SUMIF('11.ПЗС'!$E:$E, $I52, '11.ПЗС'!Z:Z))","v":0},{"$f":"IF($I52=\"\", 0, SUMIF('7.СМР'!$E:$E, $I52, '7.СМР'!Z:Z)+SUMIF('8.ОСС'!$E:$E, $I52, '8.ОСС'!AR:AR)+SUMIF('9.ПИР'!$E:$E, $I52, '9.ПИР'!Z:Z)+SUMIF('10.БКП'!$E:$E, $I52, '10.БКП'!Z:Z)+SUMIF('11.ПЗС'!$E:$E, $I52, '11.ПЗС'!AA:AA))","v":0},{"$f":"IF($I52=\"\", 0, SUMIF('7.СМР'!$E:$E, $I52, '7.СМР'!AA:AA)+SUMIF('8.ОСС'!$E:$E, $I52, '8.ОСС'!AS:AS)+SUMIF('9.ПИР'!$E:$E, $I52, '9.ПИР'!AA:AA)+SUMIF('10.БКП'!$E:$E, $I52, '10.БКП'!AA:AA)+SUMIF('11.ПЗС'!$E:$E, $I52, '11.ПЗС'!AB:AB))","v":650},{"$f":"IF($I52=\"\", 0, SUMIF('7.СМР'!$E:$E, $I52, '7.СМР'!AB:AB)+SUMIF('8.ОСС'!$E:$E, $I52, '8.ОСС'!AT:AT)+SUMIF('9.ПИР'!$E:$E, $I52, '9.ПИР'!AB:AB)+SUMIF('10.БКП'!$E:$E, $I52, '10.БКП'!AB:AB)+SUMIF('11.ПЗС'!$E:$E, $I52, '11.ПЗС'!AC:AC))","v":0},{"$f":"IF($I52=\"\", 0, SUMIF('7.СМР'!$E:$E, $I52, '7.СМР'!AC:AC)+SUMIF('8.ОСС'!$E:$E, $I52, '8.ОСС'!AU:AU)+SUMIF('9.ПИР'!$E:$E, $I52, '9.ПИР'!AC:AC)+SUMIF('10.БКП'!$E:$E, $I52, '10.БКП'!AC:AC)+SUMIF('11.ПЗС'!$E:$E, $I52, '11.ПЗС'!AD:AD))","v":0},{"$f":"IF($I52=\"\", 0, SUMIF('7.СМР'!$E:$E, $I52, '7.СМР'!AD:AD)+SUMIF('8.ОСС'!$E:$E, $I52, '8.ОСС'!AV:AV)+SUMIF('9.ПИР'!$E:$E, $I52, '9.ПИР'!AD:AD)+SUMIF('10.БКП'!$E:$E, $I52, '10.БКП'!AD:AD)+SUMIF('11.ПЗС'!$E:$E, $I52, '11.ПЗС'!AE:AE))","v":325},{"$f":"IF($I52=\"\", 0, SUMIF('7.СМР'!$E:$E, $I52, '7.СМР'!AE:AE)+SUMIF('8.ОСС'!$E:$E, $I52, '8.ОСС'!AW:AW)+SUMIF('9.ПИР'!$E:$E, $I52, '9.ПИР'!AE:AE)+SUMIF('10.БКП'!$E:$E, $I52, '10.БКП'!AE:AE)+SUMIF('11.ПЗС'!$E:$E, $I52, '11.ПЗС'!AF:AF))","v":325},null,650,0,0,{"$f":"IF($I52=\"\", \"\", VLOOKUP($I52,objects, '05.РКС'!L$18-'05.РКС'!$B$18+1, 0))","v":"00:00:00"},{"$f":"IF($I52=\"\", \"\", VLOOKUP($I52,objects, '05.РКС'!M$18-'05.РКС'!$B$18+1, 0))","v":"00:00:00"},{"$f":"IF($I52=\"\", \"\", VLOOKUP($I52,objects, '05.РКС'!N$18-'05.РКС'!$B$18+1, 0))","v":"Проектной документацией предусмотрена необходимость ведения авторского надзора"},{"$f":"IF($I52=\"\", \"\", VLOOKUP($I52,objects, '05.РКС'!P$18-'05.РКС'!$B$18+1, 0))","v":0},0]
[null,null,"АО \"Вилюйская ГЭС-3\"","Прочее",0,0,"Прочая основная деятельность","Высокий",{"$f":"IF(ISBLANK('05.РКС'!B54), \"\", '05.РКС'!B54)","v":"2016-8"},"Содержание Дирекции",{"$f":"IF($I53=\"\", 0, SUMIF('7.СМР'!$E:$E, $I53, '7.СМР'!G:G)+SUMIF('8.ОСС'!$E:$E, $I53, '8.ОСС'!Y:Y)+SUMIF('9.ПИР'!$E:$E, $I53, '9.ПИР'!G:G)+SUMIF('10.БКП'!$E:$E, $I53, '10.БКП'!G:G)+SUMIF('11.ПЗС'!$E:$E, $I53, '11.ПЗС'!H:H))","v":10132.5},{"$f":"IF($I53=\"\", 0, SUMIF('7.СМР'!$E:$E, $I53, '7.СМР'!H:H)+SUMIF('8.ОСС'!$E:$E, $I53, '8.ОСС'!Z:Z)+SUMIF('9.ПИР'!$E:$E, $I53, '9.ПИР'!H:H)+SUMIF('10.БКП'!$E:$E, $I53, '10.БКП'!H:H)+SUMIF('11.ПЗС'!$E:$E, $I53, '11.ПЗС'!I:I))","v":2933},{"$f":"IF($I53=\"\", 0, SUMIF('7.СМР'!$E:$E, $I53, '7.СМР'!I:I)+SUMIF('8.ОСС'!$E:$E, $I53, '8.ОСС'!AA:AA)+SUMIF('9.ПИР'!$E:$E, $I53, '9.ПИР'!I:I)+SUMIF('10.БКП'!$E:$E, $I53, '10.БКП'!I:I)+SUMIF('11.ПЗС'!$E:$E, $I53, '11.ПЗС'!J:J))","v":2657.5},{"$f":"IF($I53=\"\", 0, SUMIF('7.СМР'!$E:$E, $I53, '7.СМР'!J:J)+SUMIF('8.ОСС'!$E:$E, $I53, '8.ОСС'!AB:AB)+SUMIF('9.ПИР'!$E:$E, $I53, '9.ПИР'!J:J)+SUMIF('10.БКП'!$E:$E, $I53, '10.БКП'!J:J)+SUMIF('11.ПЗС'!$E:$E, $I53, '11.ПЗС'!K:K))","v":2039},{"$f":"IF($I53=\"\", 0, SUMIF('7.СМР'!$E:$E, $I53, '7.СМР'!K:K)+SUMIF('8.ОСС'!$E:$E, $I53, '8.ОСС'!AC:AC)+SUMIF('9.ПИР'!$E:$E, $I53, '9.ПИР'!K:K)+SUMIF('10.БКП'!$E:$E, $I53, '10.БКП'!K:K)+SUMIF('11.ПЗС'!$E:$E, $I53, '11.ПЗС'!L:L))","v":2503},{"$f":"IF($I53=\"\", 0, SUMIF('7.СМР'!$E:$E, $I53, '7.СМР'!L:L)+SUMIF('8.ОСС'!$E:$E, $I53, '8.ОСС'!AD:AD)+SUMIF('9.ПИР'!$E:$E, $I53, '9.ПИР'!L:L)+SUMIF('10.БКП'!$E:$E, $I53, '10.БКП'!L:L)+SUMIF('11.ПЗС'!$E:$E, $I53, '11.ПЗС'!M:M))","v":10563.514929999999},{"$f":"IF($I53=\"\", 0, SUMIF('7.СМР'!$E:$E, $I53, '7.СМР'!M:M)+SUMIF('8.ОСС'!$E:$E, $I53, '8.ОСС'!AE:AE)+SUMIF('9.ПИР'!$E:$E, $I53, '9.ПИР'!M:M)+SUMIF('10.БКП'!$E:$E, $I53, '10.БКП'!M:M)+SUMIF('11.ПЗС'!$E:$E, $I53, '11.ПЗС'!N:N))","v":2932.81},{"$f":"IF($I53=\"\", 0, SUMIF('7.СМР'!$E:$E, $I53, '7.СМР'!N:N)+SUMIF('8.ОСС'!$E:$E, $I53, '8.ОСС'!AF:AF)+SUMIF('9.ПИР'!$E:$E, $I53, '9.ПИР'!N:N)+SUMIF('10.БКП'!$E:$E, $I53, '10.БКП'!N:N)+SUMIF('11.ПЗС'!$E:$E, $I53, '11.ПЗС'!O:O))","v":2658.1839300000001},{"$f":"IF($I53=\"\", 0, SUMIF('7.СМР'!$E:$E, $I53, '7.СМР'!O:O)+SUMIF('8.ОСС'!$E:$E, $I53, '8.ОСС'!AG:AG)+SUMIF('9.ПИР'!$E:$E, $I53, '9.ПИР'!O:O)+SUMIF('10.БКП'!$E:$E, $I53, '10.БКП'!O:O)+SUMIF('11.ПЗС'!$E:$E, $I53, '11.ПЗС'!P:P))","v":2020.0509999999999},{"$f":"IF($I53=\"\", 0, SUMIF('7.СМР'!$E:$E, $I53, '7.СМР'!P:P)+SUMIF('8.ОСС'!$E:$E, $I53, '8.ОСС'!AH:AH)+SUMIF('9.ПИР'!$E:$E, $I53, '9.ПИР'!P:P)+SUMIF('10.БКП'!$E:$E, $I53, '10.БКП'!P:P)+SUMIF('11.ПЗС'!$E:$E, $I53, '11.ПЗС'!Q:Q))","v":2952.47},10132.5,10563.514929999999,431.01492999999937,4.2537866271897297E-2,null,0.43400000000110595,4.2832469775584108E-5,{"$f":"IF($I53=\"\", 0, SUMIF('7.СМР'!$E:$E, $I53, '7.СМР'!X:X)+SUMIF('8.ОСС'!$E:$E, $I53, '8.ОСС'!AP:AP)+SUMIF('9.ПИР'!$E:$E, $I53, '9.ПИР'!X:X)+SUMIF('10.БКП'!$E:$E, $I53, '10.БКП'!X:X)+SUMIF('11.ПЗС'!$E:$E, $I53, '11.ПЗС'!Y:Y))","v":0},{"$f":"IF($I53=\"\", 0, SUMIF('7.СМР'!$E:$E, $I53, '7.СМР'!Y:Y)+SUMIF('8.ОСС'!$E:$E, $I53, '8.ОСС'!AQ:AQ)+SUMIF('9.ПИР'!$E:$E, $I53, '9.ПИР'!Y:Y)+SUMIF('10.БКП'!$E:$E, $I53, '10.БКП'!Y:Y)+SUMIF('11.ПЗС'!$E:$E, $I53, '11.ПЗС'!Z:Z))","v":0},{"$f":"IF($I53=\"\", 0, SUMIF('7.СМР'!$E:$E, $I53, '7.СМР'!Z:Z)+SUMIF('8.ОСС'!$E:$E, $I53, '8.ОСС'!AR:AR)+SUMIF('9.ПИР'!$E:$E, $I53, '9.ПИР'!Z:Z)+SUMIF('10.БКП'!$E:$E, $I53, '10.БКП'!Z:Z)+SUMIF('11.ПЗС'!$E:$E, $I53, '11.ПЗС'!AA:AA))","v":0.43400000000110595},{"$f":"IF($I53=\"\", 0, SUMIF('7.СМР'!$E:$E, $I53, '7.СМР'!AA:AA)+SUMIF('8.ОСС'!$E:$E, $I53, '8.ОСС'!AS:AS)+SUMIF('9.ПИР'!$E:$E, $I53, '9.ПИР'!AA:AA)+SUMIF('10.БКП'!$E:$E, $I53, '10.БКП'!AA:AA)+SUMIF('11.ПЗС'!$E:$E, $I53, '11.ПЗС'!AB:AB))","v":10132.934000000001},{"$f":"IF($I53=\"\", 0, SUMIF('7.СМР'!$E:$E, $I53, '7.СМР'!AB:AB)+SUMIF('8.ОСС'!$E:$E, $I53, '8.ОСС'!AT:AT)+SUMIF('9.ПИР'!$E:$E, $I53, '9.ПИР'!AB:AB)+SUMIF('10.БКП'!$E:$E, $I53, '10.БКП'!AB:AB)+SUMIF('11.ПЗС'!$E:$E, $I53, '11.ПЗС'!AC:AC))","v":2932.81},{"$f":"IF($I53=\"\", 0, SUMIF('7.СМР'!$E:$E, $I53, '7.СМР'!AC:AC)+SUMIF('8.ОСС'!$E:$E, $I53, '8.ОСС'!AU:AU)+SUMIF('9.ПИР'!$E:$E, $I53, '9.ПИР'!AC:AC)+SUMIF('10.БКП'!$E:$E, $I53, '10.БКП'!AC:AC)+SUMIF('11.ПЗС'!$E:$E, $I53, '11.ПЗС'!AD:AD))","v":2658.1840000000002},{"$f":"IF($I53=\"\", 0, SUMIF('7.СМР'!$E:$E, $I53, '7.СМР'!AD:AD)+SUMIF('8.ОСС'!$E:$E, $I53, '8.ОСС'!AV:AV)+SUMIF('9.ПИР'!$E:$E, $I53, '9.ПИР'!AD:AD)+SUMIF('10.БКП'!$E:$E, $I53, '10.БКП'!AD:AD)+SUMIF('11.ПЗС'!$E:$E, $I53, '11.ПЗС'!AE:AE))","v":2038.79},{"$f":"IF($I53=\"\", 0, SUMIF('7.СМР'!$E:$E, $I53, '7.СМР'!AE:AE)+SUMIF('8.ОСС'!$E:$E, $I53, '8.ОСС'!AW:AW)+SUMIF('9.ПИР'!$E:$E, $I53, '9.ПИР'!AE:AE)+SUMIF('10.БКП'!$E:$E, $I53, '10.БКП'!AE:AE)+SUMIF('11.ПЗС'!$E:$E, $I53, '11.ПЗС'!AF:AF))","v":2503.15},null,11782.46,0,1649.9599999999991,{"$f":"IF($I53=\"\", \"\", VLOOKUP($I53,objects, '05.РКС'!L$18-'05.РКС'!$B$18+1, 0))","v":"00:00:00"},{"$f":"IF($I53=\"\", \"\", VLOOKUP($I53,objects, '05.РКС'!M$18-'05.РКС'!$B$18+1, 0))","v":"00:00:00"},{"$f":"IF($I53=\"\", \"\", VLOOKUP($I53,objects, '05.РКС'!N$18-'05.РКС'!$B$18+1, 0))","v":"Расчет "},{"$f":"IF($I53=\"\", \"\", VLOOKUP($I53,objects, '05.РКС'!P$18-'05.РКС'!$B$18+1, 0))","v":0},0]
[null,null,"АО \"Вилюйская ГЭС-3\"","Прочее",0,0,"Прочая основная деятельность","Высокий",{"$f":"IF(ISBLANK('05.РКС'!B55), \"\", '05.РКС'!B55)","v":"2016-7.6"},"Прочие затраты.ПКЗП.Сыылага.Аренда лесного участка",{"$f":"IF($I54=\"\", 0, SUMIF('7.СМР'!$E:$E, $I54, '7.СМР'!G:G)+SUMIF('8.ОСС'!$E:$E, $I54, '8.ОСС'!Y:Y)+SUMIF('9.ПИР'!$E:$E, $I54, '9.ПИР'!G:G)+SUMIF('10.БКП'!$E:$E, $I54, '10.БКП'!G:G)+SUMIF('11.ПЗС'!$E:$E, $I54, '11.ПЗС'!H:H))","v":30.641999999999999},{"$f":"IF($I54=\"\", 0, SUMIF('7.СМР'!$E:$E, $I54, '7.СМР'!H:H)+SUMIF('8.ОСС'!$E:$E, $I54, '8.ОСС'!Z:Z)+SUMIF('9.ПИР'!$E:$E, $I54, '9.ПИР'!H:H)+SUMIF('10.БКП'!$E:$E, $I54, '10.БКП'!H:H)+SUMIF('11.ПЗС'!$E:$E, $I54, '11.ПЗС'!I:I))","v":0},{"$f":"IF($I54=\"\", 0, SUMIF('7.СМР'!$E:$E, $I54, '7.СМР'!I:I)+SUMIF('8.ОСС'!$E:$E, $I54, '8.ОСС'!AA:AA)+SUMIF('9.ПИР'!$E:$E, $I54, '9.ПИР'!I:I)+SUMIF('10.БКП'!$E:$E, $I54, '10.БКП'!I:I)+SUMIF('11.ПЗС'!$E:$E, $I54, '11.ПЗС'!J:J))","v":0},{"$f":"IF($I54=\"\", 0, SUMIF('7.СМР'!$E:$E, $I54, '7.СМР'!J:J)+SUMIF('8.ОСС'!$E:$E, $I54, '8.ОСС'!AB:AB)+SUMIF('9.ПИР'!$E:$E, $I54, '9.ПИР'!J:J)+SUMIF('10.БКП'!$E:$E, $I54, '10.БКП'!J:J)+SUMIF('11.ПЗС'!$E:$E, $I54, '11.ПЗС'!K:K))","v":0},{"$f":"IF($I54=\"\", 0, SUMIF('7.СМР'!$E:$E, $I54, '7.СМР'!K:K)+SUMIF('8.ОСС'!$E:$E, $I54, '8.ОСС'!AC:AC)+SUMIF('9.ПИР'!$E:$E, $I54, '9.ПИР'!K:K)+SUMIF('10.БКП'!$E:$E, $I54, '10.БКП'!K:K)+SUMIF('11.ПЗС'!$E:$E, $I54, '11.ПЗС'!L:L))","v":30.641999999999999},{"$f":"IF($I54=\"\", 0, SUMIF('7.СМР'!$E:$E, $I54, '7.СМР'!L:L)+SUMIF('8.ОСС'!$E:$E, $I54, '8.ОСС'!AD:AD)+SUMIF('9.ПИР'!$E:$E, $I54, '9.ПИР'!L:L)+SUMIF('10.БКП'!$E:$E, $I54, '10.БКП'!L:L)+SUMIF('11.ПЗС'!$E:$E, $I54, '11.ПЗС'!M:M))","v":30.641999999999999},{"$f":"IF($I54=\"\", 0, SUMIF('7.СМР'!$E:$E, $I54, '7.СМР'!M:M)+SUMIF('8.ОСС'!$E:$E, $I54, '8.ОСС'!AE:AE)+SUMIF('9.ПИР'!$E:$E, $I54, '9.ПИР'!M:M)+SUMIF('10.БКП'!$E:$E, $I54, '10.БКП'!M:M)+SUMIF('11.ПЗС'!$E:$E, $I54, '11.ПЗС'!N:N))","v":0},{"$f":"IF($I54=\"\", 0, SUMIF('7.СМР'!$E:$E, $I54, '7.СМР'!N:N)+SUMIF('8.ОСС'!$E:$E, $I54, '8.ОСС'!AF:AF)+SUMIF('9.ПИР'!$E:$E, $I54, '9.ПИР'!N:N)+SUMIF('10.БКП'!$E:$E, $I54, '10.БКП'!N:N)+SUMIF('11.ПЗС'!$E:$E, $I54, '11.ПЗС'!O:O))","v":0},{"$f":"IF($I54=\"\", 0, SUMIF('7.СМР'!$E:$E, $I54, '7.СМР'!O:O)+SUMIF('8.ОСС'!$E:$E, $I54, '8.ОСС'!AG:AG)+SUMIF('9.ПИР'!$E:$E, $I54, '9.ПИР'!O:O)+SUMIF('10.БКП'!$E:$E, $I54, '10.БКП'!O:O)+SUMIF('11.ПЗС'!$E:$E, $I54, '11.ПЗС'!P:P))","v":0},{"$f":"IF($I54=\"\", 0, SUMIF('7.СМР'!$E:$E, $I54, '7.СМР'!P:P)+SUMIF('8.ОСС'!$E:$E, $I54, '8.ОСС'!AH:AH)+SUMIF('9.ПИР'!$E:$E, $I54, '9.ПИР'!P:P)+SUMIF('10.БКП'!$E:$E, $I54, '10.БКП'!P:P)+SUMIF('11.ПЗС'!$E:$E, $I54, '11.ПЗС'!Q:Q))","v":30.641999999999999},30.641999999999999,30.641999999999999,0,0,null,0,0,{"$f":"IF($I54=\"\", 0, SUMIF('7.СМР'!$E:$E, $I54, '7.СМР'!X:X)+SUMIF('8.ОСС'!$E:$E, $I54, '8.ОСС'!AP:AP)+SUMIF('9.ПИР'!$E:$E, $I54, '9.ПИР'!X:X)+SUMIF('10.БКП'!$E:$E, $I54, '10.БКП'!X:X)+SUMIF('11.ПЗС'!$E:$E, $I54, '11.ПЗС'!Y:Y))","v":0},{"$f":"IF($I54=\"\", 0, SUMIF('7.СМР'!$E:$E, $I54, '7.СМР'!Y:Y)+SUMIF('8.ОСС'!$E:$E, $I54, '8.ОСС'!AQ:AQ)+SUMIF('9.ПИР'!$E:$E, $I54, '9.ПИР'!Y:Y)+SUMIF('10.БКП'!$E:$E, $I54, '10.БКП'!Y:Y)+SUMIF('11.ПЗС'!$E:$E, $I54, '11.ПЗС'!Z:Z))","v":0},{"$f":"IF($I54=\"\", 0, SUMIF('7.СМР'!$E:$E, $I54, '7.СМР'!Z:Z)+SUMIF('8.ОСС'!$E:$E, $I54, '8.ОСС'!AR:AR)+SUMIF('9.ПИР'!$E:$E, $I54, '9.ПИР'!Z:Z)+SUMIF('10.БКП'!$E:$E, $I54, '10.БКП'!Z:Z)+SUMIF('11.ПЗС'!$E:$E, $I54, '11.ПЗС'!AA:AA))","v":0},{"$f":"IF($I54=\"\", 0, SUMIF('7.СМР'!$E:$E, $I54, '7.СМР'!AA:AA)+SUMIF('8.ОСС'!$E:$E, $I54, '8.ОСС'!AS:AS)+SUMIF('9.ПИР'!$E:$E, $I54, '9.ПИР'!AA:AA)+SUMIF('10.БКП'!$E:$E, $I54, '10.БКП'!AA:AA)+SUMIF('11.ПЗС'!$E:$E, $I54, '11.ПЗС'!AB:AB))","v":30.641999999999999},{"$f":"IF($I54=\"\", 0, SUMIF('7.СМР'!$E:$E, $I54, '7.СМР'!AB:AB)+SUMIF('8.ОСС'!$E:$E, $I54, '8.ОСС'!AT:AT)+SUMIF('9.ПИР'!$E:$E, $I54, '9.ПИР'!AB:AB)+SUMIF('10.БКП'!$E:$E, $I54, '10.БКП'!AB:AB)+SUMIF('11.ПЗС'!$E:$E, $I54, '11.ПЗС'!AC:AC))","v":0},{"$f":"IF($I54=\"\", 0, SUMIF('7.СМР'!$E:$E, $I54, '7.СМР'!AC:AC)+SUMIF('8.ОСС'!$E:$E, $I54, '8.ОСС'!AU:AU)+SUMIF('9.ПИР'!$E:$E, $I54, '9.ПИР'!AC:AC)+SUMIF('10.БКП'!$E:$E, $I54, '10.БКП'!AC:AC)+SUMIF('11.ПЗС'!$E:$E, $I54, '11.ПЗС'!AD:AD))","v":0},{"$f":"IF($I54=\"\", 0, SUMIF('7.СМР'!$E:$E, $I54, '7.СМР'!AD:AD)+SUMIF('8.ОСС'!$E:$E, $I54, '8.ОСС'!AV:AV)+SUMIF('9.ПИР'!$E:$E, $I54, '9.ПИР'!AD:AD)+SUMIF('10.БКП'!$E:$E, $I54, '10.БКП'!AD:AD)+SUMIF('11.ПЗС'!$E:$E, $I54, '11.ПЗС'!AE:AE))","v":0},{"$f":"IF($I54=\"\", 0, SUMIF('7.СМР'!$E:$E, $I54, '7.СМР'!AE:AE)+SUMIF('8.ОСС'!$E:$E, $I54, '8.ОСС'!AW:AW)+SUMIF('9.ПИР'!$E:$E, $I54, '9.ПИР'!AE:AE)+SUMIF('10.БКП'!$E:$E, $I54, '10.БКП'!AE:AE)+SUMIF('11.ПЗС'!$E:$E, $I54, '11.ПЗС'!AF:AF))","v":30.641999999999999},null,30.641999999999999,0,0,{"$f":"IF($I54=\"\", \"\", VLOOKUP($I54,objects, '05.РКС'!L$18-'05.РКС'!$B$18+1, 0))","v":"00:00:00"},{"$f":"IF($I54=\"\", \"\", VLOOKUP($I54,objects, '05.РКС'!M$18-'05.РКС'!$B$18+1, 0))","v":"00:00:00"},{"$f":"IF($I54=\"\", \"\", VLOOKUP($I54,objects, '05.РКС'!N$18-'05.РКС'!$B$18+1, 0))","v":"Договора аренды лесного участка"},{"$f":"IF($I54=\"\", \"\", VLOOKUP($I54,objects, '05.РКС'!P$18-'05.РКС'!$B$18+1, 0))","v":0},0]
[null,null,"","","","","","",{"$f":"IF(ISBLANK('05.РКС'!B56), \"\", '05.РКС'!B56)","v":""},"",{"$f":"IF($I55=\"\", 0, SUMIF('7.СМР'!$E:$E, $I55, '7.СМР'!G:G)+SUMIF('8.ОСС'!$E:$E, $I55, '8.ОСС'!Y:Y)+SUMIF('9.ПИР'!$E:$E, $I55, '9.ПИР'!G:G)+SUMIF('10.БКП'!$E:$E, $I55, '10.БКП'!G:G)+SUMIF('11.ПЗС'!$E:$E, $I55, '11.ПЗС'!H:H))","v":0},{"$f":"IF($I55=\"\", 0, SUMIF('7.СМР'!$E:$E, $I55, '7.СМР'!H:H)+SUMIF('8.ОСС'!$E:$E, $I55, '8.ОСС'!Z:Z)+SUMIF('9.ПИР'!$E:$E, $I55, '9.ПИР'!H:H)+SUMIF('10.БКП'!$E:$E, $I55, '10.БКП'!H:H)+SUMIF('11.ПЗС'!$E:$E, $I55, '11.ПЗС'!I:I))","v":0},{"$f":"IF($I55=\"\", 0, SUMIF('7.СМР'!$E:$E, $I55, '7.СМР'!I:I)+SUMIF('8.ОСС'!$E:$E, $I55, '8.ОСС'!AA:AA)+SUMIF('9.ПИР'!$E:$E, $I55, '9.ПИР'!I:I)+SUMIF('10.БКП'!$E:$E, $I55, '10.БКП'!I:I)+SUMIF('11.ПЗС'!$E:$E, $I55, '11.ПЗС'!J:J))","v":0},{"$f":"IF($I55=\"\", 0, SUMIF('7.СМР'!$E:$E, $I55, '7.СМР'!J:J)+SUMIF('8.ОСС'!$E:$E, $I55, '8.ОСС'!AB:AB)+SUMIF('9.ПИР'!$E:$E, $I55, '9.ПИР'!J:J)+SUMIF('10.БКП'!$E:$E, $I55, '10.БКП'!J:J)+SUMIF('11.ПЗС'!$E:$E, $I55, '11.ПЗС'!K:K))","v":0},{"$f":"IF($I55=\"\", 0, SUMIF('7.СМР'!$E:$E, $I55, '7.СМР'!K:K)+SUMIF('8.ОСС'!$E:$E, $I55, '8.ОСС'!AC:AC)+SUMIF('9.ПИР'!$E:$E, $I55, '9.ПИР'!K:K)+SUMIF('10.БКП'!$E:$E, $I55, '10.БКП'!K:K)+SUMIF('11.ПЗС'!$E:$E, $I55, '11.ПЗС'!L:L))","v":0},{"$f":"IF($I55=\"\", 0, SUMIF('7.СМР'!$E:$E, $I55, '7.СМР'!L:L)+SUMIF('8.ОСС'!$E:$E, $I55, '8.ОСС'!AD:AD)+SUMIF('9.ПИР'!$E:$E, $I55, '9.ПИР'!L:L)+SUMIF('10.БКП'!$E:$E, $I55, '10.БКП'!L:L)+SUMIF('11.ПЗС'!$E:$E, $I55, '11.ПЗС'!M:M))","v":0},{"$f":"IF($I55=\"\", 0, SUMIF('7.СМР'!$E:$E, $I55, '7.СМР'!M:M)+SUMIF('8.ОСС'!$E:$E, $I55, '8.ОСС'!AE:AE)+SUMIF('9.ПИР'!$E:$E, $I55, '9.ПИР'!M:M)+SUMIF('10.БКП'!$E:$E, $I55, '10.БКП'!M:M)+SUMIF('11.ПЗС'!$E:$E, $I55, '11.ПЗС'!N:N))","v":0},{"$f":"IF($I55=\"\", 0, SUMIF('7.СМР'!$E:$E, $I55, '7.СМР'!N:N)+SUMIF('8.ОСС'!$E:$E, $I55, '8.ОСС'!AF:AF)+SUMIF('9.ПИР'!$E:$E, $I55, '9.ПИР'!N:N)+SUMIF('10.БКП'!$E:$E, $I55, '10.БКП'!N:N)+SUMIF('11.ПЗС'!$E:$E, $I55, '11.ПЗС'!O:O))","v":0},{"$f":"IF($I55=\"\", 0, SUMIF('7.СМР'!$E:$E, $I55, '7.СМР'!O:O)+SUMIF('8.ОСС'!$E:$E, $I55, '8.ОСС'!AG:AG)+SUMIF('9.ПИР'!$E:$E, $I55, '9.ПИР'!O:O)+SUMIF('10.БКП'!$E:$E, $I55, '10.БКП'!O:O)+SUMIF('11.ПЗС'!$E:$E, $I55, '11.ПЗС'!P:P))","v":0},{"$f":"IF($I55=\"\", 0, SUMIF('7.СМР'!$E:$E, $I55, '7.СМР'!P:P)+SUMIF('8.ОСС'!$E:$E, $I55, '8.ОСС'!AH:AH)+SUMIF('9.ПИР'!$E:$E, $I55, '9.ПИР'!P:P)+SUMIF('10.БКП'!$E:$E, $I55, '10.БКП'!P:P)+SUMIF('11.ПЗС'!$E:$E, $I55, '11.ПЗС'!Q:Q))","v":0},0,0,0,0,null,0,0,{"$f":"IF($I55=\"\", 0, SUMIF('7.СМР'!$E:$E, $I55, '7.СМР'!X:X)+SUMIF('8.ОСС'!$E:$E, $I55, '8.ОСС'!AP:AP)+SUMIF('9.ПИР'!$E:$E, $I55, '9.ПИР'!X:X)+SUMIF('10.БКП'!$E:$E, $I55, '10.БКП'!X:X)+SUMIF('11.ПЗС'!$E:$E, $I55, '11.ПЗС'!Y:Y))","v":0},{"$f":"IF($I55=\"\", 0, SUMIF('7.СМР'!$E:$E, $I55, '7.СМР'!Y:Y)+SUMIF('8.ОСС'!$E:$E, $I55, '8.ОСС'!AQ:AQ)+SUMIF('9.ПИР'!$E:$E, $I55, '9.ПИР'!Y:Y)+SUMIF('10.БКП'!$E:$E, $I55, '10.БКП'!Y:Y)+SUMIF('11.ПЗС'!$E:$E, $I55, '11.ПЗС'!Z:Z))","v":0},{"$f":"IF($I55=\"\", 0, SUMIF('7.СМР'!$E:$E, $I55, '7.СМР'!Z:Z)+SUMIF('8.ОСС'!$E:$E, $I55, '8.ОСС'!AR:AR)+SUMIF('9.ПИР'!$E:$E, $I55, '9.ПИР'!Z:Z)+SUMIF('10.БКП'!$E:$E, $I55, '10.БКП'!Z:Z)+SUMIF('11.ПЗС'!$E:$E, $I55, '11.ПЗС'!AA:AA))","v":0},{"$f":"IF($I55=\"\", 0, SUMIF('7.СМР'!$E:$E, $I55, '7.СМР'!AA:AA)+SUMIF('8.ОСС'!$E:$E, $I55, '8.ОСС'!AS:AS)+SUMIF('9.ПИР'!$E:$E, $I55, '9.ПИР'!AA:AA)+SUMIF('10.БКП'!$E:$E, $I55, '10.БКП'!AA:AA)+SUMIF('11.ПЗС'!$E:$E, $I55, '11.ПЗС'!AB:AB))","v":0},{"$f":"IF($I55=\"\", 0, SUMIF('7.СМР'!$E:$E, $I55, '7.СМР'!AB:AB)+SUMIF('8.ОСС'!$E:$E, $I55, '8.ОСС'!AT:AT)+SUMIF('9.ПИР'!$E:$E, $I55, '9.ПИР'!AB:AB)+SUMIF('10.БКП'!$E:$E, $I55, '10.БКП'!AB:AB)+SUMIF('11.ПЗС'!$E:$E, $I55, '11.ПЗС'!AC:AC))","v":0},{"$f":"IF($I55=\"\", 0, SUMIF('7.СМР'!$E:$E, $I55, '7.СМР'!AC:AC)+SUMIF('8.ОСС'!$E:$E, $I55, '8.ОСС'!AU:AU)+SUMIF('9.ПИР'!$E:$E, $I55, '9.ПИР'!AC:AC)+SUMIF('10.БКП'!$E:$E, $I55, '10.БКП'!AC:AC)+SUMIF('11.ПЗС'!$E:$E, $I55, '11.ПЗС'!AD:AD))","v":0},{"$f":"IF($I55=\"\", 0, SUMIF('7.СМР'!$E:$E, $I55, '7.СМР'!AD:AD)+SUMIF('8.ОСС'!$E:$E, $I55, '8.ОСС'!AV:AV)+SUMIF('9.ПИР'!$E:$E, $I55, '9.ПИР'!AD:AD)+SUMIF('10.БКП'!$E:$E, $I55, '10.БКП'!AD:AD)+SUMIF('11.ПЗС'!$E:$E, $I55, '11.ПЗС'!AE:AE))","v":0},{"$f":"IF($I55=\"\", 0, SUMIF('7.СМР'!$E:$E, $I55, '7.СМР'!AE:AE)+SUMIF('8.ОСС'!$E:$E, $I55, '8.ОСС'!AW:AW)+SUMIF('9.ПИР'!$E:$E, $I55, '9.ПИР'!AE:AE)+SUMIF('10.БКП'!$E:$E, $I55, '10.БКП'!AE:AE)+SUMIF('11.ПЗС'!$E:$E, $I55, '11.ПЗС'!AF:AF))","v":0},null,"","","",{"$f":"IF($I55=\"\", \"\", VLOOKUP($I55,objects, '05.РКС'!L$18-'05.РКС'!$B$18+1, 0))","v":""},{"$f":"IF($I55=\"\", \"\", VLOOKUP($I55,objects, '05.РКС'!M$18-'05.РКС'!$B$18+1, 0))","v":""},{"$f":"IF($I55=\"\", \"\", VLOOKUP($I55,objects, '05.РКС'!N$18-'05.РКС'!$B$18+1, 0))","v":""},{"$f":"IF($I55=\"\", \"\", VLOOKUP($I55,objects, '05.РКС'!P$18-'05.РКС'!$B$18+1, 0))","v":""},0]
[null,null,"","","","","","",{"$f":"IF(ISBLANK('05.РКС'!B57), \"\", '05.РКС'!B57)","v":""},"",{"$f":"IF($I56=\"\", 0, SUMIF('7.СМР'!$E:$E, $I56, '7.СМР'!G:G)+SUMIF('8.ОСС'!$E:$E, $I56, '8.ОСС'!Y:Y)+SUMIF('9.ПИР'!$E:$E, $I56, '9.ПИР'!G:G)+SUMIF('10.БКП'!$E:$E, $I56, '10.БКП'!G:G)+SUMIF('11.ПЗС'!$E:$E, $I56, '11.ПЗС'!H:H))","v":0},{"$f":"IF($I56=\"\", 0, SUMIF('7.СМР'!$E:$E, $I56, '7.СМР'!H:H)+SUMIF('8.ОСС'!$E:$E, $I56, '8.ОСС'!Z:Z)+SUMIF('9.ПИР'!$E:$E, $I56, '9.ПИР'!H:H)+SUMIF('10.БКП'!$E:$E, $I56, '10.БКП'!H:H)+SUMIF('11.ПЗС'!$E:$E, $I56, '11.ПЗС'!I:I))","v":0},{"$f":"IF($I56=\"\", 0, SUMIF('7.СМР'!$E:$E, $I56, '7.СМР'!I:I)+SUMIF('8.ОСС'!$E:$E, $I56, '8.ОСС'!AA:AA)+SUMIF('9.ПИР'!$E:$E, $I56, '9.ПИР'!I:I)+SUMIF('10.БКП'!$E:$E, $I56, '10.БКП'!I:I)+SUMIF('11.ПЗС'!$E:$E, $I56, '11.ПЗС'!J:J))","v":0},{"$f":"IF($I56=\"\", 0, SUMIF('7.СМР'!$E:$E, $I56, '7.СМР'!J:J)+SUMIF('8.ОСС'!$E:$E, $I56, '8.ОСС'!AB:AB)+SUMIF('9.ПИР'!$E:$E, $I56, '9.ПИР'!J:J)+SUMIF('10.БКП'!$E:$E, $I56, '10.БКП'!J:J)+SUMIF('11.ПЗС'!$E:$E, $I56, '11.ПЗС'!K:K))","v":0},{"$f":"IF($I56=\"\", 0, SUMIF('7.СМР'!$E:$E, $I56, '7.СМР'!K:K)+SUMIF('8.ОСС'!$E:$E, $I56, '8.ОСС'!AC:AC)+SUMIF('9.ПИР'!$E:$E, $I56, '9.ПИР'!K:K)+SUMIF('10.БКП'!$E:$E, $I56, '10.БКП'!K:K)+SUMIF('11.ПЗС'!$E:$E, $I56, '11.ПЗС'!L:L))","v":0},{"$f":"IF($I56=\"\", 0, SUMIF('7.СМР'!$E:$E, $I56, '7.СМР'!L:L)+SUMIF('8.ОСС'!$E:$E, $I56, '8.ОСС'!AD:AD)+SUMIF('9.ПИР'!$E:$E, $I56, '9.ПИР'!L:L)+SUMIF('10.БКП'!$E:$E, $I56, '10.БКП'!L:L)+SUMIF('11.ПЗС'!$E:$E, $I56, '11.ПЗС'!M:M))","v":0},{"$f":"IF($I56=\"\", 0, SUMIF('7.СМР'!$E:$E, $I56, '7.СМР'!M:M)+SUMIF('8.ОСС'!$E:$E, $I56, '8.ОСС'!AE:AE)+SUMIF('9.ПИР'!$E:$E, $I56, '9.ПИР'!M:M)+SUMIF('10.БКП'!$E:$E, $I56, '10.БКП'!M:M)+SUMIF('11.ПЗС'!$E:$E, $I56, '11.ПЗС'!N:N))","v":0},{"$f":"IF($I56=\"\", 0, SUMIF('7.СМР'!$E:$E, $I56, '7.СМР'!N:N)+SUMIF('8.ОСС'!$E:$E, $I56, '8.ОСС'!AF:AF)+SUMIF('9.ПИР'!$E:$E, $I56, '9.ПИР'!N:N)+SUMIF('10.БКП'!$E:$E, $I56, '10.БКП'!N:N)+SUMIF('11.ПЗС'!$E:$E, $I56, '11.ПЗС'!O:O))","v":0},{"$f":"IF($I56=\"\", 0, SUMIF('7.СМР'!$E:$E, $I56, '7.СМР'!O:O)+SUMIF('8.ОСС'!$E:$E, $I56, '8.ОСС'!AG:AG)+SUMIF('9.ПИР'!$E:$E, $I56, '9.ПИР'!O:O)+SUMIF('10.БКП'!$E:$E, $I56, '10.БКП'!O:O)+SUMIF('11.ПЗС'!$E:$E, $I56, '11.ПЗС'!P:P))","v":0},{"$f":"IF($I56=\"\", 0, SUMIF('7.СМР'!$E:$E, $I56, '7.СМР'!P:P)+SUMIF('8.ОСС'!$E:$E, $I56, '8.ОСС'!AH:AH)+SUMIF('9.ПИР'!$E:$E, $I56, '9.ПИР'!P:P)+SUMIF('10.БКП'!$E:$E, $I56, '10.БКП'!P:P)+SUMIF('11.ПЗС'!$E:$E, $I56, '11.ПЗС'!Q:Q))","v":0},0,0,0,0,null,0,0,{"$f":"IF($I56=\"\", 0, SUMIF('7.СМР'!$E:$E, $I56, '7.СМР'!X:X)+SUMIF('8.ОСС'!$E:$E, $I56, '8.ОСС'!AP:AP)+SUMIF('9.ПИР'!$E:$E, $I56, '9.ПИР'!X:X)+SUMIF('10.БКП'!$E:$E, $I56, '10.БКП'!X:X)+SUMIF('11.ПЗС'!$E:$E, $I56, '11.ПЗС'!Y:Y))","v":0},{"$f":"IF($I56=\"\", 0, SUMIF('7.СМР'!$E:$E, $I56, '7.СМР'!Y:Y)+SUMIF('8.ОСС'!$E:$E, $I56, '8.ОСС'!AQ:AQ)+SUMIF('9.ПИР'!$E:$E, $I56, '9.ПИР'!Y:Y)+SUMIF('10.БКП'!$E:$E, $I56, '10.БКП'!Y:Y)+SUMIF('11.ПЗС'!$E:$E, $I56, '11.ПЗС'!Z:Z))","v":0},{"$f":"IF($I56=\"\", 0, SUMIF('7.СМР'!$E:$E, $I56, '7.СМР'!Z:Z)+SUMIF('8.ОСС'!$E:$E, $I56, '8.ОСС'!AR:AR)+SUMIF('9.ПИР'!$E:$E, $I56, '9.ПИР'!Z:Z)+SUMIF('10.БКП'!$E:$E, $I56, '10.БКП'!Z:Z)+SUMIF('11.ПЗС'!$E:$E, $I56, '11.ПЗС'!AA:AA))","v":0},{"$f":"IF($I56=\"\", 0, SUMIF('7.СМР'!$E:$E, $I56, '7.СМР'!AA:AA)+SUMIF('8.ОСС'!$E:$E, $I56, '8.ОСС'!AS:AS)+SUMIF('9.ПИР'!$E:$E, $I56, '9.ПИР'!AA:AA)+SUMIF('10.БКП'!$E:$E, $I56, '10.БКП'!AA:AA)+SUMIF('11.ПЗС'!$E:$E, $I56, '11.ПЗС'!AB:AB))","v":0},{"$f":"IF($I56=\"\", 0, SUMIF('7.СМР'!$E:$E, $I56, '7.СМР'!AB:AB)+SUMIF('8.ОСС'!$E:$E, $I56, '8.ОСС'!AT:AT)+SUMIF('9.ПИР'!$E:$E, $I56, '9.ПИР'!AB:AB)+SUMIF('10.БКП'!$E:$E, $I56, '10.БКП'!AB:AB)+SUMIF('11.ПЗС'!$E:$E, $I56, '11.ПЗС'!AC:AC))","v":0},{"$f":"IF($I56=\"\", 0, SUMIF('7.СМР'!$E:$E, $I56, '7.СМР'!AC:AC)+SUMIF('8.ОСС'!$E:$E, $I56, '8.ОСС'!AU:AU)+SUMIF('9.ПИР'!$E:$E, $I56, '9.ПИР'!AC:AC)+SUMIF('10.БКП'!$E:$E, $I56, '10.БКП'!AC:AC)+SUMIF('11.ПЗС'!$E:$E, $I56, '11.ПЗС'!AD:AD))","v":0},{"$f":"IF($I56=\"\", 0, SUMIF('7.СМР'!$E:$E, $I56, '7.СМР'!AD:AD)+SUMIF('8.ОСС'!$E:$E, $I56, '8.ОСС'!AV:AV)+SUMIF('9.ПИР'!$E:$E, $I56, '9.ПИР'!AD:AD)+SUMIF('10.БКП'!$E:$E, $I56, '10.БКП'!AD:AD)+SUMIF('11.ПЗС'!$E:$E, $I56, '11.ПЗС'!AE:AE))","v":0},{"$f":"IF($I56=\"\", 0, SUMIF('7.СМР'!$E:$E, $I56, '7.СМР'!AE:AE)+SUMIF('8.ОСС'!$E:$E, $I56, '8.ОСС'!AW:AW)+SUMIF('9.ПИР'!$E:$E, $I56, '9.ПИР'!AE:AE)+SUMIF('10.БКП'!$E:$E, $I56, '10.БКП'!AE:AE)+SUMIF('11.ПЗС'!$E:$E, $I56, '11.ПЗС'!AF:AF))","v":0},null,"","","",{"$f":"IF($I56=\"\", \"\", VLOOKUP($I56,objects, '05.РКС'!L$18-'05.РКС'!$B$18+1, 0))","v":""},{"$f":"IF($I56=\"\", \"\", VLOOKUP($I56,objects, '05.РКС'!M$18-'05.РКС'!$B$18+1, 0))","v":""},{"$f":"IF($I56=\"\", \"\", VLOOKUP($I56,objects, '05.РКС'!N$18-'05.РКС'!$B$18+1, 0))","v":""},{"$f":"IF($I56=\"\", \"\", VLOOKUP($I56,objects, '05.РКС'!P$18-'05.РКС'!$B$18+1, 0))","v":""},0]
[null,null,"","","","","","",{"$f":"IF(ISBLANK('05.РКС'!B58), \"\", '05.РКС'!B58)","v":""},"",{"$f":"IF($I57=\"\", 0, SUMIF('7.СМР'!$E:$E, $I57, '7.СМР'!G:G)+SUMIF('8.ОСС'!$E:$E, $I57, '8.ОСС'!Y:Y)+SUMIF('9.ПИР'!$E:$E, $I57, '9.ПИР'!G:G)+SUMIF('10.БКП'!$E:$E, $I57, '10.БКП'!G:G)+SUMIF('11.ПЗС'!$E:$E, $I57, '11.ПЗС'!H:H))","v":0},{"$f":"IF($I57=\"\", 0, SUMIF('7.СМР'!$E:$E, $I57, '7.СМР'!H:H)+SUMIF('8.ОСС'!$E:$E, $I57, '8.ОСС'!Z:Z)+SUMIF('9.ПИР'!$E:$E, $I57, '9.ПИР'!H:H)+SUMIF('10.БКП'!$E:$E, $I57, '10.БКП'!H:H)+SUMIF('11.ПЗС'!$E:$E, $I57, '11.ПЗС'!I:I))","v":0},{"$f":"IF($I57=\"\", 0, SUMIF('7.СМР'!$E:$E, $I57, '7.СМР'!I:I)+SUMIF('8.ОСС'!$E:$E, $I57, '8.ОСС'!AA:AA)+SUMIF('9.ПИР'!$E:$E, $I57, '9.ПИР'!I:I)+SUMIF('10.БКП'!$E:$E, $I57, '10.БКП'!I:I)+SUMIF('11.ПЗС'!$E:$E, $I57, '11.ПЗС'!J:J))","v":0},{"$f":"IF($I57=\"\", 0, SUMIF('7.СМР'!$E:$E, $I57, '7.СМР'!J:J)+SUMIF('8.ОСС'!$E:$E, $I57, '8.ОСС'!AB:AB)+SUMIF('9.ПИР'!$E:$E, $I57, '9.ПИР'!J:J)+SUMIF('10.БКП'!$E:$E, $I57, '10.БКП'!J:J)+SUMIF('11.ПЗС'!$E:$E, $I57, '11.ПЗС'!K:K))","v":0},{"$f":"IF($I57=\"\", 0, SUMIF('7.СМР'!$E:$E, $I57, '7.СМР'!K:K)+SUMIF('8.ОСС'!$E:$E, $I57, '8.ОСС'!AC:AC)+SUMIF('9.ПИР'!$E:$E, $I57, '9.ПИР'!K:K)+SUMIF('10.БКП'!$E:$E, $I57, '10.БКП'!K:K)+SUMIF('11.ПЗС'!$E:$E, $I57, '11.ПЗС'!L:L))","v":0},{"$f":"IF($I57=\"\", 0, SUMIF('7.СМР'!$E:$E, $I57, '7.СМР'!L:L)+SUMIF('8.ОСС'!$E:$E, $I57, '8.ОСС'!AD:AD)+SUMIF('9.ПИР'!$E:$E, $I57, '9.ПИР'!L:L)+SUMIF('10.БКП'!$E:$E, $I57, '10.БКП'!L:L)+SUMIF('11.ПЗС'!$E:$E, $I57, '11.ПЗС'!M:M))","v":0},{"$f":"IF($I57=\"\", 0, SUMIF('7.СМР'!$E:$E, $I57, '7.СМР'!M:M)+SUMIF('8.ОСС'!$E:$E, $I57, '8.ОСС'!AE:AE)+SUMIF('9.ПИР'!$E:$E, $I57, '9.ПИР'!M:M)+SUMIF('10.БКП'!$E:$E, $I57, '10.БКП'!M:M)+SUMIF('11.ПЗС'!$E:$E, $I57, '11.ПЗС'!N:N))","v":0},{"$f":"IF($I57=\"\", 0, SUMIF('7.СМР'!$E:$E, $I57, '7.СМР'!N:N)+SUMIF('8.ОСС'!$E:$E, $I57, '8.ОСС'!AF:AF)+SUMIF('9.ПИР'!$E:$E, $I57, '9.ПИР'!N:N)+SUMIF('10.БКП'!$E:$E, $I57, '10.БКП'!N:N)+SUMIF('11.ПЗС'!$E:$E, $I57, '11.ПЗС'!O:O))","v":0},{"$f":"IF($I57=\"\", 0, SUMIF('7.СМР'!$E:$E, $I57, '7.СМР'!O:O)+SUMIF('8.ОСС'!$E:$E, $I57, '8.ОСС'!AG:AG)+SUMIF('9.ПИР'!$E:$E, $I57, '9.ПИР'!O:O)+SUMIF('10.БКП'!$E:$E, $I57, '10.БКП'!O:O)+SUMIF('11.ПЗС'!$E:$E, $I57, '11.ПЗС'!P:P))","v":0},{"$f":"IF($I57=\"\", 0, SUMIF('7.СМР'!$E:$E, $I57, '7.СМР'!P:P)+SUMIF('8.ОСС'!$E:$E, $I57, '8.ОСС'!AH:AH)+SUMIF('9.ПИР'!$E:$E, $I57, '9.ПИР'!P:P)+SUMIF('10.БКП'!$E:$E, $I57, '10.БКП'!P:P)+SUMIF('11.ПЗС'!$E:$E, $I57, '11.ПЗС'!Q:Q))","v":0},0,0,0,0,null,0,0,{"$f":"IF($I57=\"\", 0, SUMIF('7.СМР'!$E:$E, $I57, '7.СМР'!X:X)+SUMIF('8.ОСС'!$E:$E, $I57, '8.ОСС'!AP:AP)+SUMIF('9.ПИР'!$E:$E, $I57, '9.ПИР'!X:X)+SUMIF('10.БКП'!$E:$E, $I57, '10.БКП'!X:X)+SUMIF('11.ПЗС'!$E:$E, $I57, '11.ПЗС'!Y:Y))","v":0},{"$f":"IF($I57=\"\", 0, SUMIF('7.СМР'!$E:$E, $I57, '7.СМР'!Y:Y)+SUMIF('8.ОСС'!$E:$E, $I57, '8.ОСС'!AQ:AQ)+SUMIF('9.ПИР'!$E:$E, $I57, '9.ПИР'!Y:Y)+SUMIF('10.БКП'!$E:$E, $I57, '10.БКП'!Y:Y)+SUMIF('11.ПЗС'!$E:$E, $I57, '11.ПЗС'!Z:Z))","v":0},{"$f":"IF($I57=\"\", 0, SUMIF('7.СМР'!$E:$E, $I57, '7.СМР'!Z:Z)+SUMIF('8.ОСС'!$E:$E, $I57, '8.ОСС'!AR:AR)+SUMIF('9.ПИР'!$E:$E, $I57, '9.ПИР'!Z:Z)+SUMIF('10.БКП'!$E:$E, $I57, '10.БКП'!Z:Z)+SUMIF('11.ПЗС'!$E:$E, $I57, '11.ПЗС'!AA:AA))","v":0},{"$f":"IF($I57=\"\", 0, SUMIF('7.СМР'!$E:$E, $I57, '7.СМР'!AA:AA)+SUMIF('8.ОСС'!$E:$E, $I57, '8.ОСС'!AS:AS)+SUMIF('9.ПИР'!$E:$E, $I57, '9.ПИР'!AA:AA)+SUMIF('10.БКП'!$E:$E, $I57, '10.БКП'!AA:AA)+SUMIF('11.ПЗС'!$E:$E, $I57, '11.ПЗС'!AB:AB))","v":0},{"$f":"IF($I57=\"\", 0, SUMIF('7.СМР'!$E:$E, $I57, '7.СМР'!AB:AB)+SUMIF('8.ОСС'!$E:$E, $I57, '8.ОСС'!AT:AT)+SUMIF('9.ПИР'!$E:$E, $I57, '9.ПИР'!AB:AB)+SUMIF('10.БКП'!$E:$E, $I57, '10.БКП'!AB:AB)+SUMIF('11.ПЗС'!$E:$E, $I57, '11.ПЗС'!AC:AC))","v":0},{"$f":"IF($I57=\"\", 0, SUMIF('7.СМР'!$E:$E, $I57, '7.СМР'!AC:AC)+SUMIF('8.ОСС'!$E:$E, $I57, '8.ОСС'!AU:AU)+SUMIF('9.ПИР'!$E:$E, $I57, '9.ПИР'!AC:AC)+SUMIF('10.БКП'!$E:$E, $I57, '10.БКП'!AC:AC)+SUMIF('11.ПЗС'!$E:$E, $I57, '11.ПЗС'!AD:AD))","v":0},{"$f":"IF($I57=\"\", 0, SUMIF('7.СМР'!$E:$E, $I57, '7.СМР'!AD:AD)+SUMIF('8.ОСС'!$E:$E, $I57, '8.ОСС'!AV:AV)+SUMIF('9.ПИР'!$E:$E, $I57, '9.ПИР'!AD:AD)+SUMIF('10.БКП'!$E:$E, $I57, '10.БКП'!AD:AD)+SUMIF('11.ПЗС'!$E:$E, $I57, '11.ПЗС'!AE:AE))","v":0},{"$f":"IF($I57=\"\", 0, SUMIF('7.СМР'!$E:$E, $I57, '7.СМР'!AE:AE)+SUMIF('8.ОСС'!$E:$E, $I57, '8.ОСС'!AW:AW)+SUMIF('9.ПИР'!$E:$E, $I57, '9.ПИР'!AE:AE)+SUMIF('10.БКП'!$E:$E, $I57, '10.БКП'!AE:AE)+SUMIF('11.ПЗС'!$E:$E, $I57, '11.ПЗС'!AF:AF))","v":0},null,"","","",{"$f":"IF($I57=\"\", \"\", VLOOKUP($I57,objects, '05.РКС'!L$18-'05.РКС'!$B$18+1, 0))","v":""},{"$f":"IF($I57=\"\", \"\", VLOOKUP($I57,objects, '05.РКС'!M$18-'05.РКС'!$B$18+1, 0))","v":""},{"$f":"IF($I57=\"\", \"\", VLOOKUP($I57,objects, '05.РКС'!N$18-'05.РКС'!$B$18+1, 0))","v":""},{"$f":"IF($I57=\"\", \"\", VLOOKUP($I57,objects, '05.РКС'!P$18-'05.РКС'!$B$18+1, 0))","v":""},0]
[null,null,"","","","","","",{"$f":"IF(ISBLANK('05.РКС'!B59), \"\", '05.РКС'!B59)","v":""},"",{"$f":"IF($I58=\"\", 0, SUMIF('7.СМР'!$E:$E, $I58, '7.СМР'!G:G)+SUMIF('8.ОСС'!$E:$E, $I58, '8.ОСС'!Y:Y)+SUMIF('9.ПИР'!$E:$E, $I58, '9.ПИР'!G:G)+SUMIF('10.БКП'!$E:$E, $I58, '10.БКП'!G:G)+SUMIF('11.ПЗС'!$E:$E, $I58, '11.ПЗС'!H:H))","v":0},{"$f":"IF($I58=\"\", 0, SUMIF('7.СМР'!$E:$E, $I58, '7.СМР'!H:H)+SUMIF('8.ОСС'!$E:$E, $I58, '8.ОСС'!Z:Z)+SUMIF('9.ПИР'!$E:$E, $I58, '9.ПИР'!H:H)+SUMIF('10.БКП'!$E:$E, $I58, '10.БКП'!H:H)+SUMIF('11.ПЗС'!$E:$E, $I58, '11.ПЗС'!I:I))","v":0},{"$f":"IF($I58=\"\", 0, SUMIF('7.СМР'!$E:$E, $I58, '7.СМР'!I:I)+SUMIF('8.ОСС'!$E:$E, $I58, '8.ОСС'!AA:AA)+SUMIF('9.ПИР'!$E:$E, $I58, '9.ПИР'!I:I)+SUMIF('10.БКП'!$E:$E, $I58, '10.БКП'!I:I)+SUMIF('11.ПЗС'!$E:$E, $I58, '11.ПЗС'!J:J))","v":0},{"$f":"IF($I58=\"\", 0, SUMIF('7.СМР'!$E:$E, $I58, '7.СМР'!J:J)+SUMIF('8.ОСС'!$E:$E, $I58, '8.ОСС'!AB:AB)+SUMIF('9.ПИР'!$E:$E, $I58, '9.ПИР'!J:J)+SUMIF('10.БКП'!$E:$E, $I58, '10.БКП'!J:J)+SUMIF('11.ПЗС'!$E:$E, $I58, '11.ПЗС'!K:K))","v":0},{"$f":"IF($I58=\"\", 0, SUMIF('7.СМР'!$E:$E, $I58, '7.СМР'!K:K)+SUMIF('8.ОСС'!$E:$E, $I58, '8.ОСС'!AC:AC)+SUMIF('9.ПИР'!$E:$E, $I58, '9.ПИР'!K:K)+SUMIF('10.БКП'!$E:$E, $I58, '10.БКП'!K:K)+SUMIF('11.ПЗС'!$E:$E, $I58, '11.ПЗС'!L:L))","v":0},{"$f":"IF($I58=\"\", 0, SUMIF('7.СМР'!$E:$E, $I58, '7.СМР'!L:L)+SUMIF('8.ОСС'!$E:$E, $I58, '8.ОСС'!AD:AD)+SUMIF('9.ПИР'!$E:$E, $I58, '9.ПИР'!L:L)+SUMIF('10.БКП'!$E:$E, $I58, '10.БКП'!L:L)+SUMIF('11.ПЗС'!$E:$E, $I58, '11.ПЗС'!M:M))","v":0},{"$f":"IF($I58=\"\", 0, SUMIF('7.СМР'!$E:$E, $I58, '7.СМР'!M:M)+SUMIF('8.ОСС'!$E:$E, $I58, '8.ОСС'!AE:AE)+SUMIF('9.ПИР'!$E:$E, $I58, '9.ПИР'!M:M)+SUMIF('10.БКП'!$E:$E, $I58, '10.БКП'!M:M)+SUMIF('11.ПЗС'!$E:$E, $I58, '11.ПЗС'!N:N))","v":0},{"$f":"IF($I58=\"\", 0, SUMIF('7.СМР'!$E:$E, $I58, '7.СМР'!N:N)+SUMIF('8.ОСС'!$E:$E, $I58, '8.ОСС'!AF:AF)+SUMIF('9.ПИР'!$E:$E, $I58, '9.ПИР'!N:N)+SUMIF('10.БКП'!$E:$E, $I58, '10.БКП'!N:N)+SUMIF('11.ПЗС'!$E:$E, $I58, '11.ПЗС'!O:O))","v":0},{"$f":"IF($I58=\"\", 0, SUMIF('7.СМР'!$E:$E, $I58, '7.СМР'!O:O)+SUMIF('8.ОСС'!$E:$E, $I58, '8.ОСС'!AG:AG)+SUMIF('9.ПИР'!$E:$E, $I58, '9.ПИР'!O:O)+SUMIF('10.БКП'!$E:$E, $I58, '10.БКП'!O:O)+SUMIF('11.ПЗС'!$E:$E, $I58, '11.ПЗС'!P:P))","v":0},{"$f":"IF($I58=\"\", 0, SUMIF('7.СМР'!$E:$E, $I58, '7.СМР'!P:P)+SUMIF('8.ОСС'!$E:$E, $I58, '8.ОСС'!AH:AH)+SUMIF('9.ПИР'!$E:$E, $I58, '9.ПИР'!P:P)+SUMIF('10.БКП'!$E:$E, $I58, '10.БКП'!P:P)+SUMIF('11.ПЗС'!$E:$E, $I58, '11.ПЗС'!Q:Q))","v":0},0,0,0,0,null,0,0,{"$f":"IF($I58=\"\", 0, SUMIF('7.СМР'!$E:$E, $I58, '7.СМР'!X:X)+SUMIF('8.ОСС'!$E:$E, $I58, '8.ОСС'!AP:AP)+SUMIF('9.ПИР'!$E:$E, $I58, '9.ПИР'!X:X)+SUMIF('10.БКП'!$E:$E, $I58, '10.БКП'!X:X)+SUMIF('11.ПЗС'!$E:$E, $I58, '11.ПЗС'!Y:Y))","v":0},{"$f":"IF($I58=\"\", 0, SUMIF('7.СМР'!$E:$E, $I58, '7.СМР'!Y:Y)+SUMIF('8.ОСС'!$E:$E, $I58, '8.ОСС'!AQ:AQ)+SUMIF('9.ПИР'!$E:$E, $I58, '9.ПИР'!Y:Y)+SUMIF('10.БКП'!$E:$E, $I58, '10.БКП'!Y:Y)+SUMIF('11.ПЗС'!$E:$E, $I58, '11.ПЗС'!Z:Z))","v":0},{"$f":"IF($I58=\"\", 0, SUMIF('7.СМР'!$E:$E, $I58, '7.СМР'!Z:Z)+SUMIF('8.ОСС'!$E:$E, $I58, '8.ОСС'!AR:AR)+SUMIF('9.ПИР'!$E:$E, $I58, '9.ПИР'!Z:Z)+SUMIF('10.БКП'!$E:$E, $I58, '10.БКП'!Z:Z)+SUMIF('11.ПЗС'!$E:$E, $I58, '11.ПЗС'!AA:AA))","v":0},{"$f":"IF($I58=\"\", 0, SUMIF('7.СМР'!$E:$E, $I58, '7.СМР'!AA:AA)+SUMIF('8.ОСС'!$E:$E, $I58, '8.ОСС'!AS:AS)+SUMIF('9.ПИР'!$E:$E, $I58, '9.ПИР'!AA:AA)+SUMIF('10.БКП'!$E:$E, $I58, '10.БКП'!AA:AA)+SUMIF('11.ПЗС'!$E:$E, $I58, '11.ПЗС'!AB:AB))","v":0},{"$f":"IF($I58=\"\", 0, SUMIF('7.СМР'!$E:$E, $I58, '7.СМР'!AB:AB)+SUMIF('8.ОСС'!$E:$E, $I58, '8.ОСС'!AT:AT)+SUMIF('9.ПИР'!$E:$E, $I58, '9.ПИР'!AB:AB)+SUMIF('10.БКП'!$E:$E, $I58, '10.БКП'!AB:AB)+SUMIF('11.ПЗС'!$E:$E, $I58, '11.ПЗС'!AC:AC))","v":0},{"$f":"IF($I58=\"\", 0, SUMIF('7.СМР'!$E:$E, $I58, '7.СМР'!AC:AC)+SUMIF('8.ОСС'!$E:$E, $I58, '8.ОСС'!AU:AU)+SUMIF('9.ПИР'!$E:$E, $I58, '9.ПИР'!AC:AC)+SUMIF('10.БКП'!$E:$E, $I58, '10.БКП'!AC:AC)+SUMIF('11.ПЗС'!$E:$E, $I58, '11.ПЗС'!AD:AD))","v":0},{"$f":"IF($I58=\"\", 0, SUMIF('7.СМР'!$E:$E, $I58, '7.СМР'!AD:AD)+SUMIF('8.ОСС'!$E:$E, $I58, '8.ОСС'!AV:AV)+SUMIF('9.ПИР'!$E:$E, $I58, '9.ПИР'!AD:AD)+SUMIF('10.БКП'!$E:$E, $I58, '10.БКП'!AD:AD)+SUMIF('11.ПЗС'!$E:$E, $I58, '11.ПЗС'!AE:AE))","v":0},{"$f":"IF($I58=\"\", 0, SUMIF('7.СМР'!$E:$E, $I58, '7.СМР'!AE:AE)+SUMIF('8.ОСС'!$E:$E, $I58, '8.ОСС'!AW:AW)+SUMIF('9.ПИР'!$E:$E, $I58, '9.ПИР'!AE:AE)+SUMIF('10.БКП'!$E:$E, $I58, '10.БКП'!AE:AE)+SUMIF('11.ПЗС'!$E:$E, $I58, '11.ПЗС'!AF:AF))","v":0},null,"","","",{"$f":"IF($I58=\"\", \"\", VLOOKUP($I58,objects, '05.РКС'!L$18-'05.РКС'!$B$18+1, 0))","v":""},{"$f":"IF($I58=\"\", \"\", VLOOKUP($I58,objects, '05.РКС'!M$18-'05.РКС'!$B$18+1, 0))","v":""},{"$f":"IF($I58=\"\", \"\", VLOOKUP($I58,objects, '05.РКС'!N$18-'05.РКС'!$B$18+1, 0))","v":""},{"$f":"IF($I58=\"\", \"\", VLOOKUP($I58,objects, '05.РКС'!P$18-'05.РКС'!$B$18+1, 0))","v":""},0]
[null,null,"","","","","","",{"$f":"IF(ISBLANK('05.РКС'!B60), \"\", '05.РКС'!B60)","v":""},"",{"$f":"IF($I59=\"\", 0, SUMIF('7.СМР'!$E:$E, $I59, '7.СМР'!G:G)+SUMIF('8.ОСС'!$E:$E, $I59, '8.ОСС'!Y:Y)+SUMIF('9.ПИР'!$E:$E, $I59, '9.ПИР'!G:G)+SUMIF('10.БКП'!$E:$E, $I59, '10.БКП'!G:G)+SUMIF('11.ПЗС'!$E:$E, $I59, '11.ПЗС'!H:H))","v":0},{"$f":"IF($I59=\"\", 0, SUMIF('7.СМР'!$E:$E, $I59, '7.СМР'!H:H)+SUMIF('8.ОСС'!$E:$E, $I59, '8.ОСС'!Z:Z)+SUMIF('9.ПИР'!$E:$E, $I59, '9.ПИР'!H:H)+SUMIF('10.БКП'!$E:$E, $I59, '10.БКП'!H:H)+SUMIF('11.ПЗС'!$E:$E, $I59, '11.ПЗС'!I:I))","v":0},{"$f":"IF($I59=\"\", 0, SUMIF('7.СМР'!$E:$E, $I59, '7.СМР'!I:I)+SUMIF('8.ОСС'!$E:$E, $I59, '8.ОСС'!AA:AA)+SUMIF('9.ПИР'!$E:$E, $I59, '9.ПИР'!I:I)+SUMIF('10.БКП'!$E:$E, $I59, '10.БКП'!I:I)+SUMIF('11.ПЗС'!$E:$E, $I59, '11.ПЗС'!J:J))","v":0},{"$f":"IF($I59=\"\", 0, SUMIF('7.СМР'!$E:$E, $I59, '7.СМР'!J:J)+SUMIF('8.ОСС'!$E:$E, $I59, '8.ОСС'!AB:AB)+SUMIF('9.ПИР'!$E:$E, $I59, '9.ПИР'!J:J)+SUMIF('10.БКП'!$E:$E, $I59, '10.БКП'!J:J)+SUMIF('11.ПЗС'!$E:$E, $I59, '11.ПЗС'!K:K))","v":0},{"$f":"IF($I59=\"\", 0, SUMIF('7.СМР'!$E:$E, $I59, '7.СМР'!K:K)+SUMIF('8.ОСС'!$E:$E, $I59, '8.ОСС'!AC:AC)+SUMIF('9.ПИР'!$E:$E, $I59, '9.ПИР'!K:K)+SUMIF('10.БКП'!$E:$E, $I59, '10.БКП'!K:K)+SUMIF('11.ПЗС'!$E:$E, $I59, '11.ПЗС'!L:L))","v":0},{"$f":"IF($I59=\"\", 0, SUMIF('7.СМР'!$E:$E, $I59, '7.СМР'!L:L)+SUMIF('8.ОСС'!$E:$E, $I59, '8.ОСС'!AD:AD)+SUMIF('9.ПИР'!$E:$E, $I59, '9.ПИР'!L:L)+SUMIF('10.БКП'!$E:$E, $I59, '10.БКП'!L:L)+SUMIF('11.ПЗС'!$E:$E, $I59, '11.ПЗС'!M:M))","v":0},{"$f":"IF($I59=\"\", 0, SUMIF('7.СМР'!$E:$E, $I59, '7.СМР'!M:M)+SUMIF('8.ОСС'!$E:$E, $I59, '8.ОСС'!AE:AE)+SUMIF('9.ПИР'!$E:$E, $I59, '9.ПИР'!M:M)+SUMIF('10.БКП'!$E:$E, $I59, '10.БКП'!M:M)+SUMIF('11.ПЗС'!$E:$E, $I59, '11.ПЗС'!N:N))","v":0},{"$f":"IF($I59=\"\", 0, SUMIF('7.СМР'!$E:$E, $I59, '7.СМР'!N:N)+SUMIF('8.ОСС'!$E:$E, $I59, '8.ОСС'!AF:AF)+SUMIF('9.ПИР'!$E:$E, $I59, '9.ПИР'!N:N)+SUMIF('10.БКП'!$E:$E, $I59, '10.БКП'!N:N)+SUMIF('11.ПЗС'!$E:$E, $I59, '11.ПЗС'!O:O))","v":0},{"$f":"IF($I59=\"\", 0, SUMIF('7.СМР'!$E:$E, $I59, '7.СМР'!O:O)+SUMIF('8.ОСС'!$E:$E, $I59, '8.ОСС'!AG:AG)+SUMIF('9.ПИР'!$E:$E, $I59, '9.ПИР'!O:O)+SUMIF('10.БКП'!$E:$E, $I59, '10.БКП'!O:O)+SUMIF('11.ПЗС'!$E:$E, $I59, '11.ПЗС'!P:P))","v":0},{"$f":"IF($I59=\"\", 0, SUMIF('7.СМР'!$E:$E, $I59, '7.СМР'!P:P)+SUMIF('8.ОСС'!$E:$E, $I59, '8.ОСС'!AH:AH)+SUMIF('9.ПИР'!$E:$E, $I59, '9.ПИР'!P:P)+SUMIF('10.БКП'!$E:$E, $I59, '10.БКП'!P:P)+SUMIF('11.ПЗС'!$E:$E, $I59, '11.ПЗС'!Q:Q))","v":0},0,0,0,0,null,0,0,{"$f":"IF($I59=\"\", 0, SUMIF('7.СМР'!$E:$E, $I59, '7.СМР'!X:X)+SUMIF('8.ОСС'!$E:$E, $I59, '8.ОСС'!AP:AP)+SUMIF('9.ПИР'!$E:$E, $I59, '9.ПИР'!X:X)+SUMIF('10.БКП'!$E:$E, $I59, '10.БКП'!X:X)+SUMIF('11.ПЗС'!$E:$E, $I59, '11.ПЗС'!Y:Y))","v":0},{"$f":"IF($I59=\"\", 0, SUMIF('7.СМР'!$E:$E, $I59, '7.СМР'!Y:Y)+SUMIF('8.ОСС'!$E:$E, $I59, '8.ОСС'!AQ:AQ)+SUMIF('9.ПИР'!$E:$E, $I59, '9.ПИР'!Y:Y)+SUMIF('10.БКП'!$E:$E, $I59, '10.БКП'!Y:Y)+SUMIF('11.ПЗС'!$E:$E, $I59, '11.ПЗС'!Z:Z))","v":0},{"$f":"IF($I59=\"\", 0, SUMIF('7.СМР'!$E:$E, $I59, '7.СМР'!Z:Z)+SUMIF('8.ОСС'!$E:$E, $I59, '8.ОСС'!AR:AR)+SUMIF('9.ПИР'!$E:$E, $I59, '9.ПИР'!Z:Z)+SUMIF('10.БКП'!$E:$E, $I59, '10.БКП'!Z:Z)+SUMIF('11.ПЗС'!$E:$E, $I59, '11.ПЗС'!AA:AA))","v":0},{"$f":"IF($I59=\"\", 0, SUMIF('7.СМР'!$E:$E, $I59, '7.СМР'!AA:AA)+SUMIF('8.ОСС'!$E:$E, $I59, '8.ОСС'!AS:AS)+SUMIF('9.ПИР'!$E:$E, $I59, '9.ПИР'!AA:AA)+SUMIF('10.БКП'!$E:$E, $I59, '10.БКП'!AA:AA)+SUMIF('11.ПЗС'!$E:$E, $I59, '11.ПЗС'!AB:AB))","v":0},{"$f":"IF($I59=\"\", 0, SUMIF('7.СМР'!$E:$E, $I59, '7.СМР'!AB:AB)+SUMIF('8.ОСС'!$E:$E, $I59, '8.ОСС'!AT:AT)+SUMIF('9.ПИР'!$E:$E, $I59, '9.ПИР'!AB:AB)+SUMIF('10.БКП'!$E:$E, $I59, '10.БКП'!AB:AB)+SUMIF('11.ПЗС'!$E:$E, $I59, '11.ПЗС'!AC:AC))","v":0},{"$f":"IF($I59=\"\", 0, SUMIF('7.СМР'!$E:$E, $I59, '7.СМР'!AC:AC)+SUMIF('8.ОСС'!$E:$E, $I59, '8.ОСС'!AU:AU)+SUMIF('9.ПИР'!$E:$E, $I59, '9.ПИР'!AC:AC)+SUMIF('10.БКП'!$E:$E, $I59, '10.БКП'!AC:AC)+SUMIF('11.ПЗС'!$E:$E, $I59, '11.ПЗС'!AD:AD))","v":0},{"$f":"IF($I59=\"\", 0, SUMIF('7.СМР'!$E:$E, $I59, '7.СМР'!AD:AD)+SUMIF('8.ОСС'!$E:$E, $I59, '8.ОСС'!AV:AV)+SUMIF('9.ПИР'!$E:$E, $I59, '9.ПИР'!AD:AD)+SUMIF('10.БКП'!$E:$E, $I59, '10.БКП'!AD:AD)+SUMIF('11.ПЗС'!$E:$E, $I59, '11.ПЗС'!AE:AE))","v":0},{"$f":"IF($I59=\"\", 0, SUMIF('7.СМР'!$E:$E, $I59, '7.СМР'!AE:AE)+SUMIF('8.ОСС'!$E:$E, $I59, '8.ОСС'!AW:AW)+SUMIF('9.ПИР'!$E:$E, $I59, '9.ПИР'!AE:AE)+SUMIF('10.БКП'!$E:$E, $I59, '10.БКП'!AE:AE)+SUMIF('11.ПЗС'!$E:$E, $I59, '11.ПЗС'!AF:AF))","v":0},null,"","","",{"$f":"IF($I59=\"\", \"\", VLOOKUP($I59,objects, '05.РКС'!L$18-'05.РКС'!$B$18+1, 0))","v":""},{"$f":"IF($I59=\"\", \"\", VLOOKUP($I59,objects, '05.РКС'!M$18-'05.РКС'!$B$18+1, 0))","v":""},{"$f":"IF($I59=\"\", \"\", VLOOKUP($I59,objects, '05.РКС'!N$18-'05.РКС'!$B$18+1, 0))","v":""},{"$f":"IF($I59=\"\", \"\", VLOOKUP($I59,objects, '05.РКС'!P$18-'05.РКС'!$B$18+1, 0))","v":""},0]
[null,null,"","","","","","",{"$f":"IF(ISBLANK('05.РКС'!B61), \"\", '05.РКС'!B61)","v":""},"",{"$f":"IF($I60=\"\", 0, SUMIF('7.СМР'!$E:$E, $I60, '7.СМР'!G:G)+SUMIF('8.ОСС'!$E:$E, $I60, '8.ОСС'!Y:Y)+SUMIF('9.ПИР'!$E:$E, $I60, '9.ПИР'!G:G)+SUMIF('10.БКП'!$E:$E, $I60, '10.БКП'!G:G)+SUMIF('11.ПЗС'!$E:$E, $I60, '11.ПЗС'!H:H))","v":0},{"$f":"IF($I60=\"\", 0, SUMIF('7.СМР'!$E:$E, $I60, '7.СМР'!H:H)+SUMIF('8.ОСС'!$E:$E, $I60, '8.ОСС'!Z:Z)+SUMIF('9.ПИР'!$E:$E, $I60, '9.ПИР'!H:H)+SUMIF('10.БКП'!$E:$E, $I60, '10.БКП'!H:H)+SUMIF('11.ПЗС'!$E:$E, $I60, '11.ПЗС'!I:I))","v":0},{"$f":"IF($I60=\"\", 0, SUMIF('7.СМР'!$E:$E, $I60, '7.СМР'!I:I)+SUMIF('8.ОСС'!$E:$E, $I60, '8.ОСС'!AA:AA)+SUMIF('9.ПИР'!$E:$E, $I60, '9.ПИР'!I:I)+SUMIF('10.БКП'!$E:$E, $I60, '10.БКП'!I:I)+SUMIF('11.ПЗС'!$E:$E, $I60, '11.ПЗС'!J:J))","v":0},{"$f":"IF($I60=\"\", 0, SUMIF('7.СМР'!$E:$E, $I60, '7.СМР'!J:J)+SUMIF('8.ОСС'!$E:$E, $I60, '8.ОСС'!AB:AB)+SUMIF('9.ПИР'!$E:$E, $I60, '9.ПИР'!J:J)+SUMIF('10.БКП'!$E:$E, $I60, '10.БКП'!J:J)+SUMIF('11.ПЗС'!$E:$E, $I60, '11.ПЗС'!K:K))","v":0},{"$f":"IF($I60=\"\", 0, SUMIF('7.СМР'!$E:$E, $I60, '7.СМР'!K:K)+SUMIF('8.ОСС'!$E:$E, $I60, '8.ОСС'!AC:AC)+SUMIF('9.ПИР'!$E:$E, $I60, '9.ПИР'!K:K)+SUMIF('10.БКП'!$E:$E, $I60, '10.БКП'!K:K)+SUMIF('11.ПЗС'!$E:$E, $I60, '11.ПЗС'!L:L))","v":0},{"$f":"IF($I60=\"\", 0, SUMIF('7.СМР'!$E:$E, $I60, '7.СМР'!L:L)+SUMIF('8.ОСС'!$E:$E, $I60, '8.ОСС'!AD:AD)+SUMIF('9.ПИР'!$E:$E, $I60, '9.ПИР'!L:L)+SUMIF('10.БКП'!$E:$E, $I60, '10.БКП'!L:L)+SUMIF('11.ПЗС'!$E:$E, $I60, '11.ПЗС'!M:M))","v":0},{"$f":"IF($I60=\"\", 0, SUMIF('7.СМР'!$E:$E, $I60, '7.СМР'!M:M)+SUMIF('8.ОСС'!$E:$E, $I60, '8.ОСС'!AE:AE)+SUMIF('9.ПИР'!$E:$E, $I60, '9.ПИР'!M:M)+SUMIF('10.БКП'!$E:$E, $I60, '10.БКП'!M:M)+SUMIF('11.ПЗС'!$E:$E, $I60, '11.ПЗС'!N:N))","v":0},{"$f":"IF($I60=\"\", 0, SUMIF('7.СМР'!$E:$E, $I60, '7.СМР'!N:N)+SUMIF('8.ОСС'!$E:$E, $I60, '8.ОСС'!AF:AF)+SUMIF('9.ПИР'!$E:$E, $I60, '9.ПИР'!N:N)+SUMIF('10.БКП'!$E:$E, $I60, '10.БКП'!N:N)+SUMIF('11.ПЗС'!$E:$E, $I60, '11.ПЗС'!O:O))","v":0},{"$f":"IF($I60=\"\", 0, SUMIF('7.СМР'!$E:$E, $I60, '7.СМР'!O:O)+SUMIF('8.ОСС'!$E:$E, $I60, '8.ОСС'!AG:AG)+SUMIF('9.ПИР'!$E:$E, $I60, '9.ПИР'!O:O)+SUMIF('10.БКП'!$E:$E, $I60, '10.БКП'!O:O)+SUMIF('11.ПЗС'!$E:$E, $I60, '11.ПЗС'!P:P))","v":0},{"$f":"IF($I60=\"\", 0, SUMIF('7.СМР'!$E:$E, $I60, '7.СМР'!P:P)+SUMIF('8.ОСС'!$E:$E, $I60, '8.ОСС'!AH:AH)+SUMIF('9.ПИР'!$E:$E, $I60, '9.ПИР'!P:P)+SUMIF('10.БКП'!$E:$E, $I60, '10.БКП'!P:P)+SUMIF('11.ПЗС'!$E:$E, $I60, '11.ПЗС'!Q:Q))","v":0},0,0,0,0,null,0,0,{"$f":"IF($I60=\"\", 0, SUMIF('7.СМР'!$E:$E, $I60, '7.СМР'!X:X)+SUMIF('8.ОСС'!$E:$E, $I60, '8.ОСС'!AP:AP)+SUMIF('9.ПИР'!$E:$E, $I60, '9.ПИР'!X:X)+SUMIF('10.БКП'!$E:$E, $I60, '10.БКП'!X:X)+SUMIF('11.ПЗС'!$E:$E, $I60, '11.ПЗС'!Y:Y))","v":0},{"$f":"IF($I60=\"\", 0, SUMIF('7.СМР'!$E:$E, $I60, '7.СМР'!Y:Y)+SUMIF('8.ОСС'!$E:$E, $I60, '8.ОСС'!AQ:AQ)+SUMIF('9.ПИР'!$E:$E, $I60, '9.ПИР'!Y:Y)+SUMIF('10.БКП'!$E:$E, $I60, '10.БКП'!Y:Y)+SUMIF('11.ПЗС'!$E:$E, $I60, '11.ПЗС'!Z:Z))","v":0},{"$f":"IF($I60=\"\", 0, SUMIF('7.СМР'!$E:$E, $I60, '7.СМР'!Z:Z)+SUMIF('8.ОСС'!$E:$E, $I60, '8.ОСС'!AR:AR)+SUMIF('9.ПИР'!$E:$E, $I60, '9.ПИР'!Z:Z)+SUMIF('10.БКП'!$E:$E, $I60, '10.БКП'!Z:Z)+SUMIF('11.ПЗС'!$E:$E, $I60, '11.ПЗС'!AA:AA))","v":0},{"$f":"IF($I60=\"\", 0, SUMIF('7.СМР'!$E:$E, $I60, '7.СМР'!AA:AA)+SUMIF('8.ОСС'!$E:$E, $I60, '8.ОСС'!AS:AS)+SUMIF('9.ПИР'!$E:$E, $I60, '9.ПИР'!AA:AA)+SUMIF('10.БКП'!$E:$E, $I60, '10.БКП'!AA:AA)+SUMIF('11.ПЗС'!$E:$E, $I60, '11.ПЗС'!AB:AB))","v":0},{"$f":"IF($I60=\"\", 0, SUMIF('7.СМР'!$E:$E, $I60, '7.СМР'!AB:AB)+SUMIF('8.ОСС'!$E:$E, $I60, '8.ОСС'!AT:AT)+SUMIF('9.ПИР'!$E:$E, $I60, '9.ПИР'!AB:AB)+SUMIF('10.БКП'!$E:$E, $I60, '10.БКП'!AB:AB)+SUMIF('11.ПЗС'!$E:$E, $I60, '11.ПЗС'!AC:AC))","v":0},{"$f":"IF($I60=\"\", 0, SUMIF('7.СМР'!$E:$E, $I60, '7.СМР'!AC:AC)+SUMIF('8.ОСС'!$E:$E, $I60, '8.ОСС'!AU:AU)+SUMIF('9.ПИР'!$E:$E, $I60, '9.ПИР'!AC:AC)+SUMIF('10.БКП'!$E:$E, $I60, '10.БКП'!AC:AC)+SUMIF('11.ПЗС'!$E:$E, $I60, '11.ПЗС'!AD:AD))","v":0},{"$f":"IF($I60=\"\", 0, SUMIF('7.СМР'!$E:$E, $I60, '7.СМР'!AD:AD)+SUMIF('8.ОСС'!$E:$E, $I60, '8.ОСС'!AV:AV)+SUMIF('9.ПИР'!$E:$E, $I60, '9.ПИР'!AD:AD)+SUMIF('10.БКП'!$E:$E, $I60, '10.БКП'!AD:AD)+SUMIF('11.ПЗС'!$E:$E, $I60, '11.ПЗС'!AE:AE))","v":0},{"$f":"IF($I60=\"\", 0, SUMIF('7.СМР'!$E:$E, $I60, '7.СМР'!AE:AE)+SUMIF('8.ОСС'!$E:$E, $I60, '8.ОСС'!AW:AW)+SUMIF('9.ПИР'!$E:$E, $I60, '9.ПИР'!AE:AE)+SUMIF('10.БКП'!$E:$E, $I60, '10.БКП'!AE:AE)+SUMIF('11.ПЗС'!$E:$E, $I60, '11.ПЗС'!AF:AF))","v":0},null,"","","",{"$f":"IF($I60=\"\", \"\", VLOOKUP($I60,objects, '05.РКС'!L$18-'05.РКС'!$B$18+1, 0))","v":""},{"$f":"IF($I60=\"\", \"\", VLOOKUP($I60,objects, '05.РКС'!M$18-'05.РКС'!$B$18+1, 0))","v":""},{"$f":"IF($I60=\"\", \"\", VLOOKUP($I60,objects, '05.РКС'!N$18-'05.РКС'!$B$18+1, 0))","v":""},{"$f":"IF($I60=\"\", \"\", VLOOKUP($I60,objects, '05.РКС'!P$18-'05.РКС'!$B$18+1, 0))","v":""},0]
[null,null,"","","","","","",{"$f":"IF(ISBLANK('05.РКС'!B62), \"\", '05.РКС'!B62)","v":""},"",{"$f":"IF($I61=\"\", 0, SUMIF('7.СМР'!$E:$E, $I61, '7.СМР'!G:G)+SUMIF('8.ОСС'!$E:$E, $I61, '8.ОСС'!Y:Y)+SUMIF('9.ПИР'!$E:$E, $I61, '9.ПИР'!G:G)+SUMIF('10.БКП'!$E:$E, $I61, '10.БКП'!G:G)+SUMIF('11.ПЗС'!$E:$E, $I61, '11.ПЗС'!H:H))","v":0},{"$f":"IF($I61=\"\", 0, SUMIF('7.СМР'!$E:$E, $I61, '7.СМР'!H:H)+SUMIF('8.ОСС'!$E:$E, $I61, '8.ОСС'!Z:Z)+SUMIF('9.ПИР'!$E:$E, $I61, '9.ПИР'!H:H)+SUMIF('10.БКП'!$E:$E, $I61, '10.БКП'!H:H)+SUMIF('11.ПЗС'!$E:$E, $I61, '11.ПЗС'!I:I))","v":0},{"$f":"IF($I61=\"\", 0, SUMIF('7.СМР'!$E:$E, $I61, '7.СМР'!I:I)+SUMIF('8.ОСС'!$E:$E, $I61, '8.ОСС'!AA:AA)+SUMIF('9.ПИР'!$E:$E, $I61, '9.ПИР'!I:I)+SUMIF('10.БКП'!$E:$E, $I61, '10.БКП'!I:I)+SUMIF('11.ПЗС'!$E:$E, $I61, '11.ПЗС'!J:J))","v":0},{"$f":"IF($I61=\"\", 0, SUMIF('7.СМР'!$E:$E, $I61, '7.СМР'!J:J)+SUMIF('8.ОСС'!$E:$E, $I61, '8.ОСС'!AB:AB)+SUMIF('9.ПИР'!$E:$E, $I61, '9.ПИР'!J:J)+SUMIF('10.БКП'!$E:$E, $I61, '10.БКП'!J:J)+SUMIF('11.ПЗС'!$E:$E, $I61, '11.ПЗС'!K:K))","v":0},{"$f":"IF($I61=\"\", 0, SUMIF('7.СМР'!$E:$E, $I61, '7.СМР'!K:K)+SUMIF('8.ОСС'!$E:$E, $I61, '8.ОСС'!AC:AC)+SUMIF('9.ПИР'!$E:$E, $I61, '9.ПИР'!K:K)+SUMIF('10.БКП'!$E:$E, $I61, '10.БКП'!K:K)+SUMIF('11.ПЗС'!$E:$E, $I61, '11.ПЗС'!L:L))","v":0},{"$f":"IF($I61=\"\", 0, SUMIF('7.СМР'!$E:$E, $I61, '7.СМР'!L:L)+SUMIF('8.ОСС'!$E:$E, $I61, '8.ОСС'!AD:AD)+SUMIF('9.ПИР'!$E:$E, $I61, '9.ПИР'!L:L)+SUMIF('10.БКП'!$E:$E, $I61, '10.БКП'!L:L)+SUMIF('11.ПЗС'!$E:$E, $I61, '11.ПЗС'!M:M))","v":0},{"$f":"IF($I61=\"\", 0, SUMIF('7.СМР'!$E:$E, $I61, '7.СМР'!M:M)+SUMIF('8.ОСС'!$E:$E, $I61, '8.ОСС'!AE:AE)+SUMIF('9.ПИР'!$E:$E, $I61, '9.ПИР'!M:M)+SUMIF('10.БКП'!$E:$E, $I61, '10.БКП'!M:M)+SUMIF('11.ПЗС'!$E:$E, $I61, '11.ПЗС'!N:N))","v":0},{"$f":"IF($I61=\"\", 0, SUMIF('7.СМР'!$E:$E, $I61, '7.СМР'!N:N)+SUMIF('8.ОСС'!$E:$E, $I61, '8.ОСС'!AF:AF)+SUMIF('9.ПИР'!$E:$E, $I61, '9.ПИР'!N:N)+SUMIF('10.БКП'!$E:$E, $I61, '10.БКП'!N:N)+SUMIF('11.ПЗС'!$E:$E, $I61, '11.ПЗС'!O:O))","v":0},{"$f":"IF($I61=\"\", 0, SUMIF('7.СМР'!$E:$E, $I61, '7.СМР'!O:O)+SUMIF('8.ОСС'!$E:$E, $I61, '8.ОСС'!AG:AG)+SUMIF('9.ПИР'!$E:$E, $I61, '9.ПИР'!O:O)+SUMIF('10.БКП'!$E:$E, $I61, '10.БКП'!O:O)+SUMIF('11.ПЗС'!$E:$E, $I61, '11.ПЗС'!P:P))","v":0},{"$f":"IF($I61=\"\", 0, SUMIF('7.СМР'!$E:$E, $I61, '7.СМР'!P:P)+SUMIF('8.ОСС'!$E:$E, $I61, '8.ОСС'!AH:AH)+SUMIF('9.ПИР'!$E:$E, $I61, '9.ПИР'!P:P)+SUMIF('10.БКП'!$E:$E, $I61, '10.БКП'!P:P)+SUMIF('11.ПЗС'!$E:$E, $I61, '11.ПЗС'!Q:Q))","v":0},0,0,0,0,null,0,0,{"$f":"IF($I61=\"\", 0, SUMIF('7.СМР'!$E:$E, $I61, '7.СМР'!X:X)+SUMIF('8.ОСС'!$E:$E, $I61, '8.ОСС'!AP:AP)+SUMIF('9.ПИР'!$E:$E, $I61, '9.ПИР'!X:X)+SUMIF('10.БКП'!$E:$E, $I61, '10.БКП'!X:X)+SUMIF('11.ПЗС'!$E:$E, $I61, '11.ПЗС'!Y:Y))","v":0},{"$f":"IF($I61=\"\", 0, SUMIF('7.СМР'!$E:$E, $I61, '7.СМР'!Y:Y)+SUMIF('8.ОСС'!$E:$E, $I61, '8.ОСС'!AQ:AQ)+SUMIF('9.ПИР'!$E:$E, $I61, '9.ПИР'!Y:Y)+SUMIF('10.БКП'!$E:$E, $I61, '10.БКП'!Y:Y)+SUMIF('11.ПЗС'!$E:$E, $I61, '11.ПЗС'!Z:Z))","v":0},{"$f":"IF($I61=\"\", 0, SUMIF('7.СМР'!$E:$E, $I61, '7.СМР'!Z:Z)+SUMIF('8.ОСС'!$E:$E, $I61, '8.ОСС'!AR:AR)+SUMIF('9.ПИР'!$E:$E, $I61, '9.ПИР'!Z:Z)+SUMIF('10.БКП'!$E:$E, $I61, '10.БКП'!Z:Z)+SUMIF('11.ПЗС'!$E:$E, $I61, '11.ПЗС'!AA:AA))","v":0},{"$f":"IF($I61=\"\", 0, SUMIF('7.СМР'!$E:$E, $I61, '7.СМР'!AA:AA)+SUMIF('8.ОСС'!$E:$E, $I61, '8.ОСС'!AS:AS)+SUMIF('9.ПИР'!$E:$E, $I61, '9.ПИР'!AA:AA)+SUMIF('10.БКП'!$E:$E, $I61, '10.БКП'!AA:AA)+SUMIF('11.ПЗС'!$E:$E, $I61, '11.ПЗС'!AB:AB))","v":0},{"$f":"IF($I61=\"\", 0, SUMIF('7.СМР'!$E:$E, $I61, '7.СМР'!AB:AB)+SUMIF('8.ОСС'!$E:$E, $I61, '8.ОСС'!AT:AT)+SUMIF('9.ПИР'!$E:$E, $I61, '9.ПИР'!AB:AB)+SUMIF('10.БКП'!$E:$E, $I61, '10.БКП'!AB:AB)+SUMIF('11.ПЗС'!$E:$E, $I61, '11.ПЗС'!AC:AC))","v":0},{"$f":"IF($I61=\"\", 0, SUMIF('7.СМР'!$E:$E, $I61, '7.СМР'!AC:AC)+SUMIF('8.ОСС'!$E:$E, $I61, '8.ОСС'!AU:AU)+SUMIF('9.ПИР'!$E:$E, $I61, '9.ПИР'!AC:AC)+SUMIF('10.БКП'!$E:$E, $I61, '10.БКП'!AC:AC)+SUMIF('11.ПЗС'!$E:$E, $I61, '11.ПЗС'!AD:AD))","v":0},{"$f":"IF($I61=\"\", 0, SUMIF('7.СМР'!$E:$E, $I61, '7.СМР'!AD:AD)+SUMIF('8.ОСС'!$E:$E, $I61, '8.ОСС'!AV:AV)+SUMIF('9.ПИР'!$E:$E, $I61, '9.ПИР'!AD:AD)+SUMIF('10.БКП'!$E:$E, $I61, '10.БКП'!AD:AD)+SUMIF('11.ПЗС'!$E:$E, $I61, '11.ПЗС'!AE:AE))","v":0},{"$f":"IF($I61=\"\", 0, SUMIF('7.СМР'!$E:$E, $I61, '7.СМР'!AE:AE)+SUMIF('8.ОСС'!$E:$E, $I61, '8.ОСС'!AW:AW)+SUMIF('9.ПИР'!$E:$E, $I61, '9.ПИР'!AE:AE)+SUMIF('10.БКП'!$E:$E, $I61, '10.БКП'!AE:AE)+SUMIF('11.ПЗС'!$E:$E, $I61, '11.ПЗС'!AF:AF))","v":0},null,"","","",{"$f":"IF($I61=\"\", \"\", VLOOKUP($I61,objects, '05.РКС'!L$18-'05.РКС'!$B$18+1, 0))","v":""},{"$f":"IF($I61=\"\", \"\", VLOOKUP($I61,objects, '05.РКС'!M$18-'05.РКС'!$B$18+1, 0))","v":""},{"$f":"IF($I61=\"\", \"\", VLOOKUP($I61,objects, '05.РКС'!N$18-'05.РКС'!$B$18+1, 0))","v":""},{"$f":"IF($I61=\"\", \"\", VLOOKUP($I61,objects, '05.РКС'!P$18-'05.РКС'!$B$18+1, 0))","v":""},0]
[null,null,{"$f":"IF(I62=\"\", \"\", VLOOKUP(I62,objects, 3, 0))","v":""},{"$f":"IF(I62=\"\", \"\", VLOOKUP(I62,objects, 7, 0))","v":""},{"$f":"IF(I62=\"\", \"\", VLOOKUP(I62,objects, 4, 0))","v":""},{"$f":"IF(I62=\"\", \"\", VLOOKUP(I62,objects, 5, 0))","v":""},{"$f":"IF(I62=\"\", \"\", VLOOKUP(I62,objects, 6, 0))","v":""},{"$f":"IF(I62=\"\", \"\", VLOOKUP(I62,objects, 8, 0))","v":""},{"$f":"IF(ISBLANK('05.РКС'!B63), \"\", '05.РКС'!B63)","v":""},{"$f":"IF(I62=\"\", \"\", VLOOKUP(I62,objects, 2, 0))","v":""},{"$f":"IF($I62=\"\", 0, SUMIF('7.СМР'!$E:$E, $I62, '7.СМР'!G:G)+SUMIF('8.ОСС'!$E:$E, $I62, '8.ОСС'!Y:Y)+SUMIF('9.ПИР'!$E:$E, $I62, '9.ПИР'!G:G)+SUMIF('10.БКП'!$E:$E, $I62, '10.БКП'!G:G)+SUMIF('11.ПЗС'!$E:$E, $I62, '11.ПЗС'!H:H))","v":0},{"$f":"IF($I62=\"\", 0, SUMIF('7.СМР'!$E:$E, $I62, '7.СМР'!H:H)+SUMIF('8.ОСС'!$E:$E, $I62, '8.ОСС'!Z:Z)+SUMIF('9.ПИР'!$E:$E, $I62, '9.ПИР'!H:H)+SUMIF('10.БКП'!$E:$E, $I62, '10.БКП'!H:H)+SUMIF('11.ПЗС'!$E:$E, $I62, '11.ПЗС'!I:I))","v":0},{"$f":"IF($I62=\"\", 0, SUMIF('7.СМР'!$E:$E, $I62, '7.СМР'!I:I)+SUMIF('8.ОСС'!$E:$E, $I62, '8.ОСС'!AA:AA)+SUMIF('9.ПИР'!$E:$E, $I62, '9.ПИР'!I:I)+SUMIF('10.БКП'!$E:$E, $I62, '10.БКП'!I:I)+SUMIF('11.ПЗС'!$E:$E, $I62, '11.ПЗС'!J:J))","v":0},{"$f":"IF($I62=\"\", 0, SUMIF('7.СМР'!$E:$E, $I62, '7.СМР'!J:J)+SUMIF('8.ОСС'!$E:$E, $I62, '8.ОСС'!AB:AB)+SUMIF('9.ПИР'!$E:$E, $I62, '9.ПИР'!J:J)+SUMIF('10.БКП'!$E:$E, $I62, '10.БКП'!J:J)+SUMIF('11.ПЗС'!$E:$E, $I62, '11.ПЗС'!K:K))","v":0},{"$f":"IF($I62=\"\", 0, SUMIF('7.СМР'!$E:$E, $I62, '7.СМР'!K:K)+SUMIF('8.ОСС'!$E:$E, $I62, '8.ОСС'!AC:AC)+SUMIF('9.ПИР'!$E:$E, $I62, '9.ПИР'!K:K)+SUMIF('10.БКП'!$E:$E, $I62, '10.БКП'!K:K)+SUMIF('11.ПЗС'!$E:$E, $I62, '11.ПЗС'!L:L))","v":0},{"$f":"IF($I62=\"\", 0, SUMIF('7.СМР'!$E:$E, $I62, '7.СМР'!L:L)+SUMIF('8.ОСС'!$E:$E, $I62, '8.ОСС'!AD:AD)+SUMIF('9.ПИР'!$E:$E, $I62, '9.ПИР'!L:L)+SUMIF('10.БКП'!$E:$E, $I62, '10.БКП'!L:L)+SUMIF('11.ПЗС'!$E:$E, $I62, '11.ПЗС'!M:M))","v":0},{"$f":"IF($I62=\"\", 0, SUMIF('7.СМР'!$E:$E, $I62, '7.СМР'!M:M)+SUMIF('8.ОСС'!$E:$E, $I62, '8.ОСС'!AE:AE)+SUMIF('9.ПИР'!$E:$E, $I62, '9.ПИР'!M:M)+SUMIF('10.БКП'!$E:$E, $I62, '10.БКП'!M:M)+SUMIF('11.ПЗС'!$E:$E, $I62, '11.ПЗС'!N:N))","v":0},{"$f":"IF($I62=\"\", 0, SUMIF('7.СМР'!$E:$E, $I62, '7.СМР'!N:N)+SUMIF('8.ОСС'!$E:$E, $I62, '8.ОСС'!AF:AF)+SUMIF('9.ПИР'!$E:$E, $I62, '9.ПИР'!N:N)+SUMIF('10.БКП'!$E:$E, $I62, '10.БКП'!N:N)+SUMIF('11.ПЗС'!$E:$E, $I62, '11.ПЗС'!O:O))","v":0},{"$f":"IF($I62=\"\", 0, SUMIF('7.СМР'!$E:$E, $I62, '7.СМР'!O:O)+SUMIF('8.ОСС'!$E:$E, $I62, '8.ОСС'!AG:AG)+SUMIF('9.ПИР'!$E:$E, $I62, '9.ПИР'!O:O)+SUMIF('10.БКП'!$E:$E, $I62, '10.БКП'!O:O)+SUMIF('11.ПЗС'!$E:$E, $I62, '11.ПЗС'!P:P))","v":0},{"$f":"IF($I62=\"\", 0, SUMIF('7.СМР'!$E:$E, $I62, '7.СМР'!P:P)+SUMIF('8.ОСС'!$E:$E, $I62, '8.ОСС'!AH:AH)+SUMIF('9.ПИР'!$E:$E, $I62, '9.ПИР'!P:P)+SUMIF('10.БКП'!$E:$E, $I62, '10.БКП'!P:P)+SUMIF('11.ПЗС'!$E:$E, $I62, '11.ПЗС'!Q:Q))","v":0},{"$f":"IF(period=period_1Q, L62, IF(period=period_1H, SUM(L62:M62), IF(period=period_9M, SUM(L62:N62), IF(period=period_1Y,SUM(L62:O62),0))))","v":0},{"$f":"IF(period=period_1Q, Q62, IF(period=period_1H, SUM(Q62:R62), IF(period=period_9M, SUM(Q62:S62), IF(period=period_1Y,SUM(Q62:T62),0))))","v":0},{"$f":"V62-U62","v":0},{"$f":"IFERROR(W62/U62, 0)","v":0},null,{"$f":"SUM(AB62:AD62)","v":0},{"$f":"IFERROR(Z62/K62, 0)","v":0},{"$f":"IF($I62=\"\", 0, SUMIF('7.СМР'!$E:$E, $I62, '7.СМР'!X:X)+SUMIF('8.ОСС'!$E:$E, $I62, '8.ОСС'!AP:AP)+SUMIF('9.ПИР'!$E:$E, $I62, '9.ПИР'!X:X)+SUMIF('10.БКП'!$E:$E, $I62, '10.БКП'!X:X)+SUMIF('11.ПЗС'!$E:$E, $I62, '11.ПЗС'!Y:Y))","v":0},{"$f":"IF($I62=\"\", 0, SUMIF('7.СМР'!$E:$E, $I62, '7.СМР'!Y:Y)+SUMIF('8.ОСС'!$E:$E, $I62, '8.ОСС'!AQ:AQ)+SUMIF('9.ПИР'!$E:$E, $I62, '9.ПИР'!Y:Y)+SUMIF('10.БКП'!$E:$E, $I62, '10.БКП'!Y:Y)+SUMIF('11.ПЗС'!$E:$E, $I62, '11.ПЗС'!Z:Z))","v":0},{"$f":"IF($I62=\"\", 0, SUMIF('7.СМР'!$E:$E, $I62, '7.СМР'!Z:Z)+SUMIF('8.ОСС'!$E:$E, $I62, '8.ОСС'!AR:AR)+SUMIF('9.ПИР'!$E:$E, $I62, '9.ПИР'!Z:Z)+SUMIF('10.БКП'!$E:$E, $I62, '10.БКП'!Z:Z)+SUMIF('11.ПЗС'!$E:$E, $I62, '11.ПЗС'!AA:AA))","v":0},{"$f":"IF($I62=\"\", 0, SUMIF('7.СМР'!$E:$E, $I62, '7.СМР'!AA:AA)+SUMIF('8.ОСС'!$E:$E, $I62, '8.ОСС'!AS:AS)+SUMIF('9.ПИР'!$E:$E, $I62, '9.ПИР'!AA:AA)+SUMIF('10.БКП'!$E:$E, $I62, '10.БКП'!AA:AA)+SUMIF('11.ПЗС'!$E:$E, $I62, '11.ПЗС'!AB:AB))","v":0},{"$f":"IF($I62=\"\", 0, SUMIF('7.СМР'!$E:$E, $I62, '7.СМР'!AB:AB)+SUMIF('8.ОСС'!$E:$E, $I62, '8.ОСС'!AT:AT)+SUMIF('9.ПИР'!$E:$E, $I62, '9.ПИР'!AB:AB)+SUMIF('10.БКП'!$E:$E, $I62, '10.БКП'!AB:AB)+SUMIF('11.ПЗС'!$E:$E, $I62, '11.ПЗС'!AC:AC))","v":0},{"$f":"IF($I62=\"\", 0, SUMIF('7.СМР'!$E:$E, $I62, '7.СМР'!AC:AC)+SUMIF('8.ОСС'!$E:$E, $I62, '8.ОСС'!AU:AU)+SUMIF('9.ПИР'!$E:$E, $I62, '9.ПИР'!AC:AC)+SUMIF('10.БКП'!$E:$E, $I62, '10.БКП'!AC:AC)+SUMIF('11.ПЗС'!$E:$E, $I62, '11.ПЗС'!AD:AD))","v":0},{"$f":"IF($I62=\"\", 0, SUMIF('7.СМР'!$E:$E, $I62, '7.СМР'!AD:AD)+SUMIF('8.ОСС'!$E:$E, $I62, '8.ОСС'!AV:AV)+SUMIF('9.ПИР'!$E:$E, $I62, '9.ПИР'!AD:AD)+SUMIF('10.БКП'!$E:$E, $I62, '10.БКП'!AD:AD)+SUMIF('11.ПЗС'!$E:$E, $I62, '11.ПЗС'!AE:AE))","v":0},{"$f":"IF($I62=\"\", 0, SUMIF('7.СМР'!$E:$E, $I62, '7.СМР'!AE:AE)+SUMIF('8.ОСС'!$E:$E, $I62, '8.ОСС'!AW:AW)+SUMIF('9.ПИР'!$E:$E, $I62, '9.ПИР'!AE:AE)+SUMIF('10.БКП'!$E:$E, $I62, '10.БКП'!AE:AE)+SUMIF('11.ПЗС'!$E:$E, $I62, '11.ПЗС'!AF:AF))","v":0},null,"","","",{"$f":"IF($I62=\"\", \"\", VLOOKUP($I62,objects, '05.РКС'!L$18-'05.РКС'!$B$18+1, 0))","v":""},{"$f":"IF($I62=\"\", \"\", VLOOKUP($I62,objects, '05.РКС'!M$18-'05.РКС'!$B$18+1, 0))","v":""},{"$f":"IF($I62=\"\", \"\", VLOOKUP($I62,objects, '05.РКС'!N$18-'05.РКС'!$B$18+1, 0))","v":""},{"$f":"IF($I62=\"\", \"\", VLOOKUP($I62,objects, '05.РКС'!P$18-'05.РКС'!$B$18+1, 0))","v":""},0]
[null,null,{"$f":"IF(I63=\"\", \"\", VLOOKUP(I63,objects, 3, 0))","v":""},{"$f":"IF(I63=\"\", \"\", VLOOKUP(I63,objects, 7, 0))","v":""},{"$f":"IF(I63=\"\", \"\", VLOOKUP(I63,objects, 4, 0))","v":""},{"$f":"IF(I63=\"\", \"\", VLOOKUP(I63,objects, 5, 0))","v":""},{"$f":"IF(I63=\"\", \"\", VLOOKUP(I63,objects, 6, 0))","v":""},{"$f":"IF(I63=\"\", \"\", VLOOKUP(I63,objects, 8, 0))","v":""},{"$f":"IF(ISBLANK('05.РКС'!B64), \"\", '05.РКС'!B64)","v":""},{"$f":"IF(I63=\"\", \"\", VLOOKUP(I63,objects, 2, 0))","v":""},{"$f":"IF($I63=\"\", 0, SUMIF('7.СМР'!$E:$E, $I63, '7.СМР'!G:G)+SUMIF('8.ОСС'!$E:$E, $I63, '8.ОСС'!Y:Y)+SUMIF('9.ПИР'!$E:$E, $I63, '9.ПИР'!G:G)+SUMIF('10.БКП'!$E:$E, $I63, '10.БКП'!G:G)+SUMIF('11.ПЗС'!$E:$E, $I63, '11.ПЗС'!H:H))","v":0},{"$f":"IF($I63=\"\", 0, SUMIF('7.СМР'!$E:$E, $I63, '7.СМР'!H:H)+SUMIF('8.ОСС'!$E:$E, $I63, '8.ОСС'!Z:Z)+SUMIF('9.ПИР'!$E:$E, $I63, '9.ПИР'!H:H)+SUMIF('10.БКП'!$E:$E, $I63, '10.БКП'!H:H)+SUMIF('11.ПЗС'!$E:$E, $I63, '11.ПЗС'!I:I))","v":0},{"$f":"IF($I63=\"\", 0, SUMIF('7.СМР'!$E:$E, $I63, '7.СМР'!I:I)+SUMIF('8.ОСС'!$E:$E, $I63, '8.ОСС'!AA:AA)+SUMIF('9.ПИР'!$E:$E, $I63, '9.ПИР'!I:I)+SUMIF('10.БКП'!$E:$E, $I63, '10.БКП'!I:I)+SUMIF('11.ПЗС'!$E:$E, $I63, '11.ПЗС'!J:J))","v":0},{"$f":"IF($I63=\"\", 0, SUMIF('7.СМР'!$E:$E, $I63, '7.СМР'!J:J)+SUMIF('8.ОСС'!$E:$E, $I63, '8.ОСС'!AB:AB)+SUMIF('9.ПИР'!$E:$E, $I63, '9.ПИР'!J:J)+SUMIF('10.БКП'!$E:$E, $I63, '10.БКП'!J:J)+SUMIF('11.ПЗС'!$E:$E, $I63, '11.ПЗС'!K:K))","v":0},{"$f":"IF($I63=\"\", 0, SUMIF('7.СМР'!$E:$E, $I63, '7.СМР'!K:K)+SUMIF('8.ОСС'!$E:$E, $I63, '8.ОСС'!AC:AC)+SUMIF('9.ПИР'!$E:$E, $I63, '9.ПИР'!K:K)+SUMIF('10.БКП'!$E:$E, $I63, '10.БКП'!K:K)+SUMIF('11.ПЗС'!$E:$E, $I63, '11.ПЗС'!L:L))","v":0},{"$f":"IF($I63=\"\", 0, SUMIF('7.СМР'!$E:$E, $I63, '7.СМР'!L:L)+SUMIF('8.ОСС'!$E:$E, $I63, '8.ОСС'!AD:AD)+SUMIF('9.ПИР'!$E:$E, $I63, '9.ПИР'!L:L)+SUMIF('10.БКП'!$E:$E, $I63, '10.БКП'!L:L)+SUMIF('11.ПЗС'!$E:$E, $I63, '11.ПЗС'!M:M))","v":0},{"$f":"IF($I63=\"\", 0, SUMIF('7.СМР'!$E:$E, $I63, '7.СМР'!M:M)+SUMIF('8.ОСС'!$E:$E, $I63, '8.ОСС'!AE:AE)+SUMIF('9.ПИР'!$E:$E, $I63, '9.ПИР'!M:M)+SUMIF('10.БКП'!$E:$E, $I63, '10.БКП'!M:M)+SUMIF('11.ПЗС'!$E:$E, $I63, '11.ПЗС'!N:N))","v":0},{"$f":"IF($I63=\"\", 0, SUMIF('7.СМР'!$E:$E, $I63, '7.СМР'!N:N)+SUMIF('8.ОСС'!$E:$E, $I63, '8.ОСС'!AF:AF)+SUMIF('9.ПИР'!$E:$E, $I63, '9.ПИР'!N:N)+SUMIF('10.БКП'!$E:$E, $I63, '10.БКП'!N:N)+SUMIF('11.ПЗС'!$E:$E, $I63, '11.ПЗС'!O:O))","v":0},{"$f":"IF($I63=\"\", 0, SUMIF('7.СМР'!$E:$E, $I63, '7.СМР'!O:O)+SUMIF('8.ОСС'!$E:$E, $I63, '8.ОСС'!AG:AG)+SUMIF('9.ПИР'!$E:$E, $I63, '9.ПИР'!O:O)+SUMIF('10.БКП'!$E:$E, $I63, '10.БКП'!O:O)+SUMIF('11.ПЗС'!$E:$E, $I63, '11.ПЗС'!P:P))","v":0},{"$f":"IF($I63=\"\", 0, SUMIF('7.СМР'!$E:$E, $I63, '7.СМР'!P:P)+SUMIF('8.ОСС'!$E:$E, $I63, '8.ОСС'!AH:AH)+SUMIF('9.ПИР'!$E:$E, $I63, '9.ПИР'!P:P)+SUMIF('10.БКП'!$E:$E, $I63, '10.БКП'!P:P)+SUMIF('11.ПЗС'!$E:$E, $I63, '11.ПЗС'!Q:Q))","v":0},{"$f":"IF(period=period_1Q, L63, IF(period=period_1H, SUM(L63:M63), IF(period=period_9M, SUM(L63:N63), IF(period=period_1Y,SUM(L63:O63),0))))","v":0},{"$f":"IF(period=period_1Q, Q63, IF(period=period_1H, SUM(Q63:R63), IF(period=period_9M, SUM(Q63:S63), IF(period=period_1Y,SUM(Q63:T63),0))))","v":0},{"$f":"V63-U63","v":0},{"$f":"IFERROR(W63/U63, 0)","v":0},null,{"$f":"SUM(AB63:AD63)","v":0},{"$f":"IFERROR(Z63/K63, 0)","v":0},{"$f":"IF($I63=\"\", 0, SUMIF('7.СМР'!$E:$E, $I63, '7.СМР'!X:X)+SUMIF('8.ОСС'!$E:$E, $I63, '8.ОСС'!AP:AP)+SUMIF('9.ПИР'!$E:$E, $I63, '9.ПИР'!X:X)+SUMIF('10.БКП'!$E:$E, $I63, '10.БКП'!X:X)+SUMIF('11.ПЗС'!$E:$E, $I63, '11.ПЗС'!Y:Y))","v":0},{"$f":"IF($I63=\"\", 0, SUMIF('7.СМР'!$E:$E, $I63, '7.СМР'!Y:Y)+SUMIF('8.ОСС'!$E:$E, $I63, '8.ОСС'!AQ:AQ)+SUMIF('9.ПИР'!$E:$E, $I63, '9.ПИР'!Y:Y)+SUMIF('10.БКП'!$E:$E, $I63, '10.БКП'!Y:Y)+SUMIF('11.ПЗС'!$E:$E, $I63, '11.ПЗС'!Z:Z))","v":0},{"$f":"IF($I63=\"\", 0, SUMIF('7.СМР'!$E:$E, $I63, '7.СМР'!Z:Z)+SUMIF('8.ОСС'!$E:$E, $I63, '8.ОСС'!AR:AR)+SUMIF('9.ПИР'!$E:$E, $I63, '9.ПИР'!Z:Z)+SUMIF('10.БКП'!$E:$E, $I63, '10.БКП'!Z:Z)+SUMIF('11.ПЗС'!$E:$E, $I63, '11.ПЗС'!AA:AA))","v":0},{"$f":"IF($I63=\"\", 0, SUMIF('7.СМР'!$E:$E, $I63, '7.СМР'!AA:AA)+SUMIF('8.ОСС'!$E:$E, $I63, '8.ОСС'!AS:AS)+SUMIF('9.ПИР'!$E:$E, $I63, '9.ПИР'!AA:AA)+SUMIF('10.БКП'!$E:$E, $I63, '10.БКП'!AA:AA)+SUMIF('11.ПЗС'!$E:$E, $I63, '11.ПЗС'!AB:AB))","v":0},{"$f":"IF($I63=\"\", 0, SUMIF('7.СМР'!$E:$E, $I63, '7.СМР'!AB:AB)+SUMIF('8.ОСС'!$E:$E, $I63, '8.ОСС'!AT:AT)+SUMIF('9.ПИР'!$E:$E, $I63, '9.ПИР'!AB:AB)+SUMIF('10.БКП'!$E:$E, $I63, '10.БКП'!AB:AB)+SUMIF('11.ПЗС'!$E:$E, $I63, '11.ПЗС'!AC:AC))","v":0},{"$f":"IF($I63=\"\", 0, SUMIF('7.СМР'!$E:$E, $I63, '7.СМР'!AC:AC)+SUMIF('8.ОСС'!$E:$E, $I63, '8.ОСС'!AU:AU)+SUMIF('9.ПИР'!$E:$E, $I63, '9.ПИР'!AC:AC)+SUMIF('10.БКП'!$E:$E, $I63, '10.БКП'!AC:AC)+SUMIF('11.ПЗС'!$E:$E, $I63, '11.ПЗС'!AD:AD))","v":0},{"$f":"IF($I63=\"\", 0, SUMIF('7.СМР'!$E:$E, $I63, '7.СМР'!AD:AD)+SUMIF('8.ОСС'!$E:$E, $I63, '8.ОСС'!AV:AV)+SUMIF('9.ПИР'!$E:$E, $I63, '9.ПИР'!AD:AD)+SUMIF('10.БКП'!$E:$E, $I63, '10.БКП'!AD:AD)+SUMIF('11.ПЗС'!$E:$E, $I63, '11.ПЗС'!AE:AE))","v":0},{"$f":"IF($I63=\"\", 0, SUMIF('7.СМР'!$E:$E, $I63, '7.СМР'!AE:AE)+SUMIF('8.ОСС'!$E:$E, $I63, '8.ОСС'!AW:AW)+SUMIF('9.ПИР'!$E:$E, $I63, '9.ПИР'!AE:AE)+SUMIF('10.БКП'!$E:$E, $I63, '10.БКП'!AE:AE)+SUMIF('11.ПЗС'!$E:$E, $I63, '11.ПЗС'!AF:AF))","v":0},null,"","","",{"$f":"IF($I63=\"\", \"\", VLOOKUP($I63,objects, '05.РКС'!L$18-'05.РКС'!$B$18+1, 0))","v":""},{"$f":"IF($I63=\"\", \"\", VLOOKUP($I63,objects, '05.РКС'!M$18-'05.РКС'!$B$18+1, 0))","v":""},{"$f":"IF($I63=\"\", \"\", VLOOKUP($I63,objects, '05.РКС'!N$18-'05.РКС'!$B$18+1, 0))","v":""},{"$f":"IF($I63=\"\", \"\", VLOOKUP($I63,objects, '05.РКС'!P$18-'05.РКС'!$B$18+1, 0))","v":""},0]
[null,null,"","","","","","",{"$f":"IF(ISBLANK('05.РКС'!B65), \"\", '05.РКС'!B65)","v":""},"",{"$f":"IF($I64=\"\", 0, SUMIF('7.СМР'!$E:$E, $I64, '7.СМР'!G:G)+SUMIF('8.ОСС'!$E:$E, $I64, '8.ОСС'!Y:Y)+SUMIF('9.ПИР'!$E:$E, $I64, '9.ПИР'!G:G)+SUMIF('10.БКП'!$E:$E, $I64, '10.БКП'!G:G)+SUMIF('11.ПЗС'!$E:$E, $I64, '11.ПЗС'!H:H))","v":0},{"$f":"IF($I64=\"\", 0, SUMIF('7.СМР'!$E:$E, $I64, '7.СМР'!H:H)+SUMIF('8.ОСС'!$E:$E, $I64, '8.ОСС'!Z:Z)+SUMIF('9.ПИР'!$E:$E, $I64, '9.ПИР'!H:H)+SUMIF('10.БКП'!$E:$E, $I64, '10.БКП'!H:H)+SUMIF('11.ПЗС'!$E:$E, $I64, '11.ПЗС'!I:I))","v":0},{"$f":"IF($I64=\"\", 0, SUMIF('7.СМР'!$E:$E, $I64, '7.СМР'!I:I)+SUMIF('8.ОСС'!$E:$E, $I64, '8.ОСС'!AA:AA)+SUMIF('9.ПИР'!$E:$E, $I64, '9.ПИР'!I:I)+SUMIF('10.БКП'!$E:$E, $I64, '10.БКП'!I:I)+SUMIF('11.ПЗС'!$E:$E, $I64, '11.ПЗС'!J:J))","v":0},{"$f":"IF($I64=\"\", 0, SUMIF('7.СМР'!$E:$E, $I64, '7.СМР'!J:J)+SUMIF('8.ОСС'!$E:$E, $I64, '8.ОСС'!AB:AB)+SUMIF('9.ПИР'!$E:$E, $I64, '9.ПИР'!J:J)+SUMIF('10.БКП'!$E:$E, $I64, '10.БКП'!J:J)+SUMIF('11.ПЗС'!$E:$E, $I64, '11.ПЗС'!K:K))","v":0},{"$f":"IF($I64=\"\", 0, SUMIF('7.СМР'!$E:$E, $I64, '7.СМР'!K:K)+SUMIF('8.ОСС'!$E:$E, $I64, '8.ОСС'!AC:AC)+SUMIF('9.ПИР'!$E:$E, $I64, '9.ПИР'!K:K)+SUMIF('10.БКП'!$E:$E, $I64, '10.БКП'!K:K)+SUMIF('11.ПЗС'!$E:$E, $I64, '11.ПЗС'!L:L))","v":0},{"$f":"IF($I64=\"\", 0, SUMIF('7.СМР'!$E:$E, $I64, '7.СМР'!L:L)+SUMIF('8.ОСС'!$E:$E, $I64, '8.ОСС'!AD:AD)+SUMIF('9.ПИР'!$E:$E, $I64, '9.ПИР'!L:L)+SUMIF('10.БКП'!$E:$E, $I64, '10.БКП'!L:L)+SUMIF('11.ПЗС'!$E:$E, $I64, '11.ПЗС'!M:M))","v":0},{"$f":"IF($I64=\"\", 0, SUMIF('7.СМР'!$E:$E, $I64, '7.СМР'!M:M)+SUMIF('8.ОСС'!$E:$E, $I64, '8.ОСС'!AE:AE)+SUMIF('9.ПИР'!$E:$E, $I64, '9.ПИР'!M:M)+SUMIF('10.БКП'!$E:$E, $I64, '10.БКП'!M:M)+SUMIF('11.ПЗС'!$E:$E, $I64, '11.ПЗС'!N:N))","v":0},{"$f":"IF($I64=\"\", 0, SUMIF('7.СМР'!$E:$E, $I64, '7.СМР'!N:N)+SUMIF('8.ОСС'!$E:$E, $I64, '8.ОСС'!AF:AF)+SUMIF('9.ПИР'!$E:$E, $I64, '9.ПИР'!N:N)+SUMIF('10.БКП'!$E:$E, $I64, '10.БКП'!N:N)+SUMIF('11.ПЗС'!$E:$E, $I64, '11.ПЗС'!O:O))","v":0},{"$f":"IF($I64=\"\", 0, SUMIF('7.СМР'!$E:$E, $I64, '7.СМР'!O:O)+SUMIF('8.ОСС'!$E:$E, $I64, '8.ОСС'!AG:AG)+SUMIF('9.ПИР'!$E:$E, $I64, '9.ПИР'!O:O)+SUMIF('10.БКП'!$E:$E, $I64, '10.БКП'!O:O)+SUMIF('11.ПЗС'!$E:$E, $I64, '11.ПЗС'!P:P))","v":0},{"$f":"IF($I64=\"\", 0, SUMIF('7.СМР'!$E:$E, $I64, '7.СМР'!P:P)+SUMIF('8.ОСС'!$E:$E, $I64, '8.ОСС'!AH:AH)+SUMIF('9.ПИР'!$E:$E, $I64, '9.ПИР'!P:P)+SUMIF('10.БКП'!$E:$E, $I64, '10.БКП'!P:P)+SUMIF('11.ПЗС'!$E:$E, $I64, '11.ПЗС'!Q:Q))","v":0},0,0,0,0,null,0,0,{"$f":"IF($I64=\"\", 0, SUMIF('7.СМР'!$E:$E, $I64, '7.СМР'!X:X)+SUMIF('8.ОСС'!$E:$E, $I64, '8.ОСС'!AP:AP)+SUMIF('9.ПИР'!$E:$E, $I64, '9.ПИР'!X:X)+SUMIF('10.БКП'!$E:$E, $I64, '10.БКП'!X:X)+SUMIF('11.ПЗС'!$E:$E, $I64, '11.ПЗС'!Y:Y))","v":0},{"$f":"IF($I64=\"\", 0, SUMIF('7.СМР'!$E:$E, $I64, '7.СМР'!Y:Y)+SUMIF('8.ОСС'!$E:$E, $I64, '8.ОСС'!AQ:AQ)+SUMIF('9.ПИР'!$E:$E, $I64, '9.ПИР'!Y:Y)+SUMIF('10.БКП'!$E:$E, $I64, '10.БКП'!Y:Y)+SUMIF('11.ПЗС'!$E:$E, $I64, '11.ПЗС'!Z:Z))","v":0},{"$f":"IF($I64=\"\", 0, SUMIF('7.СМР'!$E:$E, $I64, '7.СМР'!Z:Z)+SUMIF('8.ОСС'!$E:$E, $I64, '8.ОСС'!AR:AR)+SUMIF('9.ПИР'!$E:$E, $I64, '9.ПИР'!Z:Z)+SUMIF('10.БКП'!$E:$E, $I64, '10.БКП'!Z:Z)+SUMIF('11.ПЗС'!$E:$E, $I64, '11.ПЗС'!AA:AA))","v":0},{"$f":"IF($I64=\"\", 0, SUMIF('7.СМР'!$E:$E, $I64, '7.СМР'!AA:AA)+SUMIF('8.ОСС'!$E:$E, $I64, '8.ОСС'!AS:AS)+SUMIF('9.ПИР'!$E:$E, $I64, '9.ПИР'!AA:AA)+SUMIF('10.БКП'!$E:$E, $I64, '10.БКП'!AA:AA)+SUMIF('11.ПЗС'!$E:$E, $I64, '11.ПЗС'!AB:AB))","v":0},{"$f":"IF($I64=\"\", 0, SUMIF('7.СМР'!$E:$E, $I64, '7.СМР'!AB:AB)+SUMIF('8.ОСС'!$E:$E, $I64, '8.ОСС'!AT:AT)+SUMIF('9.ПИР'!$E:$E, $I64, '9.ПИР'!AB:AB)+SUMIF('10.БКП'!$E:$E, $I64, '10.БКП'!AB:AB)+SUMIF('11.ПЗС'!$E:$E, $I64, '11.ПЗС'!AC:AC))","v":0},{"$f":"IF($I64=\"\", 0, SUMIF('7.СМР'!$E:$E, $I64, '7.СМР'!AC:AC)+SUMIF('8.ОСС'!$E:$E, $I64, '8.ОСС'!AU:AU)+SUMIF('9.ПИР'!$E:$E, $I64, '9.ПИР'!AC:AC)+SUMIF('10.БКП'!$E:$E, $I64, '10.БКП'!AC:AC)+SUMIF('11.ПЗС'!$E:$E, $I64, '11.ПЗС'!AD:AD))","v":0},{"$f":"IF($I64=\"\", 0, SUMIF('7.СМР'!$E:$E, $I64, '7.СМР'!AD:AD)+SUMIF('8.ОСС'!$E:$E, $I64, '8.ОСС'!AV:AV)+SUMIF('9.ПИР'!$E:$E, $I64, '9.ПИР'!AD:AD)+SUMIF('10.БКП'!$E:$E, $I64, '10.БКП'!AD:AD)+SUMIF('11.ПЗС'!$E:$E, $I64, '11.ПЗС'!AE:AE))","v":0},{"$f":"IF($I64=\"\", 0, SUMIF('7.СМР'!$E:$E, $I64, '7.СМР'!AE:AE)+SUMIF('8.ОСС'!$E:$E, $I64, '8.ОСС'!AW:AW)+SUMIF('9.ПИР'!$E:$E, $I64, '9.ПИР'!AE:AE)+SUMIF('10.БКП'!$E:$E, $I64, '10.БКП'!AE:AE)+SUMIF('11.ПЗС'!$E:$E, $I64, '11.ПЗС'!AF:AF))","v":0},null,"","","",{"$f":"IF($I64=\"\", \"\", VLOOKUP($I64,objects, '05.РКС'!L$18-'05.РКС'!$B$18+1, 0))","v":""},{"$f":"IF($I64=\"\", \"\", VLOOKUP($I64,objects, '05.РКС'!M$18-'05.РКС'!$B$18+1, 0))","v":""},{"$f":"IF($I64=\"\", \"\", VLOOKUP($I64,objects, '05.РКС'!N$18-'05.РКС'!$B$18+1, 0))","v":""},{"$f":"IF($I64=\"\", \"\", VLOOKUP($I64,objects, '05.РКС'!P$18-'05.РКС'!$B$18+1, 0))","v":""},0]
[null,null,"","","","","","",{"$f":"IF(ISBLANK('05.РКС'!B66), \"\", '05.РКС'!B66)","v":""},"",{"$f":"IF($I65=\"\", 0, SUMIF('7.СМР'!$E:$E, $I65, '7.СМР'!G:G)+SUMIF('8.ОСС'!$E:$E, $I65, '8.ОСС'!Y:Y)+SUMIF('9.ПИР'!$E:$E, $I65, '9.ПИР'!G:G)+SUMIF('10.БКП'!$E:$E, $I65, '10.БКП'!G:G)+SUMIF('11.ПЗС'!$E:$E, $I65, '11.ПЗС'!H:H))","v":0},{"$f":"IF($I65=\"\", 0, SUMIF('7.СМР'!$E:$E, $I65, '7.СМР'!H:H)+SUMIF('8.ОСС'!$E:$E, $I65, '8.ОСС'!Z:Z)+SUMIF('9.ПИР'!$E:$E, $I65, '9.ПИР'!H:H)+SUMIF('10.БКП'!$E:$E, $I65, '10.БКП'!H:H)+SUMIF('11.ПЗС'!$E:$E, $I65, '11.ПЗС'!I:I))","v":0},{"$f":"IF($I65=\"\", 0, SUMIF('7.СМР'!$E:$E, $I65, '7.СМР'!I:I)+SUMIF('8.ОСС'!$E:$E, $I65, '8.ОСС'!AA:AA)+SUMIF('9.ПИР'!$E:$E, $I65, '9.ПИР'!I:I)+SUMIF('10.БКП'!$E:$E, $I65, '10.БКП'!I:I)+SUMIF('11.ПЗС'!$E:$E, $I65, '11.ПЗС'!J:J))","v":0},{"$f":"IF($I65=\"\", 0, SUMIF('7.СМР'!$E:$E, $I65, '7.СМР'!J:J)+SUMIF('8.ОСС'!$E:$E, $I65, '8.ОСС'!AB:AB)+SUMIF('9.ПИР'!$E:$E, $I65, '9.ПИР'!J:J)+SUMIF('10.БКП'!$E:$E, $I65, '10.БКП'!J:J)+SUMIF('11.ПЗС'!$E:$E, $I65, '11.ПЗС'!K:K))","v":0},{"$f":"IF($I65=\"\", 0, SUMIF('7.СМР'!$E:$E, $I65, '7.СМР'!K:K)+SUMIF('8.ОСС'!$E:$E, $I65, '8.ОСС'!AC:AC)+SUMIF('9.ПИР'!$E:$E, $I65, '9.ПИР'!K:K)+SUMIF('10.БКП'!$E:$E, $I65, '10.БКП'!K:K)+SUMIF('11.ПЗС'!$E:$E, $I65, '11.ПЗС'!L:L))","v":0},{"$f":"IF($I65=\"\", 0, SUMIF('7.СМР'!$E:$E, $I65, '7.СМР'!L:L)+SUMIF('8.ОСС'!$E:$E, $I65, '8.ОСС'!AD:AD)+SUMIF('9.ПИР'!$E:$E, $I65, '9.ПИР'!L:L)+SUMIF('10.БКП'!$E:$E, $I65, '10.БКП'!L:L)+SUMIF('11.ПЗС'!$E:$E, $I65, '11.ПЗС'!M:M))","v":0},{"$f":"IF($I65=\"\", 0, SUMIF('7.СМР'!$E:$E, $I65, '7.СМР'!M:M)+SUMIF('8.ОСС'!$E:$E, $I65, '8.ОСС'!AE:AE)+SUMIF('9.ПИР'!$E:$E, $I65, '9.ПИР'!M:M)+SUMIF('10.БКП'!$E:$E, $I65, '10.БКП'!M:M)+SUMIF('11.ПЗС'!$E:$E, $I65, '11.ПЗС'!N:N))","v":0},{"$f":"IF($I65=\"\", 0, SUMIF('7.СМР'!$E:$E, $I65, '7.СМР'!N:N)+SUMIF('8.ОСС'!$E:$E, $I65, '8.ОСС'!AF:AF)+SUMIF('9.ПИР'!$E:$E, $I65, '9.ПИР'!N:N)+SUMIF('10.БКП'!$E:$E, $I65, '10.БКП'!N:N)+SUMIF('11.ПЗС'!$E:$E, $I65, '11.ПЗС'!O:O))","v":0},{"$f":"IF($I65=\"\", 0, SUMIF('7.СМР'!$E:$E, $I65, '7.СМР'!O:O)+SUMIF('8.ОСС'!$E:$E, $I65, '8.ОСС'!AG:AG)+SUMIF('9.ПИР'!$E:$E, $I65, '9.ПИР'!O:O)+SUMIF('10.БКП'!$E:$E, $I65, '10.БКП'!O:O)+SUMIF('11.ПЗС'!$E:$E, $I65, '11.ПЗС'!P:P))","v":0},{"$f":"IF($I65=\"\", 0, SUMIF('7.СМР'!$E:$E, $I65, '7.СМР'!P:P)+SUMIF('8.ОСС'!$E:$E, $I65, '8.ОСС'!AH:AH)+SUMIF('9.ПИР'!$E:$E, $I65, '9.ПИР'!P:P)+SUMIF('10.БКП'!$E:$E, $I65, '10.БКП'!P:P)+SUMIF('11.ПЗС'!$E:$E, $I65, '11.ПЗС'!Q:Q))","v":0},0,0,0,0,null,0,0,{"$f":"IF($I65=\"\", 0, SUMIF('7.СМР'!$E:$E, $I65, '7.СМР'!X:X)+SUMIF('8.ОСС'!$E:$E, $I65, '8.ОСС'!AP:AP)+SUMIF('9.ПИР'!$E:$E, $I65, '9.ПИР'!X:X)+SUMIF('10.БКП'!$E:$E, $I65, '10.БКП'!X:X)+SUMIF('11.ПЗС'!$E:$E, $I65, '11.ПЗС'!Y:Y))","v":0},{"$f":"IF($I65=\"\", 0, SUMIF('7.СМР'!$E:$E, $I65, '7.СМР'!Y:Y)+SUMIF('8.ОСС'!$E:$E, $I65, '8.ОСС'!AQ:AQ)+SUMIF('9.ПИР'!$E:$E, $I65, '9.ПИР'!Y:Y)+SUMIF('10.БКП'!$E:$E, $I65, '10.БКП'!Y:Y)+SUMIF('11.ПЗС'!$E:$E, $I65, '11.ПЗС'!Z:Z))","v":0},{"$f":"IF($I65=\"\", 0, SUMIF('7.СМР'!$E:$E, $I65, '7.СМР'!Z:Z)+SUMIF('8.ОСС'!$E:$E, $I65, '8.ОСС'!AR:AR)+SUMIF('9.ПИР'!$E:$E, $I65, '9.ПИР'!Z:Z)+SUMIF('10.БКП'!$E:$E, $I65, '10.БКП'!Z:Z)+SUMIF('11.ПЗС'!$E:$E, $I65, '11.ПЗС'!AA:AA))","v":0},{"$f":"IF($I65=\"\", 0, SUMIF('7.СМР'!$E:$E, $I65, '7.СМР'!AA:AA)+SUMIF('8.ОСС'!$E:$E, $I65, '8.ОСС'!AS:AS)+SUMIF('9.ПИР'!$E:$E, $I65, '9.ПИР'!AA:AA)+SUMIF('10.БКП'!$E:$E, $I65, '10.БКП'!AA:AA)+SUMIF('11.ПЗС'!$E:$E, $I65, '11.ПЗС'!AB:AB))","v":0},{"$f":"IF($I65=\"\", 0, SUMIF('7.СМР'!$E:$E, $I65, '7.СМР'!AB:AB)+SUMIF('8.ОСС'!$E:$E, $I65, '8.ОСС'!AT:AT)+SUMIF('9.ПИР'!$E:$E, $I65, '9.ПИР'!AB:AB)+SUMIF('10.БКП'!$E:$E, $I65, '10.БКП'!AB:AB)+SUMIF('11.ПЗС'!$E:$E, $I65, '11.ПЗС'!AC:AC))","v":0},{"$f":"IF($I65=\"\", 0, SUMIF('7.СМР'!$E:$E, $I65, '7.СМР'!AC:AC)+SUMIF('8.ОСС'!$E:$E, $I65, '8.ОСС'!AU:AU)+SUMIF('9.ПИР'!$E:$E, $I65, '9.ПИР'!AC:AC)+SUMIF('10.БКП'!$E:$E, $I65, '10.БКП'!AC:AC)+SUMIF('11.ПЗС'!$E:$E, $I65, '11.ПЗС'!AD:AD))","v":0},{"$f":"IF($I65=\"\", 0, SUMIF('7.СМР'!$E:$E, $I65, '7.СМР'!AD:AD)+SUMIF('8.ОСС'!$E:$E, $I65, '8.ОСС'!AV:AV)+SUMIF('9.ПИР'!$E:$E, $I65, '9.ПИР'!AD:AD)+SUMIF('10.БКП'!$E:$E, $I65, '10.БКП'!AD:AD)+SUMIF('11.ПЗС'!$E:$E, $I65, '11.ПЗС'!AE:AE))","v":0},{"$f":"IF($I65=\"\", 0, SUMIF('7.СМР'!$E:$E, $I65, '7.СМР'!AE:AE)+SUMIF('8.ОСС'!$E:$E, $I65, '8.ОСС'!AW:AW)+SUMIF('9.ПИР'!$E:$E, $I65, '9.ПИР'!AE:AE)+SUMIF('10.БКП'!$E:$E, $I65, '10.БКП'!AE:AE)+SUMIF('11.ПЗС'!$E:$E, $I65, '11.ПЗС'!AF:AF))","v":0},null,"","","",{"$f":"IF($I65=\"\", \"\", VLOOKUP($I65,objects, '05.РКС'!L$18-'05.РКС'!$B$18+1, 0))","v":""},{"$f":"IF($I65=\"\", \"\", VLOOKUP($I65,objects, '05.РКС'!M$18-'05.РКС'!$B$18+1, 0))","v":""},{"$f":"IF($I65=\"\", \"\", VLOOKUP($I65,objects, '05.РКС'!N$18-'05.РКС'!$B$18+1, 0))","v":""},{"$f":"IF($I65=\"\", \"\", VLOOKUP($I65,objects, '05.РКС'!P$18-'05.РКС'!$B$18+1, 0))","v":""},0]
[null,null,{"$f":"IF(I66=\"\", \"\", VLOOKUP(I66,objects, 3, 0))","v":""},{"$f":"IF(I66=\"\", \"\", VLOOKUP(I66,objects, 7, 0))","v":""},{"$f":"IF(I66=\"\", \"\", VLOOKUP(I66,objects, 4, 0))","v":""},{"$f":"IF(I66=\"\", \"\", VLOOKUP(I66,objects, 5, 0))","v":""},{"$f":"IF(I66=\"\", \"\", VLOOKUP(I66,objects, 6, 0))","v":""},{"$f":"IF(I66=\"\", \"\", VLOOKUP(I66,objects, 8, 0))","v":""},{"$f":"IF(ISBLANK('05.РКС'!B59), \"\", '05.РКС'!B59)","v":""},{"$f":"IF(I66=\"\", \"\", VLOOKUP(I66,objects, 2, 0))","v":""},{"$f":"IF($I66=\"\", 0, SUMIF('7.СМР'!$E:$E, $I66, '7.СМР'!G:G)+SUMIF('8.ОСС'!$E:$E, $I66, '8.ОСС'!Y:Y)+SUMIF('9.ПИР'!$E:$E, $I66, '9.ПИР'!G:G)+SUMIF('10.БКП'!$E:$E, $I66, '10.БКП'!G:G)+SUMIF('11.ПЗС'!$E:$E, $I66, '11.ПЗС'!H:H))","v":0},{"$f":"IF($I66=\"\", 0, SUMIF('7.СМР'!$E:$E, $I66, '7.СМР'!H:H)+SUMIF('8.ОСС'!$E:$E, $I66, '8.ОСС'!Z:Z)+SUMIF('9.ПИР'!$E:$E, $I66, '9.ПИР'!H:H)+SUMIF('10.БКП'!$E:$E, $I66, '10.БКП'!H:H)+SUMIF('11.ПЗС'!$E:$E, $I66, '11.ПЗС'!I:I))","v":0},{"$f":"IF($I66=\"\", 0, SUMIF('7.СМР'!$E:$E, $I66, '7.СМР'!I:I)+SUMIF('8.ОСС'!$E:$E, $I66, '8.ОСС'!AA:AA)+SUMIF('9.ПИР'!$E:$E, $I66, '9.ПИР'!I:I)+SUMIF('10.БКП'!$E:$E, $I66, '10.БКП'!I:I)+SUMIF('11.ПЗС'!$E:$E, $I66, '11.ПЗС'!J:J))","v":0},{"$f":"IF($I66=\"\", 0, SUMIF('7.СМР'!$E:$E, $I66, '7.СМР'!J:J)+SUMIF('8.ОСС'!$E:$E, $I66, '8.ОСС'!AB:AB)+SUMIF('9.ПИР'!$E:$E, $I66, '9.ПИР'!J:J)+SUMIF('10.БКП'!$E:$E, $I66, '10.БКП'!J:J)+SUMIF('11.ПЗС'!$E:$E, $I66, '11.ПЗС'!K:K))","v":0},{"$f":"IF($I66=\"\", 0, SUMIF('7.СМР'!$E:$E, $I66, '7.СМР'!K:K)+SUMIF('8.ОСС'!$E:$E, $I66, '8.ОСС'!AC:AC)+SUMIF('9.ПИР'!$E:$E, $I66, '9.ПИР'!K:K)+SUMIF('10.БКП'!$E:$E, $I66, '10.БКП'!K:K)+SUMIF('11.ПЗС'!$E:$E, $I66, '11.ПЗС'!L:L))","v":0},{"$f":"IF($I66=\"\", 0, SUMIF('7.СМР'!$E:$E, $I66, '7.СМР'!L:L)+SUMIF('8.ОСС'!$E:$E, $I66, '8.ОСС'!AD:AD)+SUMIF('9.ПИР'!$E:$E, $I66, '9.ПИР'!L:L)+SUMIF('10.БКП'!$E:$E, $I66, '10.БКП'!L:L)+SUMIF('11.ПЗС'!$E:$E, $I66, '11.ПЗС'!M:M))","v":0},{"$f":"IF($I66=\"\", 0, SUMIF('7.СМР'!$E:$E, $I66, '7.СМР'!M:M)+SUMIF('8.ОСС'!$E:$E, $I66, '8.ОСС'!AE:AE)+SUMIF('9.ПИР'!$E:$E, $I66, '9.ПИР'!M:M)+SUMIF('10.БКП'!$E:$E, $I66, '10.БКП'!M:M)+SUMIF('11.ПЗС'!$E:$E, $I66, '11.ПЗС'!N:N))","v":0},{"$f":"IF($I66=\"\", 0, SUMIF('7.СМР'!$E:$E, $I66, '7.СМР'!N:N)+SUMIF('8.ОСС'!$E:$E, $I66, '8.ОСС'!AF:AF)+SUMIF('9.ПИР'!$E:$E, $I66, '9.ПИР'!N:N)+SUMIF('10.БКП'!$E:$E, $I66, '10.БКП'!N:N)+SUMIF('11.ПЗС'!$E:$E, $I66, '11.ПЗС'!O:O))","v":0},{"$f":"IF($I66=\"\", 0, SUMIF('7.СМР'!$E:$E, $I66, '7.СМР'!O:O)+SUMIF('8.ОСС'!$E:$E, $I66, '8.ОСС'!AG:AG)+SUMIF('9.ПИР'!$E:$E, $I66, '9.ПИР'!O:O)+SUMIF('10.БКП'!$E:$E, $I66, '10.БКП'!O:O)+SUMIF('11.ПЗС'!$E:$E, $I66, '11.ПЗС'!P:P))","v":0},{"$f":"IF($I66=\"\", 0, SUMIF('7.СМР'!$E:$E, $I66, '7.СМР'!P:P)+SUMIF('8.ОСС'!$E:$E, $I66, '8.ОСС'!AH:AH)+SUMIF('9.ПИР'!$E:$E, $I66, '9.ПИР'!P:P)+SUMIF('10.БКП'!$E:$E, $I66, '10.БКП'!P:P)+SUMIF('11.ПЗС'!$E:$E, $I66, '11.ПЗС'!Q:Q))","v":0},{"$f":"IF(period=period_1Q, L66, IF(period=period_1H, SUM(L66:M66), IF(period=period_9M, SUM(L66:N66), IF(period=period_1Y,SUM(L66:O66),0))))","v":0},{"$f":"IF(period=period_1Q, Q66, IF(period=period_1H, SUM(Q66:R66), IF(period=period_9M, SUM(Q66:S66), IF(period=period_1Y,SUM(Q66:T66),0))))","v":0},{"$f":"V66-U66","v":0},{"$f":"IFERROR(W66/U66, 0)","v":0},null,{"$f":"SUM(AB66:AD66)","v":0},{"$f":"IFERROR(Z66/K66, 0)","v":0},{"$f":"IF($I66=\"\", 0, SUMIF('7.СМР'!$E:$E, $I66, '7.СМР'!X:X)+SUMIF('8.ОСС'!$E:$E, $I66, '8.ОСС'!AP:AP)+SUMIF('9.ПИР'!$E:$E, $I66, '9.ПИР'!X:X)+SUMIF('10.БКП'!$E:$E, $I66, '10.БКП'!X:X)+SUMIF('11.ПЗС'!$E:$E, $I66, '11.ПЗС'!Y:Y))","v":0},{"$f":"IF($I66=\"\", 0, SUMIF('7.СМР'!$E:$E, $I66, '7.СМР'!Y:Y)+SUMIF('8.ОСС'!$E:$E, $I66, '8.ОСС'!AQ:AQ)+SUMIF('9.ПИР'!$E:$E, $I66, '9.ПИР'!Y:Y)+SUMIF('10.БКП'!$E:$E, $I66, '10.БКП'!Y:Y)+SUMIF('11.ПЗС'!$E:$E, $I66, '11.ПЗС'!Z:Z))","v":0},{"$f":"IF($I66=\"\", 0, SUMIF('7.СМР'!$E:$E, $I66, '7.СМР'!Z:Z)+SUMIF('8.ОСС'!$E:$E, $I66, '8.ОСС'!AR:AR)+SUMIF('9.ПИР'!$E:$E, $I66, '9.ПИР'!Z:Z)+SUMIF('10.БКП'!$E:$E, $I66, '10.БКП'!Z:Z)+SUMIF('11.ПЗС'!$E:$E, $I66, '11.ПЗС'!AA:AA))","v":0},{"$f":"IF($I66=\"\", 0, SUMIF('7.СМР'!$E:$E, $I66, '7.СМР'!AA:AA)+SUMIF('8.ОСС'!$E:$E, $I66, '8.ОСС'!AS:AS)+SUMIF('9.ПИР'!$E:$E, $I66, '9.ПИР'!AA:AA)+SUMIF('10.БКП'!$E:$E, $I66, '10.БКП'!AA:AA)+SUMIF('11.ПЗС'!$E:$E, $I66, '11.ПЗС'!AB:AB))","v":0},{"$f":"IF($I66=\"\", 0, SUMIF('7.СМР'!$E:$E, $I66, '7.СМР'!AB:AB)+SUMIF('8.ОСС'!$E:$E, $I66, '8.ОСС'!AT:AT)+SUMIF('9.ПИР'!$E:$E, $I66, '9.ПИР'!AB:AB)+SUMIF('10.БКП'!$E:$E, $I66, '10.БКП'!AB:AB)+SUMIF('11.ПЗС'!$E:$E, $I66, '11.ПЗС'!AC:AC))","v":0},{"$f":"IF($I66=\"\", 0, SUMIF('7.СМР'!$E:$E, $I66, '7.СМР'!AC:AC)+SUMIF('8.ОСС'!$E:$E, $I66, '8.ОСС'!AU:AU)+SUMIF('9.ПИР'!$E:$E, $I66, '9.ПИР'!AC:AC)+SUMIF('10.БКП'!$E:$E, $I66, '10.БКП'!AC:AC)+SUMIF('11.ПЗС'!$E:$E, $I66, '11.ПЗС'!AD:AD))","v":0},{"$f":"IF($I66=\"\", 0, SUMIF('7.СМР'!$E:$E, $I66, '7.СМР'!AD:AD)+SUMIF('8.ОСС'!$E:$E, $I66, '8.ОСС'!AV:AV)+SUMIF('9.ПИР'!$E:$E, $I66, '9.ПИР'!AD:AD)+SUMIF('10.БКП'!$E:$E, $I66, '10.БКП'!AD:AD)+SUMIF('11.ПЗС'!$E:$E, $I66, '11.ПЗС'!AE:AE))","v":0},{"$f":"IF($I66=\"\", 0, SUMIF('7.СМР'!$E:$E, $I66, '7.СМР'!AE:AE)+SUMIF('8.ОСС'!$E:$E, $I66, '8.ОСС'!AW:AW)+SUMIF('9.ПИР'!$E:$E, $I66, '9.ПИР'!AE:AE)+SUMIF('10.БКП'!$E:$E, $I66, '10.БКП'!AE:AE)+SUMIF('11.ПЗС'!$E:$E, $I66, '11.ПЗС'!AF:AF))","v":0},null,"","","",{"$f":"IF($I66=\"\", \"\", VLOOKUP($I66,objects, '05.РКС'!L$18-'05.РКС'!$B$18+1, 0))","v":""},{"$f":"IF($I66=\"\", \"\", VLOOKUP($I66,objects, '05.РКС'!M$18-'05.РКС'!$B$18+1, 0))","v":""},{"$f":"IF($I66=\"\", \"\", VLOOKUP($I66,objects, '05.РКС'!N$18-'05.РКС'!$B$18+1, 0))","v":""},{"$f":"IF($I66=\"\", \"\", VLOOKUP($I66,objects, '05.РКС'!P$18-'05.РКС'!$B$18+1, 0))","v":""},0]
[null,null,"","","","","","",{"$f":"IF(ISBLANK('05.РКС'!B60), \"\", '05.РКС'!B60)","v":""},"",{"$f":"IF($I67=\"\", 0, SUMIF('7.СМР'!$E:$E, $I67, '7.СМР'!G:G)+SUMIF('8.ОСС'!$E:$E, $I67, '8.ОСС'!Y:Y)+SUMIF('9.ПИР'!$E:$E, $I67, '9.ПИР'!G:G)+SUMIF('10.БКП'!$E:$E, $I67, '10.БКП'!G:G)+SUMIF('11.ПЗС'!$E:$E, $I67, '11.ПЗС'!H:H))","v":0},{"$f":"IF($I67=\"\", 0, SUMIF('7.СМР'!$E:$E, $I67, '7.СМР'!H:H)+SUMIF('8.ОСС'!$E:$E, $I67, '8.ОСС'!Z:Z)+SUMIF('9.ПИР'!$E:$E, $I67, '9.ПИР'!H:H)+SUMIF('10.БКП'!$E:$E, $I67, '10.БКП'!H:H)+SUMIF('11.ПЗС'!$E:$E, $I67, '11.ПЗС'!I:I))","v":0},{"$f":"IF($I67=\"\", 0, SUMIF('7.СМР'!$E:$E, $I67, '7.СМР'!I:I)+SUMIF('8.ОСС'!$E:$E, $I67, '8.ОСС'!AA:AA)+SUMIF('9.ПИР'!$E:$E, $I67, '9.ПИР'!I:I)+SUMIF('10.БКП'!$E:$E, $I67, '10.БКП'!I:I)+SUMIF('11.ПЗС'!$E:$E, $I67, '11.ПЗС'!J:J))","v":0},{"$f":"IF($I67=\"\", 0, SUMIF('7.СМР'!$E:$E, $I67, '7.СМР'!J:J)+SUMIF('8.ОСС'!$E:$E, $I67, '8.ОСС'!AB:AB)+SUMIF('9.ПИР'!$E:$E, $I67, '9.ПИР'!J:J)+SUMIF('10.БКП'!$E:$E, $I67, '10.БКП'!J:J)+SUMIF('11.ПЗС'!$E:$E, $I67, '11.ПЗС'!K:K))","v":0},{"$f":"IF($I67=\"\", 0, SUMIF('7.СМР'!$E:$E, $I67, '7.СМР'!K:K)+SUMIF('8.ОСС'!$E:$E, $I67, '8.ОСС'!AC:AC)+SUMIF('9.ПИР'!$E:$E, $I67, '9.ПИР'!K:K)+SUMIF('10.БКП'!$E:$E, $I67, '10.БКП'!K:K)+SUMIF('11.ПЗС'!$E:$E, $I67, '11.ПЗС'!L:L))","v":0},{"$f":"IF($I67=\"\", 0, SUMIF('7.СМР'!$E:$E, $I67, '7.СМР'!L:L)+SUMIF('8.ОСС'!$E:$E, $I67, '8.ОСС'!AD:AD)+SUMIF('9.ПИР'!$E:$E, $I67, '9.ПИР'!L:L)+SUMIF('10.БКП'!$E:$E, $I67, '10.БКП'!L:L)+SUMIF('11.ПЗС'!$E:$E, $I67, '11.ПЗС'!M:M))","v":0},{"$f":"IF($I67=\"\", 0, SUMIF('7.СМР'!$E:$E, $I67, '7.СМР'!M:M)+SUMIF('8.ОСС'!$E:$E, $I67, '8.ОСС'!AE:AE)+SUMIF('9.ПИР'!$E:$E, $I67, '9.ПИР'!M:M)+SUMIF('10.БКП'!$E:$E, $I67, '10.БКП'!M:M)+SUMIF('11.ПЗС'!$E:$E, $I67, '11.ПЗС'!N:N))","v":0},{"$f":"IF($I67=\"\", 0, SUMIF('7.СМР'!$E:$E, $I67, '7.СМР'!N:N)+SUMIF('8.ОСС'!$E:$E, $I67, '8.ОСС'!AF:AF)+SUMIF('9.ПИР'!$E:$E, $I67, '9.ПИР'!N:N)+SUMIF('10.БКП'!$E:$E, $I67, '10.БКП'!N:N)+SUMIF('11.ПЗС'!$E:$E, $I67, '11.ПЗС'!O:O))","v":0},{"$f":"IF($I67=\"\", 0, SUMIF('7.СМР'!$E:$E, $I67, '7.СМР'!O:O)+SUMIF('8.ОСС'!$E:$E, $I67, '8.ОСС'!AG:AG)+SUMIF('9.ПИР'!$E:$E, $I67, '9.ПИР'!O:O)+SUMIF('10.БКП'!$E:$E, $I67, '10.БКП'!O:O)+SUMIF('11.ПЗС'!$E:$E, $I67, '11.ПЗС'!P:P))","v":0},{"$f":"IF($I67=\"\", 0, SUMIF('7.СМР'!$E:$E, $I67, '7.СМР'!P:P)+SUMIF('8.ОСС'!$E:$E, $I67, '8.ОСС'!AH:AH)+SUMIF('9.ПИР'!$E:$E, $I67, '9.ПИР'!P:P)+SUMIF('10.БКП'!$E:$E, $I67, '10.БКП'!P:P)+SUMIF('11.ПЗС'!$E:$E, $I67, '11.ПЗС'!Q:Q))","v":0},0,0,0,0,null,0,0,{"$f":"IF($I67=\"\", 0, SUMIF('7.СМР'!$E:$E, $I67, '7.СМР'!X:X)+SUMIF('8.ОСС'!$E:$E, $I67, '8.ОСС'!AP:AP)+SUMIF('9.ПИР'!$E:$E, $I67, '9.ПИР'!X:X)+SUMIF('10.БКП'!$E:$E, $I67, '10.БКП'!X:X)+SUMIF('11.ПЗС'!$E:$E, $I67, '11.ПЗС'!Y:Y))","v":0},{"$f":"IF($I67=\"\", 0, SUMIF('7.СМР'!$E:$E, $I67, '7.СМР'!Y:Y)+SUMIF('8.ОСС'!$E:$E, $I67, '8.ОСС'!AQ:AQ)+SUMIF('9.ПИР'!$E:$E, $I67, '9.ПИР'!Y:Y)+SUMIF('10.БКП'!$E:$E, $I67, '10.БКП'!Y:Y)+SUMIF('11.ПЗС'!$E:$E, $I67, '11.ПЗС'!Z:Z))","v":0},{"$f":"IF($I67=\"\", 0, SUMIF('7.СМР'!$E:$E, $I67, '7.СМР'!Z:Z)+SUMIF('8.ОСС'!$E:$E, $I67, '8.ОСС'!AR:AR)+SUMIF('9.ПИР'!$E:$E, $I67, '9.ПИР'!Z:Z)+SUMIF('10.БКП'!$E:$E, $I67, '10.БКП'!Z:Z)+SUMIF('11.ПЗС'!$E:$E, $I67, '11.ПЗС'!AA:AA))","v":0},{"$f":"IF($I67=\"\", 0, SUMIF('7.СМР'!$E:$E, $I67, '7.СМР'!AA:AA)+SUMIF('8.ОСС'!$E:$E, $I67, '8.ОСС'!AS:AS)+SUMIF('9.ПИР'!$E:$E, $I67, '9.ПИР'!AA:AA)+SUMIF('10.БКП'!$E:$E, $I67, '10.БКП'!AA:AA)+SUMIF('11.ПЗС'!$E:$E, $I67, '11.ПЗС'!AB:AB))","v":0},{"$f":"IF($I67=\"\", 0, SUMIF('7.СМР'!$E:$E, $I67, '7.СМР'!AB:AB)+SUMIF('8.ОСС'!$E:$E, $I67, '8.ОСС'!AT:AT)+SUMIF('9.ПИР'!$E:$E, $I67, '9.ПИР'!AB:AB)+SUMIF('10.БКП'!$E:$E, $I67, '10.БКП'!AB:AB)+SUMIF('11.ПЗС'!$E:$E, $I67, '11.ПЗС'!AC:AC))","v":0},{"$f":"IF($I67=\"\", 0, SUMIF('7.СМР'!$E:$E, $I67, '7.СМР'!AC:AC)+SUMIF('8.ОСС'!$E:$E, $I67, '8.ОСС'!AU:AU)+SUMIF('9.ПИР'!$E:$E, $I67, '9.ПИР'!AC:AC)+SUMIF('10.БКП'!$E:$E, $I67, '10.БКП'!AC:AC)+SUMIF('11.ПЗС'!$E:$E, $I67, '11.ПЗС'!AD:AD))","v":0},{"$f":"IF($I67=\"\", 0, SUMIF('7.СМР'!$E:$E, $I67, '7.СМР'!AD:AD)+SUMIF('8.ОСС'!$E:$E, $I67, '8.ОСС'!AV:AV)+SUMIF('9.ПИР'!$E:$E, $I67, '9.ПИР'!AD:AD)+SUMIF('10.БКП'!$E:$E, $I67, '10.БКП'!AD:AD)+SUMIF('11.ПЗС'!$E:$E, $I67, '11.ПЗС'!AE:AE))","v":0},{"$f":"IF($I67=\"\", 0, SUMIF('7.СМР'!$E:$E, $I67, '7.СМР'!AE:AE)+SUMIF('8.ОСС'!$E:$E, $I67, '8.ОСС'!AW:AW)+SUMIF('9.ПИР'!$E:$E, $I67, '9.ПИР'!AE:AE)+SUMIF('10.БКП'!$E:$E, $I67, '10.БКП'!AE:AE)+SUMIF('11.ПЗС'!$E:$E, $I67, '11.ПЗС'!AF:AF))","v":0},null,"","","",{"$f":"IF($I67=\"\", \"\", VLOOKUP($I67,objects, '05.РКС'!L$18-'05.РКС'!$B$18+1, 0))","v":""},{"$f":"IF($I67=\"\", \"\", VLOOKUP($I67,objects, '05.РКС'!M$18-'05.РКС'!$B$18+1, 0))","v":""},{"$f":"IF($I67=\"\", \"\", VLOOKUP($I67,objects, '05.РКС'!N$18-'05.РКС'!$B$18+1, 0))","v":""},{"$f":"IF($I67=\"\", \"\", VLOOKUP($I67,objects, '05.РКС'!P$18-'05.РКС'!$B$18+1, 0))","v":""},0]
[null,null,"","","","","","",{"$f":"IF(ISBLANK('05.РКС'!B61), \"\", '05.РКС'!B61)","v":""},"",{"$f":"IF($I68=\"\", 0, SUMIF('7.СМР'!$E:$E, $I68, '7.СМР'!G:G)+SUMIF('8.ОСС'!$E:$E, $I68, '8.ОСС'!Y:Y)+SUMIF('9.ПИР'!$E:$E, $I68, '9.ПИР'!G:G)+SUMIF('10.БКП'!$E:$E, $I68, '10.БКП'!G:G)+SUMIF('11.ПЗС'!$E:$E, $I68, '11.ПЗС'!H:H))","v":0},{"$f":"IF($I68=\"\", 0, SUMIF('7.СМР'!$E:$E, $I68, '7.СМР'!H:H)+SUMIF('8.ОСС'!$E:$E, $I68, '8.ОСС'!Z:Z)+SUMIF('9.ПИР'!$E:$E, $I68, '9.ПИР'!H:H)+SUMIF('10.БКП'!$E:$E, $I68, '10.БКП'!H:H)+SUMIF('11.ПЗС'!$E:$E, $I68, '11.ПЗС'!I:I))","v":0},{"$f":"IF($I68=\"\", 0, SUMIF('7.СМР'!$E:$E, $I68, '7.СМР'!I:I)+SUMIF('8.ОСС'!$E:$E, $I68, '8.ОСС'!AA:AA)+SUMIF('9.ПИР'!$E:$E, $I68, '9.ПИР'!I:I)+SUMIF('10.БКП'!$E:$E, $I68, '10.БКП'!I:I)+SUMIF('11.ПЗС'!$E:$E, $I68, '11.ПЗС'!J:J))","v":0},{"$f":"IF($I68=\"\", 0, SUMIF('7.СМР'!$E:$E, $I68, '7.СМР'!J:J)+SUMIF('8.ОСС'!$E:$E, $I68, '8.ОСС'!AB:AB)+SUMIF('9.ПИР'!$E:$E, $I68, '9.ПИР'!J:J)+SUMIF('10.БКП'!$E:$E, $I68, '10.БКП'!J:J)+SUMIF('11.ПЗС'!$E:$E, $I68, '11.ПЗС'!K:K))","v":0},{"$f":"IF($I68=\"\", 0, SUMIF('7.СМР'!$E:$E, $I68, '7.СМР'!K:K)+SUMIF('8.ОСС'!$E:$E, $I68, '8.ОСС'!AC:AC)+SUMIF('9.ПИР'!$E:$E, $I68, '9.ПИР'!K:K)+SUMIF('10.БКП'!$E:$E, $I68, '10.БКП'!K:K)+SUMIF('11.ПЗС'!$E:$E, $I68, '11.ПЗС'!L:L))","v":0},{"$f":"IF($I68=\"\", 0, SUMIF('7.СМР'!$E:$E, $I68, '7.СМР'!L:L)+SUMIF('8.ОСС'!$E:$E, $I68, '8.ОСС'!AD:AD)+SUMIF('9.ПИР'!$E:$E, $I68, '9.ПИР'!L:L)+SUMIF('10.БКП'!$E:$E, $I68, '10.БКП'!L:L)+SUMIF('11.ПЗС'!$E:$E, $I68, '11.ПЗС'!M:M))","v":0},{"$f":"IF($I68=\"\", 0, SUMIF('7.СМР'!$E:$E, $I68, '7.СМР'!M:M)+SUMIF('8.ОСС'!$E:$E, $I68, '8.ОСС'!AE:AE)+SUMIF('9.ПИР'!$E:$E, $I68, '9.ПИР'!M:M)+SUMIF('10.БКП'!$E:$E, $I68, '10.БКП'!M:M)+SUMIF('11.ПЗС'!$E:$E, $I68, '11.ПЗС'!N:N))","v":0},{"$f":"IF($I68=\"\", 0, SUMIF('7.СМР'!$E:$E, $I68, '7.СМР'!N:N)+SUMIF('8.ОСС'!$E:$E, $I68, '8.ОСС'!AF:AF)+SUMIF('9.ПИР'!$E:$E, $I68, '9.ПИР'!N:N)+SUMIF('10.БКП'!$E:$E, $I68, '10.БКП'!N:N)+SUMIF('11.ПЗС'!$E:$E, $I68, '11.ПЗС'!O:O))","v":0},{"$f":"IF($I68=\"\", 0, SUMIF('7.СМР'!$E:$E, $I68, '7.СМР'!O:O)+SUMIF('8.ОСС'!$E:$E, $I68, '8.ОСС'!AG:AG)+SUMIF('9.ПИР'!$E:$E, $I68, '9.ПИР'!O:O)+SUMIF('10.БКП'!$E:$E, $I68, '10.БКП'!O:O)+SUMIF('11.ПЗС'!$E:$E, $I68, '11.ПЗС'!P:P))","v":0},{"$f":"IF($I68=\"\", 0, SUMIF('7.СМР'!$E:$E, $I68, '7.СМР'!P:P)+SUMIF('8.ОСС'!$E:$E, $I68, '8.ОСС'!AH:AH)+SUMIF('9.ПИР'!$E:$E, $I68, '9.ПИР'!P:P)+SUMIF('10.БКП'!$E:$E, $I68, '10.БКП'!P:P)+SUMIF('11.ПЗС'!$E:$E, $I68, '11.ПЗС'!Q:Q))","v":0},0,0,0,0,null,0,0,{"$f":"IF($I68=\"\", 0, SUMIF('7.СМР'!$E:$E, $I68, '7.СМР'!X:X)+SUMIF('8.ОСС'!$E:$E, $I68, '8.ОСС'!AP:AP)+SUMIF('9.ПИР'!$E:$E, $I68, '9.ПИР'!X:X)+SUMIF('10.БКП'!$E:$E, $I68, '10.БКП'!X:X)+SUMIF('11.ПЗС'!$E:$E, $I68, '11.ПЗС'!Y:Y))","v":0},{"$f":"IF($I68=\"\", 0, SUMIF('7.СМР'!$E:$E, $I68, '7.СМР'!Y:Y)+SUMIF('8.ОСС'!$E:$E, $I68, '8.ОСС'!AQ:AQ)+SUMIF('9.ПИР'!$E:$E, $I68, '9.ПИР'!Y:Y)+SUMIF('10.БКП'!$E:$E, $I68, '10.БКП'!Y:Y)+SUMIF('11.ПЗС'!$E:$E, $I68, '11.ПЗС'!Z:Z))","v":0},{"$f":"IF($I68=\"\", 0, SUMIF('7.СМР'!$E:$E, $I68, '7.СМР'!Z:Z)+SUMIF('8.ОСС'!$E:$E, $I68, '8.ОСС'!AR:AR)+SUMIF('9.ПИР'!$E:$E, $I68, '9.ПИР'!Z:Z)+SUMIF('10.БКП'!$E:$E, $I68, '10.БКП'!Z:Z)+SUMIF('11.ПЗС'!$E:$E, $I68, '11.ПЗС'!AA:AA))","v":0},{"$f":"IF($I68=\"\", 0, SUMIF('7.СМР'!$E:$E, $I68, '7.СМР'!AA:AA)+SUMIF('8.ОСС'!$E:$E, $I68, '8.ОСС'!AS:AS)+SUMIF('9.ПИР'!$E:$E, $I68, '9.ПИР'!AA:AA)+SUMIF('10.БКП'!$E:$E, $I68, '10.БКП'!AA:AA)+SUMIF('11.ПЗС'!$E:$E, $I68, '11.ПЗС'!AB:AB))","v":0},{"$f":"IF($I68=\"\", 0, SUMIF('7.СМР'!$E:$E, $I68, '7.СМР'!AB:AB)+SUMIF('8.ОСС'!$E:$E, $I68, '8.ОСС'!AT:AT)+SUMIF('9.ПИР'!$E:$E, $I68, '9.ПИР'!AB:AB)+SUMIF('10.БКП'!$E:$E, $I68, '10.БКП'!AB:AB)+SUMIF('11.ПЗС'!$E:$E, $I68, '11.ПЗС'!AC:AC))","v":0},{"$f":"IF($I68=\"\", 0, SUMIF('7.СМР'!$E:$E, $I68, '7.СМР'!AC:AC)+SUMIF('8.ОСС'!$E:$E, $I68, '8.ОСС'!AU:AU)+SUMIF('9.ПИР'!$E:$E, $I68, '9.ПИР'!AC:AC)+SUMIF('10.БКП'!$E:$E, $I68, '10.БКП'!AC:AC)+SUMIF('11.ПЗС'!$E:$E, $I68, '11.ПЗС'!AD:AD))","v":0},{"$f":"IF($I68=\"\", 0, SUMIF('7.СМР'!$E:$E, $I68, '7.СМР'!AD:AD)+SUMIF('8.ОСС'!$E:$E, $I68, '8.ОСС'!AV:AV)+SUMIF('9.ПИР'!$E:$E, $I68, '9.ПИР'!AD:AD)+SUMIF('10.БКП'!$E:$E, $I68, '10.БКП'!AD:AD)+SUMIF('11.ПЗС'!$E:$E, $I68, '11.ПЗС'!AE:AE))","v":0},{"$f":"IF($I68=\"\", 0, SUMIF('7.СМР'!$E:$E, $I68, '7.СМР'!AE:AE)+SUMIF('8.ОСС'!$E:$E, $I68, '8.ОСС'!AW:AW)+SUMIF('9.ПИР'!$E:$E, $I68, '9.ПИР'!AE:AE)+SUMIF('10.БКП'!$E:$E, $I68, '10.БКП'!AE:AE)+SUMIF('11.ПЗС'!$E:$E, $I68, '11.ПЗС'!AF:AF))","v":0}]
[null,null,null,"Сверка",null,null,null,null,null,null,{"$f":"ABS(K17-SUM(K18:K68))","v":0},0,0,0,0,0,0,0,0,0,0,0,0,null,null,{"$f":"ABS(Z17-SUM(Z18:Z68))","v":0},null,{"$f":"ABS(AB17-SUM(AB18:AB68))","v":0},{"$f":"ABS(AC17-SUM(AC18:AC68))","v":0},{"$f":"ABS(AD17-SUM(AD18:AD68))","v":0},{"$f":"ABS(AE17-SUM(AE18:AE68))","v":0},{"$f":"ABS(AF17-SUM(AF18:AF68))","v":0},{"$f":"ABS(AG17-SUM(AG18:AG68))","v":0},{"$f":"ABS(AH17-SUM(AH18:AH68))","v":0},{"$f":"ABS(AI17-SUM(AI18:AI68))","v":0}]
[null,"1  Форма заполняется по освоениию (начислению). Подробнее -порядок заполнения формы определён в \"Положении об инвестиционном бюджете АК \"АЛРОСА\" .",null,null,null,null,null,null,null,null,{"$f":"K20+K32+K33+K34+K39+K40+K44+K48+K49","v":19711.541000000001}]
[null,"2  Для непроектной деятельности код и название проекта не указываются.",null,null,null,null,null,null,null,null,{"$f":"'[3]7.СМР'!G20+'[3]7.СМР'!G32+'[3]7.СМР'!G33+'[3]7.СМР'!G34+'[3]9.ПИР'!G19+'[3]9.ПИР'!G20+'[3]11.ПЗС'!H20+'[3]11.ПЗС'!H24+'[3]11.ПЗС'!H25","v":95371.8}]
[null,"3  В графе \"Отклонение\" производится сравнение факта с плановым периодом нарастающим итогом."]
[null,"4  При отклонении более 10% (не зависимо +/-) в графе \"Комментарии по отклонениям\" в форме указывается причина отклонения. Подробно причины отклонений указываются в Пояснительной записке к инвестиционному бюджету/отчёту."]
[]
[]
[]
[null,null,null,null,null,null,"Исполнитель (ФИО):"]
[]
[]
[null,null,null,null,null,null,"Должность: "]
[]
[]
[null,null,null,null,null,null,"Контактный телефон:"]
[]
[]
[null,null,null,null,null,null,"Электронный адрес:"]

{"sheet":"4.СБО","index":8,"n_rows":64,"n_cols":31,"rows_kept":64,"cut":false,"hidden":false,"merged":[[11,18,14,18],[11,19,12,23],[11,24,11,28],[13,26,14,26],[13,27,14,27],[13,28,14,28],[11,29,14,29],[12,16,12,17],[12,25,12,28],[0,1,0,5],[11,1,14,1],[11,3,14,3],[11,2,14,2],[13,15,14,15],[13,16,14,16],[13,17,14,17],[13,19,13,20],[13,21,13,23],[13,24,14,24],[13,25,14,25],[13,14,14,14],[11,16,11,17],[5,2,5,3],[7,2,7,3],[11,4,11,13],[13,4,14,4],[13,5,14,5],[13,6,14,6],[13,7,14,7],[13,8,14,8],[13,9,14,9],[13,10,14,10],[13,11,14,11],[13,12,14,12],[13,13,14,13],[12,5,12,8],[12,10,12,13]]}
[null,"Назад к оглавлению",null,null,null,null,null,null,null,"base_fact","base_fact","base_fact","base_fact","base_fact","fact_fields","fact_fields","fact_fields","fact_fields","fact_fields","corr_fields","corr_fields","corr_fields","corr_fields","corr_fields","corr_fields","corr_fields","corr_fields","corr_fields","corr_fields","corr_fields"]
[]
[null,"Приложение № 2 к \"Положению об инвестиционном бюджете АК \"АЛРОСА\"\""]
[null,"Код формы: СБО"]
[]
[null,null,{"$f":"org","v":"АО \"Вилюйская ГЭС-3\""}]
[null,null,"Организационно-правовая форма и название Общества/структурного подразделения"]
[null,null,{"$f":"period_txt","v":"12 месяцев 2017"}]
[null,null," Плановый / отчётный период "]
[null,null,"Сводный бюджет инвестиций в оборудование"]
[null,"Тыс. руб. без НДС 1"]
[null,"№","Общество/ структурное подразделение","Наименование ","Плановый / отчётный период",null,null,null,null,null,null,null,null,null,"ПЛАН за","ФАКТ за","Отклонение за период2",null,"Комментарии по отклонениям3","Изменения к утверждённому плану по году",null,null,null,null,"Скорректированный план",null,null,null,null,"Комментарии по изменениям плана","Сверка"]
[null,null,null,null,"ПЛАН    ","в т.ч. по кварталам:",null,null,null,"ФАКТ ","в т.ч. по кварталам:",null,null,null,{"$f":"period","v":"12 месяцев"},{"$f":"O13","v":"12 месяцев"},"12 месяцев",null,null,null,null,null,null,null,"ПЛАН    ","в т.ч. по кварталам:"]
[null,null,null,null,"Год   всего","1 кв.","2 кв.","3 кв.","4 кв.","Год   всего","1 кв.","2 кв.","3 кв.","4 кв.","Тыс.    руб.","Тыс.    руб.","Тыс.    руб.","% ",null,"Изменение всего",null,"В т.ч.",null,null,"Год   всего","1 кв.","2 кв.","3 кв.","4 кв."]
[null,null,null,null,null,null,null,null,null,null,null,null,null,null,null,null,null,null,null,"Тыс.    руб.","%","Вновь добавлено\n(указывается со знаком \"+\")","Исключено (указывается со знаком \"-\")","Изменение стоимости\n(удорожание \"+\", удешвление \"-\")"]
[null,1,{"$f":"B16+1","v":2},3,4,5,6,7,8,9,10,11,12,13,14,15,16,17,18,19,20,21,22,23,24,25,26,27,28,29]
[null,null,null,"ОБОРУДОВАНИЕ - ВСЕГО (включая лизинг)",{"$f":"E19","v":58884.644466246391},407.4,414.88,16045.062926720962,42017.301539525426,52532.351999999999,407.4,415.233,8384.98,43324.739000000001,{"$f":"IF(period=period_1Q, F17, IF(period=period_1H, SUM(F17:G17), IF(period=period_9M, SUM(F17:H17), IF(period=period_1Y,SUM(F17:I17),0))))","v":58884.644466246391},{"$f":"IF(period=period_1Q, K17, IF(period=period_1H, SUM(K17:L17), IF(period=period_9M, SUM(K17:M17), IF(period=period_1Y,SUM(K17:N17),0))))","v":52532.351999999999},{"$f":"P17-O17","v":-6352.292466246392},{"$f":"IFERROR(Q17/O17, 0)","v":-0.10787689258933415},null,{"$f":"SUM(V17:X17)","v":0},{"$f":"IFERROR(T17/E17, 0)","v":0},{"$f":"V19","v":0},0,0,58884.644466246391,{"$f":"Z19","v":407.4},414.88,16045.062926720962,42017.301539525426,null,{"$f":"SUM(ABS(E17-SUM(F17:I17)), ABS(J17-SUM(K17:N17)), ABS(T17-SUM(V17:X17)), ABS(Y17-SUM(Z17:AC17)))","v":0}]
[null,null,null,null,null,null,null,null,null,null,null,null,null,null,null,null,null,null,null,null,null,null,null,null,null,null,null,null,null,null,0]
[null,"I.",null,"СТРУКТУРА ОБОРУДОВАНИЯ ПО ЦЕЛЯМ ПРИОБРЕТЕНИЯ",{"$f":"E21+E23","v":58884.644466246391},{"$f":"F21+F23","v":407.4},414.88,16045.062926720962,42017.301539525426,52532.351999999999,407.4,415.233,8384.98,43324.739000000001,{"$f":"IF(period=period_1Q, F19, IF(period=period_1H, SUM(F19:G19), IF(period=period_9M, SUM(F19:H19), IF(period=period_1Y,SUM(F19:I19),0))))","v":58884.644466246391},{"$f":"IF(period=period_1Q, K19, IF(period=period_1H, SUM(K19:L19), IF(period=period_9M, SUM(K19:M19), IF(period=period_1Y,SUM(K19:N19),0))))","v":52532.351999999999},-6352.292466246392,-0.10787689258933415,null,0,0,{"$f":"V21+V23","v":0},0,0,58884.644466246391,407.4,414.88,16045.062926720962,42017.301539525426,null,0]
[null,null,null,null,null,null,null,null,null,null,null,null,null,null,null,null,null,null,null,null,null,null,null,null,null,null,null,null,null,null,0]
[null,"1.",null,"Оборудование на строительство",{"$f":"SUM(E22:E22)","v":28589},0,0,4576,24013,20076.329000000002,0,0,0,20076.329000000002,{"$f":"IF(period=period_1Q, F21, IF(period=period_1H, SUM(F21:G21), IF(period=period_9M, SUM(F21:H21), IF(period=period_1Y,SUM(F21:I21),0))))","v":28589},{"$f":"IF(period=period_1Q, K21, IF(period=period_1H, SUM(K21:L21), IF(period=period_9M, SUM(K21:M21), IF(period=period_1Y,SUM(K21:N21),0))))","v":20076.329000000002},-8512.6709999999985,-0.29776036237713799,null,0,0,{"$f":"SUM(V22:V22)","v":0},0,0,28589,0,0,4576,24013,null,0]
[null,"1.1.",null,"Оборудование в смете на строительство",{"$f":"'8.ОСС'!Y17","v":28589},{"$f":"'8.ОСС'!Z17","v":0},{"$f":"'8.ОСС'!AA17","v":0},{"$f":"'8.ОСС'!AB17","v":4576},{"$f":"'8.ОСС'!AC17","v":24013},{"$f":"'8.ОСС'!AD17","v":20076.329000000002},{"$f":"'8.ОСС'!AE17","v":0},{"$f":"'8.ОСС'!AF17","v":0},{"$f":"'8.ОСС'!AG17","v":0},{"$f":"'8.ОСС'!AH17","v":20076.329000000002},28589,20076.329000000002,-8512.6709999999985,-0.29776036237713799,null,0,0,{"$f":"'8.ОСС'!AP17","v":0},{"$f":"'8.ОСС'!AQ17","v":0},{"$f":"'8.ОСС'!AR17","v":0},{"$f":"'8.ОСС'!AS17","v":28589},{"$f":"'8.ОСС'!AT17","v":0},{"$f":"'8.ОСС'!AU17","v":0},{"$f":"'8.ОСС'!AV17","v":4576},{"$f":"'8.ОСС'!AW17","v":24013},null,0]
[null,"2.",null,"Техническое перевооружение и замена изношенного",{"$f":"'5.ТП_ОВИЗ'!E17","v":30295.644466246387},{"$f":"'5.ТП_ОВИЗ'!F17","v":407.4},{"$f":"'5.ТП_ОВИЗ'!G17","v":414.88},{"$f":"'5.ТП_ОВИЗ'!H17","v":11469.062926720962},{"$f":"'5.ТП_ОВИЗ'!I17","v":18004.301539525426},{"$f":"'5.ТП_ОВИЗ'!J17","v":32456.022999999997},{"$f":"'5.ТП_ОВИЗ'!K17","v":407.4},{"$f":"'5.ТП_ОВИЗ'!L17","v":415.233},{"$f":"'5.ТП_ОВИЗ'!M17","v":8384.98},{"$f":"'5.ТП_ОВИЗ'!N17","v":23248.41},30295.644466246391,32456.023000000001,2160.3785337536101,7.1309872155404241E-2,null,0,0,{"$f":"'5.ТП_ОВИЗ'!V17","v":0},{"$f":"'5.ТП_ОВИЗ'!W17","v":0},{"$f":"'5.ТП_ОВИЗ'!X17","v":0},{"$f":"'5.ТП_ОВИЗ'!Y17","v":30295.644466246387},{"$f":"'5.ТП_ОВИЗ'!Z17","v":407.4},{"$f":"'5.ТП_ОВИЗ'!AA17","v":414.88},{"$f":"'5.ТП_ОВИЗ'!AB17","v":11469.062926720962},{"$f":"'5.ТП_ОВИЗ'!AC17","v":18004.301539525426},null,1.0913936421275139E-11]
[null,"2.1.",null,"Техническое перевооружение действующих производственных мощностей",{"$f":"'5.ТП_ОВИЗ'!E43","v":13304.904999999999},{"$f":"'5.ТП_ОВИЗ'!F43","v":407.4},{"$f":"'5.ТП_ОВИЗ'!G43","v":128.42000000000002},{"$f":"'5.ТП_ОВИЗ'!H43","v":9604.1999999999989},{"$f":"'5.ТП_ОВИЗ'!I43","v":3164.8850000000002},{"$f":"'5.ТП_ОВИЗ'!J43","v":17726.609999999997},{"$f":"'5.ТП_ОВИЗ'!K43","v":407.4},{"$f":"'5.ТП_ОВИЗ'!L43","v":128.42000000000002},{"$f":"'5.ТП_ОВИЗ'!M43","v":7698.9},{"$f":"'5.ТП_ОВИЗ'!N43","v":9491.89},13304.904999999999,17726.61,4421.7050000000017,0.33233645787023675,null,{"$f":"SUM(V24:X24)","v":0},0,{"$f":"'5.ТП_ОВИЗ'!V43","v":0},{"$f":"'5.ТП_ОВИЗ'!W43","v":0},{"$f":"'5.ТП_ОВИЗ'!X43","v":0},{"$f":"'5.ТП_ОВИЗ'!Y43","v":13304.904999999999},{"$f":"'5.ТП_ОВИЗ'!Z43","v":407.4},{"$f":"'5.ТП_ОВИЗ'!AA43","v":128.42000000000002},{"$f":"'5.ТП_ОВИЗ'!AB43","v":9604.1999999999989},{"$f":"'5.ТП_ОВИЗ'!AC43","v":3164.8850000000002},null,3.637978807091713E-12]
[null,"2.1.1.",null,"ТП по проекту4",{"$f":"'5.ТП_ОВИЗ'!E44","v":0},{"$f":"'5.ТП_ОВИЗ'!F44","v":0},{"$f":"'5.ТП_ОВИЗ'!G44","v":0},{"$f":"'5.ТП_ОВИЗ'!H44","v":0},{"$f":"'5.ТП_ОВИЗ'!I44","v":0},{"$f":"'5.ТП_ОВИЗ'!J44","v":0},{"$f":"'5.ТП_ОВИЗ'!K44","v":0},{"$f":"'5.ТП_ОВИЗ'!L44","v":0},{"$f":"'5.ТП_ОВИЗ'!M44","v":0},{"$f":"'5.ТП_ОВИЗ'!N44","v":0},0,0,0,0,null,0,0,{"$f":"'5.ТП_ОВИЗ'!V44","v":0},{"$f":"'5.ТП_ОВИЗ'!W44","v":0},{"$f":"'5.ТП_ОВИЗ'!X44","v":0},{"$f":"'5.ТП_ОВИЗ'!Y44","v":0},{"$f":"'5.ТП_ОВИЗ'!Z44","v":0},{"$f":"'5.ТП_ОВИЗ'!AA44","v":0},{"$f":"'5.ТП_ОВИЗ'!AB44","v":0},{"$f":"'5.ТП_ОВИЗ'!AC44","v":0},null,0]
[null,"2.1.2.",null,"ТП с  прямым экономическим эффектом",{"$f":"'5.ТП_ОВИЗ'!E45","v":6261.7},{"$f":"'5.ТП_ОВИЗ'!F45","v":0},{"$f":"'5.ТП_ОВИЗ'!G45","v":0},{"$f":"'5.ТП_ОВИЗ'!H45","v":6261.7},{"$f":"'5.ТП_ОВИЗ'!I45","v":0},{"$f":"'5.ТП_ОВИЗ'!J45","v":5551.45},{"$f":"'5.ТП_ОВИЗ'!K45","v":0},{"$f":"'5.ТП_ОВИЗ'!L45","v":0},{"$f":"'5.ТП_ОВИЗ'!M45","v":0},{"$f":"'5.ТП_ОВИЗ'!N45","v":5551.45},6261.7,5551.45,-710.25,-0.11342766341408883,null,0,0,{"$f":"'5.ТП_ОВИЗ'!V45","v":0},{"$f":"'5.ТП_ОВИЗ'!W45","v":0},{"$f":"'5.ТП_ОВИЗ'!X45","v":0},{"$f":"'5.ТП_ОВИЗ'!Y45","v":6261.7},{"$f":"'5.ТП_ОВИЗ'!Z45","v":0},{"$f":"'5.ТП_ОВИЗ'!AA45","v":0},{"$f":"'5.ТП_ОВИЗ'!AB45","v":6261.7},{"$f":"'5.ТП_ОВИЗ'!AC45","v":0},null,0]
[null,"2.1.3.",null,"ТП  вне проектов (без прямого экономического эффекта)",{"$f":"'5.ТП_ОВИЗ'!E46","v":7043.2049999999999},{"$f":"'5.ТП_ОВИЗ'!F46","v":407.4},{"$f":"'5.ТП_ОВИЗ'!G46","v":128.42000000000002},{"$f":"'5.ТП_ОВИЗ'!H46","v":3342.4999999999995},{"$f":"'5.ТП_ОВИЗ'!I46","v":3164.8850000000002},{"$f":"'5.ТП_ОВИЗ'!J46","v":12175.16},{"$f":"'5.ТП_ОВИЗ'!K46","v":407.4},{"$f":"'5.ТП_ОВИЗ'!L46","v":128.42000000000002},{"$f":"'5.ТП_ОВИЗ'!M46","v":7698.9},{"$f":"'5.ТП_ОВИЗ'!N46","v":3940.44},7043.2049999999999,12175.16,5131.9549999999999,0.72863916356261105,null,0,0,{"$f":"'5.ТП_ОВИЗ'!V46","v":0},{"$f":"'5.ТП_ОВИЗ'!W46","v":0},{"$f":"'5.ТП_ОВИЗ'!X46","v":0},{"$f":"'5.ТП_ОВИЗ'!Y46","v":7043.2049999999999},{"$f":"'5.ТП_ОВИЗ'!Z46","v":407.4},{"$f":"'5.ТП_ОВИЗ'!AA46","v":128.42000000000002},{"$f":"'5.ТП_ОВИЗ'!AB46","v":3342.4999999999995},{"$f":"'5.ТП_ОВИЗ'!AC46","v":3164.8850000000002},null,0]
[null,"2.2.",null,"Замена изношенного оборудования",{"$f":"'5.ТП_ОВИЗ'!E48","v":16990.739466246388},{"$f":"'5.ТП_ОВИЗ'!F48","v":0},{"$f":"'5.ТП_ОВИЗ'!G48","v":286.45999999999998},{"$f":"'5.ТП_ОВИЗ'!H48","v":1864.8629267209631},{"$f":"'5.ТП_ОВИЗ'!I48","v":14839.416539525426},{"$f":"'5.ТП_ОВИЗ'!J48","v":14729.413},{"$f":"'5.ТП_ОВИЗ'!K48","v":0},{"$f":"'5.ТП_ОВИЗ'!L48","v":286.81299999999999},{"$f":"'5.ТП_ОВИЗ'!M48","v":686.07999999999993},{"$f":"'5.ТП_ОВИЗ'!N48","v":13756.52},16990.739466246388,14729.413,-2261.326466246388,-0.13309170390957462,null,0,0,{"$f":"'5.ТП_ОВИЗ'!V48","v":0},{"$f":"'5.ТП_ОВИЗ'!W48","v":0},{"$f":"'5.ТП_ОВИЗ'!X48","v":0},{"$f":"'5.ТП_ОВИЗ'!Y48","v":16990.739466246388},{"$f":"'5.ТП_ОВИЗ'!Z48","v":0},{"$f":"'5.ТП_ОВИЗ'!AA48","v":286.45999999999998},{"$f":"'5.ТП_ОВИЗ'!AB48","v":1864.8629267209631},{"$f":"'5.ТП_ОВИЗ'!AC48","v":14839.416539525426},null,0]
[null,null,null,null,null,null,null,null,null,null,null,null,null,null,null,null,null,null,null,null,null,null,null,null,null,null,null,null,null,null,0]
[null,"II.",null,"СТРУКТУРА ОБОРУДОВАНИЯ ПО ВИДАМ",{"$f":"SUM(E31:E40)","v":58884.644466246384},{"$f":"SUM(F31:F40)","v":407.4},414.88,16045.062926720962,42017.301539525426,52532.351999999999,407.4,415.23299999999995,8384.98,43324.739000000001,{"$f":"IF(period=period_1Q, F30, IF(period=period_1H, SUM(F30:G30), IF(period=period_9M, SUM(F30:H30), IF(period=period_1Y,SUM(F30:I30),0))))","v":58884.644466246391},{"$f":"IF(period=period_1Q, K30, IF(period=period_1H, SUM(K30:L30), IF(period=period_9M, SUM(K30:M30), IF(period=period_1Y,SUM(K30:N30),0))))","v":52532.351999999999},-6352.292466246392,-0.10787689258933415,null,0,0,{"$f":"SUM(V31:V40)","v":0},0,0,{"$f":"SUM(Y31:Y40)","v":58884.644466246384},{"$f":"SUM(Z31:Z40)","v":407.4},414.88,16045.062926720962,42017.301539525426,null,1.4551915228366852E-11]
[null,"1.",null,"Обогатительное и дробильно-размольное оборудование",{"$f":"'5.ТП_ОВИЗ'!E18+'8.ОСС'!Y18","v":0},{"$f":"'5.ТП_ОВИЗ'!F18+'8.ОСС'!Z18","v":0},{"$f":"'5.ТП_ОВИЗ'!G18+'8.ОСС'!AA18","v":0},{"$f":"'5.ТП_ОВИЗ'!H18+'8.ОСС'!AB18","v":0},{"$f":"'5.ТП_ОВИЗ'!I18+'8.ОСС'!AC18","v":0},{"$f":"'5.ТП_ОВИЗ'!J18+'8.ОСС'!AD18","v":0},{"$f":"'5.ТП_ОВИЗ'!K18+'8.ОСС'!AE18","v":0},{"$f":"'5.ТП_ОВИЗ'!L18+'8.ОСС'!AF18","v":0},{"$f":"'5.ТП_ОВИЗ'!M18+'8.ОСС'!AG18","v":0},{"$f":"'5.ТП_ОВИЗ'!N18+'8.ОСС'!AH18","v":0},0,0,0,0,null,0,0,{"$f":"'5.ТП_ОВИЗ'!V18+'8.ОСС'!AP18","v":0},{"$f":"'5.ТП_ОВИЗ'!W18+'8.ОСС'!AQ18","v":0},{"$f":"'5.ТП_ОВИЗ'!X18+'8.ОСС'!AR18","v":0},{"$f":"'5.ТП_ОВИЗ'!Y18+'8.ОСС'!AS18","v":0},{"$f":"'5.ТП_ОВИЗ'!Z18+'8.ОСС'!AT18","v":0},{"$f":"'5.ТП_ОВИЗ'!AA18+'8.ОСС'!AU18","v":0},{"$f":"'5.ТП_ОВИЗ'!AB18+'8.ОСС'!AV18","v":0},{"$f":"'5.ТП_ОВИЗ'!AC18+'8.ОСС'!AW18","v":0},null,0]
[null,2,null,"Горно-шахтное  оборудование 5",{"$f":"'5.ТП_ОВИЗ'!E19+'8.ОСС'!Y19","v":0},{"$f":"'5.ТП_ОВИЗ'!F19+'8.ОСС'!Z19","v":0},{"$f":"'5.ТП_ОВИЗ'!G19+'8.ОСС'!AA19","v":0},{"$f":"'5.ТП_ОВИЗ'!H19+'8.ОСС'!AB19","v":0},{"$f":"'5.ТП_ОВИЗ'!I19+'8.ОСС'!AC19","v":0},{"$f":"'5.ТП_ОВИЗ'!J19+'8.ОСС'!AD19","v":0},{"$f":"'5.ТП_ОВИЗ'!K19+'8.ОСС'!AE19","v":0},{"$f":"'5.ТП_ОВИЗ'!L19+'8.ОСС'!AF19","v":0},{"$f":"'5.ТП_ОВИЗ'!M19+'8.ОСС'!AG19","v":0},{"$f":"'5.ТП_ОВИЗ'!N19+'8.ОСС'!AH19","v":0},0,0,0,0,null,0,0,{"$f":"'5.ТП_ОВИЗ'!V19+'8.ОСС'!AP19","v":0},{"$f":"'5.ТП_ОВИЗ'!W19+'8.ОСС'!AQ19","v":0},{"$f":"'5.ТП_ОВИЗ'!X19+'8.ОСС'!AR19","v":0},{"$f":"'5.ТП_ОВИЗ'!Y19+'8.ОСС'!AS19","v":0},{"$f":"'5.ТП_ОВИЗ'!Z19+'8.ОСС'!AT19","v":0},{"$f":"'5.ТП_ОВИЗ'!AA19+'8.ОСС'!AU19","v":0},{"$f":"'5.ТП_ОВИЗ'!AB19+'8.ОСС'!AV19","v":0},{"$f":"'5.ТП_ОВИЗ'!AC19+'8.ОСС'!AW19","v":0},null,0]
[null,3,null,"Оборудование для вскрышных и добычных работ ",{"$f":"'5.ТП_ОВИЗ'!E20+'8.ОСС'!Y20","v":0},{"$f":"'5.ТП_ОВИЗ'!F20+'8.ОСС'!Z20","v":0},{"$f":"'5.ТП_ОВИЗ'!G20+'8.ОСС'!AA20","v":0},{"$f":"'5.ТП_ОВИЗ'!H20+'8.ОСС'!AB20","v":0},{"$f":"'5.ТП_ОВИЗ'!I20+'8.ОСС'!AC20","v":0},{"$f":"'5.ТП_ОВИЗ'!J20+'8.ОСС'!AD20","v":0},{"$f":"'5.ТП_ОВИЗ'!K20+'8.ОСС'!AE20","v":0},{"$f":"'5.ТП_ОВИЗ'!L20+'8.ОСС'!AF20","v":0},{"$f":"'5.ТП_ОВИЗ'!M20+'8.ОСС'!AG20","v":0},{"$f":"'5.ТП_ОВИЗ'!N20+'8.ОСС'!AH20","v":0},0,0,0,0,null,0,0,{"$f":"'5.ТП_ОВИЗ'!V20+'8.ОСС'!AP20","v":0},{"$f":"'5.ТП_ОВИЗ'!W20+'8.ОСС'!AQ20","v":0},{"$f":"'5.ТП_ОВИЗ'!X20+'8.ОСС'!AR20","v":0},{"$f":"'5.ТП_ОВИЗ'!Y20+'8.ОСС'!AS20","v":0},{"$f":"'5.ТП_ОВИЗ'!Z20+'8.ОСС'!AT20","v":0},{"$f":"'5.ТП_ОВИЗ'!AA20+'8.ОСС'!AU20","v":0},{"$f":"'5.ТП_ОВИЗ'!AB20+'8.ОСС'!AV20","v":0},{"$f":"'5.ТП_ОВИЗ'!AC20+'8.ОСС'!AW20","v":0},null,0]
[null,4,null,"Технологический транспорт ",{"$f":"'5.ТП_ОВИЗ'!E21+'8.ОСС'!Y21","v":0},{"$f":"'5.ТП_ОВИЗ'!F21+'8.ОСС'!Z21","v":0},{"$f":"'5.ТП_ОВИЗ'!G21+'8.ОСС'!AA21","v":0},{"$f":"'5.ТП_ОВИЗ'!H21+'8.ОСС'!AB21","v":0},{"$f":"'5.ТП_ОВИЗ'!I21+'8.ОСС'!AC21","v":0},{"$f":"'5.ТП_ОВИЗ'!J21+'8.ОСС'!AD21","v":0},{"$f":"'5.ТП_ОВИЗ'!K21+'8.ОСС'!AE21","v":0},{"$f":"'5.ТП_ОВИЗ'!L21+'8.ОСС'!AF21","v":0},{"$f":"'5.ТП_ОВИЗ'!M21+'8.ОСС'!AG21","v":0},{"$f":"'5.ТП_ОВИЗ'!N21+'8.ОСС'!AH21","v":0},0,0,0,0,null,0,0,{"$f":"'5.ТП_ОВИЗ'!V21+'8.ОСС'!AP21","v":0},{"$f":"'5.ТП_ОВИЗ'!W21+'8.ОСС'!AQ21","v":0},{"$f":"'5.ТП_ОВИЗ'!X21+'8.ОСС'!AR21","v":0},{"$f":"'5.ТП_ОВИЗ'!Y21+'8.ОСС'!AS21","v":0},{"$f":"'5.ТП_ОВИЗ'!Z21+'8.ОСС'!AT21","v":0},{"$f":"'5.ТП_ОВИЗ'!AA21+'8.ОСС'!AU21","v":0},{"$f":"'5.ТП_ОВИЗ'!AB21+'8.ОСС'!AV21","v":0},{"$f":"'5.ТП_ОВИЗ'!AC21+'8.ОСС'!AW21","v":0},null,0]
[null,5,null,"Автотранспорт и дорожно-строительная техника ",{"$f":"'5.ТП_ОВИЗ'!E22+'8.ОСС'!Y22","v":7274.7},{"$f":"'5.ТП_ОВИЗ'!F22+'8.ОСС'!Z22","v":0},{"$f":"'5.ТП_ОВИЗ'!G22+'8.ОСС'!AA22","v":0},{"$f":"'5.ТП_ОВИЗ'!H22+'8.ОСС'!AB22","v":7274.7},{"$f":"'5.ТП_ОВИЗ'!I22+'8.ОСС'!AC22","v":0},{"$f":"'5.ТП_ОВИЗ'!J22+'8.ОСС'!AD22","v":6484.05},{"$f":"'5.ТП_ОВИЗ'!K22+'8.ОСС'!AE22","v":0},{"$f":"'5.ТП_ОВИЗ'!L22+'8.ОСС'!AF22","v":0},{"$f":"'5.ТП_ОВИЗ'!M22+'8.ОСС'!AG22","v":0},{"$f":"'5.ТП_ОВИЗ'!N22+'8.ОСС'!AH22","v":6484.05},7274.7,6484.05,-790.64999999999964,-0.10868489422244211,null,0,0,{"$f":"'5.ТП_ОВИЗ'!V22+'8.ОСС'!AP22","v":0},{"$f":"'5.ТП_ОВИЗ'!W22+'8.ОСС'!AQ22","v":0},{"$f":"'5.ТП_ОВИЗ'!X22+'8.ОСС'!AR22","v":0},{"$f":"'5.ТП_ОВИЗ'!Y22+'8.ОСС'!AS22","v":7274.7},{"$f":"'5.ТП_ОВИЗ'!Z22+'8.ОСС'!AT22","v":0},{"$f":"'5.ТП_ОВИЗ'!AA22+'8.ОСС'!AU22","v":0},{"$f":"'5.ТП_ОВИЗ'!AB22+'8.ОСС'!AV22","v":7274.7},{"$f":"'5.ТП_ОВИЗ'!AC22+'8.ОСС'!AW22","v":0},null,0]
[null,"6.",null,"Электротехническое и энергетическое оборудование",{"$f":"'5.ТП_ОВИЗ'!E23+'8.ОСС'!Y23","v":2818.4765395254235},{"$f":"'5.ТП_ОВИЗ'!F23+'8.ОСС'!Z23","v":0},{"$f":"'5.ТП_ОВИЗ'!G23+'8.ОСС'!AA23","v":85},{"$f":"'5.ТП_ОВИЗ'!H23+'8.ОСС'!AB23","v":1019.3094915254237},{"$f":"'5.ТП_ОВИЗ'!I23+'8.ОСС'!AC23","v":1714.1670479999998},{"$f":"'5.ТП_ОВИЗ'!J23+'8.ОСС'!AD23","v":8804.74},{"$f":"'5.ТП_ОВИЗ'!K23+'8.ОСС'!AE23","v":0},{"$f":"'5.ТП_ОВИЗ'!L23+'8.ОСС'!AF23","v":85},{"$f":"'5.ТП_ОВИЗ'!M23+'8.ОСС'!AG23","v":7049.28},{"$f":"'5.ТП_ОВИЗ'!N23+'8.ОСС'!AH23","v":1670.46},2818.4765395254235,8804.74,5986.2634604745763,2.1239358839873637,null,0,0,{"$f":"'5.ТП_ОВИЗ'!V23+'8.ОСС'!AP23","v":0},{"$f":"'5.ТП_ОВИЗ'!W23+'8.ОСС'!AQ23","v":0},{"$f":"'5.ТП_ОВИЗ'!X23+'8.ОСС'!AR23","v":0},{"$f":"'5.ТП_ОВИЗ'!Y23+'8.ОСС'!AS23","v":2818.4765395254235},{"$f":"'5.ТП_ОВИЗ'!Z23+'8.ОСС'!AT23","v":0},{"$f":"'5.ТП_ОВИЗ'!AA23+'8.ОСС'!AU23","v":85},{"$f":"'5.ТП_ОВИЗ'!AB23+'8.ОСС'!AV23","v":1019.3094915254237},{"$f":"'5.ТП_ОВИЗ'!AC23+'8.ОСС'!AW23","v":1714.1670479999998},null,0]
[null,7,null,"Вентиляционноное, отопительное и насосное оборудование",{"$f":"'5.ТП_ОВИЗ'!E24+'8.ОСС'!Y24","v":1006.884},{"$f":"'5.ТП_ОВИЗ'!F24+'8.ОСС'!Z24","v":0},{"$f":"'5.ТП_ОВИЗ'!G24+'8.ОСС'!AA24","v":0},{"$f":"'5.ТП_ОВИЗ'!H24+'8.ОСС'!AB24","v":757.04399999999998},{"$f":"'5.ТП_ОВИЗ'!I24+'8.ОСС'!AC24","v":249.84},{"$f":"'5.ТП_ОВИЗ'!J24+'8.ОСС'!AD24","v":579.89},{"$f":"'5.ТП_ОВИЗ'!K24+'8.ОСС'!AE24","v":0},{"$f":"'5.ТП_ОВИЗ'!L24+'8.ОСС'!AF24","v":0},{"$f":"'5.ТП_ОВИЗ'!M24+'8.ОСС'!AG24","v":579.89},{"$f":"'5.ТП_ОВИЗ'!N24+'8.ОСС'!AH24","v":0},1006.884,579.89,-426.99400000000003,-0.42407466997191334,null,0,0,{"$f":"'5.ТП_ОВИЗ'!V24+'8.ОСС'!AP24","v":0},{"$f":"'5.ТП_ОВИЗ'!W24+'8.ОСС'!AQ24","v":0},{"$f":"'5.ТП_ОВИЗ'!X24+'8.ОСС'!AR24","v":0},{"$f":"'5.ТП_ОВИЗ'!Y24+'8.ОСС'!AS24","v":1006.884},{"$f":"'5.ТП_ОВИЗ'!Z24+'8.ОСС'!AT24","v":0},{"$f":"'5.ТП_ОВИЗ'!AA24+'8.ОСС'!AU24","v":0},{"$f":"'5.ТП_ОВИЗ'!AB24+'8.ОСС'!AV24","v":757.04399999999998},{"$f":"'5.ТП_ОВИЗ'!AC24+'8.ОСС'!AW24","v":249.84},null,0]
[null,"8.",null,"Гаражное, компрессорное оборудование, станки",{"$f":"'5.ТП_ОВИЗ'!E25+'8.ОСС'!Y25","v":1857.56},{"$f":"'5.ТП_ОВИЗ'!F25+'8.ОСС'!Z25","v":0},{"$f":"'5.ТП_ОВИЗ'!G25+'8.ОСС'!AA25","v":78.459999999999994},{"$f":"'5.ТП_ОВИЗ'!H25+'8.ОСС'!AB25","v":1779.1},{"$f":"'5.ТП_ОВИЗ'!I25+'8.ОСС'!AC25","v":0},{"$f":"'5.ТП_ОВИЗ'!J25+'8.ОСС'!AD25","v":1790.433},{"$f":"'5.ТП_ОВИЗ'!K25+'8.ОСС'!AE25","v":0},{"$f":"'5.ТП_ОВИЗ'!L25+'8.ОСС'!AF25","v":78.462999999999994},{"$f":"'5.ТП_ОВИЗ'!M25+'8.ОСС'!AG25","v":0},{"$f":"'5.ТП_ОВИЗ'!N25+'8.ОСС'!AH25","v":1711.97},1857.56,1790.433,-67.126999999999953,-3.6137190723314429E-2,null,0,0,{"$f":"'5.ТП_ОВИЗ'!V25+'8.ОСС'!AP25","v":0},{"$f":"'5.ТП_ОВИЗ'!W25+'8.ОСС'!AQ25","v":0},{"$f":"'5.ТП_ОВИЗ'!X25+'8.ОСС'!AR25","v":0},{"$f":"'5.ТП_ОВИЗ'!Y25+'8.ОСС'!AS25","v":1857.56},{"$f":"'5.ТП_ОВИЗ'!Z25+'8.ОСС'!AT25","v":0},{"$f":"'5.ТП_ОВИЗ'!AA25+'8.ОСС'!AU25","v":78.459999999999994},{"$f":"'5.ТП_ОВИЗ'!AB25+'8.ОСС'!AV25","v":1779.1},{"$f":"'5.ТП_ОВИЗ'!AC25+'8.ОСС'!AW25","v":0},null,0]
[null,"9.",null,"Оборудование автоматизации, ИТ и связи ",{"$f":"'5.ТП_ОВИЗ'!E26+'8.ОСС'!Y26","v":26620.940847457627},{"$f":"'5.ТП_ОВИЗ'!F26+'8.ОСС'!Z26","v":0},{"$f":"'5.ТП_ОВИЗ'!G26+'8.ОСС'!AA26","v":58.3},{"$f":"'5.ТП_ОВИЗ'!H26+'8.ОСС'!AB26","v":4761.593220338983},{"$f":"'5.ТП_ОВИЗ'!I26+'8.ОСС'!AC26","v":21801.047627118645},{"$f":"'5.ТП_ОВИЗ'!J26+'8.ОСС'!AD26","v":17708.327000000001},{"$f":"'5.ТП_ОВИЗ'!K26+'8.ОСС'!AE26","v":0},{"$f":"'5.ТП_ОВИЗ'!L26+'8.ОСС'!AF26","v":58.3},{"$f":"'5.ТП_ОВИЗ'!M26+'8.ОСС'!AG26","v":185.59},{"$f":"'5.ТП_ОВИЗ'!N26+'8.ОСС'!AH26","v":17464.436999999998},26620.940847457627,17708.326999999997,-8912.6138474576292,-0.33479710197052664,null,0,0,{"$f":"'5.ТП_ОВИЗ'!V26+'8.ОСС'!AP26","v":0},{"$f":"'5.ТП_ОВИЗ'!W26+'8.ОСС'!AQ26","v":0},{"$f":"'5.ТП_ОВИЗ'!X26+'8.ОСС'!AR26","v":0},{"$f":"'5.ТП_ОВИЗ'!Y26+'8.ОСС'!AS26","v":26620.940847457627},{"$f":"'5.ТП_ОВИЗ'!Z26+'8.ОСС'!AT26","v":0},{"$f":"'5.ТП_ОВИЗ'!AA26+'8.ОСС'!AU26","v":58.3},{"$f":"'5.ТП_ОВИЗ'!AB26+'8.ОСС'!AV26","v":4761.593220338983},{"$f":"'5.ТП_ОВИЗ'!AC26+'8.ОСС'!AW26","v":21801.047627118645},null,3.637978807091713E-12]
[null,"10.",null,"Прочее оборудование",{"$f":"'5.ТП_ОВИЗ'!E27+'8.ОСС'!Y27","v":19306.083079263335},{"$f":"'5.ТП_ОВИЗ'!F27+'8.ОСС'!Z27","v":407.4},{"$f":"'5.ТП_ОВИЗ'!G27+'8.ОСС'!AA27","v":193.12},{"$f":"'5.ТП_ОВИЗ'!H27+'8.ОСС'!AB27","v":453.3162148565562},{"$f":"'5.ТП_ОВИЗ'!I27+'8.ОСС'!AC27","v":18252.246864406781},{"$f":"'5.ТП_ОВИЗ'!J27+'8.ОСС'!AD27","v":17164.912},{"$f":"'5.ТП_ОВИЗ'!K27+'8.ОСС'!AE27","v":407.4},{"$f":"'5.ТП_ОВИЗ'!L27+'8.ОСС'!AF27","v":193.47},{"$f":"'5.ТП_ОВИЗ'!M27+'8.ОСС'!AG27","v":570.22},{"$f":"'5.ТП_ОВИЗ'!N27+'8.ОСС'!AH27","v":15993.822000000002},19306.083079263339,17164.912000000004,-2141.1710792633348,-0.11090655056608383,null,0,0,{"$f":"'5.ТП_ОВИЗ'!V27+'8.ОСС'!AP27","v":0},{"$f":"'5.ТП_ОВИЗ'!W27+'8.ОСС'!AQ27","v":0},{"$f":"'5.ТП_ОВИЗ'!X27+'8.ОСС'!AR27","v":0},{"$f":"'5.ТП_ОВИЗ'!Y27+'8.ОСС'!AS27","v":19306.083079263335},{"$f":"'5.ТП_ОВИЗ'!Z27+'8.ОСС'!AT27","v":407.4},{"$f":"'5.ТП_ОВИЗ'!AA27+'8.ОСС'!AU27","v":193.12},{"$f":"'5.ТП_ОВИЗ'!AB27+'8.ОСС'!AV27","v":453.3162148565562},{"$f":"'5.ТП_ОВИЗ'!AC27+'8.ОСС'!AW27","v":18252.246864406781},null,1.0913936421275139E-11]
[null,null,null,null,null,null,null,null,null,null,null,null,null,null,null,null,null,null,null,null,null,null,null,null,null,null,null,null,null,null,0]
[null,"III.",null,"СТРУКТУРА ОБОРУДОВАНИЯ ПО НАЛИЧИЮ ЛИЗИНГA",{"$f":"E30","v":58884.644466246384},{"$f":"F30","v":407.4},414.88,16045.062926720962,42017.301539525426,52532.351999999999,407.4,415.23299999999995,8384.98,43324.739000000001,{"$f":"IF(period=period_1Q, F42, IF(period=period_1H, SUM(F42:G42), IF(period=period_9M, SUM(F42:H42), IF(period=period_1Y,SUM(F42:I42),0))))","v":58884.644466246391},{"$f":"IF(period=period_1Q, K42, IF(period=period_1H, SUM(K42:L42), IF(period=period_9M, SUM(K42:M42), IF(period=period_1Y,SUM(K42:N42),0))))","v":52532.351999999999},-6352.292466246392,-0.10787689258933415,null,0,0,{"$f":"V30","v":0},0,0,58884.644466246384,{"$f":"Z30","v":407.4},414.88,16045.062926720962,42017.301539525426,null,1.4551915228366852E-11]
[null,"1.",null,"Оборудование без лизинга всего",{"$f":"E42-E44","v":58884.644466246384},407.4,414.88,16045.062926720962,42017.301539525426,52532.351999999999,407.4,415.23299999999995,8384.98,43324.739000000001,{"$f":"IF(period=period_1Q, F43, IF(period=period_1H, SUM(F43:G43), IF(period=period_9M, SUM(F43:H43), IF(period=period_1Y,SUM(F43:I43),0))))","v":58884.644466246391},{"$f":"IF(period=period_1Q, K43, IF(period=period_1H, SUM(K43:L43), IF(period=period_9M, SUM(K43:M43), IF(period=period_1Y,SUM(K43:N43),0))))","v":52532.351999999999},-6352.292466246392,-0.10787689258933415,null,0,0,{"$f":"V42-V44","v":0},0,0,58884.644466246384,{"$f":"Z42-Z44","v":407.4},414.88,16045.062926720962,42017.301539525426,null,1.4551915228366852E-11]
[null,"2.",null,"Оборудование по лизингу всего ",{"$f":"'6.БОЛ'!E17","v":0},{"$f":"'6.БОЛ'!F17","v":0},{"$f":"'6.БОЛ'!G17","v":0},{"$f":"'6.БОЛ'!H17","v":0},{"$f":"'6.БОЛ'!I17","v":0},{"$f":"'6.БОЛ'!J17","v":0},{"$f":"'6.БОЛ'!K17","v":0},{"$f":"'6.БОЛ'!L17","v":0},{"$f":"'6.БОЛ'!M17","v":0},{"$f":"'6.БОЛ'!N17","v":0},{"$f":"IF(period=period_1Q, F44, IF(period=period_1H, SUM(F44:G44), IF(period=period_9M, SUM(F44:H44), IF(period=period_1Y,SUM(F44:I44),0))))","v":0},{"$f":"IF(period=period_1Q, K44, IF(period=period_1H, SUM(K44:L44), IF(period=period_9M, SUM(K44:M44), IF(period=period_1Y,SUM(K44:N44),0))))","v":0},0,0,null,0,0,{"$f":"'6.БОЛ'!V17","v":0},{"$f":"'6.БОЛ'!W17","v":0},{"$f":"'6.БОЛ'!X17","v":0},{"$f":"'6.БОЛ'!Y17","v":0},{"$f":"'6.БОЛ'!Z17","v":0},{"$f":"'6.БОЛ'!AA17","v":0},{"$f":"'6.БОЛ'!AB17","v":0},{"$f":"'6.БОЛ'!AC17","v":0},null,0]
[]
[]
[null,null,"Сверка",null,{"$f":"SUM(ABS(E42-E43-E44), ABS(E30-SUM(E31:E40)), ABS(E23-E24-E28), ABS(E24-SUM(E25:E27)), ABS(E21-SUM(E22:E22)), ABS(E19-E21-E23), ABS(E17-E19), ABS(E17-E30), ABS(E17-E42))","v":1.8189894035458565E-11},{"$f":"SUM(ABS(F42-F43-F44), ABS(F30-SUM(F31:F40)), ABS(F23-F24-F28), ABS(F24-SUM(F25:F27)), ABS(F21-SUM(F22:F22)), ABS(F19-F21-F23), ABS(F17-F19), ABS(F17-F30), ABS(F17-F42))","v":0},0,4.5474735088646412E-13,0,3.637978807091713E-12,0,1.1368683772161603E-13,0,0,3.637978807091713E-12,1.0913936421275139E-11,1.4551915228366852E-11,null,{"$f":"SUM(ABS(S42-S43-S44), ABS(S30-SUM(S31:S40)), ABS(S23-S24-S28), ABS(S24-SUM(S25:S27)), ABS(S21-SUM(S22:S22)), ABS(S19-S21-S23), ABS(S17-S19), ABS(S17-S30), ABS(S17-S42))","v":0},{"$f":"SUM(ABS(T42-T43-T44), ABS(T30-SUM(T31:T40)), ABS(T23-T24-T28), ABS(T24-SUM(T25:T27)), ABS(T21-SUM(T22:T22)), ABS(T19-T21-T23), ABS(T17-T19), ABS(T17-T30), ABS(T17-T42))","v":0},null,{"$f":"SUM(ABS(V42-V43-V44), ABS(V30-SUM(V31:V40)), ABS(V23-V24-V28), ABS(V24-SUM(V25:V27)), ABS(V21-SUM(V22:V22)), ABS(V19-V21-V23), ABS(V17-V19), ABS(V17-V30), ABS(V17-V42))","v":0},0,0,1.8189894035458565E-11,0,0,4.5474735088646412E-13,0,0]
[null,"1 Форма заполняется по освоениию (начислению). Подробнее -порядок заполнения формы и классификатор оборудования определён в \"Положении об инвестиционном бюджете АК \"АЛРОСА\" ."]
[null,"2 В графе \"Отклонение\" производится сравнение факта с плановым периодом нарастающим итогом."]
[null,"3 При отклонении более 10% (не зависимо +/-) в графе \"Комментарии по отклонениям\"- в форме указывается причина отклонения. Подробно - причины отклонений указываются в Пояснительной записке к инвестиционному бюджету/отчёту"]
[null,"4 Описание классификации инвестиций в технического перевооружение представлено в \"Положении об инвестиционном бюджете АК \"АЛРОСА\""]
[null,"5 Описание классификации оборудования по видам представлено в \"Положении об инвестиционном бюджете АК \"АЛРОСА\""]
[]
[]
[null,null,null,"Исполнитель (ФИО):"]
[]
[]
[null,null,null,"Должность: "]
[]
[]
[null,null,null,"Контактный телефон:"]
[]
[]
[null,null,null,"Электронный адрес:"]

{"sheet":"5.ТП_ОВИЗ","index":9,"n_rows":85,"n_cols":31,"rows_kept":85,"cut":false,"hidden":false,"merged":[[11,18,14,18],[11,19,12,23],[11,24,11,28],[11,29,14,29],[12,16,12,17],[12,25,12,28],[13,21,13,23],[13,24,14,24],[13,25,14,25],[13,26,14,26],[13,27,14,27],[13,28,14,28],[13,19,13,20],[0,1,0,5],[11,1,14,1],[11,3,14,3],[11,2,14,2],[11,4,11,13],[13,4,14,4],[13,5,14,5],[13,6,14,6],[13,7,14,7],[13,8,14,8],[13,9,14,9],[13,10,14,10],[13,11,14,11],[13,13,14,13],[13,12,14,12],[12,5,12,8],[13,14,14,14],[13,15,14,15],[13,16,14,16],[13,17,14,17],[5,2,5,4],[7,2,7,4],[11,16,11,17],[12,10,12,13]]}
[null,"Назад к оглавлению",null,null,null,null,null,null,null,"base_fact","base_fact","base_fact","base_fact","base_fact","fact_fields","fact_fields","fact_fields","fact_fields","fact_fields","corr_fields","corr_fields","corr_fields","corr_fields","corr_fields","corr_fields","corr_fields","corr_fields","corr_fields","corr_fields","corr_fields"]
[]
[null,"Приложение № 2 к \"Положению об инвестиционном бюджете АК \"АЛРОСА\"\""]
[null,"Код формы: ТП_ОВИЗ"]
[]
[null,null,{"$f":"org","v":"АО \"Вилюйская ГЭС-3\""}]
[null,null,"Организационно-правовая форма и название Общества/структурного подразделения"]
[null,null,{"$f":"period_txt","v":"12 месяцев 2017"}]
[null,null," Плановый / отчётный период "]
[null,null,"Сводный бюджет инвестиций в техническое перевооружение и замену изношенного оборудования "]
[null,"Тыс. руб. без НДС 1"]
[null,"№","Общество/ структурное подразделение","Наименование ","Плановый / отчётный период",null,null,null,null,null,null,null,null,null,"ПЛАН за","ФАКТ за","Отклонение за период2",null,"Комментарии по отклонениям3","Изменения к утверждённому плану по году",null,null,null,null,"Скорректированный план",null,null,null,null,"Комментарии по изменениям плана","Сверка"]
[null,null,null,null,"ПЛАН    ","в т.ч. по кварталам:",null,null,null,"ФАКТ ","в т.ч. по кварталам:",null,null,null,{"$f":"period","v":"12 месяцев"},{"$f":"O13","v":"12 месяцев"},"12 месяцев",null,null,null,null,null,null,null,"ПЛАН    ","в т.ч. по кварталам:"]
[null,null,null,null,"Год   всего","1 кв.","2 кв.","3 кв.","4 кв.","Год   всего","1 кв.","2 кв.","3 кв.","4 кв.","Тыс.    руб.","Тыс.    руб.","Тыс.    руб.","% ",null,"Изменение всего",null,"В т.ч.",null,null,"Год   всего","1 кв.","2 кв.","3 кв.","4 кв."]
[null,null,null,null,null,null,null,null,null,null,null,null,null,null,null,null,null,null,null,"Тыс.    руб.","%","Вновь добавлено\n(указывается со знаком \"+\")","Исключено (указывается со знаком \"-\")","Изменение стоимости\n(удорожание \"+\", удешвление \"-\")"]
[null,1,{"$f":"B16+1","v":2},3,4,5,6,7,8,9,10,11,12,13,14,15,16,17,18,19,20,21,22,23,24,25,26,27,28,29]
[null,"I",null,"ТЕХНИЧЕСКОЕ ПЕРЕВООРУЖЕНИЕ и ОВИЗ, всего:",{"$f":"E29+E48","v":30295.644466246387},407.4,414.88,11469.062926720962,18004.301539525426,32456.022999999997,407.4,415.233,8384.98,23248.41,{"$f":"IF(period=period_1Q, F17, IF(period=period_1H, SUM(F17:G17), IF(period=period_9M, SUM(F17:H17), IF(period=period_1Y,SUM(F17:I17),0))))","v":30295.644466246391},{"$f":"IF(period=period_1Q, K17, IF(period=period_1H, SUM(K17:L17), IF(period=period_9M, SUM(K17:M17), IF(period=period_1Y,SUM(K17:N17),0))))","v":32456.023000000001},{"$f":"P17-O17","v":2160.3785337536101},{"$f":"IFERROR(Q17/O17, 0)","v":7.1309872155404241E-2},null,{"$f":"SUM(V17:X17)","v":0},{"$f":"IFERROR(T17/E17, 0)","v":0},{"$f":"V29+V48","v":0},0,0,30295.644466246387,{"$f":"Z29+Z48","v":407.4},414.88,11469.062926720962,18004.301539525426,null,{"$f":"SUM(ABS(E17-SUM(F17:I17)), ABS(J17-SUM(K17:N17)), ABS(T17-SUM(V17:X17)), ABS( Y17-SUM(Z17:AC17)))","v":1.0913936421275139E-11}]
[null,"1.",null,"Обогатительное и дробильно-размольное оборудование",{"$f":"E32+E49","v":0},0,0,0,0,0,0,0,0,0,0,0,{"$f":"P18-O18","v":0},{"$f":"IFERROR(Q18/O18, 0)","v":0},null,0,0,{"$f":"V32+V49","v":0},0,0,0,{"$f":"Z32+Z49","v":0},0,0,0,null,0]
[null,2,null,"Горно-шахтное  оборудование4 ",{"$f":"E33+E50","v":0},0,0,0,0,0,{"$f":"K33+K50","v":0},0,0,0,{"$f":"IF(period=period_1Q, F19, IF(period=period_1H, SUM(F19:G19), IF(period=period_9M, SUM(F19:H19), IF(period=period_1Y,SUM(F19:I19),0))))","v":0},0,{"$f":"P19-O19","v":0},0,null,{"$f":"SUM(V19:X19)","v":0},{"$f":"IFERROR(T19/E19, 0)","v":0},{"$f":"V33+V50","v":0},0,0,0,{"$f":"Z33+Z50","v":0},0,0,0,null,{"$f":"SUM(ABS(E19-SUM(F19:I19)), ABS(J19-SUM(K19:N19)), ABS(T19-SUM(V19:X19)), ABS( Y19-SUM(Z19:AC19)))","v":0}]
[null,3,null,"Оборудование для вскрышных и добычных работ5",{"$f":"E34+E51","v":0},0,0,0,0,0,0,0,0,0,{"$f":"IF(period=period_1Q, F20, IF(period=period_1H, SUM(F20:G20), IF(period=period_9M, SUM(F20:H20), IF(period=period_1Y,SUM(F20:I20),0))))","v":0},0,{"$f":"P20-O20","v":0},0,null,0,0,{"$f":"V34+V51","v":0},0,0,0,{"$f":"Z34+Z51","v":0},0,0,0,null,0]
[null,4,null,"Технологический транспорт6",{"$f":"E35+E52","v":0},0,0,0,0,0,0,0,0,0,0,0,0,0,null,0,0,{"$f":"V35+V52","v":0},0,0,0,{"$f":"Z35+Z52","v":0},0,0,0,null,0]
[null,5,null,"Автотранспорт и дорожно-строительная техника 7",{"$f":"E36+E53","v":7274.7},0,0,7274.7,0,6484.05,0,0,0,6484.05,7274.7,6484.05,-790.64999999999964,-0.10868489422244211,null,0,0,{"$f":"V36+V53","v":0},0,0,7274.7,{"$f":"Z36+Z53","v":0},0,7274.7,0,null,0]
[null,"6.",null,"Электротехническое и энергетическое оборудование",{"$f":"E37+E54","v":2818.4765395254235},0,85,1019.3094915254237,1714.1670479999998,8804.74,0,85,7049.28,1670.46,2818.4765395254235,8804.74,5986.2634604745763,2.1239358839873637,null,0,0,{"$f":"V37+V54","v":0},0,0,2818.4765395254235,{"$f":"Z37+Z54","v":0},85,1019.3094915254237,1714.1670479999998,null,0]
[null,7,null,"Вентиляционное, отопительное и насосное оборудование",{"$f":"E38+E55","v":1006.884},0,0,757.04399999999998,249.84,579.89,0,0,579.89,0,1006.884,579.89,-426.99400000000003,-0.42407466997191334,null,0,0,{"$f":"V38+V55","v":0},0,0,1006.884,{"$f":"Z38+Z55","v":0},0,757.04399999999998,249.84,null,0]
[null,"8.",null,"Гаражное, компрессорное оборудование, станки",{"$f":"E39+E56","v":1857.56},0,78.459999999999994,1779.1,0,1790.433,0,78.462999999999994,0,1711.97,1857.56,1790.433,-67.126999999999953,-3.6137190723314429E-2,null,0,0,{"$f":"V39+V56","v":0},0,0,1857.56,{"$f":"Z39+Z56","v":0},78.459999999999994,1779.1,0,null,0]
[null,"9.",null,"Оборудование автоматизации, ИТ и связи8  ",{"$f":"E40+E57","v":12753.940847457628},0,58.3,185.59322033898306,12510.047627118645,13132.45,0,58.3,185.59,12888.56,12753.940847457628,13132.449999999999,378.50915254237043,2.967781935556197E-2,null,0,0,{"$f":"V40+V57","v":0},0,0,12753.940847457628,{"$f":"Z40+Z57","v":0},58.3,185.59322033898306,12510.047627118645,null,1.8189894035458565E-12]
[null,"10.",null,"Прочее оборудование",{"$f":"E41+E58","v":4584.083079263336},407.4,193.12,453.3162148565562,3530.2468644067803,1664.46,407.4,193.47,570.22,493.37,4584.0830792633369,1664.46,-2919.6230792633369,-0.63690448641094888,null,0,0,{"$f":"V41+V58","v":0},0,0,4584.083079263336,{"$f":"Z41+Z58","v":407.4},193.12,453.3162148565562,3530.2468644067803,null,1.8189894035458565E-12]
[null,null,null,null,null,null,null,null,null,null,null,null,null,null,null,null,null,null,null,null,null,null,null,null,null,null,null,null,null,null,0]
[null,"II",null,"ТЕХНИЧЕСКОЕ ПЕРЕВООРУЖЕНИЕ, всего:",{"$f":"E30","v":13304.904999999999},407.4,128.42000000000002,9604.1999999999989,3164.8850000000002,17726.609999999997,407.4,128.42000000000002,7698.9,9491.89,{"$f":"IF(period=period_1Q, F29, IF(period=period_1H, SUM(F29:G29), IF(period=period_9M, SUM(F29:H29), IF(period=period_1Y,SUM(F29:I29),0))))","v":13304.904999999999},{"$f":"IF(period=period_1Q, K29, IF(period=period_1H, SUM(K29:L29), IF(period=period_9M, SUM(K29:M29), IF(period=period_1Y,SUM(K29:N29),0))))","v":17726.61},{"$f":"P29-O29","v":4421.7050000000017},{"$f":"IFERROR(Q29/O29, 0)","v":0.33233645787023675},null,{"$f":"SUM(V29:X29)","v":0},{"$f":"IFERROR(T29/E29, 0)","v":0},{"$f":"V30","v":0},0,0,13304.904999999999,{"$f":"Z30","v":407.4},128.42000000000002,9604.1999999999989,3164.8850000000002,null,3.637978807091713E-12]
[null,"II.1",null,"ТП по видам оборудования ",{"$f":"'12.ТП_БЭФ'!AA17+'13.ТП_СЭФ'!AI17","v":13304.904999999999},{"$f":"'12.ТП_БЭФ'!AB17+'13.ТП_СЭФ'!AJ17","v":407.4},{"$f":"'12.ТП_БЭФ'!AC17+'13.ТП_СЭФ'!AK17","v":128.42000000000002},{"$f":"'12.ТП_БЭФ'!AD17+'13.ТП_СЭФ'!AL17","v":9604.1999999999989},{"$f":"'12.ТП_БЭФ'!AE17+'13.ТП_СЭФ'!AM17","v":3164.8850000000002},{"$f":"'12.ТП_БЭФ'!AF17+'13.ТП_СЭФ'!AN17","v":17726.609999999997},{"$f":"'12.ТП_БЭФ'!AG17+'13.ТП_СЭФ'!AO17","v":407.4},{"$f":"'12.ТП_БЭФ'!AH17+'13.ТП_СЭФ'!AP17","v":128.42000000000002},{"$f":"'12.ТП_БЭФ'!AI17+'13.ТП_СЭФ'!AQ17","v":7698.9},{"$f":"'12.ТП_БЭФ'!AJ17+'13.ТП_СЭФ'!AR17","v":9491.89},{"$f":"IF(period=period_1Q, F30, IF(period=period_1H, SUM(F30:G30), IF(period=period_9M, SUM(F30:H30), IF(period=period_1Y,SUM(F30:I30),0))))","v":13304.904999999999},{"$f":"IF(period=period_1Q, K30, IF(period=period_1H, SUM(K30:L30), IF(period=period_9M, SUM(K30:M30), IF(period=period_1Y,SUM(K30:N30),0))))","v":17726.61},4421.7050000000017,0.33233645787023675,null,0,0,{"$f":"'12.ТП_БЭФ'!AR17+'13.ТП_СЭФ'!AZ17","v":0},{"$f":"'12.ТП_БЭФ'!AS17+'13.ТП_СЭФ'!BA17","v":0},{"$f":"'12.ТП_БЭФ'!AT17+'13.ТП_СЭФ'!BB17","v":0},{"$f":"'12.ТП_БЭФ'!AU17+'13.ТП_СЭФ'!BC17","v":13304.904999999999},{"$f":"'12.ТП_БЭФ'!AV17+'13.ТП_СЭФ'!BD17","v":407.4},{"$f":"'12.ТП_БЭФ'!AW17+'13.ТП_СЭФ'!BE17","v":128.42000000000002},{"$f":"'12.ТП_БЭФ'!AX17+'13.ТП_СЭФ'!BF17","v":9604.1999999999989},{"$f":"'12.ТП_БЭФ'!AY17+'13.ТП_СЭФ'!BG17","v":3164.8850000000002},null,3.637978807091713E-12]
[null,null,null,null,null,null,null,null,null,null,null,null,null,null,null,null,null,null,null,null,null,null,null,null,null,null,null,null,null,null,0]
[null,"1.",null,"Обогатительное и дробильно-размольное оборудование",{"$f":"'12.ТП_БЭФ'!AA18+'13.ТП_СЭФ'!AI18","v":0},{"$f":"'12.ТП_БЭФ'!AB18+'13.ТП_СЭФ'!AJ18","v":0},{"$f":"'12.ТП_БЭФ'!AC18+'13.ТП_СЭФ'!AK18","v":0},{"$f":"'12.ТП_БЭФ'!AD18+'13.ТП_СЭФ'!AL18","v":0},{"$f":"'12.ТП_БЭФ'!AE18+'13.ТП_СЭФ'!AM18","v":0},{"$f":"'12.ТП_БЭФ'!AF18+'13.ТП_СЭФ'!AN18","v":0},{"$f":"'12.ТП_БЭФ'!AG18+'13.ТП_СЭФ'!AO18","v":0},{"$f":"'12.ТП_БЭФ'!AH18+'13.ТП_СЭФ'!AP18","v":0},{"$f":"'12.ТП_БЭФ'!AI18+'13.ТП_СЭФ'!AQ18","v":0},{"$f":"'12.ТП_БЭФ'!AJ18+'13.ТП_СЭФ'!AR18","v":0},{"$f":"IF(period=period_1Q, F32, IF(period=period_1H, SUM(F32:G32), IF(period=period_9M, SUM(F32:H32), IF(period=period_1Y,SUM(F32:I32),0))))","v":0},{"$f":"IF(period=period_1Q, K32, IF(period=period_1H, SUM(K32:L32), IF(period=period_9M, SUM(K32:M32), IF(period=period_1Y,SUM(K32:N32),0))))","v":0},0,0,null,0,0,{"$f":"'12.ТП_БЭФ'!AR18+'13.ТП_СЭФ'!AZ18","v":0},{"$f":"'12.ТП_БЭФ'!AS18+'13.ТП_СЭФ'!BA18","v":0},{"$f":"'12.ТП_БЭФ'!AT18+'13.ТП_СЭФ'!BB18","v":0},{"$f":"'12.ТП_БЭФ'!AU18+'13.ТП_СЭФ'!BC18","v":0},{"$f":"'12.ТП_БЭФ'!AV18+'13.ТП_СЭФ'!BD18","v":0},{"$f":"'12.ТП_БЭФ'!AW18+'13.ТП_СЭФ'!BE18","v":0},{"$f":"'12.ТП_БЭФ'!AX18+'13.ТП_СЭФ'!BF18","v":0},{"$f":"'12.ТП_БЭФ'!AY18+'13.ТП_СЭФ'!BG18","v":0},null,0]
[null,2,null,"Горно-шахтное  оборудование",{"$f":"'12.ТП_БЭФ'!AA19+'13.ТП_СЭФ'!AI19","v":0},{"$f":"'12.ТП_БЭФ'!AB19+'13.ТП_СЭФ'!AJ19","v":0},{"$f":"'12.ТП_БЭФ'!AC19+'13.ТП_СЭФ'!AK19","v":0},{"$f":"'12.ТП_БЭФ'!AD19+'13.ТП_СЭФ'!AL19","v":0},{"$f":"'12.ТП_БЭФ'!AE19+'13.ТП_СЭФ'!AM19","v":0},{"$f":"'12.ТП_БЭФ'!AF19+'13.ТП_СЭФ'!AN19","v":0},{"$f":"'12.ТП_БЭФ'!AG19+'13.ТП_СЭФ'!AO19","v":0},{"$f":"'12.ТП_БЭФ'!AH19+'13.ТП_СЭФ'!AP19","v":0},{"$f":"'12.ТП_БЭФ'!AI19+'13.ТП_СЭФ'!AQ19","v":0},{"$f":"'12.ТП_БЭФ'!AJ19+'13.ТП_СЭФ'!AR19","v":0},0,0,0,0,null,0,0,{"$f":"'12.ТП_БЭФ'!AR19+'13.ТП_СЭФ'!AZ19","v":0},{"$f":"'12.ТП_БЭФ'!AS19+'13.ТП_СЭФ'!BA19","v":0},{"$f":"'12.ТП_БЭФ'!AT19+'13.ТП_СЭФ'!BB19","v":0},{"$f":"'12.ТП_БЭФ'!AU19+'13.ТП_СЭФ'!BC19","v":0},{"$f":"'12.ТП_БЭФ'!AV19+'13.ТП_СЭФ'!BD19","v":0},{"$f":"'12.ТП_БЭФ'!AW19+'13.ТП_СЭФ'!BE19","v":0},{"$f":"'12.ТП_БЭФ'!AX19+'13.ТП_СЭФ'!BF19","v":0},{"$f":"'12.ТП_БЭФ'!AY19+'13.ТП_СЭФ'!BG19","v":0},null,0]
[null,3,null,"Оборудование для вскрышных и добычных работ",{"$f":"'12.ТП_БЭФ'!AA20+'13.ТП_СЭФ'!AI20","v":0},{"$f":"'12.ТП_БЭФ'!AB20+'13.ТП_СЭФ'!AJ20","v":0},{"$f":"'12.ТП_БЭФ'!AC20+'13.ТП_СЭФ'!AK20","v":0},{"$f":"'12.ТП_БЭФ'!AD20+'13.ТП_СЭФ'!AL20","v":0},{"$f":"'12.ТП_БЭФ'!AE20+'13.ТП_СЭФ'!AM20","v":0},{"$f":"'12.ТП_БЭФ'!AF20+'13.ТП_СЭФ'!AN20","v":0},{"$f":"'12.ТП_БЭФ'!AG20+'13.ТП_СЭФ'!AO20","v":0},{"$f":"'12.ТП_БЭФ'!AH20+'13.ТП_СЭФ'!AP20","v":0},{"$f":"'12.ТП_БЭФ'!AI20+'13.ТП_СЭФ'!AQ20","v":0},{"$f":"'12.ТП_БЭФ'!AJ20+'13.ТП_СЭФ'!AR20","v":0},0,0,0,0,null,0,0,{"$f":"'12.ТП_БЭФ'!AR20+'13.ТП_СЭФ'!AZ20","v":0},{"$f":"'12.ТП_БЭФ'!AS20+'13.ТП_СЭФ'!BA20","v":0},{"$f":"'12.ТП_БЭФ'!AT20+'13.ТП_СЭФ'!BB20","v":0},{"$f":"'12.ТП_БЭФ'!AU20+'13.ТП_СЭФ'!BC20","v":0},{"$f":"'12.ТП_БЭФ'!AV20+'13.ТП_СЭФ'!BD20","v":0},{"$f":"'12.ТП_БЭФ'!AW20+'13.ТП_СЭФ'!BE20","v":0},{"$f":"'12.ТП_БЭФ'!AX20+'13.ТП_СЭФ'!BF20","v":0},{"$f":"'12.ТП_БЭФ'!AY20+'13.ТП_СЭФ'!BG20","v":0},null,0]
[null,4,null,"Технологический транспорт",{"$f":"'12.ТП_БЭФ'!AA21+'13.ТП_СЭФ'!AI21","v":0},{"$f":"'12.ТП_БЭФ'!AB21+'13.ТП_СЭФ'!AJ21","v":0},{"$f":"'12.ТП_БЭФ'!AC21+'13.ТП_СЭФ'!AK21","v":0},{"$f":"'12.ТП_БЭФ'!AD21+'13.ТП_СЭФ'!AL21","v":0},{"$f":"'12.ТП_БЭФ'!AE21+'13.ТП_СЭФ'!AM21","v":0},{"$f":"'12.ТП_БЭФ'!AF21+'13.ТП_СЭФ'!AN21","v":0},{"$f":"'12.ТП_БЭФ'!AG21+'13.ТП_СЭФ'!AO21","v":0},{"$f":"'12.ТП_БЭФ'!AH21+'13.ТП_СЭФ'!AP21","v":0},{"$f":"'12.ТП_БЭФ'!AI21+'13.ТП_СЭФ'!AQ21","v":0},{"$f":"'12.ТП_БЭФ'!AJ21+'13.ТП_СЭФ'!AR21","v":0},0,0,0,0,null,0,0,{"$f":"'12.ТП_БЭФ'!AR21+'13.ТП_СЭФ'!AZ21","v":0},{"$f":"'12.ТП_БЭФ'!AS21+'13.ТП_СЭФ'!BA21","v":0},{"$f":"'12.ТП_БЭФ'!AT21+'13.ТП_СЭФ'!BB21","v":0},{"$f":"'12.ТП_БЭФ'!AU21+'13.ТП_СЭФ'!BC21","v":0},{"$f":"'12.ТП_БЭФ'!AV21+'13.ТП_СЭФ'!BD21","v":0},{"$f":"'12.ТП_БЭФ'!AW21+'13.ТП_СЭФ'!BE21","v":0},{"$f":"'12.ТП_БЭФ'!AX21+'13.ТП_СЭФ'!BF21","v":0},{"$f":"'12.ТП_БЭФ'!AY21+'13.ТП_СЭФ'!BG21","v":0},null,0]
[null,5,null,"Автотранспорт и дорожно-строительная техника ",{"$f":"'12.ТП_БЭФ'!AA22+'13.ТП_СЭФ'!AI22","v":6261.7},{"$f":"'12.ТП_БЭФ'!AB22+'13.ТП_СЭФ'!AJ22","v":0},{"$f":"'12.ТП_БЭФ'!AC22+'13.ТП_СЭФ'!AK22","v":0},{"$f":"'12.ТП_БЭФ'!AD22+'13.ТП_СЭФ'!AL22","v":6261.7},{"$f":"'12.ТП_БЭФ'!AE22+'13.ТП_СЭФ'!AM22","v":0},{"$f":"'12.ТП_БЭФ'!AF22+'13.ТП_СЭФ'!AN22","v":5551.45},{"$f":"'12.ТП_БЭФ'!AG22+'13.ТП_СЭФ'!AO22","v":0},{"$f":"'12.ТП_БЭФ'!AH22+'13.ТП_СЭФ'!AP22","v":0},{"$f":"'12.ТП_БЭФ'!AI22+'13.ТП_СЭФ'!AQ22","v":0},{"$f":"'12.ТП_БЭФ'!AJ22+'13.ТП_СЭФ'!AR22","v":5551.45},6261.7,5551.45,-710.25,-0.11342766341408883,null,0,0,{"$f":"'12.ТП_БЭФ'!AR22+'13.ТП_СЭФ'!AZ22","v":0},{"$f":"'12.ТП_БЭФ'!AS22+'13.ТП_СЭФ'!BA22","v":0},{"$f":"'12.ТП_БЭФ'!AT22+'13.ТП_СЭФ'!BB22","v":0},{"$f":"'12.ТП_БЭФ'!AU22+'13.ТП_СЭФ'!BC22","v":6261.7},{"$f":"'12.ТП_БЭФ'!AV22+'13.ТП_СЭФ'!BD22","v":0},{"$f":"'12.ТП_БЭФ'!AW22+'13.ТП_СЭФ'!BE22","v":0},{"$f":"'12.ТП_БЭФ'!AX22+'13.ТП_СЭФ'!BF22","v":6261.7},{"$f":"'12.ТП_БЭФ'!AY22+'13.ТП_СЭФ'!BG22","v":0},null,0]
[null,"6.",null,"Электротехническое и энергетическое оборудование",{"$f":"'12.ТП_БЭФ'!AA23+'13.ТП_СЭФ'!AI23","v":2101.35},{"$f":"'12.ТП_БЭФ'!AB23+'13.ТП_СЭФ'!AJ23","v":0},{"$f":"'12.ТП_БЭФ'!AC23+'13.ТП_СЭФ'!AK23","v":0},{"$f":"'12.ТП_БЭФ'!AD23+'13.ТП_СЭФ'!AL23","v":816},{"$f":"'12.ТП_БЭФ'!AE23+'13.ТП_СЭФ'!AM23","v":1285.3499999999999},{"$f":"'12.ТП_БЭФ'!AF23+'13.ТП_СЭФ'!AN23","v":8091.08},{"$f":"'12.ТП_БЭФ'!AG23+'13.ТП_СЭФ'!AO23","v":0},{"$f":"'12.ТП_БЭФ'!AH23+'13.ТП_СЭФ'!AP23","v":0},{"$f":"'12.ТП_БЭФ'!AI23+'13.ТП_СЭФ'!AQ23","v":6876.28},{"$f":"'12.ТП_БЭФ'!AJ23+'13.ТП_СЭФ'!AR23","v":1214.8},2101.35,8091.08,5989.73,2.8504199681157352,null,0,0,{"$f":"'12.ТП_БЭФ'!AR23+'13.ТП_СЭФ'!AZ23","v":0},{"$f":"'12.ТП_БЭФ'!AS23+'13.ТП_СЭФ'!BA23","v":0},{"$f":"'12.ТП_БЭФ'!AT23+'13.ТП_СЭФ'!BB23","v":0},{"$f":"'12.ТП_БЭФ'!AU23+'13.ТП_СЭФ'!BC23","v":2101.35},{"$f":"'12.ТП_БЭФ'!AV23+'13.ТП_СЭФ'!BD23","v":0},{"$f":"'12.ТП_БЭФ'!AW23+'13.ТП_СЭФ'!BE23","v":0},{"$f":"'12.ТП_БЭФ'!AX23+'13.ТП_СЭФ'!BF23","v":816},{"$f":"'12.ТП_БЭФ'!AY23+'13.ТП_СЭФ'!BG23","v":1285.3499999999999},null,0]
[null,7,null,"Вентиляционное, отопительное и насосное оборудование",{"$f":"'12.ТП_БЭФ'!AA24+'13.ТП_СЭФ'!AI24","v":528.12},{"$f":"'12.ТП_БЭФ'!AB24+'13.ТП_СЭФ'!AJ24","v":0},{"$f":"'12.ТП_БЭФ'!AC24+'13.ТП_СЭФ'!AK24","v":0},{"$f":"'12.ТП_БЭФ'!AD24+'13.ТП_СЭФ'!AL24","v":528.12},{"$f":"'12.ТП_БЭФ'!AE24+'13.ТП_СЭФ'!AM24","v":0},{"$f":"'12.ТП_БЭФ'!AF24+'13.ТП_СЭФ'!AN24","v":252.4},{"$f":"'12.ТП_БЭФ'!AG24+'13.ТП_СЭФ'!AO24","v":0},{"$f":"'12.ТП_БЭФ'!AH24+'13.ТП_СЭФ'!AP24","v":0},{"$f":"'12.ТП_БЭФ'!AI24+'13.ТП_СЭФ'!AQ24","v":252.4},{"$f":"'12.ТП_БЭФ'!AJ24+'13.ТП_СЭФ'!AR24","v":0},528.12,252.4,-275.72000000000003,-0.52207831553434825,null,0,0,{"$f":"'12.ТП_БЭФ'!AR24+'13.ТП_СЭФ'!AZ24","v":0},{"$f":"'12.ТП_БЭФ'!AS24+'13.ТП_СЭФ'!BA24","v":0},{"$f":"'12.ТП_БЭФ'!AT24+'13.ТП_СЭФ'!BB24","v":0},{"$f":"'12.ТП_БЭФ'!AU24+'13.ТП_СЭФ'!BC24","v":528.12},{"$f":"'12.ТП_БЭФ'!AV24+'13.ТП_СЭФ'!BD24","v":0},{"$f":"'12.ТП_БЭФ'!AW24+'13.ТП_СЭФ'!BE24","v":0},{"$f":"'12.ТП_БЭФ'!AX24+'13.ТП_СЭФ'!BF24","v":528.12},{"$f":"'12.ТП_БЭФ'!AY24+'13.ТП_СЭФ'!BG24","v":0},null,0]
[null,"8.",null,"Гаражное, компрессорное оборудование, станки",{"$f":"'12.ТП_БЭФ'!AA25+'13.ТП_СЭФ'!AI25","v":1779.1},{"$f":"'12.ТП_БЭФ'!AB25+'13.ТП_СЭФ'!AJ25","v":0},{"$f":"'12.ТП_БЭФ'!AC25+'13.ТП_СЭФ'!AK25","v":0},{"$f":"'12.ТП_БЭФ'!AD25+'13.ТП_СЭФ'!AL25","v":1779.1},{"$f":"'12.ТП_БЭФ'!AE25+'13.ТП_СЭФ'!AM25","v":0},{"$f":"'12.ТП_БЭФ'!AF25+'13.ТП_СЭФ'!AN25","v":1711.97},{"$f":"'12.ТП_БЭФ'!AG25+'13.ТП_СЭФ'!AO25","v":0},{"$f":"'12.ТП_БЭФ'!AH25+'13.ТП_СЭФ'!AP25","v":0},{"$f":"'12.ТП_БЭФ'!AI25+'13.ТП_СЭФ'!AQ25","v":0},{"$f":"'12.ТП_БЭФ'!AJ25+'13.ТП_СЭФ'!AR25","v":1711.97},1779.1,1711.97,-67.129999999999882,-3.7732561407453145E-2,null,0,0,{"$f":"'12.ТП_БЭФ'!AR25+'13.ТП_СЭФ'!AZ25","v":0},{"$f":"'12.ТП_БЭФ'!AS25+'13.ТП_СЭФ'!BA25","v":0},{"$f":"'12.ТП_БЭФ'!AT25+'13.ТП_СЭФ'!BB25","v":0},{"$f":"'12.ТП_БЭФ'!AU25+'13.ТП_СЭФ'!BC25","v":1779.1},{"$f":"'12.ТП_БЭФ'!AV25+'13.ТП_СЭФ'!BD25","v":0},{"$f":"'12.ТП_БЭФ'!AW25+'13.ТП_СЭФ'!BE25","v":0},{"$f":"'12.ТП_БЭФ'!AX25+'13.ТП_СЭФ'!BF25","v":1779.1},{"$f":"'12.ТП_БЭФ'!AY25+'13.ТП_СЭФ'!BG25","v":0},null,0]
[null,"9.",null,"Оборудование автоматизации, ИТ и связи ",{"$f":"'12.ТП_БЭФ'!AA26+'13.ТП_СЭФ'!AI26","v":16.3},{"$f":"'12.ТП_БЭФ'!AB26+'13.ТП_СЭФ'!AJ26","v":0},{"$f":"'12.ТП_БЭФ'!AC26+'13.ТП_СЭФ'!AK26","v":16.3},{"$f":"'12.ТП_БЭФ'!AD26+'13.ТП_СЭФ'!AL26","v":0},{"$f":"'12.ТП_БЭФ'!AE26+'13.ТП_СЭФ'!AM26","v":0},{"$f":"'12.ТП_БЭФ'!AF26+'13.ТП_СЭФ'!AN26","v":680.28},{"$f":"'12.ТП_БЭФ'!AG26+'13.ТП_СЭФ'!AO26","v":0},{"$f":"'12.ТП_БЭФ'!AH26+'13.ТП_СЭФ'!AP26","v":16.3},{"$f":"'12.ТП_БЭФ'!AI26+'13.ТП_СЭФ'!AQ26","v":0},{"$f":"'12.ТП_БЭФ'!AJ26+'13.ТП_СЭФ'!AR26","v":663.98},16.3,680.28,663.98,40.734969325153372,null,0,0,{"$f":"'12.ТП_БЭФ'!AR26+'13.ТП_СЭФ'!AZ26","v":0},{"$f":"'12.ТП_БЭФ'!AS26+'13.ТП_СЭФ'!BA26","v":0},{"$f":"'12.ТП_БЭФ'!AT26+'13.ТП_СЭФ'!BB26","v":0},{"$f":"'12.ТП_БЭФ'!AU26+'13.ТП_СЭФ'!BC26","v":16.3},{"$f":"'12.ТП_БЭФ'!AV26+'13.ТП_СЭФ'!BD26","v":0},{"$f":"'12.ТП_БЭФ'!AW26+'13.ТП_СЭФ'!BE26","v":16.3},{"$f":"'12.ТП_БЭФ'!AX26+'13.ТП_СЭФ'!BF26","v":0},{"$f":"'12.ТП_БЭФ'!AY26+'13.ТП_СЭФ'!BG26","v":0},null,0]
[null,"10.",null,"Прочее оборудование",{"$f":"'12.ТП_БЭФ'!AA27+'13.ТП_СЭФ'!AI27","v":2618.335},{"$f":"'12.ТП_БЭФ'!AB27+'13.ТП_СЭФ'!AJ27","v":407.4},{"$f":"'12.ТП_БЭФ'!AC27+'13.ТП_СЭФ'!AK27","v":112.12},{"$f":"'12.ТП_БЭФ'!AD27+'13.ТП_СЭФ'!AL27","v":219.27999999999997},{"$f":"'12.ТП_БЭФ'!AE27+'13.ТП_СЭФ'!AM27","v":1879.5350000000001},{"$f":"'12.ТП_БЭФ'!AF27+'13.ТП_СЭФ'!AN27","v":1439.43},{"$f":"'12.ТП_БЭФ'!AG27+'13.ТП_СЭФ'!AO27","v":407.4},{"$f":"'12.ТП_БЭФ'!AH27+'13.ТП_СЭФ'!AP27","v":112.12},{"$f":"'12.ТП_БЭФ'!AI27+'13.ТП_СЭФ'!AQ27","v":570.22},{"$f":"'12.ТП_БЭФ'!AJ27+'13.ТП_СЭФ'!AR27","v":349.69},2618.335,1439.43,-1178.905,-0.45024987253349935,null,0,0,{"$f":"'12.ТП_БЭФ'!AR27+'13.ТП_СЭФ'!AZ27","v":0},{"$f":"'12.ТП_БЭФ'!AS27+'13.ТП_СЭФ'!BA27","v":0},{"$f":"'12.ТП_БЭФ'!AT27+'13.ТП_СЭФ'!BB27","v":0},{"$f":"'12.ТП_БЭФ'!AU27+'13.ТП_СЭФ'!BC27","v":2618.335},{"$f":"'12.ТП_БЭФ'!AV27+'13.ТП_СЭФ'!BD27","v":407.4},{"$f":"'12.ТП_БЭФ'!AW27+'13.ТП_СЭФ'!BE27","v":112.12},{"$f":"'12.ТП_БЭФ'!AX27+'13.ТП_СЭФ'!BF27","v":219.27999999999997},{"$f":"'12.ТП_БЭФ'!AY27+'13.ТП_СЭФ'!BG27","v":1879.5350000000001},null,0]
[null,null,null,null,null,null,null,null,null,null,null,null,null,null,null,null,null,null,null,null,null,null,null,null,null,null,null,null,null,null,0]
[null,"II.2",null,"ТП по обоснованию приобретения",{"$f":"'12.ТП_БЭФ'!AA17+'13.ТП_СЭФ'!AI17","v":13304.904999999999},{"$f":"'12.ТП_БЭФ'!AB17+'13.ТП_СЭФ'!AJ17","v":407.4},{"$f":"'12.ТП_БЭФ'!AC17+'13.ТП_СЭФ'!AK17","v":128.42000000000002},{"$f":"'12.ТП_БЭФ'!AD17+'13.ТП_СЭФ'!AL17","v":9604.1999999999989},{"$f":"'12.ТП_БЭФ'!AE17+'13.ТП_СЭФ'!AM17","v":3164.8850000000002},{"$f":"'12.ТП_БЭФ'!AF17+'13.ТП_СЭФ'!AN17","v":17726.609999999997},{"$f":"'12.ТП_БЭФ'!AG17+'13.ТП_СЭФ'!AO17","v":407.4},{"$f":"'12.ТП_БЭФ'!AH17+'13.ТП_СЭФ'!AP17","v":128.42000000000002},{"$f":"'12.ТП_БЭФ'!AI17+'13.ТП_СЭФ'!AQ17","v":7698.9},{"$f":"'12.ТП_БЭФ'!AJ17+'13.ТП_СЭФ'!AR17","v":9491.89},{"$f":"IF(period=period_1Q, F43, IF(period=period_1H, SUM(F43:G43), IF(period=period_9M, SUM(F43:H43), IF(period=period_1Y,SUM(F43:I43),0))))","v":13304.904999999999},{"$f":"IF(period=period_1Q, K43, IF(period=period_1H, SUM(K43:L43), IF(period=period_9M, SUM(K43:M43), IF(period=period_1Y,SUM(K43:N43),0))))","v":17726.61},4421.7050000000017,0.33233645787023675,null,0,0,{"$f":"'12.ТП_БЭФ'!AR17+'13.ТП_СЭФ'!AZ17","v":0},{"$f":"'12.ТП_БЭФ'!AS17+'13.ТП_СЭФ'!BA17","v":0},{"$f":"'12.ТП_БЭФ'!AT17+'13.ТП_СЭФ'!BB17","v":0},{"$f":"'12.ТП_БЭФ'!AU17+'13.ТП_СЭФ'!BC17","v":13304.904999999999},{"$f":"'12.ТП_БЭФ'!AV17+'13.ТП_СЭФ'!BD17","v":407.4},{"$f":"'12.ТП_БЭФ'!AW17+'13.ТП_СЭФ'!BE17","v":128.42000000000002},{"$f":"'12.ТП_БЭФ'!AX17+'13.ТП_СЭФ'!BF17","v":9604.1999999999989},{"$f":"'12.ТП_БЭФ'!AY17+'13.ТП_СЭФ'!BG17","v":3164.8850000000002},null,3.637978807091713E-12]
[null,"1.",null,"ТП по проекту9",{"$f":"'12.ТП_БЭФ'!AA28","v":0},{"$f":"'12.ТП_БЭФ'!AB28","v":0},{"$f":"'12.ТП_БЭФ'!AC28","v":0},{"$f":"'12.ТП_БЭФ'!AD28","v":0},{"$f":"'12.ТП_БЭФ'!AE28","v":0},{"$f":"'12.ТП_БЭФ'!AF28","v":0},{"$f":"'12.ТП_БЭФ'!AG28","v":0},{"$f":"'12.ТП_БЭФ'!AH28","v":0},{"$f":"'12.ТП_БЭФ'!AI28","v":0},{"$f":"'12.ТП_БЭФ'!AJ28","v":0},{"$f":"IF(period=period_1Q, F44, IF(period=period_1H, SUM(F44:G44), IF(period=period_9M, SUM(F44:H44), IF(period=period_1Y,SUM(F44:I44),0))))","v":0},{"$f":"IF(period=period_1Q, K44, IF(period=period_1H, SUM(K44:L44), IF(period=period_9M, SUM(K44:M44), IF(period=period_1Y,SUM(K44:N44),0))))","v":0},0,0,null,0,0,{"$f":"'12.ТП_БЭФ'!AR28","v":0},{"$f":"'12.ТП_БЭФ'!AS28","v":0},{"$f":"'12.ТП_БЭФ'!AT28","v":0},{"$f":"'12.ТП_БЭФ'!AU28","v":0},{"$f":"'12.ТП_БЭФ'!AV28","v":0},{"$f":"'12.ТП_БЭФ'!AW28","v":0},{"$f":"'12.ТП_БЭФ'!AX28","v":0},{"$f":"'12.ТП_БЭФ'!AY28","v":0},null,0]
[null,2,null,"ТП с прямым экономическим эффектом10",{"$f":"'13.ТП_СЭФ'!AI17","v":6261.7},{"$f":"'13.ТП_СЭФ'!AJ17","v":0},{"$f":"'13.ТП_СЭФ'!AK17","v":0},{"$f":"'13.ТП_СЭФ'!AL17","v":6261.7},{"$f":"'13.ТП_СЭФ'!AM17","v":0},{"$f":"'13.ТП_СЭФ'!AN17","v":5551.45},{"$f":"'13.ТП_СЭФ'!AO17","v":0},{"$f":"'13.ТП_СЭФ'!AP17","v":0},{"$f":"'13.ТП_СЭФ'!AQ17","v":0},{"$f":"'13.ТП_СЭФ'!AR17","v":5551.45},{"$f":"IF(period=period_1Q, F45, IF(period=period_1H, SUM(F45:G45), IF(period=period_9M, SUM(F45:H45), IF(period=period_1Y,SUM(F45:I45),0))))","v":6261.7},{"$f":"IF(period=period_1Q, K45, IF(period=period_1H, SUM(K45:L45), IF(period=period_9M, SUM(K45:M45), IF(period=period_1Y,SUM(K45:N45),0))))","v":5551.45},-710.25,-0.11342766341408883,null,0,0,{"$f":"'13.ТП_СЭФ'!AZ17","v":0},{"$f":"'13.ТП_СЭФ'!BA17","v":0},{"$f":"'13.ТП_СЭФ'!BB17","v":0},{"$f":"'13.ТП_СЭФ'!BC17","v":6261.7},{"$f":"'13.ТП_СЭФ'!BD17","v":0},{"$f":"'13.ТП_СЭФ'!BE17","v":0},{"$f":"'13.ТП_СЭФ'!BF17","v":6261.7},{"$f":"'13.ТП_СЭФ'!BG17","v":0},null,0]
[null,3,null,"ТП  вне проектов (без прямого экономического эффекта) 11",{"$f":"'12.ТП_БЭФ'!AA29","v":7043.2049999999999},{"$f":"'12.ТП_БЭФ'!AB29","v":407.4},{"$f":"'12.ТП_БЭФ'!AC29","v":128.42000000000002},{"$f":"'12.ТП_БЭФ'!AD29","v":3342.4999999999995},{"$f":"'12.ТП_БЭФ'!AE29","v":3164.8850000000002},{"$f":"'12.ТП_БЭФ'!AF29","v":12175.16},{"$f":"'12.ТП_БЭФ'!AG29","v":407.4},{"$f":"'12.ТП_БЭФ'!AH29","v":128.42000000000002},{"$f":"'12.ТП_БЭФ'!AI29","v":7698.9},{"$f":"'12.ТП_БЭФ'!AJ29","v":3940.44},{"$f":"IF(period=period_1Q, F46, IF(period=period_1H, SUM(F46:G46), IF(period=period_9M, SUM(F46:H46), IF(period=period_1Y,SUM(F46:I46),0))))","v":7043.2049999999999},{"$f":"IF(period=period_1Q, K46, IF(period=period_1H, SUM(K46:L46), IF(period=period_9M, SUM(K46:M46), IF(period=period_1Y,SUM(K46:N46),0))))","v":12175.16},5131.9549999999999,0.72863916356261105,null,0,0,{"$f":"'12.ТП_БЭФ'!AR29","v":0},{"$f":"'12.ТП_БЭФ'!AS29","v":0},{"$f":"'12.ТП_БЭФ'!AT29","v":0},{"$f":"'12.ТП_БЭФ'!AU29","v":7043.2049999999999},{"$f":"'12.ТП_БЭФ'!AV29","v":407.4},{"$f":"'12.ТП_БЭФ'!AW29","v":128.42000000000002},{"$f":"'12.ТП_БЭФ'!AX29","v":3342.4999999999995},{"$f":"'12.ТП_БЭФ'!AY29","v":3164.8850000000002},null,0]
[null,null,null,null,null,null,null,null,null,null,null,null,null,null,null,null,null,null,null,null,null,null,null,null,null,null,null,null,null,null,0]
[null,"III",null,"ОВИЗ, всего:",{"$f":"'14.ОВИЗ'!AJ17","v":16990.739466246388},{"$f":"'14.ОВИЗ'!AK17","v":0},{"$f":"'14.ОВИЗ'!AL17","v":286.45999999999998},{"$f":"'14.ОВИЗ'!AM17","v":1864.8629267209631},{"$f":"'14.ОВИЗ'!AN17","v":14839.416539525426},{"$f":"'14.ОВИЗ'!AO17","v":14729.413},{"$f":"'14.ОВИЗ'!AP17","v":0},{"$f":"'14.ОВИЗ'!AQ17","v":286.81299999999999},{"$f":"'14.ОВИЗ'!AR17","v":686.07999999999993},{"$f":"'14.ОВИЗ'!AS17","v":13756.52},{"$f":"IF(period=period_1Q, F48, IF(period=period_1H, SUM(F48:G48), IF(period=period_9M, SUM(F48:H48), IF(period=period_1Y,SUM(F48:I48),0))))","v":16990.739466246388},{"$f":"IF(period=period_1Q, K48, IF(period=period_1H, SUM(K48:L48), IF(period=period_9M, SUM(K48:M48), IF(period=period_1Y,SUM(K48:N48),0))))","v":14729.413},-2261.326466246388,-0.13309170390957462,null,0,0,{"$f":"'14.ОВИЗ'!BA17","v":0},{"$f":"'14.ОВИЗ'!BB17","v":0},{"$f":"'14.ОВИЗ'!BC17","v":0},{"$f":"'14.ОВИЗ'!BD17","v":16990.739466246388},{"$f":"'14.ОВИЗ'!BE17","v":0},{"$f":"'14.ОВИЗ'!BF17","v":286.45999999999998},{"$f":"'14.ОВИЗ'!BG17","v":1864.8629267209631},{"$f":"'14.ОВИЗ'!BH17","v":14839.416539525426},null,0]
[null,"1.",null,"Обогатительное и дробильно-размольное оборудование",{"$f":"'14.ОВИЗ'!AJ18","v":0},{"$f":"'14.ОВИЗ'!AK18","v":0},{"$f":"'14.ОВИЗ'!AL18","v":0},{"$f":"'14.ОВИЗ'!AM18","v":0},{"$f":"'14.ОВИЗ'!AN18","v":0},{"$f":"'14.ОВИЗ'!AO18","v":0},{"$f":"'14.ОВИЗ'!AP18","v":0},{"$f":"'14.ОВИЗ'!AQ18","v":0},{"$f":"'14.ОВИЗ'!AR18","v":0},{"$f":"'14.ОВИЗ'!AS18","v":0},0,0,0,0,null,0,0,{"$f":"'14.ОВИЗ'!BA18","v":0},{"$f":"'14.ОВИЗ'!BB18","v":0},{"$f":"'14.ОВИЗ'!BC18","v":0},{"$f":"'14.ОВИЗ'!BD18","v":0},{"$f":"'14.ОВИЗ'!BE18","v":0},{"$f":"'14.ОВИЗ'!BF18","v":0},{"$f":"'14.ОВИЗ'!BG18","v":0},{"$f":"'14.ОВИЗ'!BH18","v":0},null,0]
[null,2,null,"Горно-шахтное  оборудование",{"$f":"'14.ОВИЗ'!AJ19","v":0},{"$f":"'14.ОВИЗ'!AK19","v":0},{"$f":"'14.ОВИЗ'!AL19","v":0},{"$f":"'14.ОВИЗ'!AM19","v":0},{"$f":"'14.ОВИЗ'!AN19","v":0},{"$f":"'14.ОВИЗ'!AO19","v":0},{"$f":"'14.ОВИЗ'!AP19","v":0},{"$f":"'14.ОВИЗ'!AQ19","v":0},{"$f":"'14.ОВИЗ'!AR19","v":0},{"$f":"'14.ОВИЗ'!AS19","v":0},0,0,0,0,null,0,0,{"$f":"'14.ОВИЗ'!BA19","v":0},{"$f":"'14.ОВИЗ'!BB19","v":0},{"$f":"'14.ОВИЗ'!BC19","v":0},{"$f":"'14.ОВИЗ'!BD19","v":0},{"$f":"'14.ОВИЗ'!BE19","v":0},{"$f":"'14.ОВИЗ'!BF19","v":0},{"$f":"'14.ОВИЗ'!BG19","v":0},{"$f":"'14.ОВИЗ'!BH19","v":0},null,0]
[null,3,null,"Оборудование для вскрышных и добычных работ",{"$f":"'14.ОВИЗ'!AJ20","v":0},{"$f":"'14.ОВИЗ'!AK20","v":0},{"$f":"'14.ОВИЗ'!AL20","v":0},{"$f":"'14.ОВИЗ'!AM20","v":0},{"$f":"'14.ОВИЗ'!AN20","v":0},{"$f":"'14.ОВИЗ'!AO20","v":0},{"$f":"'14.ОВИЗ'!AP20","v":0},{"$f":"'14.ОВИЗ'!AQ20","v":0},{"$f":"'14.ОВИЗ'!AR20","v":0},{"$f":"'14.ОВИЗ'!AS20","v":0},0,0,0,0,null,0,0,{"$f":"'14.ОВИЗ'!BA20","v":0},{"$f":"'14.ОВИЗ'!BB20","v":0},{"$f":"'14.ОВИЗ'!BC20","v":0},{"$f":"'14.ОВИЗ'!BD20","v":0},{"$f":"'14.ОВИЗ'!BE20","v":0},{"$f":"'14.ОВИЗ'!BF20","v":0},{"$f":"'14.ОВИЗ'!BG20","v":0},{"$f":"'14.ОВИЗ'!BH20","v":0},null,0]
[null,4,null,"Технологический транспорт",{"$f":"'14.ОВИЗ'!AJ21","v":0},{"$f":"'14.ОВИЗ'!AK21","v":0},{"$f":"'14.ОВИЗ'!AL21","v":0},{"$f":"'14.ОВИЗ'!AM21","v":0},{"$f":"'14.ОВИЗ'!AN21","v":0},{"$f":"'14.ОВИЗ'!AO21","v":0},{"$f":"'14.ОВИЗ'!AP21","v":0},{"$f":"'14.ОВИЗ'!AQ21","v":0},{"$f":"'14.ОВИЗ'!AR21","v":0},{"$f":"'14.ОВИЗ'!AS21","v":0},0,0,0,0,null,0,0,{"$f":"'14.ОВИЗ'!BA21","v":0},{"$f":"'14.ОВИЗ'!BB21","v":0},{"$f":"'14.ОВИЗ'!BC21","v":0},{"$f":"'14.ОВИЗ'!BD21","v":0},{"$f":"'14.ОВИЗ'!BE21","v":0},{"$f":"'14.ОВИЗ'!BF21","v":0},{"$f":"'14.ОВИЗ'!BG21","v":0},{"$f":"'14.ОВИЗ'!BH21","v":0},null,0]
[null,5,null,"Автотранспорт и дорожно-строительная техника ",{"$f":"'14.ОВИЗ'!AJ22","v":1013},{"$f":"'14.ОВИЗ'!AK22","v":0},{"$f":"'14.ОВИЗ'!AL22","v":0},{"$f":"'14.ОВИЗ'!AM22","v":1013},{"$f":"'14.ОВИЗ'!AN22","v":0},{"$f":"'14.ОВИЗ'!AO22","v":932.6},{"$f":"'14.ОВИЗ'!AP22","v":0},{"$f":"'14.ОВИЗ'!AQ22","v":0},{"$f":"'14.ОВИЗ'!AR22","v":0},{"$f":"'14.ОВИЗ'!AS22","v":932.6},1013,932.6,-80.399999999999977,-7.9368213228035514E-2,null,0,0,{"$f":"'14.ОВИЗ'!BA22","v":0},{"$f":"'14.ОВИЗ'!BB22","v":0},{"$f":"'14.ОВИЗ'!BC22","v":0},{"$f":"'14.ОВИЗ'!BD22","v":1013},{"$f":"'14.ОВИЗ'!BE22","v":0},{"$f":"'14.ОВИЗ'!BF22","v":0},{"$f":"'14.ОВИЗ'!BG22","v":1013},{"$f":"'14.ОВИЗ'!BH22","v":0},null,0]
[null,"6.",null,"Электротехническое и энергетическое оборудование",{"$f":"'14.ОВИЗ'!AJ23","v":717.12653952542371},{"$f":"'14.ОВИЗ'!AK23","v":0},{"$f":"'14.ОВИЗ'!AL23","v":85},{"$f":"'14.ОВИЗ'!AM23","v":203.30949152542374},{"$f":"'14.ОВИЗ'!AN23","v":428.817048},{"$f":"'14.ОВИЗ'!AO23","v":713.66000000000008},{"$f":"'14.ОВИЗ'!AP23","v":0},{"$f":"'14.ОВИЗ'!AQ23","v":85},{"$f":"'14.ОВИЗ'!AR23","v":173},{"$f":"'14.ОВИЗ'!AS23","v":455.66},717.12653952542371,713.66000000000008,-3.4665395254236273,-4.8339300449230281E-3,null,0,0,{"$f":"'14.ОВИЗ'!BA23","v":0},{"$f":"'14.ОВИЗ'!BB23","v":0},{"$f":"'14.ОВИЗ'!BC23","v":0},{"$f":"'14.ОВИЗ'!BD23","v":717.12653952542371},{"$f":"'14.ОВИЗ'!BE23","v":0},{"$f":"'14.ОВИЗ'!BF23","v":85},{"$f":"'14.ОВИЗ'!BG23","v":203.30949152542374},{"$f":"'14.ОВИЗ'!BH23","v":428.817048},null,0]
[null,7,null,"Вентиляционное, отопительное и насосное оборудование",{"$f":"'14.ОВИЗ'!AJ24","v":478.76400000000001},{"$f":"'14.ОВИЗ'!AK24","v":0},{"$f":"'14.ОВИЗ'!AL24","v":0},{"$f":"'14.ОВИЗ'!AM24","v":228.92399999999998},{"$f":"'14.ОВИЗ'!AN24","v":249.84},{"$f":"'14.ОВИЗ'!AO24","v":327.48999999999995},{"$f":"'14.ОВИЗ'!AP24","v":0},{"$f":"'14.ОВИЗ'!AQ24","v":0},{"$f":"'14.ОВИЗ'!AR24","v":327.48999999999995},{"$f":"'14.ОВИЗ'!AS24","v":0},478.76400000000001,327.48999999999995,-151.27400000000006,-0.31596778370971929,null,0,0,{"$f":"'14.ОВИЗ'!BA24","v":0},{"$f":"'14.ОВИЗ'!BB24","v":0},{"$f":"'14.ОВИЗ'!BC24","v":0},{"$f":"'14.ОВИЗ'!BD24","v":478.76400000000001},{"$f":"'14.ОВИЗ'!BE24","v":0},{"$f":"'14.ОВИЗ'!BF24","v":0},{"$f":"'14.ОВИЗ'!BG24","v":228.92399999999998},{"$f":"'14.ОВИЗ'!BH24","v":249.84},null,0]
[null,"8.",null,"Гаражное, компрессорное оборудование, станки",{"$f":"'14.ОВИЗ'!AJ25","v":78.459999999999994},{"$f":"'14.ОВИЗ'!AK25","v":0},{"$f":"'14.ОВИЗ'!AL25","v":78.459999999999994},{"$f":"'14.ОВИЗ'!AM25","v":0},{"$f":"'14.ОВИЗ'!AN25","v":0},{"$f":"'14.ОВИЗ'!AO25","v":78.462999999999994},{"$f":"'14.ОВИЗ'!AP25","v":0},{"$f":"'14.ОВИЗ'!AQ25","v":78.462999999999994},{"$f":"'14.ОВИЗ'!AR25","v":0},{"$f":"'14.ОВИЗ'!AS25","v":0},78.459999999999994,78.462999999999994,3.0000000000001137E-3,3.8236043843998396E-5,null,0,0,{"$f":"'14.ОВИЗ'!BA25","v":0},{"$f":"'14.ОВИЗ'!BB25","v":0},{"$f":"'14.ОВИЗ'!BC25","v":0},{"$f":"'14.ОВИЗ'!BD25","v":78.459999999999994},{"$f":"'14.ОВИЗ'!BE25","v":0},{"$f":"'14.ОВИЗ'!BF25","v":78.459999999999994},{"$f":"'14.ОВИЗ'!BG25","v":0},{"$f":"'14.ОВИЗ'!BH25","v":0},null,0]
[null,"9.",null,"Оборудование автоматизации, ИТ и связи ",{"$f":"'14.ОВИЗ'!AJ26","v":12737.640847457629},{"$f":"'14.ОВИЗ'!AK26","v":0},{"$f":"'14.ОВИЗ'!AL26","v":42},{"$f":"'14.ОВИЗ'!AM26","v":185.59322033898306},{"$f":"'14.ОВИЗ'!AN26","v":12510.047627118645},{"$f":"'14.ОВИЗ'!AO26","v":12452.17},{"$f":"'14.ОВИЗ'!AP26","v":0},{"$f":"'14.ОВИЗ'!AQ26","v":42},{"$f":"'14.ОВИЗ'!AR26","v":185.59},{"$f":"'14.ОВИЗ'!AS26","v":12224.58},12737.640847457629,12452.17,-285.47084745762913,-2.2411594963019209E-2,null,0,0,{"$f":"'14.ОВИЗ'!BA26","v":0},{"$f":"'14.ОВИЗ'!BB26","v":0},{"$f":"'14.ОВИЗ'!BC26","v":0},{"$f":"'14.ОВИЗ'!BD26","v":12737.640847457629},{"$f":"'14.ОВИЗ'!BE26","v":0},{"$f":"'14.ОВИЗ'!BF26","v":42},{"$f":"'14.ОВИЗ'!BG26","v":185.59322033898306},{"$f":"'14.ОВИЗ'!BH26","v":12510.047627118645},null,0]
[null,"10.",null,"Прочее оборудование",{"$f":"'14.ОВИЗ'!AJ27","v":1965.7480792633362},{"$f":"'14.ОВИЗ'!AK27","v":0},{"$f":"'14.ОВИЗ'!AL27","v":81},{"$f":"'14.ОВИЗ'!AM27","v":234.03621485655623},{"$f":"'14.ОВИЗ'!AN27","v":1650.71186440678},{"$f":"'14.ОВИЗ'!AO27","v":225.03},{"$f":"'14.ОВИЗ'!AP27","v":0},{"$f":"'14.ОВИЗ'!AQ27","v":81.349999999999994},{"$f":"'14.ОВИЗ'!AR27","v":0},{"$f":"'14.ОВИЗ'!AS27","v":143.68},1965.7480792633362,225.03,-1740.7180792633362,-0.88552449707374004,null,0,0,{"$f":"'14.ОВИЗ'!BA27","v":0},{"$f":"'14.ОВИЗ'!BB27","v":0},{"$f":"'14.ОВИЗ'!BC27","v":0},{"$f":"'14.ОВИЗ'!BD27","v":1965.7480792633362},{"$f":"'14.ОВИЗ'!BE27","v":0},{"$f":"'14.ОВИЗ'!BF27","v":81},{"$f":"'14.ОВИЗ'!BG27","v":234.03621485655623},{"$f":"'14.ОВИЗ'!BH27","v":1650.71186440678},null,0]
[null,null,null,null,null,null,null,null,null,null,null,null,null,null,null,null,null,null,null,null,null,null,null,null,null,null,null,null,null,null,0]
[null,null,"Сверка",null,{"$f":"SUM(ABS(E48-SUM(E49:E58)),ABS(E43-SUM(E44:E46)),ABS(E30-SUM(E32:E41)),ABS(E29-E30),ABS(E17-SUM(E18:E27)), ABS(E30-E43))","v":3.637978807091713E-12},{"$f":"SUM(ABS(F48-SUM(F49:F58)),ABS(F43-SUM(F44:F46)),ABS(F30-SUM(F32:F41)),ABS(F29-F30),ABS(F17-SUM(F18:F27)), ABS(F30-F43))","v":0},0,3.865352482534945E-12,0,7.2759576141834259E-12,0,{"$f":"SUM(ABS(L48-SUM(L49:L58)),ABS(L43-SUM(L44:L46)),ABS(L30-SUM(L32:L41)),ABS(L29-L30),ABS(L17-SUM(L18:L27)), ABS(L30-L43))","v":5.6843418860808015E-14},0,0,7.2759576141834259E-12,3.637978807091713E-12,6.3664629124104977E-12,null,0,0,null,0,0,0,3.637978807091713E-12,0,0,3.865352482534945E-12,0,{"$f":"SUM(ABS(AD48-SUM(AD49:AD58)),ABS(AD43-SUM(AD44:AD46)),ABS(AD30-SUM(AD32:AD41)),ABS(AD29-AD30),ABS(AD17-SUM(AD18:AD27)), ABS(AD30-AD43))","v":0}]
[]
[null,"1 Форма заполняется по освоениию (начислению). Подробнее -порядок заполнения формы и классификатор оборудования определён в \"Положении об инвестиционном бюджете АК \"АЛРОСА\" ."]
[null,"2 В графе \"Отклонение\" производится сравнение факта с плановым периодом нарастающим итогом."]
[null,"3 При отклонении более 10% (не зависимо +/-) в графе \"Комментарии по отклонениям\" в форме указывается причина отклонения. Подробно причины отклонений указываются в Пояснительной записке к инвестиционному бюджету/отчёту."]
[null,"4 Горно-шахтное оборудование: буровое оборудование , машины погрузочные, лебедки шахтные, оборудование шахтного подъема, вентиляционное, горноспасательное оборудование, подземный транспорт,  пр. горно-шахтное оборудование"]
[null,"5 Оборудование для вскрышных и добычных работ: экскаваторы, бульдозеры, колёсные погрузчики, тракторная техника, прочее оборудование для вскрышных работ."]
[null,"6 Технологический транспорт: карьерные самосвалы,  автопоезда,  грузовой магистральный  транспорт,  прочий технолоогический транспорт."]
[null,"7 Автотранспорт и дорожно-строительная техника: автотранспорт общего назначения, автоспецтехника,дорожно-строительные машины , прочий автотранспорт и дорожно-строительная техника"]
[null,"8 Оборудование автоматизации, ИТ и связи: АСУ (автоматизированые системы управления), КИПиА (контрольно-измерительные приборы и автоматизация), прочее оборудование автоматизации, ИТ и связи."]
[null,"9 Приобретение обосновано в рамках соответствующего инвестиционного проекта."]
[null,"10 Необходимость обоснования, включая концепт-расчёт (КР) или технико-экономический расчёт (ТЭР)."]
[null,"11 Требуется обязательное обоснование необходимости приобретения, но  КР/ТЭО не требуется."]
[]
[]
[null,null,null,"Федотов   Леонид Степанович"]
[null,null,null,"Исполнитель (ФИО):"]
[]
[null,null,null,"Начальник  ПТО  СГЭС"]
[null,null,null,"Должность: "]
[]
[null,null,null,"8-411 36-79-365"]
[null,null,null,"Контактный телефон:"]
[]
[]
[null,null,null,"Электронный адрес:"]

{"sheet":"6.БОЛ","index":10,"n_rows":45,"n_cols":31,"rows_kept":45,"cut":false,"hidden":false,"merged":[[11,30,14,30],[11,24,11,28],[11,29,14,29],[12,25,12,28],[13,26,14,26],[13,27,14,27],[13,28,14,28],[13,24,14,24],[13,25,14,25],[11,18,14,18],[11,19,12,23],[12,16,12,17],[13,14,14,14],[13,15,14,15],[13,16,14,16],[13,17,14,17],[13,19,13,20],[13,21,13,23],[11,16,11,17],[13,13,14,13],[11,1,14,1],[11,3,14,3],[11,2,14,2],[11,4,11,13],[13,4,14,4],[13,5,14,5],[13,6,14,6],[13,7,14,7],[13,8,14,8],[13,9,14,9],[12,5,12,8],[12,10,12,13],[5,2,5,3],[7,2,7,3],[13,10,14,10],[13,11,14,11],[13,12,14,12]]}
[null,"Назад к оглавлению",null,null,null,null,null,null,null,"base_fact","base_fact","base_fact","base_fact","base_fact","fact_fields","fact_fields","fact_fields","fact_fields","fact_fields","corr_fields","corr_fields","corr_fields","corr_fields","corr_fields","corr_fields","corr_fields","corr_fields","corr_fields","corr_fields","corr_fields"]
[]
[null,"Приложение № 2 к \"Положению об инвестиционном бюджете АК \"АЛРОСА\"\""]
[null,"Код формы: БОЛ"]
[]
[null,null,{"$f":"org","v":"АО \"Вилюйская ГЭС-3\""}]
[null,null,"Организационно-правовая форма и название Общества/структурного подразделения"]
[null,null,{"$f":"period_txt","v":"12 месяцев 2017"}]
[null,null," Плановый / отчётный период "]
[null,null,"Бюджет инвестиций в оборудование, приобретаемое в лизинг"]
[null,"Тыс. руб. без НДС 1"]
[null,"№","Общество / cтруктурное подразделение","Наименование группы оборудования","Плановый / отчётный период",null,null,null,null,null,null,null,null,null,"ПЛАН за","ФАКТ за","Отклонение за период2",null,"Комментарии по отклонениям3","Изменения к утверждённому плану по году",null,null,null,null,"Скорректированный план",null,null,null,null,"Комментарии по изменениям плана","Сверка"]
[null,null,null,null,"ПЛАН    ","в т.ч. по кварталам:",null,null,null,"ФАКТ ","в т.ч. по кварталам:",null,null,null,{"$f":"period","v":"12 месяцев"},{"$f":"O13","v":"12 месяцев"},"12 месяцев",null,null,null,null,null,null,null,"ПЛАН    ","в т.ч. по кварталам:"]
[null,null,null,null,"Год   всего","1 кв.","2 кв.","3 кв.","4 кв.","Год   всего","1 кв.","2 кв.","3 кв.","4 кв.","Тыс.    руб.","Тыс.    руб.","Тыс.    руб.","% ",null,"Изменение всего",null,"В т.ч.",null,null,"Год   всего","1 кв.","2 кв.","3 кв.","4 кв."]
[null,null,null,null,null,null,null,null,null,null,null,null,null,null,null,null,null,null,null,"Тыс.    руб.","%","Вновь добавлено\n(указывается со знаком \"+\")","Исключено (указывается со знаком \"-\")","Изменение стоимости\n(удорожание \"+\", удешвление \"-\")"]
[null,1,{"$f":"B16+1","v":2},3,4,5,6,7,8,9,10,11,12,13,14,15,16,17,18,19,20,21,22,23,24,25,26,27,28,29]
[null,1,null,"ОБОРУДОВАНИЕ В ЛИЗИНГ- ВСЕГО",{"$f":"E18+E20","v":0},0,0,0,0,0,0,0,0,0,{"$f":"IF(period=period_1Q, F17, IF(period=period_1H, SUM(F17:G17), IF(period=period_9M, SUM(F17:H17), IF(period=period_1Y,SUM(F17:I17),0))))","v":0},{"$f":"IF(period=period_1Q, K17, IF(period=period_1H, SUM(K17:L17), IF(period=period_9M, SUM(K17:M17), IF(period=period_1Y,SUM(K17:N17),0))))","v":0},{"$f":"P17-O17","v":0},{"$f":"IFERROR(Q17/O17, 0)","v":0},null,{"$f":"SUM(V17:X17)","v":0},{"$f":"IFERROR(T17/E17, 0)","v":0},{"$f":"V18+V20","v":0},{"$f":"W18+W20","v":0},{"$f":"X18+X20","v":0},{"$f":"E17+T17","v":0},{"$f":"Z18+Z20","v":0},{"$f":"AA18+AA20","v":0},{"$f":"AB18+AB20","v":0},{"$f":"AC18+AC20","v":0},null,{"$f":"SUM(ABS(E17-SUM(F17:I17)), ABS(J17-SUM(K17:N17)), ABS(T17-SUM(V17:X17)), ABS(Y17-SUM(Z17:AC17)))","v":0}]
[null,"1.1.",null,"Оборудование на строительство",{"$f":"SUM(E19:E19)","v":0},0,0,0,0,0,0,0,0,0,0,0,0,0,null,0,0,{"$f":"SUM(V19:V19)","v":0},{"$f":"SUM(W19:W19)","v":0},{"$f":"SUM(X19:X19)","v":0},{"$f":"E18+T18","v":0},{"$f":"SUM(Z19:Z19)","v":0},{"$f":"SUM(AA19:AA19)","v":0},{"$f":"SUM(AB19:AB19)","v":0},{"$f":"SUM(AC19:AC19)","v":0},null,0]
[null,null,null,"Оборудование в смете на строительство",{"$f":"SUMIF('8.ОСС'!$AY:$AY, leasing, '8.ОСС'!Y:Y)","v":0},{"$f":"SUMIF('8.ОСС'!$AY:$AY, leasing, '8.ОСС'!Z:Z)","v":0},{"$f":"SUMIF('8.ОСС'!$AY:$AY, leasing, '8.ОСС'!AA:AA)","v":0},{"$f":"SUMIF('8.ОСС'!$AY:$AY, leasing, '8.ОСС'!AB:AB)","v":0},{"$f":"SUMIF('8.ОСС'!$AY:$AY, leasing, '8.ОСС'!AC:AC)","v":0},{"$f":"SUMIF('8.ОСС'!$AY:$AY, leasing, '8.ОСС'!AD:AD)","v":0},{"$f":"SUMIF('8.ОСС'!$AY:$AY, leasing, '8.ОСС'!AE:AE)","v":0},{"$f":"SUMIF('8.ОСС'!$AY:$AY, leasing, '8.ОСС'!AF:AF)","v":0},{"$f":"SUMIF('8.ОСС'!$AY:$AY, leasing, '8.ОСС'!AG:AG)","v":0},{"$f":"SUMIF('8.ОСС'!$AY:$AY, leasing, '8.ОСС'!AH:AH)","v":0},0,0,0,0,null,{"$f":"SUM(V19:X19)","v":0},0,{"$f":"SUMIF('8.ОСС'!$AY:$AY, leasing, '8.ОСС'!AP:AP)","v":0},{"$f":"SUMIF('8.ОСС'!$AY:$AY, leasing, '8.ОСС'!AQ:AQ)","v":0},{"$f":"SUMIF('8.ОСС'!$AY:$AY, leasing, '8.ОСС'!AR:AR)","v":0},{"$f":"E19+T19","v":0},{"$f":"SUMIF('8.ОСС'!$AY:$AY, leasing, '8.ОСС'!AT:AT)","v":0},{"$f":"SUMIF('8.ОСС'!$AY:$AY, leasing, '8.ОСС'!AU:AU)","v":0},{"$f":"SUMIF('8.ОСС'!$AY:$AY, leasing, '8.ОСС'!AV:AV)","v":0},{"$f":"SUMIF('8.ОСС'!$AY:$AY, leasing, '8.ОСС'!AW:AW)","v":0},null,0]
[null,"1.2.",null,"Техническое перевооружение и замена изношенного",{"$f":"E21+E25","v":0},0,0,0,0,0,{"$f":"K21+K25","v":0},0,0,0,0,0,0,0,null,0,0,{"$f":"V21+V25","v":0},0,0,0,{"$f":"Z21+Z25","v":0},0,0,0,null,0]
[null,"1.2.1.",null,"Техническое перевооружение действующих производственных мощностей",{"$f":"SUM(E22:E24)","v":0},0,0,0,0,0,0,0,0,0,0,0,0,0,null,0,0,{"$f":"SUM(V22:V24)","v":0},0,0,0,{"$f":"SUM(Z22:Z24)","v":0},0,0,0,null,0]
[null,null,null,"ТП по проекту4",{"$f":"SUMIFS( '12.ТП_БЭФ'!AA:AA, '12.ТП_БЭФ'!$BA:$BA, leasing, '12.ТП_БЭФ'!$F:$F, equip_prj)","v":0},{"$f":"SUMIFS( '12.ТП_БЭФ'!AB:AB, '12.ТП_БЭФ'!$BA:$BA, leasing, '12.ТП_БЭФ'!$F:$F, equip_prj)","v":0},{"$f":"SUMIFS( '12.ТП_БЭФ'!AC:AC, '12.ТП_БЭФ'!$BA:$BA, leasing, '12.ТП_БЭФ'!$F:$F, equip_prj)","v":0},{"$f":"SUMIFS( '12.ТП_БЭФ'!AD:AD, '12.ТП_БЭФ'!$BA:$BA, leasing, '12.ТП_БЭФ'!$F:$F, equip_prj)","v":0},{"$f":"SUMIFS( '12.ТП_БЭФ'!AE:AE, '12.ТП_БЭФ'!$BA:$BA, leasing, '12.ТП_БЭФ'!$F:$F, equip_prj)","v":0},{"$f":"SUMIFS( '12.ТП_БЭФ'!AF:AF, '12.ТП_БЭФ'!$BA:$BA, leasing, '12.ТП_БЭФ'!$F:$F, equip_prj)","v":0},{"$f":"SUMIFS( '12.ТП_БЭФ'!AG:AG, '12.ТП_БЭФ'!$BA:$BA, leasing, '12.ТП_БЭФ'!$F:$F, equip_prj)","v":0},{"$f":"SUMIFS( '12.ТП_БЭФ'!AH:AH, '12.ТП_БЭФ'!$BA:$BA, leasing, '12.ТП_БЭФ'!$F:$F, equip_prj)","v":0},{"$f":"SUMIFS( '12.ТП_БЭФ'!AI:AI, '12.ТП_БЭФ'!$BA:$BA, leasing, '12.ТП_БЭФ'!$F:$F, equip_prj)","v":0},{"$f":"SUMIFS( '12.ТП_БЭФ'!AJ:AJ, '12.ТП_БЭФ'!$BA:$BA, leasing, '12.ТП_БЭФ'!$F:$F, equip_prj)","v":0},0,0,0,0,null,0,0,{"$f":"SUMIFS( '12.ТП_БЭФ'!AR:AR, '12.ТП_БЭФ'!$BA:$BA, leasing, '12.ТП_БЭФ'!$F:$F, equip_prj)","v":0},{"$f":"SUMIFS( '12.ТП_БЭФ'!AS:AS, '12.ТП_БЭФ'!$BA:$BA, leasing, '12.ТП_БЭФ'!$F:$F, equip_prj)","v":0},{"$f":"SUMIFS( '12.ТП_БЭФ'!AT:AT, '12.ТП_БЭФ'!$BA:$BA, leasing, '12.ТП_БЭФ'!$F:$F, equip_prj)","v":0},0,{"$f":"SUMIFS( '12.ТП_БЭФ'!AV:AV, '12.ТП_БЭФ'!$BA:$BA, leasing, '12.ТП_БЭФ'!$F:$F, equip_prj)","v":0},{"$f":"SUMIFS( '12.ТП_БЭФ'!AW:AW, '12.ТП_БЭФ'!$BA:$BA, leasing, '12.ТП_БЭФ'!$F:$F, equip_prj)","v":0},{"$f":"SUMIFS( '12.ТП_БЭФ'!AX:AX, '12.ТП_БЭФ'!$BA:$BA, leasing, '12.ТП_БЭФ'!$F:$F, equip_prj)","v":0},{"$f":"SUMIFS( '12.ТП_БЭФ'!AY:AY, '12.ТП_БЭФ'!$BA:$BA, leasing, '12.ТП_БЭФ'!$F:$F, equip_prj)","v":0},null,0]
[null,null,null,"ТП с  прямым экономическим эффектом",{"$f":"SUMIF('13.ТП_СЭФ'!$BI:$BI, leasing, '13.ТП_СЭФ'!AI:AI)","v":0},{"$f":"SUMIF('13.ТП_СЭФ'!$BI:$BI, leasing, '13.ТП_СЭФ'!AJ:AJ)","v":0},{"$f":"SUMIF('13.ТП_СЭФ'!$BI:$BI, leasing, '13.ТП_СЭФ'!AK:AK)","v":0},{"$f":"SUMIF('13.ТП_СЭФ'!$BI:$BI, leasing, '13.ТП_СЭФ'!AL:AL)","v":0},{"$f":"SUMIF('13.ТП_СЭФ'!$BI:$BI, leasing, '13.ТП_СЭФ'!AM:AM)","v":0},{"$f":"SUMIF('13.ТП_СЭФ'!$BI:$BI, leasing, '13.ТП_СЭФ'!AN:AN)","v":0},{"$f":"SUMIF('13.ТП_СЭФ'!$BI:$BI, leasing, '13.ТП_СЭФ'!AO:AO)","v":0},{"$f":"SUMIF('13.ТП_СЭФ'!$BI:$BI, leasing, '13.ТП_СЭФ'!AP:AP)","v":0},{"$f":"SUMIF('13.ТП_СЭФ'!$BI:$BI, leasing, '13.ТП_СЭФ'!AQ:AQ)","v":0},{"$f":"SUMIF('13.ТП_СЭФ'!$BI:$BI, leasing, '13.ТП_СЭФ'!AR:AR)","v":0},0,0,0,0,null,0,0,{"$f":"SUMIF('13.ТП_СЭФ'!$BI:$BI, leasing, '13.ТП_СЭФ'!AZ:AZ)","v":0},{"$f":"SUMIF('13.ТП_СЭФ'!$BI:$BI, leasing, '13.ТП_СЭФ'!BA:BA)","v":0},{"$f":"SUMIF('13.ТП_СЭФ'!$BI:$BI, leasing, '13.ТП_СЭФ'!BB:BB)","v":0},0,{"$f":"SUMIF('13.ТП_СЭФ'!$BI:$BI, leasing, '13.ТП_СЭФ'!BD:BD)","v":0},{"$f":"SUMIF('13.ТП_СЭФ'!$BI:$BI, leasing, '13.ТП_СЭФ'!BE:BE)","v":0},{"$f":"SUMIF('13.ТП_СЭФ'!$BI:$BI, leasing, '13.ТП_СЭФ'!BF:BF)","v":0},{"$f":"SUMIF('13.ТП_СЭФ'!$BI:$BI, leasing, '13.ТП_СЭФ'!BG:BG)","v":0},null,0]
[null,null,null,"ТП  вне проектов (без прямого экономического эффекта)",{"$f":"SUMIFS( '12.ТП_БЭФ'!AA:AA, '12.ТП_БЭФ'!$BA:$BA, leasing, '12.ТП_БЭФ'!$F:$F, equip_nonprj)","v":0},{"$f":"SUMIFS( '12.ТП_БЭФ'!AB:AB, '12.ТП_БЭФ'!$BA:$BA, leasing, '12.ТП_БЭФ'!$F:$F, equip_nonprj)","v":0},{"$f":"SUMIFS( '12.ТП_БЭФ'!AC:AC, '12.ТП_БЭФ'!$BA:$BA, leasing, '12.ТП_БЭФ'!$F:$F, equip_nonprj)","v":0},{"$f":"SUMIFS( '12.ТП_БЭФ'!AD:AD, '12.ТП_БЭФ'!$BA:$BA, leasing, '12.ТП_БЭФ'!$F:$F, equip_nonprj)","v":0},{"$f":"SUMIFS( '12.ТП_БЭФ'!AE:AE, '12.ТП_БЭФ'!$BA:$BA, leasing, '12.ТП_БЭФ'!$F:$F, equip_nonprj)","v":0},{"$f":"SUMIFS( '12.ТП_БЭФ'!AF:AF, '12.ТП_БЭФ'!$BA:$BA, leasing, '12.ТП_БЭФ'!$F:$F, equip_nonprj)","v":0},{"$f":"SUMIFS( '12.ТП_БЭФ'!AG:AG, '12.ТП_БЭФ'!$BA:$BA, leasing, '12.ТП_БЭФ'!$F:$F, equip_nonprj)","v":0},{"$f":"SUMIFS( '12.ТП_БЭФ'!AH:AH, '12.ТП_БЭФ'!$BA:$BA, leasing, '12.ТП_БЭФ'!$F:$F, equip_nonprj)","v":0},{"$f":"SUMIFS( '12.ТП_БЭФ'!AI:AI, '12.ТП_БЭФ'!$BA:$BA, leasing, '12.ТП_БЭФ'!$F:$F, equip_nonprj)","v":0},{"$f":"SUMIFS( '12.ТП_БЭФ'!AJ:AJ, '12.ТП_БЭФ'!$BA:$BA, leasing, '12.ТП_БЭФ'!$F:$F, equip_nonprj)","v":0},0,0,0,0,null,0,0,{"$f":"SUMIFS( '12.ТП_БЭФ'!AR:AR, '12.ТП_БЭФ'!$BA:$BA, leasing, '12.ТП_БЭФ'!$F:$F, equip_nonprj)","v":0},{"$f":"SUMIFS( '12.ТП_БЭФ'!AS:AS, '12.ТП_БЭФ'!$BA:$BA, leasing, '12.ТП_БЭФ'!$F:$F, equip_nonprj)","v":0},{"$f":"SUMIFS( '12.ТП_БЭФ'!AT:AT, '12.ТП_БЭФ'!$BA:$BA, leasing, '12.ТП_БЭФ'!$F:$F, equip_nonprj)","v":0},0,{"$f":"SUMIFS( '12.ТП_БЭФ'!AV:AV, '12.ТП_БЭФ'!$BA:$BA, leasing, '12.ТП_БЭФ'!$F:$F, equip_nonprj)","v":0},{"$f":"SUMIFS( '12.ТП_БЭФ'!AW:AW, '12.ТП_БЭФ'!$BA:$BA, leasing, '12.ТП_БЭФ'!$F:$F, equip_nonprj)","v":0},{"$f":"SUMIFS( '12.ТП_БЭФ'!AX:AX, '12.ТП_БЭФ'!$BA:$BA, leasing, '12.ТП_БЭФ'!$F:$F, equip_nonprj)","v":0},{"$f":"SUMIFS( '12.ТП_БЭФ'!AY:AY, '12.ТП_БЭФ'!$BA:$BA, leasing, '12.ТП_БЭФ'!$F:$F, equip_nonprj)","v":0},null,0]
[null,"1.2.2.",null,"Замена изношенного оборудования5",{"$f":"SUMIF('14.ОВИЗ'!$BJ:$BJ, leasing, '14.ОВИЗ'!AJ:AJ)","v":0},{"$f":"SUMIF('14.ОВИЗ'!$BJ:$BJ, leasing, '14.ОВИЗ'!AK:AK)","v":0},{"$f":"SUMIF('14.ОВИЗ'!$BJ:$BJ, leasing, '14.ОВИЗ'!AL:AL)","v":0},{"$f":"SUMIF('14.ОВИЗ'!$BJ:$BJ, leasing, '14.ОВИЗ'!AM:AM)","v":0},{"$f":"SUMIF('14.ОВИЗ'!$BJ:$BJ, leasing, '14.ОВИЗ'!AN:AN)","v":0},{"$f":"SUMIF('14.ОВИЗ'!$BJ:$BJ, leasing, '14.ОВИЗ'!AO:AO)","v":0},{"$f":"SUMIF('14.ОВИЗ'!$BJ:$BJ, leasing, '14.ОВИЗ'!AP:AP)","v":0},{"$f":"SUMIF('14.ОВИЗ'!$BJ:$BJ, leasing, '14.ОВИЗ'!AQ:AQ)","v":0},{"$f":"SUMIF('14.ОВИЗ'!$BJ:$BJ, leasing, '14.ОВИЗ'!AR:AR)","v":0},{"$f":"SUMIF('14.ОВИЗ'!$BJ:$BJ, leasing, '14.ОВИЗ'!AS:AS)","v":0},0,0,{"$f":"P25-O25","v":0},{"$f":"IFERROR(Q25/O25, 0)","v":0},null,{"$f":"SUM(V25:X25)","v":0},{"$f":"IFERROR(T25/E25, 0)","v":0},{"$f":"SUMIF('14.ОВИЗ'!$BJ:$BJ, leasing, '14.ОВИЗ'!BA:BA)","v":0},{"$f":"SUMIF('14.ОВИЗ'!$BJ:$BJ, leasing, '14.ОВИЗ'!BB:BB)","v":0},{"$f":"SUMIF('14.ОВИЗ'!$BJ:$BJ, leasing, '14.ОВИЗ'!BC:BC)","v":0},0,{"$f":"SUMIF('14.ОВИЗ'!$BJ:$BJ, leasing, '14.ОВИЗ'!BE:BE)","v":0},{"$f":"SUMIF('14.ОВИЗ'!$BJ:$BJ, leasing, '14.ОВИЗ'!BF:BF)","v":0},{"$f":"SUMIF('14.ОВИЗ'!$BJ:$BJ, leasing, '14.ОВИЗ'!BG:BG)","v":0},{"$f":"SUMIF('14.ОВИЗ'!$BJ:$BJ, leasing, '14.ОВИЗ'!BH:BH)","v":0},null,0]
[]
[null,null,"Сверка",null,{"$f":"SUM(ABS(E21-SUM(E22:E24)), ABS(E20-E21-E25), ABS(E18-SUM(E19:E19)), ABS(E17-E18-E20))","v":0},0,0,0,0,0,0,0,0,0,0,0,0,null,null,{"$f":"SUM(ABS(T21-SUM(T22:T24)), ABS(T20-T21-T25), ABS(T18-SUM(T19:T19)), ABS(T17-T18-T20))","v":0},null,{"$f":"SUM(ABS(V21-SUM(V22:V24)), ABS(V20-V21-V25), ABS(V18-SUM(V19:V19)), ABS(V17-V18-V20))","v":0},0,0,0,0,0,0,0]
[null,"1 Форма заполняется по освоениию (начислению). В форме отражается вся сумма оборудования (единовременно), приобретаемого в лизинг на момент его приобретения. Подробнее -порядок заполнения формы и классификатор оборудования определён в \"Положении об инвестиционном бюджете АК \"АЛРОСА\" ."]
[null,"2 В графе \"Отклонение\" производится сравнение факта с плановым периодом нарастающим итогом."]
[null,"3 При отклонении более 10% (не зависимо +/-) в графе \"Комментарии по отклонениям\"- в форме указывается причина отклонения. Подробно - причины отклонений указываются в Пояснительной записке к инвестиционному бюджету/отчёту"]
[null,"4 Описание классификации инвестиций в технического перевооружение представлено в \"Положении об инвестиционном бюджете АК \"АЛРОСА\""]
[null,"5 Описание классификации оборудования по видам представлено в \"Положении об инвестиционном бюджете АК \"АЛРОСА\""]
[]
[]
[]
[null,null,null,"Исполнитель (ФИО):"]
[]
[]
[null,null,null,"Должность: "]
[]
[]
[null,null,null,"Контактный телефон:"]
[]
[]
[null,null,null,"Электронный адрес:"]

{"sheet":"#_","index":11,"n_rows":0,"n_cols":0,"rows_kept":0,"cut":false,"hidden":false,"merged":[]}

{"sheet":"01. СБИ_B","index":12,"n_rows":107,"n_cols":34,"rows_kept":107,"cut":false,"hidden":false,"merged":[[12,12,14,12],[12,13,14,13],[11,32,12,32],[13,26,14,26],[13,27,14,27],[13,32,14,32],[13,31,14,31],[11,26,12,26],[11,27,12,27],[11,28,12,28],[11,29,12,29],[11,30,12,30],[11,31,12,31],[13,28,14,28],[13,29,14,29],[12,9,14,9],[12,10,14,10],[13,30,14,30],[11,25,12,25],[13,16,14,16],[13,17,14,17],[13,18,14,18],[13,19,14,19],[13,20,14,20],[13,21,14,21],[13,22,14,22],[13,23,14,23],[11,24,12,24],[13,24,14,24],[13,25,14,25],[12,11,14,11],[11,5,11,8],[11,10,11,13],[5,2,5,4],[7,2,7,4],[0,1,0,15],[11,1,14,1],[11,2,14,2],[11,3,14,3],[11,14,11,23],[13,14,14,14],[13,15,14,15],[12,4,14,4],[12,5,14,5],[12,6,14,6],[12,7,14,7],[12,8,14,8]]}
[null,"Назад к оглавлению",null,null,null,null,null,null,null,null,null,null,null,null,null,null,null,null,null,"base_fact","base_fact","base_fact","base_fact","base_fact","plan_fields","plan_fields","extra_fields","extra_fields","extra_fields","extra_fields","extra_fields","extra_fields","extra_fields"]
[]
[null,"Приложение № 2 к \"Положению об инвестиционном бюджете АК \"АЛРОСА\"\""]
[null,"Код формы: СБИ/В"]
[]
[null,null,{"$f":"org","v":"АО \"Вилюйская ГЭС-3\""}]
[null,null,"Организационно-правовая форма и название Общества/структурного подразделения"]
[null,null,{"$f":"period_txt","v":"12 месяцев 2017"}]
[null,null," Плановый / отчётный период "]
[null,"           ","Сводный бюджет инвестиций (детализация по кварталам прошлых периодов)"]
[null,"Тыс. руб. без НДС 1"]
[null,"№","Общество / cтруктурное подразделение","Наименование ",{"$f":"\"ФАКТ \" & year - 2","v":"ФАКТ 2015"}," в т.ч. по кварталам:",null,null,null,{"$f":"IF(mode=budget_mode, \"ОЖИДАНИЕ \" & year - 1, \"ФАКТ \" & year - 1)","v":"ФАКТ 2016"}," в т.ч. по кварталам:",null,null,null,"Плановый / отчётный период2",null,null,null,null,null,null,null,null,null,{"$f":"\"ПРОГНОЗ \" & year + 1","v":"ПРОГНОЗ 2018"},{"$f":"\"ПРОГНОЗ \" & year + 2","v":"ПРОГНОЗ 2019"},{"$f":"\"ФАКТ за \" & period & \" \" & year-2","v":"ФАКТ за 12 месяцев 2015"},{"$f":"\"ФАКТ за \" & period & \" \" & year-1","v":"ФАКТ за 12 месяцев 2016"},{"$f":"\"ПЛАН за \" & period & \" \" & year","v":"ПЛАН за 12 месяцев 2017"},{"$f":"\"ФАКТ за \" & period & \" \" & year","v":"ФАКТ за 12 месяцев 2017"},{"$f":"\"% к плану \" & year","v":"% к плану 2017"},{"$f":"\"% к факту \" & (year-1)","v":"% к факту 2016"},{"$f":"\"% к факту \" & (year-2)","v":"% к факту 2015"},"Сверка"]
[null,null,null,null,"Год             всего","1 кв.","2 кв.","3 кв.","4 кв.","Год             всего","1 кв.","2 кв.","3 кв.","4 кв.","ПЛАН    ","в т.ч. по кварталам:",null,null,null,"ФАКТ ","в т.ч. по кварталам:"]
[null,null,null,null,null,null,null,null,null,null,null,null,null,null,"Год   всего","1 кв.","2 кв.","3 кв.","4 кв.","Год   всего","1 кв.","2 кв.","3 кв.","4 кв.","Тыс.          руб.","Тыс.          руб.","Тыс.    руб.","Тыс.    руб.","Тыс.    руб.","Тыс.    руб.","% ","% ","% "]
[]
[null,1,{"$f":"B16+1","v":2},3,4,5,6,7,8,9,10,11,12,13,14,15,16,17,18,19,20,21,22,23,24,25,26,27,28,29,30,31,32]
[null,"I.",null,"СТРУКТУРА ИНВЕСТИЦИЙ ПО ВИДАМ ВЛОЖЕНИЙ (включая лизинг)",{"$f":"SUM(F17:I17)","v":329619},{"$f":"F19+F39","v":18214},{"$f":"G19+G39","v":22969},{"$f":"H19+H39","v":101018},{"$f":"I19+I39","v":187418},{"$f":"SUM(K17:N17)","v":130863.43699999999},{"$f":"K19+K39","v":9269.3430000000008},{"$f":"L19+L39","v":30983.626000000004},{"$f":"M19+M39","v":44843.487999999998},{"$f":"N19+N39","v":45766.979999999996},{"$f":"'1.СБИ'!G17","v":283519.83546624635},{"$f":"'1.СБИ'!H17","v":3824.65},{"$f":"'1.СБИ'!I17","v":7061.9210000000003},{"$f":"'1.СБИ'!J17","v":169546.11292672096},{"$f":"'1.СБИ'!K17","v":103087.15153952542},{"$f":"'1.СБИ'!L17","v":202896.92103},{"$f":"'1.СБИ'!M17","v":3824.63},{"$f":"'1.СБИ'!N17","v":7063.1680299999998},{"$f":"'1.СБИ'!O17","v":70424.338000000003},{"$f":"'1.СБИ'!P17","v":121584.785},{"$f":"Y19+Y39","v":350000},{"$f":"Z19+Z39","v":187048},{"$f":"IF(period=period_1Q, F17, IF(period=period_1H, SUM(F17:G17), IF(period=period_9M, SUM(F17:H17), IF(period=period_1Y,SUM(F17:I17),0))))","v":329619},{"$f":"IF(period=period_1Q, K17, IF(period=period_1H, SUM(K17:L17), IF(period=period_9M, SUM(K17:M17), IF(period=period_1Y,SUM(K17:N17),0))))","v":130863.43699999999},{"$f":"IF(period=period_1Q, P17, IF(period=period_1H, SUM(P17:Q17), IF(period=period_9M, SUM(P17:R17), IF(period=period_1Y,SUM(P17:S17),0))))","v":283519.83546624635},{"$f":"IF(period=period_1Q, U17, IF(period=period_1H, SUM(U17:V17), IF(period=period_9M, SUM(U17:W17), IF(period=period_1Y,SUM(U17:X17),0))))","v":202896.92103000003},{"$f":"IFERROR(AD17/AC17, 0)","v":0.71563571803128867},{"$f":"IFERROR(AD17/AB17, 0)","v":1.5504477467606177},{"$f":"IFERROR(AD17/AA17, 0)","v":0.61554983490029402},{"$f":"SUM(ABS(E17-SUM(F17:I17)), ABS(J17-SUM(K17:N17)),ABS(O17-SUM(P17:S17)), ABS(T17-SUM(U17:X17)),)","v":2.9103830456733704E-11}]
[null,null,null,null,null,null,null,null,null,null,null,null,null,null,null,null,null,null,null,null,null,null,null,null,null,null,0,0,0,0]
[null,"1.",null,"Инвестиции в капитальные затраты - всего",{"$f":"SUM(F19:I19)","v":329619},{"$f":"F21+F28+F31+F33+F35+F37","v":18214},{"$f":"G21+G28+G31+G33+G35+G37","v":22969},{"$f":"H21+H28+H31+H33+H35+H37","v":101018},{"$f":"I21+I28+I31+I33+I35+I37","v":187418},130863.43699999999,{"$f":"K21+K28+K31+K33+K35+K37","v":9269.3430000000008},{"$f":"L21+L28+L31+L33+L35+L37","v":30983.626000000004},{"$f":"M21+M28+M31+M33+M35+M37","v":44843.487999999998},{"$f":"N21+N28+N31+N33+N35+N37","v":45766.979999999996},{"$f":"'1.СБИ'!G19","v":283519.83546624635},{"$f":"'1.СБИ'!H19","v":3824.65},{"$f":"'1.СБИ'!I19","v":7061.9210000000003},{"$f":"'1.СБИ'!J19","v":169546.11292672096},{"$f":"'1.СБИ'!K19","v":103087.15153952542},{"$f":"'1.СБИ'!L19","v":202896.92103},{"$f":"'1.СБИ'!M19","v":3824.63},{"$f":"'1.СБИ'!N19","v":7063.1680299999998},{"$f":"'1.СБИ'!O19","v":70424.338000000003},{"$f":"'1.СБИ'!P19","v":121584.785},{"$f":"Y21+Y28+Y31+Y33+Y35+Y37","v":350000},{"$f":"Z21+Z28+Z31+Z33+Z35+Z37","v":187048},329619,130863.43699999999,283519.83546624635,202896.92103000003,0.71563571803128867,1.5504477467606177,0.61554983490029402,{"$f":"SUM(ABS(E19-SUM(F19:I19)), ABS(J19-SUM(K19:N19)),ABS(O19-SUM(P19:S19)), ABS(T19-SUM(U19:X19)),)","v":2.9103830456733704E-11}]
[null,null,null,null,null,null,null,null,null,null,null,null,null,null,null,null,null,null,null,null,null,null,null,null,null,null,0,0,0,0]
[null,"1.1.",null,"Строительство - всего, ",279293,{"$f":"SUM(F22,F23,F25,F26,F27)","v":11779},{"$f":"SUM(G22,G23,G25,G26,G27)","v":19568},{"$f":"SUM(H22,H23,H25,H26,H27)","v":64645},{"$f":"SUM(I22,I23,I25,I26,I27)","v":183301},{"$f":"SUM(K21:N21)","v":90413.827999999994},{"$f":"SUM(K22,K23,K25,K26,K27)","v":9198.5529999999999},{"$f":"SUM(L22,L23,L25,L26,L27)","v":21173.257000000001},{"$f":"SUM(M22,M23,M25,M26,M27)","v":30990.038},{"$f":"SUM(N22,N23,N25,N26,N27)","v":29051.98},{"$f":"'1.СБИ'!G21","v":253224.19099999999},{"$f":"'1.СБИ'!H21","v":3417.25},{"$f":"'1.СБИ'!I21","v":6647.0410000000002},{"$f":"'1.СБИ'!J21","v":158077.04999999999},{"$f":"'1.СБИ'!K21","v":85082.85},{"$f":"'1.СБИ'!L21","v":170440.89803000001},{"$f":"'1.СБИ'!M21","v":3417.23},{"$f":"'1.СБИ'!N21","v":6647.9350299999996},{"$f":"'1.СБИ'!O21","v":62039.358},{"$f":"'1.СБИ'!P21","v":98336.375},{"$f":"SUM(Y22,Y23,Y25,Y26,Y27)","v":290000},{"$f":"SUM(Z22,Z23,Z25,Z26,Z27)","v":144048},279293,90413.827999999994,253224.19099999999,170440.89802999998,0.67308299952274298,1.8851198074480375,0.61025839541270277,{"$f":"SUM(ABS(E21-SUM(F21:I21)), ABS(J21-SUM(K21:N21)),ABS(O21-SUM(P21:S21)), ABS(T21-SUM(U21:X21)),)","v":2.9103830456733704E-11}]
[null,"1.1.1.",null,"СМР ",224948,7745,15863,27620,173720,{"$f":"SUM(K22:N22)","v":64945.838000000003},3044.413,17802.623,23628.897000000001,20469.904999999999,{"$f":"'1.СБИ'!G22","v":196120.25},{"$f":"'1.СБИ'!H22","v":6.25},{"$f":"'1.СБИ'!I22","v":3013},{"$f":"'1.СБИ'!J22","v":142341},{"$f":"'1.СБИ'!K22","v":50760},{"$f":"'1.СБИ'!L22","v":126661.98534},{"$f":"'1.СБИ'!M22","v":6.25},{"$f":"'1.СБИ'!N22","v":3013.5923399999997},{"$f":"'1.СБИ'!O22","v":57239.697},{"$f":"'1.СБИ'!P22","v":66402.445999999996},249815,121280,224948,64945.838000000003,196120.25,126661.98534,0.64583838405264116,1.9502710141333459,0.56307228932908937,0]
[null,"1.1.2.",null,"Оборудование на строительство:",30146,{"$f":"SUM(F24:F24)","v":0},{"$f":"SUM(G24:G24)","v":0},{"$f":"SUM(H24:H24)","v":27871},{"$f":"SUM(I24:I24)","v":2275},{"$f":"SUM(K23:N23)","v":0},{"$f":"SUM(K24:K24)","v":0},{"$f":"SUM(L24:L24)","v":0},{"$f":"SUM(M24:M24)","v":0},{"$f":"SUM(N24:N24)","v":0},{"$f":"'1.СБИ'!G23","v":28589},{"$f":"'1.СБИ'!H23","v":0},{"$f":"'1.СБИ'!I23","v":0},{"$f":"'1.СБИ'!J23","v":4576},{"$f":"'1.СБИ'!K23","v":24013},{"$f":"'1.СБИ'!L23","v":20076.329000000002},{"$f":"'1.СБИ'!M23","v":0},{"$f":"'1.СБИ'!N23","v":0},{"$f":"'1.СБИ'!O23","v":0},{"$f":"'1.СБИ'!P23","v":20076.329000000002},{"$f":"SUM(Y24:Y24)","v":0},{"$f":"SUM(Z24:Z24)","v":0},30146,0,28589,20076.329000000002,0.70223963762286201,0,0.66596991308963049,0]
[null,"1.1.2.1.",null,"Оборудование в смете на строительство",30146,null,null,27871,2275,0,0,0,null,null,{"$f":"'1.СБИ'!G24","v":28589},{"$f":"'1.СБИ'!H24","v":0},{"$f":"'1.СБИ'!I24","v":0},{"$f":"'1.СБИ'!J24","v":4576},{"$f":"'1.СБИ'!K24","v":24013},{"$f":"'1.СБИ'!L24","v":20076.329000000002},{"$f":"'1.СБИ'!M24","v":0},{"$f":"'1.СБИ'!N24","v":0},{"$f":"'1.СБИ'!O24","v":0},{"$f":"'1.СБИ'!P24","v":20076.329000000002},null,null,30146,0,28589,20076.329000000002,0.70223963762286201,0,0.66596991308963049,0]
[null,"1.1.3.",null,"ПИР",9573,356,644,5543,3030,11897.646000000001,2640.9,795.41600000000005,4288.3599999999997,4172.97,{"$f":"'1.СБИ'!G25","v":9954},{"$f":"'1.СБИ'!H25","v":244},{"$f":"'1.СБИ'!I25","v":742},{"$f":"'1.СБИ'!J25","v":3517},{"$f":"'1.СБИ'!K25","v":5451},{"$f":"'1.СБИ'!L25","v":8453.982},{"$f":"'1.СБИ'!M25","v":244.15},{"$f":"'1.СБИ'!N25","v":741.56},{"$f":"'1.СБИ'!O25","v":1284.6579999999999},{"$f":"'1.СБИ'!P25","v":6183.6139999999996},20421,6160,9573,11897.646000000001,9954,8453.982,0.8493050030138638,0.71055921482283135,0.88310686305233466,0]
[null,"1.1.4.",null,"Капитализируемые проценты",14626,3678,3061,3611,4276,0,null,null,null,null,{"$f":"'1.СБИ'!G26","v":0},{"$f":"'1.СБИ'!H26","v":0},{"$f":"'1.СБИ'!I26","v":0},{"$f":"'1.СБИ'!J26","v":0},{"$f":"'1.СБИ'!K26","v":0},{"$f":"'1.СБИ'!L26","v":0},{"$f":"'1.СБИ'!M26","v":0},{"$f":"'1.СБИ'!N26","v":0},{"$f":"'1.СБИ'!O26","v":0},{"$f":"'1.СБИ'!P26","v":0},null,null,14626,0,0,0,0,0,0,0]
[null,"1.1.5.",null,"Прочие затраты на КС",0,null,null,null,null,{"$f":"SUM(K27:N27)","v":13570.343999999999},3513.24,2575.2179999999998,3072.7809999999999,4409.1049999999996,{"$f":"'1.СБИ'!G27","v":18560.940999999999},{"$f":"'1.СБИ'!H27","v":3167},{"$f":"'1.СБИ'!I27","v":2892.0410000000002},{"$f":"'1.СБИ'!J27","v":7643.05},{"$f":"'1.СБИ'!K27","v":4858.8499999999995},{"$f":"'1.СБИ'!L27","v":15248.60169},{"$f":"'1.СБИ'!M27","v":3166.83},{"$f":"'1.СБИ'!N27","v":2892.78269},{"$f":"'1.СБИ'!O27","v":3515.0030000000002},{"$f":"'1.СБИ'!P27","v":5673.985999999999},19764,16608,0,13570.343999999999,18560.940999999999,15248.60169,0.82154249022180503,1.1236709762110673,0,0]
[null,"1.2.",null,"Техническое перевооружение и замена изношенного оборудования, всего:",50326,{"$f":"F29+F30","v":6435},3401,36373,4117,40449.609000000004,{"$f":"K29+K30","v":70.790000000000006},{"$f":"L29+L30","v":9810.3690000000006},{"$f":"M29+M30","v":13853.45},{"$f":"N29+N30","v":16715},{"$f":"'1.СБИ'!G28","v":30295.644466246387},{"$f":"'1.СБИ'!H28","v":407.4},{"$f":"'1.СБИ'!I28","v":414.88},{"$f":"'1.СБИ'!J28","v":11469.062926720962},{"$f":"'1.СБИ'!K28","v":18004.301539525426},{"$f":"'1.СБИ'!L28","v":32456.022999999997},{"$f":"'1.СБИ'!M28","v":407.4},{"$f":"'1.СБИ'!N28","v":415.233},{"$f":"'1.СБИ'!O28","v":8384.98},{"$f":"'1.СБИ'!P28","v":23248.41},{"$f":"Y29+Y30","v":60000},43000,50326,40449.609000000004,30295.644466246391,32456.023000000001,1.0713098721554042,0.80238162499914389,0.64491561022135679,7.2759576141834259E-12]
[null,"1.2.1.",null,"Техническое перевооружение действующих производственных мощностей",18043,4872,1695,8660,2816,10400.708999999999,70.790000000000006,1157.9190000000001,3593,5579,{"$f":"'1.СБИ'!G29","v":13304.904999999999},{"$f":"'1.СБИ'!H29","v":407.4},{"$f":"'1.СБИ'!I29","v":128.42000000000002},{"$f":"'1.СБИ'!J29","v":9604.1999999999989},{"$f":"'1.СБИ'!K29","v":3164.8850000000002},{"$f":"'1.СБИ'!L29","v":17726.609999999997},{"$f":"'1.СБИ'!M29","v":407.4},{"$f":"'1.СБИ'!N29","v":128.42000000000002},{"$f":"'1.СБИ'!O29","v":7698.9},{"$f":"'1.СБИ'!P29","v":9491.89},20000,3000,18043,10400.708999999999,13304.904999999999,17726.61,1.3323364578702368,1.7043655389262407,0.98246466773818109,3.637978807091713E-12]
[null,"1.2.2.",null,"Замена изношенного оборудования",32283,1563,1706,27713,1301,30048.9,null,8652.4500000000007,10260.450000000001,11136,{"$f":"'1.СБИ'!G30","v":16990.739466246388},{"$f":"'1.СБИ'!H30","v":0},{"$f":"'1.СБИ'!I30","v":286.45999999999998},{"$f":"'1.СБИ'!J30","v":1864.8629267209631},{"$f":"'1.СБИ'!K30","v":14839.416539525426},{"$f":"'1.СБИ'!L30","v":14729.413},{"$f":"'1.СБИ'!M30","v":0},{"$f":"'1.СБИ'!N30","v":286.81299999999999},{"$f":"'1.СБИ'!O30","v":686.07999999999993},{"$f":"'1.СБИ'!P30","v":13756.52},40000,40000,32283,30048.9,16990.739466246388,14729.413,0.86690829609042541,0.4901814375900615,0.45625911470433356,0]
[null,"1.3.",null,"ГРР",0,null,null,null,null,0,null,null,null,null,{"$f":"'1.СБИ'!G31","v":0},{"$f":"'1.СБИ'!H31","v":0},{"$f":"'1.СБИ'!I31","v":0},{"$f":"'1.СБИ'!J31","v":0},{"$f":"'1.СБИ'!K31","v":0},{"$f":"'1.СБИ'!L31","v":0},{"$f":"'1.СБИ'!M31","v":0},{"$f":"'1.СБИ'!N31","v":0},{"$f":"'1.СБИ'!O31","v":0},{"$f":"'1.СБИ'!P31","v":0},null,null,0,0,0,0,0,0,0,0]
[null,null,null,null,null,null,null,null,null,null,null,null,null,null,null,null,null,null,null,null,null,null,null,null,null,null,0,0,0,0]
[null,"1.4.",null,"НИОКР",0,null,null,null,null,{"$f":"SUM(K33:N33)","v":0},null,null,null,null,{"$f":"'1.СБИ'!G33","v":0},{"$f":"'1.СБИ'!H33","v":0},{"$f":"'1.СБИ'!I33","v":0},{"$f":"'1.СБИ'!J33","v":0},{"$f":"'1.СБИ'!K33","v":0},{"$f":"'1.СБИ'!L33","v":0},{"$f":"'1.СБИ'!M33","v":0},{"$f":"'1.СБИ'!N33","v":0},{"$f":"'1.СБИ'!O33","v":0},{"$f":"'1.СБИ'!P33","v":0},null,null,0,0,0,0,0,0,0,{"$f":"SUM(ABS(E33-SUM(F33:I33)), ABS(J33-SUM(K33:N33)),ABS(O33-SUM(P33:S33)), ABS(T33-SUM(U33:X33)),)","v":0}]
[null,null,null,null,null,null,null,null,null,null,null,null,null,null,null,null,null,null,null,null,null,null,null,null,null,null,0,0,0,0]
[null,"1.5.",null,"НМА",0,null,null,null,null,{"$f":"SUM(K35:N35)","v":0},null,null,null,null,{"$f":"'1.СБИ'!G35","v":0},{"$f":"'1.СБИ'!H35","v":0},{"$f":"'1.СБИ'!I35","v":0},{"$f":"'1.СБИ'!J35","v":0},{"$f":"'1.СБИ'!K35","v":0},{"$f":"'1.СБИ'!L35","v":0},{"$f":"'1.СБИ'!M35","v":0},{"$f":"'1.СБИ'!N35","v":0},{"$f":"'1.СБИ'!O35","v":0},{"$f":"'1.СБИ'!P35","v":0},null,null,0,0,0,0,0,0,0,{"$f":"SUM(ABS(E35-SUM(F35:I35)), ABS(J35-SUM(K35:N35)),ABS(O35-SUM(P35:S35)), ABS(T35-SUM(U35:X35)),)","v":0}]
[null,null,null,null,null,null,null,null,null,null,null,null,null,null,null,null,null,null,null,null,null,null,null,null,null,null,0,0,0,0]
[null,"1.6.",null,"Прочие капитальные затраты",0,null,null,null,null,{"$f":"SUM(K37:N37)","v":0},null,null,null,null,{"$f":"'1.СБИ'!G37","v":0},{"$f":"'1.СБИ'!H37","v":0},{"$f":"'1.СБИ'!I37","v":0},{"$f":"'1.СБИ'!J37","v":0},{"$f":"'1.СБИ'!K37","v":0},{"$f":"'1.СБИ'!L37","v":0},{"$f":"'1.СБИ'!M37","v":0},{"$f":"'1.СБИ'!N37","v":0},{"$f":"'1.СБИ'!O37","v":0},{"$f":"'1.СБИ'!P37","v":0},null,null,0,0,0,0,0,0,0,{"$f":"SUM(ABS(E37-SUM(F37:I37)), ABS(J37-SUM(K37:N37)),ABS(O37-SUM(P37:S37)), ABS(T37-SUM(U37:X37)),)","v":0}]
[null,null,null,null,null,null,null,null,null,null,null,null,null,null,null,null,null,null,null,null,null,null,null,null,null,null,0,0,0,0]
[null,"2.",null,"Долгосрочные финансовые вложения ",0,null,null,null,null,{"$f":"SUM(K39:N39)","v":0},null,null,null,null,{"$f":"'1.СБИ'!G39","v":0},{"$f":"'1.СБИ'!H39","v":0},{"$f":"'1.СБИ'!I39","v":0},{"$f":"'1.СБИ'!J39","v":0},{"$f":"'1.СБИ'!K39","v":0},{"$f":"'1.СБИ'!L39","v":0},{"$f":"'1.СБИ'!M39","v":0},{"$f":"'1.СБИ'!N39","v":0},{"$f":"'1.СБИ'!O39","v":0},{"$f":"'1.СБИ'!P39","v":0},null,null,0,0,0,0,0,0,0,{"$f":"SUM(ABS(E39-SUM(F39:I39)), ABS(J39-SUM(K39:N39)),ABS(O39-SUM(P39:S39)), ABS(T39-SUM(U39:X39)),)","v":0}]
[null,null,null,null,null,null,null,null,null,null,null,null,null,null,null,null,null,null,null,null,null,null,null,null,null,null,0,0,0,0]
[]
[null,null,null,null,null,null,null,null,null,null,null,null,null,null,null,null,null,null,null,null,null,null,null,null,null,null,0,0,0,0]
[null,"II.",null,"СТРУКТУРА ИНВЕСТИЦИЙ ПО НАПРАВЛЕНИЯМ ДЕЯТЕЛЬНОСТИ",{"$f":"SUM(F43:I43)","v":329619},{"$f":"F45+F71","v":18214},{"$f":"G45+G71","v":22969},101018,187418,{"$f":"SUM(K43:N43)","v":130863.43},{"$f":"K45+K71","v":9269.3540000000012},{"$f":"L45+L71","v":30983.626000000004},{"$f":"M45+M71","v":44843.45},{"$f":"N45+N71","v":45767},{"$f":"'1.СБИ'!G43","v":283519.83546624635},{"$f":"'1.СБИ'!H43","v":3824.65},{"$f":"'1.СБИ'!I43","v":7061.9210000000003},{"$f":"'1.СБИ'!J43","v":169546.11292672096},{"$f":"'1.СБИ'!K43","v":103087.15153952542},{"$f":"'1.СБИ'!L43","v":202896.92103},{"$f":"'1.СБИ'!M43","v":3824.63},{"$f":"'1.СБИ'!N43","v":7063.1680299999998},{"$f":"'1.СБИ'!O43","v":70424.338000000003},{"$f":"'1.СБИ'!P43","v":121584.785},{"$f":"Y45+Y71","v":350000},187048,329619,130863.43,283519.83546624635,202896.92103000003,0.71563571803128867,1.5504478296954316,0.61554983490029402,{"$f":"SUM(ABS(E43-SUM(F43:I43)), ABS(J43-SUM(K43:N43)),ABS(O43-SUM(P43:S43)), ABS(T43-SUM(U43:X43)),)","v":2.9103830456733704E-11}]
[null,null,null,null,null,null,null,null,null,null,null,null,null,null,null,null,null,null,null,null,null,null,null,null,null,null,0,0,0,0]
[null,"1.",null,"Инвестиции в капитальные затраты - всего",329619,{"$f":"F47+F59+F61+F63+F65","v":18214},{"$f":"G47+G59+G61+G63+G65","v":22969},101018,187418,{"$f":"SUM(K45:N45)","v":130863.43},{"$f":"K47+K59+K61+K63+K65","v":9269.3540000000012},{"$f":"L47+L59+L61+L63+L65","v":30983.626000000004},{"$f":"M47+M59+M61+M63+M65","v":44843.45},{"$f":"N47+N59+N61+N63+N65","v":45767},{"$f":"'1.СБИ'!G45","v":283519.83546624635},{"$f":"'1.СБИ'!H45","v":3824.65},{"$f":"'1.СБИ'!I45","v":7061.9210000000003},{"$f":"'1.СБИ'!J45","v":169546.11292672096},{"$f":"'1.СБИ'!K45","v":103087.15153952542},{"$f":"'1.СБИ'!L45","v":202896.92103},{"$f":"'1.СБИ'!M45","v":3824.63},{"$f":"'1.СБИ'!N45","v":7063.1680299999998},{"$f":"'1.СБИ'!O45","v":70424.338000000003},{"$f":"'1.СБИ'!P45","v":121584.785},{"$f":"Y47+Y59+Y61+Y63+Y65","v":350000},187048,329619,130863.43,283519.83546624635,202896.92103000003,0.71563571803128867,1.5504478296954316,0.61554983490029402,{"$f":"SUM(ABS(E45-SUM(F45:I45)), ABS(J45-SUM(K45:N45)),ABS(O45-SUM(P45:S45)), ABS(T45-SUM(U45:X45)),)","v":2.9103830456733704E-11}]
[null,null,null,null,null,null,null,null,null,null,null,null,null,null,null,null,null,null,null,null,null,null,null,null,null,null,0,0,0,0]
[null,"1.1.",null,"Строительство объектов основного производства",{"$f":"SUM(F47:I47)","v":279293},{"$f":"F49+F55+F57","v":11779},{"$f":"G49+G55+G57","v":19568},64645,183301,{"$f":"SUM(K47:N47)","v":90413.820999999996},9198.5640000000003,21173.257000000001,30990,29052,{"$f":"'1.СБИ'!G47","v":253224.19099999999},{"$f":"'1.СБИ'!H47","v":3417.25},{"$f":"'1.СБИ'!I47","v":6647.0410000000002},{"$f":"'1.СБИ'!J47","v":158077.04999999999},{"$f":"'1.СБИ'!K47","v":85082.85},{"$f":"'1.СБИ'!L47","v":170440.89803000001},{"$f":"'1.СБИ'!M47","v":3417.23},{"$f":"'1.СБИ'!N47","v":6647.9350299999996},{"$f":"'1.СБИ'!O47","v":62039.358000000007},{"$f":"'1.СБИ'!P47","v":98336.375},{"$f":"Y49+Y55+Y57","v":290000},144048,{"$f":"IF(period=period_1Q, F47, IF(period=period_1H, SUM(F47:G47), IF(period=period_9M, SUM(F47:H47), IF(period=period_1Y,SUM(F47:I47),0))))","v":279293},{"$f":"IF(period=period_1Q, K47, IF(period=period_1H, SUM(K47:L47), IF(period=period_9M, SUM(K47:M47), IF(period=period_1Y,SUM(K47:N47),0))))","v":90413.820999999996},{"$f":"IF(period=period_1Q, P47, IF(period=period_1H, SUM(P47:Q47), IF(period=period_9M, SUM(P47:R47), IF(period=period_1Y,SUM(P47:S47),0))))","v":253224.19099999999},{"$f":"IF(period=period_1Q, U47, IF(period=period_1H, SUM(U47:V47), IF(period=period_9M, SUM(U47:W47), IF(period=period_1Y,SUM(U47:X47),0))))","v":170440.89803000001},{"$f":"IFERROR(AD47/AC47, 0)","v":0.67308299952274309},{"$f":"IFERROR(AD47/AB47, 0)","v":1.8851199533973906},{"$f":"IFERROR(AD47/AA47, 0)","v":0.61025839541270288},{"$f":"SUM(ABS(E47-SUM(F47:I47)), ABS(J47-SUM(K47:N47)),ABS(O47-SUM(P47:S47)), ABS(T47-SUM(U47:X47)),)","v":0}]
[null,null,null,null,null,null,null,null,null,null,null,null,null,null,null,null,null,null,null,null,null,null,null,null,null,null,0,0,0,0]
[null,"1.1.1.",null,"Рудники",0,{"$f":"F50+F51+F52+F53","v":0},0,0,0,{"$f":"SUM(K49:N49)","v":0},{"$f":"K50+K51+K52+K53","v":0},0,0,0,{"$f":"'1.СБИ'!G49","v":0},{"$f":"'1.СБИ'!H49","v":0},{"$f":"'1.СБИ'!I49","v":0},{"$f":"'1.СБИ'!J49","v":0},{"$f":"'1.СБИ'!K49","v":0},{"$f":"'1.СБИ'!L49","v":0},{"$f":"'1.СБИ'!M49","v":0},{"$f":"'1.СБИ'!N49","v":0},{"$f":"'1.СБИ'!O49","v":0},{"$f":"'1.СБИ'!P49","v":0},{"$f":"Y50+Y51+Y52+Y53","v":0},0,0,0,0,0,0,0,0,{"$f":"SUM(ABS(E49-SUM(F49:I49)), ABS(J49-SUM(K49:N49)),ABS(O49-SUM(P49:S49)), ABS(T49-SUM(U49:X49)),)","v":0}]
[null,"1.1.1.1.",null,"Подземный рудник \"Мир\"",0,null,null,null,null,{"$f":"SUM(K50:N50)","v":0},null,null,null,null,{"$f":"'1.СБИ'!G50","v":0},{"$f":"'1.СБИ'!H50","v":0},{"$f":"'1.СБИ'!I50","v":0},{"$f":"'1.СБИ'!J50","v":0},{"$f":"'1.СБИ'!K50","v":0},{"$f":"'1.СБИ'!L50","v":0},{"$f":"'1.СБИ'!M50","v":0},{"$f":"'1.СБИ'!N50","v":0},{"$f":"'1.СБИ'!O50","v":0},{"$f":"'1.СБИ'!P50","v":0},null,null,0,0,0,0,0,0,0,{"$f":"SUM(ABS(E50-SUM(F50:I50)), ABS(J50-SUM(K50:N50)),ABS(O50-SUM(P50:S50)), ABS(T50-SUM(U50:X50)),)","v":0}]
[null,"1.1.1.2.",null,"Подземный рудник \"Айхал\"",0,null,null,null,null,{"$f":"SUM(K51:N51)","v":0},null,null,null,null,{"$f":"'1.СБИ'!G51","v":0},{"$f":"'1.СБИ'!H51","v":0},{"$f":"'1.СБИ'!I51","v":0},{"$f":"'1.СБИ'!J51","v":0},{"$f":"'1.СБИ'!K51","v":0},{"$f":"'1.СБИ'!L51","v":0},{"$f":"'1.СБИ'!M51","v":0},{"$f":"'1.СБИ'!N51","v":0},{"$f":"'1.СБИ'!O51","v":0},{"$f":"'1.СБИ'!P51","v":0},null,null,0,0,0,0,0,0,0,{"$f":"SUM(ABS(E51-SUM(F51:I51)), ABS(J51-SUM(K51:N51)),ABS(O51-SUM(P51:S51)), ABS(T51-SUM(U51:X51)),)","v":0}]
[null,"1.1.1.3.",null,"Подземный рудник \"Удачный\"",0,null,null,null,null,{"$f":"SUM(K52:N52)","v":0},null,null,null,null,{"$f":"'1.СБИ'!G52","v":0},{"$f":"'1.СБИ'!H52","v":0},{"$f":"'1.СБИ'!I52","v":0},{"$f":"'1.СБИ'!J52","v":0},{"$f":"'1.СБИ'!K52","v":0},{"$f":"'1.СБИ'!L52","v":0},{"$f":"'1.СБИ'!M52","v":0},{"$f":"'1.СБИ'!N52","v":0},{"$f":"'1.СБИ'!O52","v":0},{"$f":"'1.СБИ'!P52","v":0},null,null,0,0,0,0,0,0,0,{"$f":"SUM(ABS(E52-SUM(F52:I52)), ABS(J52-SUM(K52:N52)),ABS(O52-SUM(P52:S52)), ABS(T52-SUM(U52:X52)),)","v":0}]
[null,"1.1.1.4.",null,"Подземный рудник \"Интернациональный\"",0,null,null,null,null,{"$f":"SUM(K53:N53)","v":0},null,null,null,null,{"$f":"'1.СБИ'!G53","v":0},{"$f":"'1.СБИ'!H53","v":0},{"$f":"'1.СБИ'!I53","v":0},{"$f":"'1.СБИ'!J53","v":0},{"$f":"'1.СБИ'!K53","v":0},{"$f":"'1.СБИ'!L53","v":0},{"$f":"'1.СБИ'!M53","v":0},{"$f":"'1.СБИ'!N53","v":0},{"$f":"'1.СБИ'!O53","v":0},{"$f":"'1.СБИ'!P53","v":0},null,null,0,0,0,0,0,0,0,{"$f":"SUM(ABS(E53-SUM(F53:I53)), ABS(J53-SUM(K53:N53)),ABS(O53-SUM(P53:S53)), ABS(T53-SUM(U53:X53)),)","v":0}]
[null,null,null,null,null,null,null,null,null,null,null,null,null,null,null,null,null,null,null,null,null,null,null,null,null,null,0,0,0,0]
[null,"1.1.2.",null,"Прочая алмазодобыча",0,null,null,null,null,{"$f":"SUM(K55:N55)","v":0},null,null,null,null,{"$f":"'1.СБИ'!G55","v":0},{"$f":"'1.СБИ'!H55","v":0},{"$f":"'1.СБИ'!I55","v":0},{"$f":"'1.СБИ'!J55","v":0},{"$f":"'1.СБИ'!K55","v":0},{"$f":"'1.СБИ'!L55","v":0},{"$f":"'1.СБИ'!M55","v":0},{"$f":"'1.СБИ'!N55","v":0},{"$f":"'1.СБИ'!O55","v":0},{"$f":"'1.СБИ'!P55","v":0},null,null,0,0,0,0,0,0,0,{"$f":"SUM(ABS(E55-SUM(F55:I55)), ABS(J55-SUM(K55:N55)),ABS(O55-SUM(P55:S55)), ABS(T55-SUM(U55:X55)),)","v":0}]
[null,null,null,null,null,null,null,null,null,null,null,null,null,null,null,null,null,null,null,null,null,null,null,null,null,null,0,0,0,0]
[null,"1.1.3.",null,"Прочая основная деятельность",279293,11779,19568,64645,183301,{"$f":"SUM(K57:N57)","v":90414},9199,21173,30990,29052,{"$f":"'1.СБИ'!G57","v":253224.19099999999},{"$f":"'1.СБИ'!H57","v":3417.25},{"$f":"'1.СБИ'!I57","v":6647.0410000000002},{"$f":"'1.СБИ'!J57","v":158077.04999999999},{"$f":"'1.СБИ'!K57","v":85082.85},{"$f":"'1.СБИ'!L57","v":170440.89803000001},{"$f":"'1.СБИ'!M57","v":3417.23},{"$f":"'1.СБИ'!N57","v":6647.9350299999996},{"$f":"'1.СБИ'!O57","v":62039.358000000007},{"$f":"'1.СБИ'!P57","v":98336.375},290000,144048,279293,90414,253224.19099999999,170440.89803000001,0.67308299952274309,1.8851162212710422,0.61025839541270288,{"$f":"SUM(ABS(E57-SUM(F57:I57)), ABS(J57-SUM(K57:N57)),ABS(O57-SUM(P57:S57)), ABS(T57-SUM(U57:X57)),)","v":0}]
[null,null,null,null,null,null,null,null,null,null,null,null,null,null,null,null,null,null,null,null,null,null,null,null,null,null,0,0,0,0]
[null,"1.2.",null,"Объекты вспомогательного производства  (прочее пром. строительство) ",0,null,null,null,null,{"$f":"SUM(K59:N59)","v":0},null,null,null,null,{"$f":"'1.СБИ'!G59","v":0},{"$f":"'1.СБИ'!H59","v":0},{"$f":"'1.СБИ'!I59","v":0},{"$f":"'1.СБИ'!J59","v":0},{"$f":"'1.СБИ'!K59","v":0},{"$f":"'1.СБИ'!L59","v":0},{"$f":"'1.СБИ'!M59","v":0},{"$f":"'1.СБИ'!N59","v":0},{"$f":"'1.СБИ'!O59","v":0},{"$f":"'1.СБИ'!P59","v":0},null,null,0,0,0,0,0,0,0,{"$f":"SUM(ABS(E59-SUM(F59:I59)), ABS(J59-SUM(K59:N59)),ABS(O59-SUM(P59:S59)), ABS(T59-SUM(U59:X59)),)","v":0}]
[null,null,null,null,null,null,null,null,null,null,null,null,null,null,null,null,null,null,null,null,null,null,null,null,null,null,0,0,0,0]
[null,"1.3.",null,"Объекты непромышленного строительства (социального назначения) ",0,null,null,null,null,{"$f":"SUM(K61:N61)","v":0},null,null,null,null,{"$f":"'1.СБИ'!G61","v":0},{"$f":"'1.СБИ'!H61","v":0},{"$f":"'1.СБИ'!I61","v":0},{"$f":"'1.СБИ'!J61","v":0},{"$f":"'1.СБИ'!K61","v":0},{"$f":"'1.СБИ'!L61","v":0},{"$f":"'1.СБИ'!M61","v":0},{"$f":"'1.СБИ'!N61","v":0},{"$f":"'1.СБИ'!O61","v":0},{"$f":"'1.СБИ'!P61","v":0},null,null,0,0,0,0,0,0,0,{"$f":"SUM(ABS(E61-SUM(F61:I61)), ABS(J61-SUM(K61:N61)),ABS(O61-SUM(P61:S61)), ABS(T61-SUM(U61:X61)),)","v":0}]
[null,null,null,null,null,null,null,null,null,null,null,null,null,null,null,null,null,null,null,null,null,null,null,null,null,null,0,0,0,0]
[null,"1.4.",null,"Техническое перевооружение и замена изношенного оборудования",{"$f":"E28","v":50326},6435,3401,36373,4117,40449.609000000004,{"$f":"K28","v":70.790000000000006},{"$f":"L28","v":9810.3690000000006},13853.45,{"$f":"N28","v":16715},{"$f":"'1.СБИ'!G63","v":30295.644466246387},{"$f":"'1.СБИ'!H63","v":407.4},{"$f":"'1.СБИ'!I63","v":414.88},{"$f":"'1.СБИ'!J63","v":11469.062926720962},{"$f":"'1.СБИ'!K63","v":18004.301539525426},{"$f":"'1.СБИ'!L63","v":32456.022999999997},{"$f":"'1.СБИ'!M63","v":407.4},{"$f":"'1.СБИ'!N63","v":415.233},{"$f":"'1.СБИ'!O63","v":8384.98},{"$f":"'1.СБИ'!P63","v":23248.41},{"$f":"Y28","v":60000},43000,50326,40449.609000000004,30295.644466246391,32456.023000000001,1.0713098721554042,0.80238162499914389,0.64491561022135679,{"$f":"SUM(ABS(E63-SUM(F63:I63)), ABS(J63-SUM(K63:N63)),ABS(O63-SUM(P63:S63)), ABS(T63-SUM(U63:X63)),)","v":7.2759576141834259E-12}]
[null,null,null,null,null,null,null,null,null,null,null,null,null,null,null,null,null,null,null,null,null,null,null,null,null,null,0,0,0,0]
[null,"1.5.",null,"Прочие направления инвестиций",{"$f":"SUM(E66:E69)","v":0},0,0,0,0,0,0,0,0,0,{"$f":"'1.СБИ'!G65","v":0},{"$f":"'1.СБИ'!H65","v":0},{"$f":"'1.СБИ'!I65","v":0},{"$f":"'1.СБИ'!J65","v":0},{"$f":"'1.СБИ'!K65","v":0},{"$f":"'1.СБИ'!L65","v":0},{"$f":"'1.СБИ'!M65","v":0},{"$f":"'1.СБИ'!N65","v":0},{"$f":"'1.СБИ'!O65","v":0},{"$f":"'1.СБИ'!P65","v":0},0,0,0,0,0,0,0,0,0,{"$f":"SUM(ABS(E65-SUM(F65:I65)), ABS(J65-SUM(K65:N65)),ABS(O65-SUM(P65:S65)), ABS(T65-SUM(U65:X65)),)","v":0}]
[null,"1.5.1.",null,"ГРР",{"$f":"E31","v":0},0,0,0,0,0,0,0,0,0,{"$f":"'1.СБИ'!G66","v":0},{"$f":"'1.СБИ'!H66","v":0},{"$f":"'1.СБИ'!I66","v":0},{"$f":"'1.СБИ'!J66","v":0},{"$f":"'1.СБИ'!K66","v":0},{"$f":"'1.СБИ'!L66","v":0},{"$f":"'1.СБИ'!M66","v":0},{"$f":"'1.СБИ'!N66","v":0},{"$f":"'1.СБИ'!O66","v":0},{"$f":"'1.СБИ'!P66","v":0},{"$f":"Y31","v":0},0,0,0,0,0,0,0,0,{"$f":"SUM(ABS(E66-SUM(F66:I66)), ABS(J66-SUM(K66:N66)),ABS(O66-SUM(P66:S66)), ABS(T66-SUM(U66:X66)),)","v":0}]
[null,"1.5.2.",null,"НИОКР",{"$f":"E33","v":0},0,0,0,0,0,0,0,0,0,{"$f":"'1.СБИ'!G67","v":0},{"$f":"'1.СБИ'!H67","v":0},{"$f":"'1.СБИ'!I67","v":0},{"$f":"'1.СБИ'!J67","v":0},{"$f":"'1.СБИ'!K67","v":0},{"$f":"'1.СБИ'!L67","v":0},{"$f":"'1.СБИ'!M67","v":0},{"$f":"'1.СБИ'!N67","v":0},{"$f":"'1.СБИ'!O67","v":0},{"$f":"'1.СБИ'!P67","v":0},{"$f":"Y33","v":0},0,0,0,0,0,0,0,0,{"$f":"SUM(ABS(E67-SUM(F67:I67)), ABS(J67-SUM(K67:N67)),ABS(O67-SUM(P67:S67)), ABS(T67-SUM(U67:X67)),)","v":0}]
[null,"1.5.3.",null,"НМА",{"$f":"E35","v":0},0,0,0,0,0,0,0,0,0,{"$f":"'1.СБИ'!G68","v":0},{"$f":"'1.СБИ'!H68","v":0},{"$f":"'1.СБИ'!I68","v":0},{"$f":"'1.СБИ'!J68","v":0},{"$f":"'1.СБИ'!K68","v":0},{"$f":"'1.СБИ'!L68","v":0},{"$f":"'1.СБИ'!M68","v":0},{"$f":"'1.СБИ'!N68","v":0},{"$f":"'1.СБИ'!O68","v":0},{"$f":"'1.СБИ'!P68","v":0},{"$f":"Y35","v":0},0,0,0,0,0,0,0,0,{"$f":"SUM(ABS(E68-SUM(F68:I68)), ABS(J68-SUM(K68:N68)),ABS(O68-SUM(P68:S68)), ABS(T68-SUM(U68:X68)),)","v":0}]
[null,"1.5.4.",null,"Прочее",{"$f":"E37","v":0},0,0,0,0,0,0,0,0,0,{"$f":"'1.СБИ'!G69","v":0},{"$f":"'1.СБИ'!H69","v":0},{"$f":"'1.СБИ'!I69","v":0},{"$f":"'1.СБИ'!J69","v":0},{"$f":"'1.СБИ'!K69","v":0},{"$f":"'1.СБИ'!L69","v":0},{"$f":"'1.СБИ'!M69","v":0},{"$f":"'1.СБИ'!N69","v":0},{"$f":"'1.СБИ'!O69","v":0},{"$f":"'1.СБИ'!P69","v":0},{"$f":"Y37","v":0},0,0,0,0,0,0,0,0,{"$f":"SUM(ABS(E69-SUM(F69:I69)), ABS(J69-SUM(K69:N69)),ABS(O69-SUM(P69:S69)), ABS(T69-SUM(U69:X69)),)","v":0}]
[null,null,null,null,null,null,null,null,null,null,null,null,null,null,null,null,null,null,null,null,null,null,null,null,null,null,0,0,0,0]
[null,"2.",null,"Долгосрочные финансовые вложения",{"$f":"E39","v":0},0,0,0,0,0,0,0,0,0,{"$f":"'1.СБИ'!G71","v":0},{"$f":"'1.СБИ'!H71","v":0},{"$f":"'1.СБИ'!I71","v":0},{"$f":"'1.СБИ'!J71","v":0},{"$f":"'1.СБИ'!K71","v":0},{"$f":"'1.СБИ'!L71","v":0},{"$f":"'1.СБИ'!M71","v":0},{"$f":"'1.СБИ'!N71","v":0},{"$f":"'1.СБИ'!O71","v":0},{"$f":"'1.СБИ'!P71","v":0},{"$f":"Y39","v":0},0,0,0,0,0,0,0,0,{"$f":"SUM(ABS(E71-SUM(F71:I71)), ABS(J71-SUM(K71:N71)),ABS(O71-SUM(P71:S71)), ABS(T71-SUM(U71:X71)),)","v":0}]
[null,null,null,null,null,null,null,null,null,null,null,null,null,null,null,null,null,null,null,null,null,null,null,null,null,null,0,0,0,0]
[null,null,null,null,null,null,null,null,null,null,null,null,null,null,null,null,null,null,null,null,null,null,null,null,null,null,0,0,0,0]
[]
[null,null,null,null,null,null,null,null,null,null,null,null,null,null,null,null,null,null,null,null,null,null,null,null,null,null,0,0,0,0]
[null,"III.",null,"СТРУКТУРА ИНВЕСТИЦИЙ ПО НАЛИЧИЮ ЛИЗИНГA",329619,{"$f":"F17","v":18214},{"$f":"G17","v":22969},{"$f":"H17","v":101018},{"$f":"I17","v":187418},{"$f":"SUM(K76:N76)","v":130863.43699999999},{"$f":"K17","v":9269.3430000000008},{"$f":"L17","v":30983.626000000004},{"$f":"M17","v":44843.487999999998},{"$f":"N17","v":45766.979999999996},{"$f":"'1.СБИ'!G76","v":283519.83546624635},{"$f":"'1.СБИ'!H76","v":3824.65},{"$f":"'1.СБИ'!I76","v":7061.9210000000003},{"$f":"'1.СБИ'!J76","v":169546.11292672096},{"$f":"'1.СБИ'!K76","v":103087.15153952542},{"$f":"'1.СБИ'!L76","v":202896.92103},{"$f":"'1.СБИ'!M76","v":3824.63},{"$f":"'1.СБИ'!N76","v":7063.1680299999998},{"$f":"'1.СБИ'!O76","v":70424.338000000003},{"$f":"'1.СБИ'!P76","v":121584.785},{"$f":"Y17","v":350000},{"$f":"Z17","v":187048},329619,130863.43699999999,283519.83546624635,202896.92103000003,0.71563571803128867,1.5504477467606177,0.61554983490029402,{"$f":"SUM(ABS(E76-SUM(F76:I76)), ABS(J76-SUM(K76:N76)),ABS(O76-SUM(P76:S76)), ABS(T76-SUM(U76:X76)),)","v":2.9103830456733704E-11}]
[null,null,null,null,null,null,null,null,null,null,null,null,null,null,null,null,null,null,null,null,null,null,null,null,null,null,0,0,0,0]
[null,"1.",null,"Оборудование без лизинга всего",{"$f":"E28+E23-E80","v":80472},{"$f":"F28+F23-F80","v":6435},3401,64244,6392,40449.609000000004,70.790000000000006,9810.3690000000006,13853.45,16715,58884.644466246391,407.4,414.88,16045.062926720962,42017.301539525426,52532.351999999999,407.4,415.233,8384.98,43324.739000000001,{"$f":"Y28+Y23-Y80","v":60000},43000,80472,40449.609000000004,58884.644466246391,52532.351999999999,0.89212310741066581,1.2987109961928185,0.65280286310766478,{"$f":"SUM(ABS(E78-SUM(F78:I78)), ABS(J78-SUM(K78:N78)),ABS(O78-SUM(P78:S78)), ABS(T78-SUM(U78:X78)),)","v":0}]
[null,null,null,null,null,null,null,null,null,null,null,null,null,null,null,null,null,null,null,null,null,null,null,null,null,null,{"$f":"IF(period=period_1Q, F79, IF(period=period_1H, SUM(F79:G79), IF(period=period_9M, SUM(F79:H79), IF(period=period_1Y,SUM(F79:I79),0))))","v":0},{"$f":"IF(period=period_1Q, K79, IF(period=period_1H, SUM(K79:L79), IF(period=period_9M, SUM(K79:M79), IF(period=period_1Y,SUM(K79:N79),0))))","v":0},{"$f":"IF(period=period_1Q, P79, IF(period=period_1H, SUM(P79:Q79), IF(period=period_9M, SUM(P79:R79), IF(period=period_1Y,SUM(P79:S79),0))))","v":0},{"$f":"IF(period=period_1Q, U79, IF(period=period_1H, SUM(U79:V79), IF(period=period_9M, SUM(U79:W79), IF(period=period_1Y,SUM(U79:X79),0))))","v":0}]
[null,"2.",null,"Оборудование по лизингу всего ",{"$f":"SUM(F80:I80)","v":0},null,null,null,null,{"$f":"SUM(K80:N80)","v":0},null,null,null,null,{"$f":"'1.СБИ'!G80","v":0},{"$f":"'1.СБИ'!H80","v":0},{"$f":"'1.СБИ'!I80","v":0},{"$f":"'1.СБИ'!J80","v":0},{"$f":"'1.СБИ'!K80","v":0},{"$f":"'1.СБИ'!L80","v":0},{"$f":"'1.СБИ'!M80","v":0},{"$f":"'1.СБИ'!N80","v":0},{"$f":"'1.СБИ'!O80","v":0},{"$f":"'1.СБИ'!P80","v":0},null,null,0,0,0,0,{"$f":"IFERROR(AD80/AC80, 0)","v":0},{"$f":"IFERROR(AD80/AB80, 0)","v":0},{"$f":"IFERROR(AD80/AA80, 0)","v":0},{"$f":"SUM(ABS(E80-SUM(F80:I80)), ABS(J80-SUM(K80:N80)),ABS(O80-SUM(P80:S80)), ABS(T80-SUM(U80:X80)),)","v":0}]
[null,null,null,null,null,null,null,null,null,null,null,null,null,null,null,null,null,null,null,null,null,null,null,null,null,null,0,0,0,0]
[null,3,null,"Инвестиции без оборудования всего",249147,{"$f":"F76-F78-F80","v":11779},{"$f":"G76-G78-G80","v":19568},36774,181026,{"$f":"SUM(K82:N82)","v":90413.827999999994},{"$f":"K76-K78-K80","v":9198.5529999999999},{"$f":"L76-L78-L80","v":21173.257000000005},30990.037999999997,29051.979999999996,{"$f":"'1.СБИ'!G82","v":224635.19099999996},{"$f":"'1.СБИ'!H82","v":3417.25},{"$f":"'1.СБИ'!I82","v":6647.0410000000002},{"$f":"'1.СБИ'!J82","v":153501.04999999999},{"$f":"'1.СБИ'!K82","v":61069.85},{"$f":"'1.СБИ'!L82","v":150364.56903000001},{"$f":"'1.СБИ'!M82","v":3417.23},{"$f":"'1.СБИ'!N82","v":6647.9350299999996},{"$f":"'1.СБИ'!O82","v":62039.358000000007},{"$f":"'1.СБИ'!P82","v":78260.046000000002},{"$f":"Y76-Y78-Y80","v":290000},{"$f":"Z76-Z78-Z80","v":144048},249147,90413.827999999994,224635.19099999999,150364.56903000001,0.66937227582476166,1.6630704877355709,0.60351747775409703,{"$f":"SUM(ABS(E82-SUM(F82:I82)), ABS(J82-SUM(K82:N82)),ABS(O82-SUM(P82:S82)), ABS(T82-SUM(U82:X82)),)","v":2.9103830456733704E-11}]
[null,null,null,null,null,null,null,null,null,null,null,null,null,null,null,null,null,null,null,null,null,null,null,null,null,null,0,0,0,0]
[null,null,null,null,null,null,null,null,null,null,null,null,null,null,null,null,null,null,null,null,null,null,null,null,null,null,0,0,0,0]
[null,null,null,"Справочно:",null,null,null,null,null,null,null,null,null,null,null,null,null,null,null,null,null,null,null,null,null,null,0,0,0,0]
[null,null,null,null,null,null,null,null,null,null,null,null,null,null,null,null,null,null,null,null,null,null,null,null,null,null,0,0,0,0]
[null,null,null,"Прочие движения по дебету 08 счёта",{"$f":"SUM(F87:I87)","v":0},null,null,null,null,{"$f":"SUM(K87:N87)","v":0},null,null,null,null,{"$f":"'1.СБИ'!G87","v":0},{"$f":"'1.СБИ'!H87","v":0},{"$f":"'1.СБИ'!I87","v":0},{"$f":"'1.СБИ'!J87","v":0},{"$f":"'1.СБИ'!K87","v":0},{"$f":"'1.СБИ'!L87","v":0},{"$f":"'1.СБИ'!M87","v":0},{"$f":"'1.СБИ'!N87","v":0},{"$f":"'1.СБИ'!O87","v":0},{"$f":"'1.СБИ'!P87","v":0},null,null,0,0,0,0,0,0,0,{"$f":"SUM(ABS(E87-SUM(F87:I87)), ABS(J87-SUM(K87:N87)),ABS(O87-SUM(P87:S87)), ABS(T87-SUM(U87:X87)),)","v":0}]
[null,null,null,null,null,null,null,null,null,null,null,null,null,null,null,null,null,null,null,null,null,null,null,null,null,null,0,0,0,0]
[null,null,null,"Итого (инвестиции в нефинансовые активы +ДФВ +прочие движения по Д-ту 08 счёта):",329619,{"$f":"F87+F17-F80","v":18214},{"$f":"G87+G17-G80","v":22969},{"$f":"H87+H17-H80","v":101018},{"$f":"I87+I17-I80","v":187418},{"$f":"SUM(K89:N89)","v":130863.43699999999},{"$f":"K87+K17-K80","v":9269.3430000000008},{"$f":"L87+L17-L80","v":30983.626000000004},{"$f":"M87+M17-M80","v":44843.487999999998},{"$f":"N87+N17-N80","v":45766.979999999996},{"$f":"'1.СБИ'!G89","v":283519.83546624635},{"$f":"'1.СБИ'!H89","v":3824.65},{"$f":"'1.СБИ'!I89","v":7061.9210000000003},{"$f":"'1.СБИ'!J89","v":169546.11292672096},{"$f":"'1.СБИ'!K89","v":103087.15153952542},{"$f":"'1.СБИ'!L89","v":202896.92103},{"$f":"'1.СБИ'!M89","v":3824.63},{"$f":"'1.СБИ'!N89","v":7063.1680299999998},{"$f":"'1.СБИ'!O89","v":70424.338000000003},{"$f":"'1.СБИ'!P89","v":121584.785},{"$f":"Y87+Y17-Y80","v":350000},{"$f":"Z87+Z17-Z80","v":187048},329619,130863.43699999999,283519.83546624635,202896.92103000003,0.71563571803128867,1.5504477467606177,0.61554983490029402,{"$f":"SUM(ABS(E89-SUM(F89:I89)), ABS(J89-SUM(K89:N89)),ABS(O89-SUM(P89:S89)), ABS(T89-SUM(U89:X89)),)","v":2.9103830456733704E-11}]
[null,null,null,null,null,null,null,null,null,null,null,null,null,null,null,null,null,null,null,null,null,null,null,null,null,null,0,0,0,0,null,null,null,{"$f":"SUM(ABS(E90-SUM(F90:I90)), ABS(J90-SUM(K90:N90)),ABS(O90-SUM(P90:S90)), ABS(T90-SUM(U90:X90)),)","v":0}]
[null,null,null,null,null,null,null,null,null,null,null,null,null,null,null,null,null,null,null,null,null,null,null,null,null,null,null,null,null,null,null,null,null,{"$f":"SUM(ABS(E91-SUM(F91:I91)), ABS(J91-SUM(K91:N91)),ABS(O91-SUM(P91:S91)), ABS(T91-SUM(U91:X91)),)","v":0}]
[null,null,null,"Сверка",{"$f":"SUM(ABS(E17-E43),ABS(E43-E76),ABS(E76-E78-E80-E82),ABS(E17-E19-E39),ABS(E19-E21-E28-E31-E33-E35-E37),ABS(E21-E22-E23-E25-E26-E27),ABS(E23-E24),ABS(E28-E29-E30),ABS(E43-E45-E71),ABS(E45-E47-E59-E61-E63-E65),ABS(E47-E49-E55-E57),ABS(E49-E50-E51-E52),ABS(E65-E66-E67-E68-E69),ABS(E89-(E87+E17-E80)))","v":0},{"$f":"SUM(ABS(F17-F43),ABS(F43-F76),ABS(F76-F78-F80-F82),ABS(F17-F19-F39),ABS(F19-F21-F28-F31-F33-F35-F37),ABS(F21-F22-F23-F25-F26-F27),ABS(F23-F24),ABS(F28-F29-F30),ABS(F43-F45-F71),ABS(F45-F47-F59-F61-F63-F65),ABS(F47-F49-F55-F57),ABS(F49-F50-F51-F52),ABS(F65-F66-F67-F68-F69),ABS(F89-(F87+F17-F80)))","v":0},0,0,0,0.19300000004113826,0.45800000000272689,0.25700000000688306,7.600000000820728E-2,4.0000000012696546E-2,5.8207660913467407E-11,2.2737367544323206E-13,2.2737367544323206E-13,3.4106051316484809E-11,2.0918378140777349E-11,3.2741809263825417E-11,2.2737367544323206E-13,3.4106051316484809E-13,7.2759576141834259E-12,1.0913936421275139E-11,0,0,0,0.19300000004113826,9.822542779147625E-11,7.6397554948925972E-11]
[null,"1  Форма заполняется по освоению (начислению). Подробнее -порядок заполнения формы определён в \"Положении об инвестиционном бюджете АК \"АЛРОСА\"."]
[null,"2  Прогнозные данные (1,2-й год, следующий за плановым)  носят справочный характер и не подразумевают авторизации плановых показателей этих периодов.   "]
[]
[]
[]
[null,null,null,"Исполнитель (ФИО):"]
[]
[]
[null,null,null,"Должность: "]
[]
[]
[null,null,null,"Контактный телефон:"]
[]
[]
[null,null,null,"Электронный адрес:"]

{"sheet":"02. СБП_В","index":13,"n_rows":55,"n_cols":31,"rows_kept":55,"cut":false,"hidden":false,"merged":[[12,11,12,14],[9,9,9,29],[13,29,14,29],[11,5,11,14],[13,5,14,5],[13,6,14,6],[13,7,14,7],[13,8,14,8],[13,9,14,9],[13,10,14,10],[13,11,14,11],[13,12,14,12],[13,13,14,13],[13,14,14,14],[13,22,13,24],[13,25,14,25],[13,15,14,15],[13,16,14,16],[13,17,14,17],[13,18,14,18],[13,20,13,21],[11,17,11,18],[11,19,14,19],[11,20,12,24],[11,25,11,29],[12,17,12,18],[12,26,12,29],[13,27,14,27],[13,28,14,28],[13,26,14,26],[5,2,5,4],[7,2,7,4],[0,1,0,5],[11,1,14,1],[11,2,14,2],[11,4,14,4],[9,5,9,8],[11,3,14,3],[12,6,12,9]]}
[null,"Назад к оглавлению",null,null,null,null,null,null,null,null,"base_fact","base_fact","base_fact","base_fact","base_fact","fact_fields","fact_fields","fact_fields","fact_fields","none","corr_fields","corr_fields","corr_fields","corr_fields","corr_fields","corr_fields","corr_fields","corr_fields","corr_fields","corr_fields"]
[]
[null,"Приложение № 2 к \"Положению об инвестиционном бюджете АК \"АЛРОСА\"\""]
[null,"Код формы: СБП/В"]
[]
[null,null,{"$f":"org","v":"АО \"Вилюйская ГЭС-3\""}]
[null,null,"Организационно-правовая форма и название Общества/структурного подразделения"]
[null,null,{"$f":"period_txt","v":"12 месяцев 2017"}]
[null,null," Плановый / отчётный период "]
[null,"Бюджет инвестиций по проекту (справочно):",null,null,null,"АК-10.1.5",null,null,null,{"$f":"IF(ISBLANK(F10), \"\", VLOOKUP(F10, projects, 2, 0))","v":{"$error":"#N/A"}}]
[null,"Тыс. руб. без НДС 1"]
[null,"№","Общество / cтруктурное подразделение","Вид проекта","Наименование ","Плановый / отчётный период",null,null,null,null,null,null,null,null,null,"ПЛАН за","ФАКТ за","Отклонение за период2",null,"Комментарии по отклонениям3","Изменения к утверждённому плану по году",null,null,null,null,"Скорректированный план",null,null,null,null,"Сверка"]
[null,null,null,null,null,"ПЛАН    ","в т.ч. по кварталам:",null,null,null,"ФАКТ ","в т.ч. по кварталам:",null,null,null,{"$f":"period","v":"12 месяцев"},{"$f":"P13","v":"12 месяцев"},"12 месяцев",null,null,null,null,null,null,null,"ПЛАН    ","в т.ч. по кварталам:"]
[null,null,null,null,null,"Год   всего","1 кв.","2 кв.","3 кв.","4 кв.","Год   всего","1 кв.","2 кв.","3 кв.","4 кв.","Тыс.    руб.","Тыс.    руб.","Тыс.    руб.","% ",null,"Изменение всего",null,"В т.ч.",null,null,"Год   всего","1 кв.","2 кв.","3 кв.","4 кв."]
[null,null,null,null,null,null,null,null,null,null,null,null,null,null,null,null,null,null,null,null,"Тыс.    руб.","%","Вновь добавлено\n(указывается со знаком \"+\")","Исключено (указывается со знаком \"-\")","Изменение стоимости\n(удорожание \"+\", удешвление \"-\")"]
[null,1,{"$f":"B16+1","v":2},3,4,5,6,7,8,9,10,11,12,13,14,15,16,17,18,19,20,21,22,23,24,25,26,27,28,29]
[null,null,{"$f":"IF(ISBLANK(F10), \"\", VLOOKUP(F10, projects, 3, 0))","v":{"$error":"#N/A"}},{"$f":"IF(ISBLANK(F10), \"\", VLOOKUP(F10, projects, 4, 0))","v":{"$error":"#N/A"}},{"$f":"J10","v":{"$error":"#N/A"}},{"$f":"F18+F35","v":0},0,0,0,0,0,0,0,0,0,{"$f":"IF(period=period_1Q, G17, IF(period=period_1H, SUM(G17:H17), IF(period=period_9M, SUM(G17:I17), IF(period=period_1Y,SUM(G17:J17),0))))","v":0},{"$f":"IF(period=period_1Q, L17, IF(period=period_1H, SUM(L17:M17), IF(period=period_9M, SUM(L17:N17), IF(period=period_1Y,SUM(L17:O17),0))))","v":0},{"$f":"Q17-P17","v":0},{"$f":"IFERROR(R17/P17, 0)","v":0},null,{"$f":"SUM(W17:Y17)","v":0},{"$f":"IFERROR(U17/F17, 0)","v":0},{"$f":"W18+W35","v":0},0,0,0,0,0,0,0,{"$f":"SUM(ABS(F17-SUM(G17:J17)), ABS(K17-SUM(L17:O17)), ABS(U17-SUM(W17:Y17)), ABS(Z17-SUM(AA17:AD17)))","v":0}]
[null,"1.",null,null,"Инвестиции в капитальные затраты, всего:",{"$f":"F19+F26+F31+F32+F33+F34","v":0},0,0,0,0,0,0,0,0,0,0,0,0,0,null,0,0,{"$f":"W19+W26+W31+W32+W33+W34","v":0},0,0,0,0,0,0,0,0]
[null,"1.1.",null,null,"Строительство, всего:",{"$f":"F20+F21+F23+F24+F25","v":0},0,0,0,0,0,0,0,0,0,0,0,0,0,null,0,0,{"$f":"W20+W21+W23+W24+W25","v":0},0,0,0,0,0,0,0,0]
[null,"1.1.1.",null,null,"СМР",{"$f":"SUMIF('7.СМР'!$D:$D, prj_selected, '7.СМР'!G:G)","v":0},{"$f":"SUMIF('7.СМР'!$D:$D, prj_selected, '7.СМР'!H:H)","v":0},{"$f":"SUMIF('7.СМР'!$D:$D, prj_selected, '7.СМР'!I:I)","v":0},{"$f":"SUMIF('7.СМР'!$D:$D, prj_selected, '7.СМР'!J:J)","v":0},{"$f":"SUMIF('7.СМР'!$D:$D, prj_selected, '7.СМР'!K:K)","v":0},{"$f":"SUMIF('7.СМР'!$D:$D, prj_selected, '7.СМР'!L:L)","v":0},{"$f":"SUMIF('7.СМР'!$D:$D, prj_selected, '7.СМР'!M:M)","v":0},{"$f":"SUMIF('7.СМР'!$D:$D, prj_selected, '7.СМР'!N:N)","v":0},{"$f":"SUMIF('7.СМР'!$D:$D, prj_selected, '7.СМР'!O:O)","v":0},{"$f":"SUMIF('7.СМР'!$D:$D, prj_selected, '7.СМР'!P:P)","v":0},0,0,0,0,null,0,0,{"$f":"SUMIF('7.СМР'!$D:$D, prj_selected, '7.СМР'!X:X)","v":0},{"$f":"SUMIF('7.СМР'!$D:$D, prj_selected, '7.СМР'!Y:Y)","v":0},{"$f":"SUMIF('7.СМР'!$D:$D, prj_selected, '7.СМР'!Z:Z)","v":0},{"$f":"SUMIF('7.СМР'!$D:$D, prj_selected, '7.СМР'!AA:AA)","v":0},{"$f":"SUMIF('7.СМР'!$D:$D, prj_selected, '7.СМР'!AB:AB)","v":0},{"$f":"SUMIF('7.СМР'!$D:$D, prj_selected, '7.СМР'!AC:AC)","v":0},{"$f":"SUMIF('7.СМР'!$D:$D, prj_selected, '7.СМР'!AD:AD)","v":0},{"$f":"SUMIF('7.СМР'!$D:$D, prj_selected, '7.СМР'!AE:AE)","v":0},0]
[null,"1.1.2.",null,null,"Оборудование на строительство",{"$f":"F22","v":0},0,0,0,0,0,0,0,0,0,0,0,0,0,null,0,0,{"$f":"W22","v":0},0,0,0,0,0,0,0,0]
[null,"1.1.2.1.",null,null,"Оборудование в смете на строительство",{"$f":"SUMIF('8.ОСС'!$D:$D, prj_selected, '8.ОСС'!Y:Y)","v":0},{"$f":"SUMIF('8.ОСС'!$D:$D, prj_selected, '8.ОСС'!Z:Z)","v":0},{"$f":"SUMIF('8.ОСС'!$D:$D, prj_selected, '8.ОСС'!AA:AA)","v":0},{"$f":"SUMIF('8.ОСС'!$D:$D, prj_selected, '8.ОСС'!AB:AB)","v":0},{"$f":"SUMIF('8.ОСС'!$D:$D, prj_selected, '8.ОСС'!AC:AC)","v":0},{"$f":"SUMIF('8.ОСС'!$D:$D, prj_selected, '8.ОСС'!AD:AD)","v":0},{"$f":"SUMIF('8.ОСС'!$D:$D, prj_selected, '8.ОСС'!AE:AE)","v":0},{"$f":"SUMIF('8.ОСС'!$D:$D, prj_selected, '8.ОСС'!AF:AF)","v":0},{"$f":"SUMIF('8.ОСС'!$D:$D, prj_selected, '8.ОСС'!AG:AG)","v":0},{"$f":"SUMIF('8.ОСС'!$D:$D, prj_selected, '8.ОСС'!AH:AH)","v":0},0,0,0,0,null,0,0,{"$f":"SUMIF('8.ОСС'!$D:$D, prj_selected, '8.ОСС'!AP:AP)","v":0},{"$f":"SUMIF('8.ОСС'!$D:$D, prj_selected, '8.ОСС'!AQ:AQ)","v":0},{"$f":"SUMIF('8.ОСС'!$D:$D, prj_selected, '8.ОСС'!AR:AR)","v":0},{"$f":"SUMIF('8.ОСС'!$D:$D, prj_selected, '8.ОСС'!AS:AS)","v":0},{"$f":"SUMIF('8.ОСС'!$D:$D, prj_selected, '8.ОСС'!AT:AT)","v":0},{"$f":"SUMIF('8.ОСС'!$D:$D, prj_selected, '8.ОСС'!AU:AU)","v":0},{"$f":"SUMIF('8.ОСС'!$D:$D, prj_selected, '8.ОСС'!AV:AV)","v":0},{"$f":"SUMIF('8.ОСС'!$D:$D, prj_selected, '8.ОСС'!AW:AW)","v":0},0]
[null,"1.1.3.",null,null,"ПИР",{"$f":"SUMIF('9.ПИР'!$D:$D, prj_selected, '9.ПИР'!G:G)","v":0},{"$f":"SUMIF('9.ПИР'!$D:$D, prj_selected, '9.ПИР'!H:H)","v":0},{"$f":"SUMIF('9.ПИР'!$D:$D, prj_selected, '9.ПИР'!I:I)","v":0},{"$f":"SUMIF('9.ПИР'!$D:$D, prj_selected, '9.ПИР'!J:J)","v":0},{"$f":"SUMIF('9.ПИР'!$D:$D, prj_selected, '9.ПИР'!K:K)","v":0},{"$f":"SUMIF('9.ПИР'!$D:$D, prj_selected, '9.ПИР'!L:L)","v":0},{"$f":"SUMIF('9.ПИР'!$D:$D, prj_selected, '9.ПИР'!M:M)","v":0},{"$f":"SUMIF('9.ПИР'!$D:$D, prj_selected, '9.ПИР'!N:N)","v":0},{"$f":"SUMIF('9.ПИР'!$D:$D, prj_selected, '9.ПИР'!O:O)","v":0},{"$f":"SUMIF('9.ПИР'!$D:$D, prj_selected, '9.ПИР'!P:P)","v":0},0,0,0,0,null,0,0,{"$f":"SUMIF('9.ПИР'!$D:$D, prj_selected, '9.ПИР'!X:X)","v":0},{"$f":"SUMIF('9.ПИР'!$D:$D, prj_selected, '9.ПИР'!Y:Y)","v":0},{"$f":"SUMIF('9.ПИР'!$D:$D, prj_selected, '9.ПИР'!Z:Z)","v":0},{"$f":"SUMIF('9.ПИР'!$D:$D, prj_selected, '9.ПИР'!AA:AA)","v":0},{"$f":"SUMIF('9.ПИР'!$D:$D, prj_selected, '9.ПИР'!AB:AB)","v":0},{"$f":"SUMIF('9.ПИР'!$D:$D, prj_selected, '9.ПИР'!AC:AC)","v":0},{"$f":"SUMIF('9.ПИР'!$D:$D, prj_selected, '9.ПИР'!AD:AD)","v":0},{"$f":"SUMIF('9.ПИР'!$D:$D, prj_selected, '9.ПИР'!AE:AE)","v":0},0]
[null,"1.1.4.",null,null,"Капитализируемые проценты",{"$f":"SUMIF('10.БКП'!$D:$D, prj_selected, '10.БКП'!G:G)","v":0},{"$f":"SUMIF('10.БКП'!$D:$D, prj_selected, '10.БКП'!H:H)","v":0},{"$f":"SUMIF('10.БКП'!$D:$D, prj_selected, '10.БКП'!I:I)","v":0},{"$f":"SUMIF('10.БКП'!$D:$D, prj_selected, '10.БКП'!J:J)","v":0},{"$f":"SUMIF('10.БКП'!$D:$D, prj_selected, '10.БКП'!K:K)","v":0},{"$f":"SUMIF('10.БКП'!$D:$D, prj_selected, '10.БКП'!L:L)","v":0},{"$f":"SUMIF('10.БКП'!$D:$D, prj_selected, '10.БКП'!M:M)","v":0},{"$f":"SUMIF('10.БКП'!$D:$D, prj_selected, '10.БКП'!N:N)","v":0},{"$f":"SUMIF('10.БКП'!$D:$D, prj_selected, '10.БКП'!O:O)","v":0},{"$f":"SUMIF('10.БКП'!$D:$D, prj_selected, '10.БКП'!P:P)","v":0},0,0,0,0,null,0,0,{"$f":"SUMIF('10.БКП'!$D:$D, prj_selected, '10.БКП'!X:X)","v":0},{"$f":"SUMIF('10.БКП'!$D:$D, prj_selected, '10.БКП'!Y:Y)","v":0},{"$f":"SUMIF('10.БКП'!$D:$D, prj_selected, '10.БКП'!Z:Z)","v":0},{"$f":"SUMIF('10.БКП'!$D:$D, prj_selected, '10.БКП'!AA:AA)","v":0},{"$f":"SUMIF('10.БКП'!$D:$D, prj_selected, '10.БКП'!AB:AB)","v":0},{"$f":"SUMIF('10.БКП'!$D:$D, prj_selected, '10.БКП'!AC:AC)","v":0},{"$f":"SUMIF('10.БКП'!$D:$D, prj_selected, '10.БКП'!AD:AD)","v":0},{"$f":"SUMIF('10.БКП'!$D:$D, prj_selected, '10.БКП'!AE:AE)","v":0},0]
[null,"1.1.5.",null,null,"Прочие затраты на КС",{"$f":"SUMIF('11.ПЗС'!$D:$D, prj_selected, '11.ПЗС'!H:H)","v":0},{"$f":"SUMIF('11.ПЗС'!$D:$D, prj_selected, '11.ПЗС'!I:I)","v":0},{"$f":"SUMIF('11.ПЗС'!$D:$D, prj_selected, '11.ПЗС'!J:J)","v":0},{"$f":"SUMIF('11.ПЗС'!$D:$D, prj_selected, '11.ПЗС'!K:K)","v":0},{"$f":"SUMIF('11.ПЗС'!$D:$D, prj_selected, '11.ПЗС'!L:L)","v":0},{"$f":"SUMIF('11.ПЗС'!$D:$D, prj_selected, '11.ПЗС'!M:M)","v":0},{"$f":"SUMIF('11.ПЗС'!$D:$D, prj_selected, '11.ПЗС'!N:N)","v":0},{"$f":"SUMIF('11.ПЗС'!$D:$D, prj_selected, '11.ПЗС'!O:O)","v":0},{"$f":"SUMIF('11.ПЗС'!$D:$D, prj_selected, '11.ПЗС'!P:P)","v":0},{"$f":"SUMIF('11.ПЗС'!$D:$D, prj_selected, '11.ПЗС'!Q:Q)","v":0},0,0,0,0,null,0,0,{"$f":"SUMIF('11.ПЗС'!$D:$D, prj_selected, '11.ПЗС'!Y:Y)","v":0},{"$f":"SUMIF('11.ПЗС'!$D:$D, prj_selected, '11.ПЗС'!Z:Z)","v":0},{"$f":"SUMIF('11.ПЗС'!$D:$D, prj_selected, '11.ПЗС'!AA:AA)","v":0},{"$f":"SUMIF('11.ПЗС'!$D:$D, prj_selected, '11.ПЗС'!AB:AB)","v":0},{"$f":"SUMIF('11.ПЗС'!$D:$D, prj_selected, '11.ПЗС'!AC:AC)","v":0},{"$f":"SUMIF('11.ПЗС'!$D:$D, prj_selected, '11.ПЗС'!AD:AD)","v":0},{"$f":"SUMIF('11.ПЗС'!$D:$D, prj_selected, '11.ПЗС'!AE:AE)","v":0},{"$f":"SUMIF('11.ПЗС'!$D:$D, prj_selected, '11.ПЗС'!AF:AF)","v":0},0]
[null,"1.2.",null,null,"Техническое перевооружение и замена изношенного оборудования, всего:",{"$f":"F27+F30","v":0},0,0,0,0,0,0,0,0,0,0,0,0,0,null,0,0,{"$f":"W27+W30","v":0},0,0,0,0,0,0,0,0]
[null,"1.2.1.",null,null,"Техническое перевооружение действующих производственных мощностей",{"$f":"F28+F29","v":0},0,0,0,0,0,0,0,0,0,0,0,0,0,null,0,0,{"$f":"W28+W29","v":0},0,0,0,0,0,0,0,0]
[null,"1.2.1.1.",null,null,"ТП  по проекту и вне проектов (без прямого экономического эффекта)",{"$f":"SUMIF('12.ТП_БЭФ'!$D:$D, prj_selected, '12.ТП_БЭФ'!AA:AA)","v":0},{"$f":"SUMIF('12.ТП_БЭФ'!$D:$D, prj_selected, '12.ТП_БЭФ'!AB:AB)","v":0},{"$f":"SUMIF('12.ТП_БЭФ'!$D:$D, prj_selected, '12.ТП_БЭФ'!AC:AC)","v":0},{"$f":"SUMIF('12.ТП_БЭФ'!$D:$D, prj_selected, '12.ТП_БЭФ'!AD:AD)","v":0},{"$f":"SUMIF('12.ТП_БЭФ'!$D:$D, prj_selected, '12.ТП_БЭФ'!AE:AE)","v":0},{"$f":"SUMIF('12.ТП_БЭФ'!$D:$D, prj_selected, '12.ТП_БЭФ'!AF:AF)","v":0},{"$f":"SUMIF('12.ТП_БЭФ'!$D:$D, prj_selected, '12.ТП_БЭФ'!AG:AG)","v":0},{"$f":"SUMIF('12.ТП_БЭФ'!$D:$D, prj_selected, '12.ТП_БЭФ'!AH:AH)","v":0},{"$f":"SUMIF('12.ТП_БЭФ'!$D:$D, prj_selected, '12.ТП_БЭФ'!AI:AI)","v":0},{"$f":"SUMIF('12.ТП_БЭФ'!$D:$D, prj_selected, '12.ТП_БЭФ'!AJ:AJ)","v":0},0,0,0,0,null,0,0,{"$f":"SUMIF('12.ТП_БЭФ'!$D:$D, prj_selected, '12.ТП_БЭФ'!AR:AR)","v":0},{"$f":"SUMIF('12.ТП_БЭФ'!$D:$D, prj_selected, '12.ТП_БЭФ'!AS:AS)","v":0},{"$f":"SUMIF('12.ТП_БЭФ'!$D:$D, prj_selected, '12.ТП_БЭФ'!AT:AT)","v":0},{"$f":"SUMIF('12.ТП_БЭФ'!$D:$D, prj_selected, '12.ТП_БЭФ'!AU:AU)","v":0},{"$f":"SUMIF('12.ТП_БЭФ'!$D:$D, prj_selected, '12.ТП_БЭФ'!AV:AV)","v":0},{"$f":"SUMIF('12.ТП_БЭФ'!$D:$D, prj_selected, '12.ТП_БЭФ'!AW:AW)","v":0},{"$f":"SUMIF('12.ТП_БЭФ'!$D:$D, prj_selected, '12.ТП_БЭФ'!AX:AX)","v":0},{"$f":"SUMIF('12.ТП_БЭФ'!$D:$D, prj_selected, '12.ТП_БЭФ'!AY:AY)","v":0},0]
[null,"1.2.1.2.",null,null,"ТП с прямым экономическим эффектом",{"$f":"SUMIF('13.ТП_СЭФ'!$D:$D, prj_selected, '13.ТП_СЭФ'!AI:AI)","v":0},{"$f":"SUMIF('13.ТП_СЭФ'!$D:$D, prj_selected, '13.ТП_СЭФ'!AJ:AJ)","v":0},{"$f":"SUMIF('13.ТП_СЭФ'!$D:$D, prj_selected, '13.ТП_СЭФ'!AK:AK)","v":0},{"$f":"SUMIF('13.ТП_СЭФ'!$D:$D, prj_selected, '13.ТП_СЭФ'!AL:AL)","v":0},{"$f":"SUMIF('13.ТП_СЭФ'!$D:$D, prj_selected, '13.ТП_СЭФ'!AM:AM)","v":0},{"$f":"SUMIF('13.ТП_СЭФ'!$D:$D, prj_selected, '13.ТП_СЭФ'!AN:AN)","v":0},{"$f":"SUMIF('13.ТП_СЭФ'!$D:$D, prj_selected, '13.ТП_СЭФ'!AO:AO)","v":0},{"$f":"SUMIF('13.ТП_СЭФ'!$D:$D, prj_selected, '13.ТП_СЭФ'!AP:AP)","v":0},{"$f":"SUMIF('13.ТП_СЭФ'!$D:$D, prj_selected, '13.ТП_СЭФ'!AQ:AQ)","v":0},{"$f":"SUMIF('13.ТП_СЭФ'!$D:$D, prj_selected, '13.ТП_СЭФ'!AR:AR)","v":0},0,0,0,0,null,0,0,{"$f":"SUMIF('13.ТП_СЭФ'!$D:$D, prj_selected, '13.ТП_СЭФ'!AZ:AZ)","v":0},{"$f":"SUMIF('13.ТП_СЭФ'!$D:$D, prj_selected, '13.ТП_СЭФ'!BA:BA)","v":0},{"$f":"SUMIF('13.ТП_СЭФ'!$D:$D, prj_selected, '13.ТП_СЭФ'!BB:BB)","v":0},{"$f":"SUMIF('13.ТП_СЭФ'!$D:$D, prj_selected, '13.ТП_СЭФ'!BC:BC)","v":0},{"$f":"SUMIF('13.ТП_СЭФ'!$D:$D, prj_selected, '13.ТП_СЭФ'!BD:BD)","v":0},{"$f":"SUMIF('13.ТП_СЭФ'!$D:$D, prj_selected, '13.ТП_СЭФ'!BE:BE)","v":0},{"$f":"SUMIF('13.ТП_СЭФ'!$D:$D, prj_selected, '13.ТП_СЭФ'!BF:BF)","v":0},{"$f":"SUMIF('13.ТП_СЭФ'!$D:$D, prj_selected, '13.ТП_СЭФ'!BG:BG)","v":0},0]
[null,"1.2.2.",null,null,"Замена изношенного оборудования",{"$f":"SUMIF('14.ОВИЗ'!$D:$D, prj_selected, '14.ОВИЗ'!AJ:AJ)","v":0},{"$f":"SUMIF('14.ОВИЗ'!$D:$D, prj_selected, '14.ОВИЗ'!AK:AK)","v":0},{"$f":"SUMIF('14.ОВИЗ'!$D:$D, prj_selected, '14.ОВИЗ'!AL:AL)","v":0},{"$f":"SUMIF('14.ОВИЗ'!$D:$D, prj_selected, '14.ОВИЗ'!AM:AM)","v":0},{"$f":"SUMIF('14.ОВИЗ'!$D:$D, prj_selected, '14.ОВИЗ'!AN:AN)","v":0},{"$f":"SUMIF('14.ОВИЗ'!$D:$D, prj_selected, '14.ОВИЗ'!AO:AO)","v":0},{"$f":"SUMIF('14.ОВИЗ'!$D:$D, prj_selected, '14.ОВИЗ'!AP:AP)","v":0},{"$f":"SUMIF('14.ОВИЗ'!$D:$D, prj_selected, '14.ОВИЗ'!AQ:AQ)","v":0},{"$f":"SUMIF('14.ОВИЗ'!$D:$D, prj_selected, '14.ОВИЗ'!AR:AR)","v":0},{"$f":"SUMIF('14.ОВИЗ'!$D:$D, prj_selected, '14.ОВИЗ'!AS:AS)","v":0},0,0,0,0,null,0,0,{"$f":"SUMIF('14.ОВИЗ'!$D:$D, prj_selected, '14.ОВИЗ'!BA:BA)","v":0},{"$f":"SUMIF('14.ОВИЗ'!$D:$D, prj_selected, '14.ОВИЗ'!BB:BB)","v":0},{"$f":"SUMIF('14.ОВИЗ'!$D:$D, prj_selected, '14.ОВИЗ'!BC:BC)","v":0},{"$f":"SUMIF('14.ОВИЗ'!$D:$D, prj_selected, '14.ОВИЗ'!BD:BD)","v":0},{"$f":"SUMIF('14.ОВИЗ'!$D:$D, prj_selected, '14.ОВИЗ'!BE:BE)","v":0},{"$f":"SUMIF('14.ОВИЗ'!$D:$D, prj_selected, '14.ОВИЗ'!BF:BF)","v":0},{"$f":"SUMIF('14.ОВИЗ'!$D:$D, prj_selected, '14.ОВИЗ'!BG:BG)","v":0},{"$f":"SUMIF('14.ОВИЗ'!$D:$D, prj_selected, '14.ОВИЗ'!BH:BH)","v":0},0]
[null,"1.3.",null,null,"ГРР",{"$f":"SUMIF('15.ГРР'!$D:$D, prj_selected, '15.ГРР'!G:G)","v":0},{"$f":"SUMIF('15.ГРР'!$D:$D, prj_selected, '15.ГРР'!H:H)","v":0},{"$f":"SUMIF('15.ГРР'!$D:$D, prj_selected, '15.ГРР'!I:I)","v":0},{"$f":"SUMIF('15.ГРР'!$D:$D, prj_selected, '15.ГРР'!J:J)","v":0},{"$f":"SUMIF('15.ГРР'!$D:$D, prj_selected, '15.ГРР'!K:K)","v":0},{"$f":"SUMIF('15.ГРР'!$D:$D, prj_selected, '15.ГРР'!L:L)","v":0},{"$f":"SUMIF('15.ГРР'!$D:$D, prj_selected, '15.ГРР'!M:M)","v":0},{"$f":"SUMIF('15.ГРР'!$D:$D, prj_selected, '15.ГРР'!N:N)","v":0},{"$f":"SUMIF('15.ГРР'!$D:$D, prj_selected, '15.ГРР'!O:O)","v":0},{"$f":"SUMIF('15.ГРР'!$D:$D, prj_selected, '15.ГРР'!P:P)","v":0},0,0,0,0,null,0,0,{"$f":"SUMIF('15.ГРР'!$D:$D, prj_selected, '15.ГРР'!X:X)","v":0},{"$f":"SUMIF('15.ГРР'!$D:$D, prj_selected, '15.ГРР'!Y:Y)","v":0},{"$f":"SUMIF('15.ГРР'!$D:$D, prj_selected, '15.ГРР'!Z:Z)","v":0},{"$f":"SUMIF('15.ГРР'!$D:$D, prj_selected, '15.ГРР'!AA:AA)","v":0},{"$f":"SUMIF('15.ГРР'!$D:$D, prj_selected, '15.ГРР'!AB:AB)","v":0},{"$f":"SUMIF('15.ГРР'!$D:$D, prj_selected, '15.ГРР'!AC:AC)","v":0},{"$f":"SUMIF('15.ГРР'!$D:$D, prj_selected, '15.ГРР'!AD:AD)","v":0},{"$f":"SUMIF('15.ГРР'!$D:$D, prj_selected, '15.ГРР'!AE:AE)","v":0},0]
[null,"1.4.",null,null,"НИОКР",{"$f":"SUMIF('16.НИОКР'!$D:$D, prj_selected, '16.НИОКР'!G:G)","v":0},{"$f":"SUMIF('16.НИОКР'!$D:$D, prj_selected, '16.НИОКР'!H:H)","v":0},{"$f":"SUMIF('16.НИОКР'!$D:$D, prj_selected, '16.НИОКР'!I:I)","v":0},{"$f":"SUMIF('16.НИОКР'!$D:$D, prj_selected, '16.НИОКР'!J:J)","v":0},{"$f":"SUMIF('16.НИОКР'!$D:$D, prj_selected, '16.НИОКР'!K:K)","v":0},{"$f":"SUMIF('16.НИОКР'!$D:$D, prj_selected, '16.НИОКР'!L:L)","v":0},{"$f":"SUMIF('16.НИОКР'!$D:$D, prj_selected, '16.НИОКР'!M:M)","v":0},{"$f":"SUMIF('16.НИОКР'!$D:$D, prj_selected, '16.НИОКР'!N:N)","v":0},{"$f":"SUMIF('16.НИОКР'!$D:$D, prj_selected, '16.НИОКР'!O:O)","v":0},{"$f":"SUMIF('16.НИОКР'!$D:$D, prj_selected, '16.НИОКР'!P:P)","v":0},0,0,0,0,null,0,0,{"$f":"SUMIF('16.НИОКР'!$D:$D, prj_selected, '16.НИОКР'!X:X)","v":0},{"$f":"SUMIF('16.НИОКР'!$D:$D, prj_selected, '16.НИОКР'!Y:Y)","v":0},{"$f":"SUMIF('16.НИОКР'!$D:$D, prj_selected, '16.НИОКР'!Z:Z)","v":0},{"$f":"SUMIF('16.НИОКР'!$D:$D, prj_selected, '16.НИОКР'!AA:AA)","v":0},{"$f":"SUMIF('16.НИОКР'!$D:$D, prj_selected, '16.НИОКР'!AB:AB)","v":0},{"$f":"SUMIF('16.НИОКР'!$D:$D, prj_selected, '16.НИОКР'!AC:AC)","v":0},{"$f":"SUMIF('16.НИОКР'!$D:$D, prj_selected, '16.НИОКР'!AD:AD)","v":0},{"$f":"SUMIF('16.НИОКР'!$D:$D, prj_selected, '16.НИОКР'!AE:AE)","v":0},0]
[null,"1.5.",null,null,"НМА",{"$f":"SUMIF('17.НМА'!$D:$D, prj_selected, '17.НМА'!H:H)","v":0},{"$f":"SUMIF('17.НМА'!$D:$D, prj_selected, '17.НМА'!I:I)","v":0},{"$f":"SUMIF('17.НМА'!$D:$D, prj_selected, '17.НМА'!J:J)","v":0},{"$f":"SUMIF('17.НМА'!$D:$D, prj_selected, '17.НМА'!K:K)","v":0},{"$f":"SUMIF('17.НМА'!$D:$D, prj_selected, '17.НМА'!L:L)","v":0},{"$f":"SUMIF('17.НМА'!$D:$D, prj_selected, '17.НМА'!M:M)","v":0},{"$f":"SUMIF('17.НМА'!$D:$D, prj_selected, '17.НМА'!N:N)","v":0},{"$f":"SUMIF('17.НМА'!$D:$D, prj_selected, '17.НМА'!O:O)","v":0},{"$f":"SUMIF('17.НМА'!$D:$D, prj_selected, '17.НМА'!P:P)","v":0},{"$f":"SUMIF('17.НМА'!$D:$D, prj_selected, '17.НМА'!Q:Q)","v":0},0,0,0,0,null,0,0,{"$f":"SUMIF('17.НМА'!$D:$D, prj_selected, '17.НМА'!Y:Y)","v":0},{"$f":"SUMIF('17.НМА'!$D:$D, prj_selected, '17.НМА'!Z:Z)","v":0},{"$f":"SUMIF('17.НМА'!$D:$D, prj_selected, '17.НМА'!AA:AA)","v":0},{"$f":"SUMIF('17.НМА'!$D:$D, prj_selected, '17.НМА'!AB:AB)","v":0},{"$f":"SUMIF('17.НМА'!$D:$D, prj_selected, '17.НМА'!AC:AC)","v":0},{"$f":"SUMIF('17.НМА'!$D:$D, prj_selected, '17.НМА'!AD:AD)","v":0},{"$f":"SUMIF('17.НМА'!$D:$D, prj_selected, '17.НМА'!AE:AE)","v":0},{"$f":"SUMIF('17.НМА'!$D:$D, prj_selected, '17.НМА'!AF:AF)","v":0},0]
[null,"1.6.",null,null,"Прочие инвестиции в капитальные затраты",{"$f":"SUMIF('18.ПКЗ'!$D:$D, prj_selected, '18.ПКЗ'!H:H)","v":0},{"$f":"SUMIF('18.ПКЗ'!$D:$D, prj_selected, '18.ПКЗ'!I:I)","v":0},{"$f":"SUMIF('18.ПКЗ'!$D:$D, prj_selected, '18.ПКЗ'!J:J)","v":0},{"$f":"SUMIF('18.ПКЗ'!$D:$D, prj_selected, '18.ПКЗ'!K:K)","v":0},{"$f":"SUMIF('18.ПКЗ'!$D:$D, prj_selected, '18.ПКЗ'!L:L)","v":0},{"$f":"SUMIF('18.ПКЗ'!$D:$D, prj_selected, '18.ПКЗ'!M:M)","v":0},{"$f":"SUMIF('18.ПКЗ'!$D:$D, prj_selected, '18.ПКЗ'!N:N)","v":0},{"$f":"SUMIF('18.ПКЗ'!$D:$D, prj_selected, '18.ПКЗ'!O:O)","v":0},{"$f":"SUMIF('18.ПКЗ'!$D:$D, prj_selected, '18.ПКЗ'!P:P)","v":0},{"$f":"SUMIF('18.ПКЗ'!$D:$D, prj_selected, '18.ПКЗ'!Q:Q)","v":0},0,0,0,0,null,0,0,{"$f":"SUMIF('18.ПКЗ'!$D:$D, prj_selected, '18.ПКЗ'!Y:Y)","v":0},{"$f":"SUMIF('18.ПКЗ'!$D:$D, prj_selected, '18.ПКЗ'!Z:Z)","v":0},{"$f":"SUMIF('18.ПКЗ'!$D:$D, prj_selected, '18.ПКЗ'!AA:AA)","v":0},{"$f":"SUMIF('18.ПКЗ'!$D:$D, prj_selected, '18.ПКЗ'!AB:AB)","v":0},{"$f":"SUMIF('18.ПКЗ'!$D:$D, prj_selected, '18.ПКЗ'!AC:AC)","v":0},{"$f":"SUMIF('18.ПКЗ'!$D:$D, prj_selected, '18.ПКЗ'!AD:AD)","v":0},{"$f":"SUMIF('18.ПКЗ'!$D:$D, prj_selected, '18.ПКЗ'!AE:AE)","v":0},{"$f":"SUMIF('18.ПКЗ'!$D:$D, prj_selected, '18.ПКЗ'!AF:AF)","v":0},0]
[null,"2.",null,null,"Долгосрочные финансовые вложения 4",{"$f":"SUMIF('19.БФИ'!$D:$D, prj_selected, '19.БФИ'!H:H)","v":0},{"$f":"SUMIF('19.БФИ'!$D:$D, prj_selected, '19.БФИ'!I:I)","v":0},{"$f":"SUMIF('19.БФИ'!$D:$D, prj_selected, '19.БФИ'!J:J)","v":0},{"$f":"SUMIF('19.БФИ'!$D:$D, prj_selected, '19.БФИ'!K:K)","v":0},{"$f":"SUMIF('19.БФИ'!$D:$D, prj_selected, '19.БФИ'!L:L)","v":0},{"$f":"SUMIF('19.БФИ'!$D:$D, prj_selected, '19.БФИ'!M:M)","v":0},{"$f":"SUMIF('19.БФИ'!$D:$D, prj_selected, '19.БФИ'!N:N)","v":0},{"$f":"SUMIF('19.БФИ'!$D:$D, prj_selected, '19.БФИ'!O:O)","v":0},{"$f":"SUMIF('19.БФИ'!$D:$D, prj_selected, '19.БФИ'!P:P)","v":0},{"$f":"SUMIF('19.БФИ'!$D:$D, prj_selected, '19.БФИ'!Q:Q)","v":0},0,0,0,0,null,0,0,{"$f":"SUMIF('19.БФИ'!$D:$D, prj_selected, '19.БФИ'!Y:Y)","v":0},{"$f":"SUMIF('19.БФИ'!$D:$D, prj_selected, '19.БФИ'!Z:Z)","v":0},{"$f":"SUMIF('19.БФИ'!$D:$D, prj_selected, '19.БФИ'!AA:AA)","v":0},{"$f":"SUMIF('19.БФИ'!$D:$D, prj_selected, '19.БФИ'!AB:AB)","v":0},{"$f":"SUMIF('19.БФИ'!$D:$D, prj_selected, '19.БФИ'!AC:AC)","v":0},{"$f":"SUMIF('19.БФИ'!$D:$D, prj_selected, '19.БФИ'!AD:AD)","v":0},{"$f":"SUMIF('19.БФИ'!$D:$D, prj_selected, '19.БФИ'!AE:AE)","v":0},{"$f":"SUMIF('19.БФИ'!$D:$D, prj_selected, '19.БФИ'!AF:AF)","v":0},0]
[]
[null,null,null,"Сверка",null,{"$f":"SUM(ABS(F17-F18-F35),ABS(F18-F19-F26-F31-F32-F33-F34),ABS(F19-F20-F21-F23-F24-F25),ABS(F21-F22),ABS(F26-F27-F30),ABS(F27-F28-F29))","v":0},0,0,0,0,0,0,0,0,0,0,0,0,null,null,{"$f":"SUM(ABS(U17-U18-U35),ABS(U18-U19-U26-U31-U32-U33-U34),ABS(U19-U20-U21-U23-U24-U25),ABS(U21-U22),ABS(U26-U27-U30),ABS(U27-U28-U29))","v":0},null,{"$f":"SUM(ABS(W17-W18-W35),ABS(W18-W19-W26-W31-W32-W33-W34),ABS(W19-W20-W21-W23-W24-W25),ABS(W21-W22),ABS(W26-W27-W30),ABS(W27-W28-W29))","v":0},0,0,0,0,0,0,0]
[null,"1  Форма заполняется по освоениию (начислению). Подробнее -порядок заполнения формы определён в \"Положении об инвестиционном бюджете АК \"АЛРОСА\" ."]
[null,"2  В графе \"Отклонение\" производится сравнение факта с плановым периодом нарастающим итогом."]
[null,"3 При отклонении более 10% (не зависимо +/-) в графе \"Комментарии по отклонениям\"- в форме указывается причина отклонения. Подробно - причины отклонений указываются в Пояснительной записке к инвестиционному бюджету/отчёту"]
[null,"4  Под ДФВ для целей инвестиционного бюджета понимаются вложения в виде вкладов в УК, приобретение долей и акций, другие формы участия в УК. Займы, кредиты и приобретение векселей не относятся к инвестиционой деятельности Группы \"АЛРОСА\"."]
[null,"  Выбытия, оценка и пеероценка в инвестиционном бюджете не отражаются (п. 1.2. \"Положения об инвестиционном бюджете АК \"АЛРОСА\")"]
[]
[]
[]
[null,null,null,null,"Исполнитель (ФИО):"]
[]
[]
[null,null,null,null,"Должность: "]
[]
[]
[null,null,null,null,"Контактный телефон:"]
[]
[]
[null,null,null,null,"Электронный адрес:"]

{"sheet":"03. БКС_В","index":14,"n_rows":54,"n_cols":32,"rows_kept":54,"cut":false,"hidden":false,"merged":[[16,1,16,2],[25,2,28,2],[27,10,28,10],[25,16,25,17],[25,19,26,23],[25,4,25,13],[26,16,26,17],[27,14,28,14],[27,15,28,15],[27,16,28,16],[27,17,28,17],[27,19,27,20],[27,21,27,23],[26,5,26,8],[26,10,26,13],[27,8,28,8],[27,13,28,13],[20,1,20,2],[20,3,20,5],[25,24,25,28],[25,29,28,29],[26,25,26,28],[27,24,28,24],[27,25,28,25],[27,26,28,26],[27,27,28,27],[27,28,28,28],[22,1,22,2],[22,3,22,5],[21,1,21,2],[21,3,21,5],[27,9,28,9],[25,31,29,31],[25,1,28,1],[16,3,16,5],[17,1,17,2],[17,3,17,5],[18,1,18,2],[18,3,18,5],[25,3,28,3],[25,30,28,30],[27,4,28,4],[27,5,28,5],[27,6,28,6],[27,7,28,7],[25,18,28,18],[27,11,28,11],[27,12,28,12],[5,2,5,3],[7,2,7,3],[9,9,9,30],[19,1,19,2],[19,3,19,5],[9,4,9,8],[11,3,11,5],[12,3,12,5],[13,3,13,5],[14,3,14,5],[15,3,15,5],[11,1,11,2],[12,1,12,2],[13,1,13,2],[14,1,14,2],[15,1,15,2]]}
[null,"Назад к оглавлению",null,null,null,null,null,null,null,"base_fact","base_fact","base_fact","base_fact","base_fact","fact_fields","fact_fields","fact_fields","fact_fields","fact_fields","corr_fields","corr_fields","corr_fields","corr_fields","corr_fields","corr_fields","corr_fields","corr_fields","corr_fields","corr_fields","none"]
[]
[null,"Приложение № 2 к \"Положению об инвестиционном бюджете АК \"АЛРОСА\"\""]
[null,"Код формы: БКС/В"]
[]
[null,null,{"$f":"org","v":"АО \"Вилюйская ГЭС-3\""}]
[null,null,"Организационно-правовая форма и название Общества/структурного подразделения"]
[null,null,{"$f":"period_txt","v":"12 месяцев 2017"}]
[null,null," Плановый / отчётный период "]
[null,"Бюджет объекта КС (справочно):",null,null,"10.1.5.7",null,null,null,null,{"$f":"IF(ISBLANK(obj_selected), \"\", VLOOKUP(obj_selected,objects, 2, 0))","v":{"$error":"#N/A"}}]
[]
[null,"Строительная площадка",null,{"$f":"IF(ISBLANK(obj_selected), \"\", VLOOKUP(obj_selected,objects, 7, 0))","v":{"$error":"#N/A"}}]
[null,"Код проекта 1",null,{"$f":"IF(ISBLANK(obj_selected), \"\", VLOOKUP(obj_selected,objects, 4, 0))","v":{"$error":"#N/A"}}]
[null,"Краткое название прооекта",null,{"$f":"IF(ISBLANK(obj_selected), \"\", VLOOKUP(obj_selected,objects, 5, 0))","v":{"$error":"#N/A"}}]
[null,"Вид КС",null,{"$f":"IF(ISBLANK(obj_selected), \"\", VLOOKUP(obj_selected,objects,6, 0))","v":{"$error":"#N/A"}}]
[null,"Код объекта",null,{"$f":"obj_selected","v":"10.1.5.7"}]
[null,"Приоритет (объекта)",null,{"$f":"IF(ISBLANK(obj_selected), \"\", VLOOKUP(obj_selected,objects, 8, 0))","v":{"$error":"#N/A"}}]
[null,"Общая плановая (сметная) стоимость ",null,{"$f":"IF(ISBLANK(obj_selected), \"\", VLOOKUP(obj_selected,objects, '05.РКС'!J$18-'05.РКС'!$B$18+1, 0))","v":{"$error":"#N/A"}}]
[null,"Освоено на начало планового периода",null,{"$f":"IF(ISBLANK(obj_selected), \"\", VLOOKUP(obj_selected,objects, '05.РКС'!K$18-'05.РКС'!$B$18+1, 0))","v":{"$error":"#N/A"}}]
[null,"Остаток к освоению на конец планового периода (план)",null,{"$f":"D18-(D19+$E$31)","v":{"$error":"#N/A"}}]
[null,"Начало",null,{"$f":"IF(ISBLANK(obj_selected), \"\", VLOOKUP(obj_selected,objects, '05.РКС'!L$18-'05.РКС'!$B$18+1, 0))","v":{"$error":"#N/A"}}]
[null,"Ожидаемое окончание",null,{"$f":"IF(ISBLANK(obj_selected), \"\", VLOOKUP(obj_selected,objects, '05.РКС'!M$18-'05.РКС'!$B$18+1, 0))","v":{"$error":"#N/A"}}]
[null,"Основание  для проведения работ планового периода",null,{"$f":"IF(ISBLANK(obj_selected), \"\", VLOOKUP(obj_selected,objects, '05.РКС'!N$18-'05.РКС'!$B$18+1, 0))","v":{"$error":"#N/A"}}]
[]
[null,"Тыс. руб. без НДС 2"]
[null,"№","Общество / cтруктурное подразделение","Наименование ","Плановый / отчётный период",null,null,null,null,null,null,null,null,null,"ПЛАН за","ФАКТ за","Отклонение за период3",null,"Комментарии по отклонениям4","Изменения к утверждённому плану по году",null,null,null,null,"Скорректированный план",null,null,null,null,"Комментарии по изменениям плана","Примечание                                               (факторы корректировок, причины отклонений, пр.)","Сверка"]
[null,null,null,null,"ПЛАН    ","в т.ч. по кварталам:",null,null,null,"ФАКТ ","в т.ч. по кварталам:",null,null,null,{"$f":"period","v":"12 месяцев"},{"$f":"O27","v":"12 месяцев"},"12 месяцев",null,null,null,null,null,null,null,"ПЛАН    ","в т.ч. по кварталам:"]
[null,null,null,null,"Год   всего","1 кв.","2 кв.","3 кв.","4 кв.","Год   всего","1 кв.","2 кв.","3 кв.","4 кв.","Тыс.    руб.","Тыс.    руб.","Тыс.    руб.","% ",null,"Изменение всего",null,"В т.ч.",null,null,"Год   всего","1 кв.","2 кв.","3 кв.","4 кв."]
[null,null,null,null,null,null,null,null,null,null,null,null,null,null,null,null,null,null,null,"Тыс.    руб.","%","Вновь добавлено\n(указывается со знаком \"+\")","Исключено (указывается со знаком \"-\")","Изменение стоимости\n(удорожание \"+\", удешвление \"-\")"]
[null,1,{"$f":"B30+1","v":2},3,4,5,6,7,8,9,10,11,12,13,14,15,16,17,18,19,20,21,22,23,24,25,26,27,28,29,30]
[null,null,{"$f":"IF(ISBLANK(obj_selected), \"\", VLOOKUP(obj_selected,objects, 3, 0))","v":{"$error":"#N/A"}},{"$f":"$J$10","v":{"$error":"#N/A"}},{"$f":"SUM(E32:E36)","v":0},0,0,0,0,0,0,0,0,0,{"$f":"IF(period=period_1Q, F31, IF(period=period_1H, SUM(F31:G31), IF(period=period_9M, SUM(F31:H31), IF(period=period_1Y,SUM(F31:I31),0))))","v":0},{"$f":"IF(period=period_1Q, K31, IF(period=period_1H, SUM(K31:L31), IF(period=period_9M, SUM(K31:M31), IF(period=period_1Y,SUM(K31:N31),0))))","v":0},{"$f":"P31-O31","v":0},{"$f":"IFERROR(Q31/O31, 0)","v":0},null,{"$f":"SUM(T32:T36)","v":0},{"$f":"IFERROR(T31/E31, 0)","v":0},{"$f":"SUM(V32:V36)","v":0},0,0,0,0,0,0,0,null,{"$f":"IF(ISBLANK(obj_selected), \"\", VLOOKUP(obj_selected,objects, '05.РКС'!P$18-'05.РКС'!$B$18+1, 0))","v":{"$error":"#N/A"}},{"$f":"SUM(ABS(E31-SUM(F31:I31)), ABS(J31-SUM(K31:N31)), ABS(T31-SUM(V31:X31)), ABS(Y31-SUM(Z31:AC31)))","v":0}]
[null,null,null,"СМР",{"$f":"IF(ISBLANK(obj_selected),0,IFERROR(VLOOKUP(obj_selected,'7.СМР'!$E:$AN,'7.СМР'!G$16-'7.СМР'!$E$16+1,0), ))","v":0},{"$f":"IF(ISBLANK(obj_selected),\"\",IFERROR(VLOOKUP(obj_selected,'7.СМР'!$E:$AN,'7.СМР'!H$16-'7.СМР'!$E$16+1,0), \"\"))","v":""},{"$f":"IF(ISBLANK(obj_selected),\"\",IFERROR(VLOOKUP(obj_selected,'7.СМР'!$E:$AN,'7.СМР'!I$16-'7.СМР'!$E$16+1,0), \"\"))","v":""},{"$f":"IF(ISBLANK(obj_selected),\"\",IFERROR(VLOOKUP(obj_selected,'7.СМР'!$E:$AN,'7.СМР'!J$16-'7.СМР'!$E$16+1,0), \"\"))","v":""},{"$f":"IF(ISBLANK(obj_selected),\"\",IFERROR(VLOOKUP(obj_selected,'7.СМР'!$E:$AN,'7.СМР'!K$16-'7.СМР'!$E$16+1,0), \"\"))","v":""},{"$f":"IF(ISBLANK(obj_selected),0,IFERROR(VLOOKUP(obj_selected,'7.СМР'!$E:$AN,'7.СМР'!L$16-'7.СМР'!$E$16+1,0), 0))","v":0},{"$f":"IF(ISBLANK(obj_selected),\"\",IFERROR(VLOOKUP(obj_selected,'7.СМР'!$E:$AN,'7.СМР'!M$16-'7.СМР'!$E$16+1,0), \"\"))","v":""},{"$f":"IF(ISBLANK(obj_selected),\"\",IFERROR(VLOOKUP(obj_selected,'7.СМР'!$E:$AN,'7.СМР'!N$16-'7.СМР'!$E$16+1,0), \"\"))","v":""},{"$f":"IF(ISBLANK(obj_selected),\"\",IFERROR(VLOOKUP(obj_selected,'7.СМР'!$E:$AN,'7.СМР'!O$16-'7.СМР'!$E$16+1,0), \"\"))","v":""},{"$f":"IF(ISBLANK(obj_selected),\"\",IFERROR(VLOOKUP(obj_selected,'7.СМР'!$E:$AN,'7.СМР'!P$16-'7.СМР'!$E$16+1,0), \"\"))","v":""},0,0,0,0,null,{"$f":"SUM(V32:X32)","v":0},0,{"$f":"IF(ISBLANK(obj_selected),\"\",IFERROR(VLOOKUP(obj_selected,'7.СМР'!$E:$AN,'7.СМР'!X$16-'7.СМР'!$E$16+1,0), \"\"))","v":""},{"$f":"IF(ISBLANK(obj_selected),\"\",IFERROR(VLOOKUP(obj_selected,'7.СМР'!$E:$AN,'7.СМР'!Y$16-'7.СМР'!$E$16+1,0), \"\"))","v":""},{"$f":"IF(ISBLANK(obj_selected),\"\",IFERROR(VLOOKUP(obj_selected,'7.СМР'!$E:$AN,'7.СМР'!Z$16-'7.СМР'!$E$16+1,0), \"\"))","v":""},{"$f":"SUM(Z32:AC32)","v":0},{"$f":"IF(ISBLANK(obj_selected),\"\",IFERROR(VLOOKUP(obj_selected,'7.СМР'!$E:$AN,'7.СМР'!AB$16-'7.СМР'!$E$16+1,0), \"\"))","v":""},{"$f":"IF(ISBLANK(obj_selected),\"\",IFERROR(VLOOKUP(obj_selected,'7.СМР'!$E:$AN,'7.СМР'!AC$16-'7.СМР'!$E$16+1,0), \"\"))","v":""},{"$f":"IF(ISBLANK(obj_selected),\"\",IFERROR(VLOOKUP(obj_selected,'7.СМР'!$E:$AN,'7.СМР'!AD$16-'7.СМР'!$E$16+1,0), \"\"))","v":""},{"$f":"IF(ISBLANK(obj_selected),\"\",IFERROR(VLOOKUP(obj_selected,'7.СМР'!$E:$AN,'7.СМР'!AE$16-'7.СМР'!$E$16+1,0), \"\"))","v":""},null,{"$f":"IF(ISBLANK(obj_selected),\"\",IFERROR(VLOOKUP(obj_selected,'7.СМР'!$E:$AN,'7.СМР'!AI$16-'7.СМР'!$E$16+1,0), \"\"))","v":""},0]
[null,null,null,"Оборудование в смете",{"$f":"IF(ISBLANK(obj_selected),0,IFERROR(VLOOKUP(obj_selected,'8.ОСС'!$E:$BB,'8.ОСС'!Y$16-'8.ОСС'!$E$16+1,0), 0))","v":0},{"$f":"IF(ISBLANK(obj_selected),\"\",IFERROR(VLOOKUP(obj_selected,'8.ОСС'!$E:$BB,'8.ОСС'!Z$16-'8.ОСС'!$E$16+1,0), \"\"))","v":""},{"$f":"IF(ISBLANK(obj_selected),\"\",IFERROR(VLOOKUP(obj_selected,'8.ОСС'!$E:$BB,'8.ОСС'!AA$16-'8.ОСС'!$E$16+1,0), \"\"))","v":""},{"$f":"IF(ISBLANK(obj_selected),\"\",IFERROR(VLOOKUP(obj_selected,'8.ОСС'!$E:$BB,'8.ОСС'!AB$16-'8.ОСС'!$E$16+1,0), \"\"))","v":""},{"$f":"IF(ISBLANK(obj_selected),\"\",IFERROR(VLOOKUP(obj_selected,'8.ОСС'!$E:$BB,'8.ОСС'!AC$16-'8.ОСС'!$E$16+1,0), \"\"))","v":""},{"$f":"IF(ISBLANK(obj_selected),0,IFERROR(VLOOKUP(obj_selected,'8.ОСС'!$E:$BB,'8.ОСС'!AD$16-'8.ОСС'!$E$16+1,0), 0))","v":0},{"$f":"IF(ISBLANK(obj_selected),\"\",IFERROR(VLOOKUP(obj_selected,'8.ОСС'!$E:$BB,'8.ОСС'!AE$16-'8.ОСС'!$E$16+1,0), \"\"))","v":""},{"$f":"IF(ISBLANK(obj_selected),\"\",IFERROR(VLOOKUP(obj_selected,'8.ОСС'!$E:$BB,'8.ОСС'!AF$16-'8.ОСС'!$E$16+1,0), \"\"))","v":""},{"$f":"IF(ISBLANK(obj_selected),\"\",IFERROR(VLOOKUP(obj_selected,'8.ОСС'!$E:$BB,'8.ОСС'!AG$16-'8.ОСС'!$E$16+1,0), \"\"))","v":""},{"$f":"IF(ISBLANK(obj_selected),\"\",IFERROR(VLOOKUP(obj_selected,'8.ОСС'!$E:$BB,'8.ОСС'!AH$16-'8.ОСС'!$E$16+1,0), \"\"))","v":""},0,0,0,0,null,{"$f":"SUM(V33:X33)","v":0},0,{"$f":"IF(ISBLANK(obj_selected),\"\",IFERROR(VLOOKUP(obj_selected,'8.ОСС'!$E:$BB,'8.ОСС'!AP$16-'8.ОСС'!$E$16+1,0), \"\"))","v":""},{"$f":"IF(ISBLANK(obj_selected),\"\",IFERROR(VLOOKUP(obj_selected,'8.ОСС'!$E:$BB,'8.ОСС'!AQ$16-'8.ОСС'!$E$16+1,0), \"\"))","v":""},{"$f":"IF(ISBLANK(obj_selected),\"\",IFERROR(VLOOKUP(obj_selected,'8.ОСС'!$E:$BB,'8.ОСС'!AR$16-'8.ОСС'!$E$16+1,0), \"\"))","v":""},0,{"$f":"IF(ISBLANK(obj_selected),\"\",IFERROR(VLOOKUP(obj_selected,'8.ОСС'!$E:$BB,'8.ОСС'!AT$16-'8.ОСС'!$E$16+1,0), \"\"))","v":""},{"$f":"IF(ISBLANK(obj_selected),\"\",IFERROR(VLOOKUP(obj_selected,'8.ОСС'!$E:$BB,'8.ОСС'!AU$16-'8.ОСС'!$E$16+1,0), \"\"))","v":""},{"$f":"IF(ISBLANK(obj_selected),\"\",IFERROR(VLOOKUP(obj_selected,'8.ОСС'!$E:$BB,'8.ОСС'!AV$16-'8.ОСС'!$E$16+1,0), \"\"))","v":""},{"$f":"IF(ISBLANK(obj_selected),\"\",IFERROR(VLOOKUP(obj_selected,'8.ОСС'!$E:$BB,'8.ОСС'!AW$16-'8.ОСС'!$E$16+1,0), \"\"))","v":""},null,{"$f":"IF(ISBLANK(obj_selected),\"\",VLOOKUP(obj_selected,'8.ОСС'!$E:$BB,'8.ОСС'!$BB$16-'8.ОСС'!$E$16+1,1))","v":{"$error":"#N/A"}},0]
[null,null,null,"ПИР",{"$f":"IF(ISBLANK(obj_selected),0,IFERROR(VLOOKUP(obj_selected,'9.ПИР'!$E:$AR,'9.ПИР'!G$16-'9.ПИР'!$E$16+1,0), 0))","v":0},{"$f":"IF(ISBLANK(obj_selected),\"\",IFERROR(VLOOKUP(obj_selected,'9.ПИР'!$E:$AR,'9.ПИР'!H$16-'9.ПИР'!$E$16+1,0), \"\"))","v":""},{"$f":"IF(ISBLANK(obj_selected),\"\",IFERROR(VLOOKUP(obj_selected,'9.ПИР'!$E:$AR,'9.ПИР'!I$16-'9.ПИР'!$E$16+1,0), \"\"))","v":""},{"$f":"IF(ISBLANK(obj_selected),\"\",IFERROR(VLOOKUP(obj_selected,'9.ПИР'!$E:$AR,'9.ПИР'!J$16-'9.ПИР'!$E$16+1,0), \"\"))","v":""},{"$f":"IF(ISBLANK(obj_selected),\"\",IFERROR(VLOOKUP(obj_selected,'9.ПИР'!$E:$AR,'9.ПИР'!K$16-'9.ПИР'!$E$16+1,0), \"\"))","v":""},{"$f":"IF(ISBLANK(obj_selected),0,IFERROR(VLOOKUP(obj_selected,'9.ПИР'!$E:$AR,'9.ПИР'!L$16-'9.ПИР'!$E$16+1,0), 0))","v":0},{"$f":"IF(ISBLANK(obj_selected),\"\",IFERROR(VLOOKUP(obj_selected,'9.ПИР'!$E:$AR,'9.ПИР'!M$16-'9.ПИР'!$E$16+1,0), \"\"))","v":""},{"$f":"IF(ISBLANK(obj_selected),\"\",IFERROR(VLOOKUP(obj_selected,'9.ПИР'!$E:$AR,'9.ПИР'!N$16-'9.ПИР'!$E$16+1,0), \"\"))","v":""},{"$f":"IF(ISBLANK(obj_selected),\"\",IFERROR(VLOOKUP(obj_selected,'9.ПИР'!$E:$AR,'9.ПИР'!O$16-'9.ПИР'!$E$16+1,0), \"\"))","v":""},{"$f":"IF(ISBLANK(obj_selected),\"\",IFERROR(VLOOKUP(obj_selected,'9.ПИР'!$E:$AR,'9.ПИР'!P$16-'9.ПИР'!$E$16+1,0), \"\"))","v":""},0,0,0,0,null,0,0,{"$f":"IF(ISBLANK(obj_selected),\"\",IFERROR(VLOOKUP(obj_selected,'9.ПИР'!$E:$AR,'9.ПИР'!X$16-'9.ПИР'!$E$16+1,0), \"\"))","v":""},{"$f":"IF(ISBLANK(obj_selected),\"\",IFERROR(VLOOKUP(obj_selected,'9.ПИР'!$E:$AR,'9.ПИР'!Y$16-'9.ПИР'!$E$16+1,0), \"\"))","v":""},{"$f":"IF(ISBLANK(obj_selected),\"\",IFERROR(VLOOKUP(obj_selected,'9.ПИР'!$E:$AR,'9.ПИР'!Z$16-'9.ПИР'!$E$16+1,0), \"\"))","v":""},0,{"$f":"IF(ISBLANK(obj_selected),\"\",IFERROR(VLOOKUP(obj_selected,'9.ПИР'!$E:$AR,'9.ПИР'!AB$16-'9.ПИР'!$E$16+1,0), \"\"))","v":""},{"$f":"IF(ISBLANK(obj_selected),\"\",IFERROR(VLOOKUP(obj_selected,'9.ПИР'!$E:$AR,'9.ПИР'!AC$16-'9.ПИР'!$E$16+1,0), \"\"))","v":""},{"$f":"IF(ISBLANK(obj_selected),\"\",IFERROR(VLOOKUP(obj_selected,'9.ПИР'!$E:$AR,'9.ПИР'!AD$16-'9.ПИР'!$E$16+1,0), \"\"))","v":""},{"$f":"IF(ISBLANK(obj_selected),\"\",IFERROR(VLOOKUP(obj_selected,'9.ПИР'!$E:$AR,'9.ПИР'!AE$16-'9.ПИР'!$E$16+1,0), \"\"))","v":""},null,{"$f":"IF(ISBLANK(obj_selected),\"\",IFERROR(VLOOKUP(obj_selected,'9.ПИР'!$E:$AR,'9.ПИР'!AI$16-'9.ПИР'!$E$16+1,0), \"\"))","v":""},0]
[null,null,null,"Капитализируемые проценты",{"$f":"IF(ISBLANK(obj_selected),0,IFERROR(VLOOKUP(obj_selected,'10.БКП'!$E:$AH,'10.БКП'!G$16-'10.БКП'!$E$16+1,0), 0))","v":0},{"$f":"IF(ISBLANK(obj_selected),\"\",IFERROR(VLOOKUP(obj_selected,'10.БКП'!$E:$AH,'10.БКП'!H$16-'10.БКП'!$E$16+1,0), \"\"))","v":""},{"$f":"IF(ISBLANK(obj_selected),\"\",IFERROR(VLOOKUP(obj_selected,'10.БКП'!$E:$AH,'10.БКП'!I$16-'10.БКП'!$E$16+1,0), \"\"))","v":""},{"$f":"IF(ISBLANK(obj_selected),\"\",IFERROR(VLOOKUP(obj_selected,'10.БКП'!$E:$AH,'10.БКП'!J$16-'10.БКП'!$E$16+1,0), \"\"))","v":""},{"$f":"IF(ISBLANK(obj_selected),\"\",IFERROR(VLOOKUP(obj_selected,'10.БКП'!$E:$AH,'10.БКП'!K$16-'10.БКП'!$E$16+1,0), \"\"))","v":""},{"$f":"IF(ISBLANK(obj_selected),0,IFERROR(VLOOKUP(obj_selected,'10.БКП'!$E:$AH,'10.БКП'!L$16-'10.БКП'!$E$16+1,0), 0))","v":0},{"$f":"IF(ISBLANK(obj_selected),\"\",IFERROR(VLOOKUP(obj_selected,'10.БКП'!$E:$AH,'10.БКП'!M$16-'10.БКП'!$E$16+1,0), \"\"))","v":""},{"$f":"IF(ISBLANK(obj_selected),\"\",IFERROR(VLOOKUP(obj_selected,'10.БКП'!$E:$AH,'10.БКП'!N$16-'10.БКП'!$E$16+1,0), \"\"))","v":""},{"$f":"IF(ISBLANK(obj_selected),\"\",IFERROR(VLOOKUP(obj_selected,'10.БКП'!$E:$AH,'10.БКП'!O$16-'10.БКП'!$E$16+1,0), \"\"))","v":""},{"$f":"IF(ISBLANK(obj_selected),\"\",IFERROR(VLOOKUP(obj_selected,'10.БКП'!$E:$AH,'10.БКП'!P$16-'10.БКП'!$E$16+1,0), \"\"))","v":""},0,0,0,0,null,0,0,{"$f":"IF(ISBLANK(obj_selected),\"\",IFERROR(VLOOKUP(obj_selected,'10.БКП'!$E:$AH,'10.БКП'!X$16-'10.БКП'!$E$16+1,0), \"\"))","v":""},{"$f":"IF(ISBLANK(obj_selected),\"\",IFERROR(VLOOKUP(obj_selected,'10.БКП'!$E:$AH,'10.БКП'!Y$16-'10.БКП'!$E$16+1,0), \"\"))","v":""},{"$f":"IF(ISBLANK(obj_selected),\"\",IFERROR(VLOOKUP(obj_selected,'10.БКП'!$E:$AH,'10.БКП'!Z$16-'10.БКП'!$E$16+1,0), \"\"))","v":""},0,{"$f":"IF(ISBLANK(obj_selected),\"\",IFERROR(VLOOKUP(obj_selected,'10.БКП'!$E:$AH,'10.БКП'!AB$16-'10.БКП'!$E$16+1,0), \"\"))","v":""},{"$f":"IF(ISBLANK(obj_selected),\"\",IFERROR(VLOOKUP(obj_selected,'10.БКП'!$E:$AH,'10.БКП'!AC$16-'10.БКП'!$E$16+1,0), \"\"))","v":""},{"$f":"IF(ISBLANK(obj_selected),\"\",IFERROR(VLOOKUP(obj_selected,'10.БКП'!$E:$AH,'10.БКП'!AD$16-'10.БКП'!$E$16+1,0), \"\"))","v":""},{"$f":"IF(ISBLANK(obj_selected),\"\",IFERROR(VLOOKUP(obj_selected,'10.БКП'!$E:$AH,'10.БКП'!AE$16-'10.БКП'!$E$16+1,0), \"\"))","v":""},null,{"$f":"IF(ISBLANK(obj_selected),\"\",IFERROR(VLOOKUP(obj_selected,'10.БКП'!$E:$AH,'10.БКП'!AH$16-'10.БКП'!$E$16+1,0), \"\"))","v":""},0]
[null,null,null,"Прочие затраты КС ",{"$f":"IF(ISBLANK(obj_selected),0,IFERROR(VLOOKUP(obj_selected,'11.ПЗС'!$E:$AJ,'11.ПЗС'!H$16-'11.ПЗС'!$E$16+1,0), 0))","v":0},{"$f":"IF(ISBLANK(obj_selected),\"\",IFERROR(VLOOKUP(obj_selected,'11.ПЗС'!$E:$AJ,'11.ПЗС'!I$16-'11.ПЗС'!$E$16+1,0), \"\"))","v":""},{"$f":"IF(ISBLANK(obj_selected),\"\",IFERROR(VLOOKUP(obj_selected,'11.ПЗС'!$E:$AJ,'11.ПЗС'!J$16-'11.ПЗС'!$E$16+1,0), \"\"))","v":""},{"$f":"IF(ISBLANK(obj_selected),\"\",IFERROR(VLOOKUP(obj_selected,'11.ПЗС'!$E:$AJ,'11.ПЗС'!K$16-'11.ПЗС'!$E$16+1,0), \"\"))","v":""},{"$f":"IF(ISBLANK(obj_selected),\"\",IFERROR(VLOOKUP(obj_selected,'11.ПЗС'!$E:$AJ,'11.ПЗС'!L$16-'11.ПЗС'!$E$16+1,0), \"\"))","v":""},{"$f":"IF(ISBLANK(obj_selected),0,IFERROR(VLOOKUP(obj_selected,'11.ПЗС'!$E:$AJ,'11.ПЗС'!M$16-'11.ПЗС'!$E$16+1,0), 0))","v":0},{"$f":"IF(ISBLANK(obj_selected),\"\",IFERROR(VLOOKUP(obj_selected,'11.ПЗС'!$E:$AJ,'11.ПЗС'!N$16-'11.ПЗС'!$E$16+1,0), \"\"))","v":""},{"$f":"IF(ISBLANK(obj_selected),\"\",IFERROR(VLOOKUP(obj_selected,'11.ПЗС'!$E:$AJ,'11.ПЗС'!O$16-'11.ПЗС'!$E$16+1,0), \"\"))","v":""},{"$f":"IF(ISBLANK(obj_selected),\"\",IFERROR(VLOOKUP(obj_selected,'11.ПЗС'!$E:$AJ,'11.ПЗС'!P$16-'11.ПЗС'!$E$16+1,0), \"\"))","v":""},{"$f":"IF(ISBLANK(obj_selected),\"\",IFERROR(VLOOKUP(obj_selected,'11.ПЗС'!$E:$AJ,'11.ПЗС'!Q$16-'11.ПЗС'!$E$16+1,0), \"\"))","v":""},0,0,0,0,null,0,0,{"$f":"IF(ISBLANK(obj_selected),\"\",IFERROR(VLOOKUP(obj_selected,'11.ПЗС'!$E:$AJ,'11.ПЗС'!Y$16-'11.ПЗС'!$E$16+1,0), \"\"))","v":""},{"$f":"IF(ISBLANK(obj_selected),\"\",IFERROR(VLOOKUP(obj_selected,'11.ПЗС'!$E:$AJ,'11.ПЗС'!Z$16-'11.ПЗС'!$E$16+1,0), \"\"))","v":""},{"$f":"IF(ISBLANK(obj_selected),\"\",IFERROR(VLOOKUP(obj_selected,'11.ПЗС'!$E:$AJ,'11.ПЗС'!AA$16-'11.ПЗС'!$E$16+1,0), \"\"))","v":""},0,{"$f":"IF(ISBLANK(obj_selected),\"\",IFERROR(VLOOKUP(obj_selected,'11.ПЗС'!$E:$AJ,'11.ПЗС'!AC$16-'11.ПЗС'!$E$16+1,0), \"\"))","v":""},{"$f":"IF(ISBLANK(obj_selected),\"\",IFERROR(VLOOKUP(obj_selected,'11.ПЗС'!$E:$AJ,'11.ПЗС'!AD$16-'11.ПЗС'!$E$16+1,0), \"\"))","v":""},{"$f":"IF(ISBLANK(obj_selected),\"\",IFERROR(VLOOKUP(obj_selected,'11.ПЗС'!$E:$AJ,'11.ПЗС'!AE$16-'11.ПЗС'!$E$16+1,0), \"\"))","v":""},{"$f":"IF(ISBLANK(obj_selected),\"\",IFERROR(VLOOKUP(obj_selected,'11.ПЗС'!$E:$AJ,'11.ПЗС'!AF$16-'11.ПЗС'!$E$16+1,0), \"\"))","v":""},null,{"$f":"IF(ISBLANK(obj_selected),\"\",IFERROR(VLOOKUP(obj_selected,'11.ПЗС'!$E:$AJ,'11.ПЗС'!AJ$16-'11.ПЗС'!$E$16+1,0), \"\"))","v":""},0]
[null,"Сверка",null,null,{"$f":"E31-SUM(E32:E36)","v":0},0,0,0,0,0,0,0,0,0,0,0,0,0,null,0,0,{"$f":"IF(AND(E37=0, Y37>0), Y37, 0)","v":0},{"$f":"IF(AND(E37>0, Y37=0), -E37, 0)","v":0},{"$f":"IF(AND(E37>0, Y37>0), Y37-E37, 0)","v":0},0,{"$f":"F37","v":0},0,0,0]
[null,"1  Для непроектной деятельности код и название проекта не указываются"]
[null,"2  Форма заполняется по освоениию (начислению). Подробнее -порядок заполнения формы определён в \"Положении об инвестиционном бюджете АК \"АЛРОСА\" ."]
[null,"3  В графе \"Отклонение\" производится сравнение факта с плановым периодом нарастающим итогом."]
[null,"4  При отклонении более 10% (не зависимо +/-) в графе \"Комментарии по отклонениям\" в форме указывается причина отклонения. Подробно причины отклонений указываются в Пояснительной записке к инвестиционному бюджету/отчёту."]
[]
[]
[]
[null,null,null,"Исполнитель (ФИО):"]
[]
[]
[null,null,null,"Должность: "]
[]
[]
[null,null,null,"Контактный телефон:"]
[]
[]
[null,null,null,"Электронный адрес:"]

{"sheet":"##","index":15,"n_rows":47,"n_cols":5,"rows_kept":47,"cut":false,"hidden":false,"merged":[[17,2,22,3],[23,2,23,3]]}
[]
[]
[]
[null,null,null,null,"         Приложение № 2 "]
[null,null,"                                    к \"Положению об инвестиционном  бюджете АК \"АЛРОСА\" (ПАО)\""]
[]
[]
[]
[]
[]
[]
[]
[]
[]
[]
[]
[]
[null,null,"Функциональные\nинвестиционные бюджеты  "]
[]
[]
[]
[]
[]
[]
[]
[]
[]
[]
[]
[]
[]
[]
[]
[]
[]
[]
[]
[]
[]
[]
[]
[]
[]
[]
[]
[null,null,"                                           г. Москва "]
[null,null,"                                              2015 г."]

{"sheet":"7.СМР","index":16,"n_rows":55,"n_cols":36,"rows_kept":55,"cut":false,"hidden":false,"merged":[[11,33,14,33],[0,1,0,5],[11,2,14,2],[13,6,14,6],[11,4,14,4],[11,1,14,1],[11,6,11,15],[13,15,14,15],[11,3,14,3],[13,12,14,12],[13,13,14,13],[13,14,14,14],[12,27,12,30],[13,18,14,18],[13,19,14,19],[13,21,13,22],[11,34,14,34],[11,5,14,5],[11,32,14,32],[13,16,14,16],[13,17,14,17],[11,31,14,31],[13,7,14,7],[13,8,14,8],[13,9,14,9],[13,10,14,10],[13,11,14,11],[11,18,11,19],[11,20,14,20],[11,21,12,25],[11,26,11,30],[12,18,12,19],[13,30,14,30],[50,4,50,5],[53,4,53,5],[5,2,5,5],[7,2,7,5],[44,4,44,5],[47,4,47,5],[13,23,13,25],[13,26,14,26],[13,27,14,27],[13,28,14,28],[13,29,14,29]]}
[null,"Назад к оглавлению",null,null,null,null,null,null,null,null,null,"base_fact","base_fact","base_fact","base_fact","base_fact","fact_fields","fact_fields","fact_fields","fact_fields","fact_fields","corr_fields","corr_fields","corr_fields","corr_fields","corr_fields","corr_fields","corr_fields","corr_fields","corr_fields","corr_fields","corr_fields","plan_fields",null,"plan_fields"]
[]
[null,"Приложение № 2 к \"Положению об инвестиционном бюджете АК \"АЛРОСА\"\""]
[null,"Код формы: СМР"]
[]
[null,null,{"$f":"org","v":"АО \"Вилюйская ГЭС-3\""}]
[null,null,"Организационно-правовая форма и название Общества/структурного подразделения"]
[null,null,{"$f":"period_txt","v":"12 месяцев 2017"}]
[null,null," Плановый / отчётный период "]
[null,null,"  Бюджет строительно-монтажных работ"]
[null,"Тыс. руб. без НДС 1"]
[null,"№","Общество / cтруктурное подразделение","Код проекта ","Код объекта","Наименование объекта","Плановый / отчётный период",null,null,null,null,null,null,null,null,null,"ПЛАН за","ФАКТ за","Отклонение за период2",null,"Комментарии по отклонениям3","Изменения к утверждённому плану по году",null,null,null,null,"Скорректированный план",null,null,null,null,"Комментарии по изменениям плана","Наличие авансовых платежей в основном плановом/отчётном периоде за товары, работы, услуги  будущих периодов (1-й, 2-й год за плановым/отчётным)","Критерий инновационности расходов (принадлежность к ПИРиТМ)","Примечание                                              (факторы корректировок, причины отклонений, пр.)","Сверка"]
[null,null,null,null,null,null,"ПЛАН    ","в т.ч. по кварталам:",null,null,null,"ФАКТ ","в т.ч. по кварталам:",null,null,null,{"$f":"period","v":"12 месяцев"},{"$f":"Q13","v":"12 месяцев"},"12 месяцев",null,null,null,null,null,null,null,"ПЛАН    ","в т.ч. по кварталам:"]
[null,null,null,null,null,null,"Год   всего","1 кв.","2 кв.","3 кв.","4 кв.","Год        всего","1 кв.","2 кв.","3 кв.","4 кв.","Тыс.    руб.","Тыс.    руб.","Тыс.    руб.","% ",null,"Изменение всего",null,"В т.ч.",null,null,"Год   всего","1 кв.","2 кв.","3 кв.","4 кв."]
[null,null,null,null,null,null,null,null,null,null,null,null,null,null,null,null,null,null,null,null,null,"Тыс.    руб.","%","Вновь добавлено\n(указывается со знаком \"+\")","Исключено (указывается со знаком \"-\")","Изменение стоимости\n(удорожание \"+\", удешвление \"-\")"]
[null,1,{"$f":"B16+1","v":2},3,4,5,6,7,8,9,10,11,12,13,14,15,16,17,18,19,20,21,22,23,24,25,26,27,28,29,30,31,32,33,{"$f":"AH16+1","v":34}]
[null,null,null,null,null,"СМР  - ВСЕГО ",{"$f":"SUMIF($C18:$C$10015,\"*\",G18:G$10015)","v":196120.25},{"$f":"SUMIF($C18:$C$10015,\"*\",H18:H$10015)","v":6.25},{"$f":"SUMIF($C18:$C$10015,\"*\",I18:I$10015)","v":3013},{"$f":"SUMIF($C18:$C$10015,\"*\",J18:J$10015)","v":142341},{"$f":"SUMIF($C18:$C$10015,\"*\",K18:K$10015)","v":50760},{"$f":"SUMIF($C18:$C$10015,\"*\",L18:L$10015)","v":126661.98534},{"$f":"SUMIF($C18:$C$10015,\"*\",M18:M$10015)","v":6.25},{"$f":"SUMIF($C18:$C$10015,\"*\",N18:N$10015)","v":3013.5923399999997},{"$f":"SUMIF($C18:$C$10015,\"*\",O18:O$10015)","v":57239.697},{"$f":"SUMIF($C18:$C$10015,\"*\",P18:P$10015)","v":66402.445999999996},{"$f":"IF(period=period_1Q, H17, IF(period=period_1H, SUM(H17:I17), IF(period=period_9M, SUM(H17:J17), IF(period=period_1Y,SUM(H17:K17),0))))","v":196120.25},{"$f":"IF(period=period_1Q, M17, IF(period=period_1H, SUM(M17:N17), IF(period=period_9M, SUM(M17:O17), IF(period=period_1Y,SUM(M17:P17),0))))","v":126661.98534},{"$f":"R17-Q17","v":-69458.264660000001},{"$f":"IFERROR(S17/Q17, 0)","v":-0.35416161594735884},null,{"$f":"SUM(X17:Z17)","v":0.50540000000160035},{"$f":"IFERROR(V17/G17, 0)","v":2.5769903923822265E-6},{"$f":"SUMIF($C18:$C$10014,\"*\",X18:X$10014)","v":0},{"$f":"SUMIF($C18:$C$10014,\"*\",Y18:Y$10014)","v":0},{"$f":"SUMIF($C18:$C$10014,\"*\",Z18:Z$10014)","v":0.50540000000160035},{"$f":"G17+V17","v":196120.75539999999},{"$f":"SUMIF($C18:$C$10014,\"*\",AB18:AB$10014)","v":6.25},{"$f":"SUMIF($C18:$C$10014,\"*\",AC18:AC$10014)","v":3013.4219999999996},{"$f":"SUMIF($C18:$C$10014,\"*\",AD18:AD$10014)","v":142340.94460000002},{"$f":"SUMIF($C18:$C$10014,\"*\",AE18:AE$10014)","v":50760.138800000001},null,null,null,null,{"$f":"SUM(ABS(G17-SUM(H17:K17)), ABS(L17-SUM(M17:P17)), ABS(AA17-SUM(AB17:AE17))*1, ABS(V17-SUM(X17:Z17)))","v":2.9103830456733704E-11}]
[null,1,{"$f":"org","v":"АО \"Вилюйская ГЭС-3\""},null,"2016-1.1.",{"$f":"IF(ISBLANK(E18), \"\", VLOOKUP(E18, objects, 2,FALSE))","v":"Здание ГЭС.Монтаж вентсистем "},{"$f":"SUM(H18:K18)","v":3359},0,604,1901,854,{"$f":"SUM(M18:P18)","v":3082.2569999999996},null,604.43499999999995,1184.9639999999999,1292.8579999999999,3359,{"$f":"IF(period=period_1Q, M18, IF(period=period_1H, SUM(M18:N18), IF(period=period_9M, SUM(M18:O18), IF(period=period_1Y,SUM(M18:P18),0))))","v":3082.2569999999996},{"$f":"R18-Q18","v":-276.74300000000039},{"$f":"IFERROR(S18/Q18, 0)","v":-8.238850848466818E-2},"В соответствии с фактически выполненными работами",0.80839999999989232,2.40666865138402E-4,{"$f":"IF(AND(G18=0, AA18>0), AA18, 0)","v":0},{"$f":"IF(AND(G18>0, AA18=0), -G18, 0)","v":0},{"$f":"IF(AND(G18>0, AA18>0), AA18-G18, 0)","v":0.80839999999989232},{"$f":"SUM(AB18:AE18)","v":3359.8083999999999},0,604.43499999999995,1900.9746,854.39880000000005,"Оптимизация затрат произошла в связи с уточнением объемов работ и переносом работ по устройству приточных вентсистем помещения краскопрготовительной и цеха АКЗ на 2019 г."," -"," -",null,0]
[null,{"$f":"B18+1","v":2},"АО \"Вилюйская ГЭС-3\"",null,"2016-1.2.","Здание ГЭС. Общестроительные работы",0,0,0,0,0,0,null,null,0,0,0,0,0,0,null,{"$f":"SUM(X19:Z19)","v":0},0,{"$f":"IF(AND(G19=0, AA19>0), AA19, 0)","v":0},{"$f":"IF(AND(G19>0, AA19=0), -G19, 0)","v":0},{"$f":"IF(AND(G19>0, AA19>0), AA19-G19, 0)","v":0},0,0,0,0,0,null," -"," -",null,0]
[null,3,"АО \"Вилюйская ГЭС-3\"",null,"2016-1.3.","Здание ГЭС.Оснащение   ответственных напорных  гидротехнических  сооружений автоматизированными  системами диагностического контроля (АСДК),",0,0,0,0,0,0,null,null,0,0,0,0,0,0,null,0,0,0,0,0,0,0,0,null,null,"Исх.№ 2049/011 от 18.11.2016 года согласовано использование запланированных средств на приобретение проеткного оборудования для устройства АСДК ГТС. В настоящее время на сайте \"Закупки\" размещено ТЗ на приобретение оборудования"," -"," -",null,0]
[null,4,"АО \"Вилюйская ГЭС-3\"",null,"2016-1.4.","Здание ГЭС.Противотаранное устройство на границе охранной зоны   акватории",0,null,null,0,null,0,null,null,0,0,0,0,0,0,null,0,0,0,0,0,0,{"$f":"H21","v":0},{"$f":"I21","v":0},null,0,"Использование запланированных средств на приобретение протвотаранных заградительных установок"," -"," -",null,0]
[null,5,"АО \"Вилюйская ГЭС-3\"",null,"2016-1.5.","Здание ГЭС. Электроосвещение помещения   окраски затворов (отм.154 оси А-1-2)",{"$f":"SUM(H22:K22)","v":0},0,0,null,null,{"$f":"SUM(M22:P22)","v":0},null,null,0,0,{"$f":"IF(period=period_1Q, H22, IF(period=period_1H, SUM(H22:I22), IF(period=period_9M, SUM(H22:J22), IF(period=period_1Y,SUM(H22:K22),0))))","v":0},{"$f":"IF(period=period_1Q, M22, IF(period=period_1H, SUM(M22:N22), IF(period=period_9M, SUM(M22:O22), IF(period=period_1Y,SUM(M22:P22),0))))","v":0},{"$f":"R22-Q22","v":0},{"$f":"IFERROR(S22/Q22, 0)","v":0},null,{"$f":"SUM(X22:Z22)","v":0},{"$f":"IFERROR(V22/G22, 0)","v":0},{"$f":"IF(AND(G22=0, AA22>0), AA22, 0)","v":0},{"$f":"IF(AND(G22>0, AA22=0), -G22, 0)","v":0},{"$f":"IF(AND(G22>0, AA22>0), AA22-G22, 0)","v":0},{"$f":"SUM(AB22:AE22)","v":0},0,0,0,{"$f":"K22","v":0},null," -"," -",null,{"$f":"SUM(ABS(G22-SUM(H22:K22)), ABS(L22-SUM(M22:P22)), ABS(AA22-SUM(AB22:AE22))*1, ABS(V22-SUM(X22:Z22)))","v":0}]
[null,6,"АО \"Вилюйская ГЭС-3\"",null,"2016-1.6.","Здание ГЭС.Электроосвещение  вспомогательного помещения",0,null,0,null,null,0,null,null,0,0,0,0,0,0,null,0,0,0,0,0,0,{"$f":"H23","v":0},0,{"$f":"J23","v":0},0,null," -"," -",null,0]
[null,7,"АО \"Вилюйская ГЭС-3\"",null,"2016-1.7.","Здание ГЭС.Электроосвещение и  заземление помещения венткамеры вытяжной (отм.165,20)",0,null,0,null,null,0,null,null,0,0,0,0,0,0,null,0,0,0,0,0,0,0,0,0,0,null," -"," -",null,0]
[null,8,"АО \"Вилюйская ГЭС-3\"",null,"2016-1.8.","Здание ГЭС.Электроосвещение и  заземление помещения венткамеры приточной (отм.165,20)",0,null,null,0,null,0,null,null,0,0,0,0,0,0,null,0,0,0,0,0,0,0,{"$f":"I25","v":0},0,0,null," -"," -",null,0]
[null,9,"АО \"Вилюйская ГЭС-3\"",null,"2016-1.9.","Здание  ГЭС Электропомещение помещения  ГРУ",0,null,null,0,null,0,null,null,0,0,0,0,0,0,null,0,0,0,0,0,0,0,0,0,0,null," -"," -",null,0]
[null,10,"АО \"Вилюйская ГЭС-3\"",null,"2016-3.1.","ЛКЗП.Ликвидация    изыскательной штольни  №1000",0,null,0,0,null,0,null,null,0,0,0,0,0,0,null,0,0,0,0,0,0,0,0,0,0,"Работы перенесены генеральным проектировщиком"," -"," -",null,0]
[null,11,"АО \"Вилюйская ГЭС-3\"",null,"2016-3.2.","ЛКЗП.КИА. Буровые работы   по программе  КИС на  штольнях  ",951.25,6.25,201,701,43,575.44399999999996,6.25,201.02,242.458,125.71599999999999,951.25,575.44399999999996,-375.80600000000004,-0.3950654402102497,"В соответствии с фактически выполненными работами",-0.24000000000000909,-2.522996057818755E-4,0,0,-0.24000000000000909,951.01,6.25,201.02,701,42.74,null," -"," -",null,0]
[null,12,"АО \"Вилюйская ГЭС-3\"",null,"2016-3.3.","ЛКЗП.Обустройство приплотинной  площадки на   левом берегу",1000,null,0,1000,null,119.889,null,null,0,119.889,1000,119.889,-880.11099999999999,-0.88011099999999998,"В связи с длительной процедурой тендерных торгов, договор был заключен в октябре. Неисполнение данной статьи сложилось в связи с поздним началом работ и погодными условиями",0,0,0,0,0,1000,0,0,1000,0,null," -"," -",null,0]
[null,13,"АО \"Вилюйская ГЭС-3\"",null,"2016-3.4.","ЛКЗП.Устройство вторых ворот   низовой  штольни (п.36 акта  техаудита),  в т.ч. ",84,null,84,0,null,83.81,null,83.81,0,0,84,{"$f":"IF(period=period_1Q, M30, IF(period=period_1H, SUM(M30:N30), IF(period=period_9M, SUM(M30:O30), IF(period=period_1Y,SUM(M30:P30),0))))","v":83.81},-0.18999999999999773,{"$f":"IFERROR(S30/Q30, 0)","v":-2.261904761904735E-3},null,-0.18999999999999773,-2.261904761904735E-3,0,0,-0.18999999999999773,83.81,0,83.81,0,0,"Оптимизация затрат произошла в связи с уточнением объемов работ и согласованием технического решения с генеральным проектировщиком"," -"," -",null,0]
[null,14,"АО \"Вилюйская ГЭС-3\"",null,"2016-3.5.","ЛКЗП.Защитная  облицовка портала.Теплозащитный  экран и анкера крепления стенко к  массиву (п.35 акта  техаудита)",584,null,584,null,null,584.29999999999995,null,584.29999999999995,0,0,584,584.29999999999995,0.29999999999995453,{"$f":"IFERROR(S31/Q31, 0)","v":5.1369863013690841E-4},null,0.29999999999995453,5.1369863013690841E-4,0,0,0.29999999999995453,584.29999999999995,0,584.29999999999995,0,0,"Оптимизация затрат произошла в связи с уточнением объемов работ и согласованием технического решения с генеральным проектировщиком"," -"," -",null,0]
[null,15,"АО \"Вилюйская ГЭС-3\"",null,"2016-4.1.","ПКЗП. Переход через ручей Сыылага (Добыча скального  грунта  в карьере 14 ИД, земельно-скальные работы)",{"$f":"SUM(H32:K32)","v":57262},null,0,28631,28631,34921.311999999998,null,null,0,34921.311999999998,57262,34921.311999999998,-22340.688000000002,-0.39014858021026166,"В связи с неисполнением подрядной организацией ООО \"АЛРОСА_Спецбурение\" договорных обязательств",0,0,0,0,0,57262,0,0,28631,28631,null," -"," -",null,0]
[null,16,"АО \"Вилюйская ГЭС-3\"",null,"2016-4.2.","ПКЗП.Электромонтажные работы по подключению и обеспечению водоотлива, монтажу и демонтажу оборудования на период взрывов в карьере 14 ИД.",700,null,null,700,null,0,null,null,0,0,700,0,-700,-1,"Технология выполнения буровых работ в карьере, подрядной организации ООО \"АЛРОСА-Спецбурение\" не требовала электроподключения. ",0,0,0,0,0,700,0,0,700,0,null," -"," -",null,0]
[null,17,"АО \"Вилюйская ГЭС-3\"",null,"2016-4.3.","ПКЗП. Потребление электроэнергии в карьере 14 ИД  (июнь-декабрь)",450,null,0,450,null,0,null,null,0,0,450,0,-450,-1,"При выполнении буровых работ в карьере, подрядной организации ООО \"АЛРОСА-Спецбурение\" не потребовалось электроподключение. Данная статья не будет исполнена.",0,0,0,0,0,450,0,0,450,0,null," -"," -",null,0]
[null,18,"АО \"Вилюйская ГЭС-3\"",null,"2016-5.1.","Автодорожный проезд Промбаза-ГЭС. Устройство  автодороги  ПК0+00 - ПК43+36,1          ",128572,0,919,106421,21232,85147.587,null,{"$f":"919.17","v":919.17},54285.745999999999,29942.670999999998,128572,85147.587,-43424.413,-0.33774393336029618,"Исполнение данной статьи сложилось в соответствии с фактически выполненными работами, а также в связи с 10% гарантийными удержаниями за невыполнение проектного профиля автодороги. Планируется привести полотно автодороги до проектного профиля в 2018 году, в рамках утвержденного плана КВ 2018 года",-0.16999999999825377,-1.3222163456915485E-6,0,0,-0.16999999999825377,128571.83,0,919,106420.83,{"$f":"7588+13644","v":21232},"Уменьшение стоимости барьерного ограждения в связи с проведением процедуры переторжки при тендерных торгах"," -"," -",null,0]
[null,19,"АО \"Вилюйская ГЭС-3\"",null,"2016-5.2.","Автодорпожный проезд Промбаза-ГЭС.Электромонтажные работы   по подключению  и  обеспечению водоотлива, монтажу и демонтажу оборудования   на  период  взрывов в карьере 14 ИД.",2738,null,587,2151,0,2101.221,null,586.77,1514.451,0,2738,2101.221,-636.779,-0.2325708546384222,"Исполнение по данной статье сложилось в соответствии с фактически выполненными работами.",0,0,0,0,0,2738,0,586.77,2151.23,0,null," -"," -",null,0]
[null,20,"АО \"Вилюйская ГЭС-3\"",null,"2016-5.3.","Автодорожный  проезд Промбаза-ГЭС. Потребление электроэнергии в карьере 14 ИД  (июнь-декабрь)",420,null,34,386,null,46.16534,null,34.087339999999998,12.077999999999999,0,420,46.16534,-373.83465999999999,-0.8900825238095238,"Исполнение по данной статье сложилось в соответствии с фактически потребленной электрической энергии.",-2.9999999999859028E-3,-7.1428571428235782E-6,0,0,-2.9999999999859028E-3,419.99700000000001,0,34.087000000000003,385.91,0,null," -"," -",null,0]
[null,null,null,null,null,null,null,null,null,null,null,null,null,null,null,null,null,null,null,null,null,null,null,null,null,null,null,null,null,null,null,null,null,null,null,0]
[]
[null,"1  Форма заполняется по освоениию (начислению) без капитализируемых процентов. Подробнее -порядок заполнения формы определён в \"Положении об инвестиционном бюджете АК \"АЛРОСА\" ."]
[null,"2  В графе \"Отклонение\" производится сравнение факта с плановым периодом нарастающим итогом."]
[null,"3  При отклонении более 10% (не зависимо +/-) в графе \"Комментарии по отклонениям\" в форме указывается причина отклонения. Подробно причины отклонений указываются в Пояснительной записке к инвестиционному бюджету/отчёту."]
[]
[]
[null,null,null,null,"Прудниченкова Софья Юрьевна"]
[null,null,null,null,"Исполнитель (ФИО):"]
[]
[null,null,null,null,"начальник отдела капитального строительства "]
[null,null,null,null,"Должность: "]
[]
[null,null,null,null,"(41136) 79464"]
[null,null,null,null,"Контактный телефон:"]
[]
[null,null,null,null,"oks@shpp.ru"]
[null,null,null,null,"Электронный адрес:"]

{"sheet":"8.ОСС","index":17,"n_rows":187,"n_cols":55,"rows_kept":187,"cut":false,"hidden":false,"merged":[[13,30,14,30],[13,20,14,20],[13,21,14,21],[13,22,14,22],[11,39,12,43],[0,1,0,5],[13,32,14,32],[13,24,14,24],[13,25,14,25],[13,26,14,26],[13,27,14,27],[13,28,14,28],[12,30,12,33],[11,7,14,7],[11,1,14,1],[11,3,14,3],[11,6,14,6],[11,2,14,2],[11,9,14,9],[12,10,14,10],[12,11,14,11],[11,50,14,50],[11,53,14,53],[12,12,12,15],[12,17,14,17],[12,18,14,18],[11,49,14,49],[13,44,14,44],[13,45,14,45],[13,46,14,46],[11,52,14,52],[11,17,11,23],[12,23,14,23],[11,24,11,33],[12,19,12,22],[13,47,14,47],[11,51,14,51],[11,44,11,48],[13,31,14,31],[13,33,14,33],[13,48,14,48],[13,19,14,19],[12,36,12,37],[12,45,12,48],[13,34,14,34],[13,35,14,35],[13,36,14,36],[13,37,14,37],[13,39,13,40],[13,41,13,43],[11,38,14,38],[11,36,11,37],[13,29,14,29],[5,2,5,5],[7,2,7,5],[13,13,14,13],[13,15,14,15],[12,25,12,28],[11,8,14,8],[11,4,14,4],[11,10,11,16],[12,16,14,16],[13,12,14,12],[11,5,14,5],[13,14,14,14]]}
[null,"Назад к оглавлению",null,null,null,null,null,null,"plan_fields","plan_fields","plan_fields","plan_fields","plan_fields","plan_fields","plan_fields","plan_fields","plan_fields","fact_fields","fact_fields","fact_fields","fact_fields","fact_fields","fact_fields","fact_fields",null,null,null,null,null,"base_fact","base_fact","base_fact","base_fact","base_fact","fact_fields","fact_fields","fact_fields","fact_fields","fact_fields","corr_fields","corr_fields","corr_fields","corr_fields","corr_fields","corr_fields","corr_fields","corr_fields","corr_fields","corr_fields","corr_fields","plan_fields","plan_fields",null,"plan_fields"]
[null,"Приложение № 2 к \"Положению об инвестиционном бюджете АК \"АЛРОСА\"\""]
[null,"Код формы: ОСС"]
[]
[]
[null,null,{"$f":"org","v":"АО \"Вилюйская ГЭС-3\""}]
[null,null,"Организационно-правовая форма и название Общества/структурного подразделения"]
[null,null,"12 месяцев 2017 года"]
[null,null," Плановый / отчётный период "]
[null,null,"Бюджет инвестиций в оборудование в смете на строительство"]
[null,"Тыс. руб. без НДС 1"]
[null,"№","Общество / cтруктурное подразделение","Код проекта ","Код объекта","Категория (вид) оборудования","Наименование оборудования","Модель , марка","Происхождение (отеч./ импорт.)","Производитель2","ПЛАН",null,null,null,null,null,null,"ФАКТ",null,null,null,null,null,null,"Плановый / отчётный период \n(всего вкл. накладные расходы)",null,null,null,null,null,null,null,null,null,"ПЛАН за","ФАКТ за","Отклонение за период3",null,"Комментарии по отклонениям4","Изменения к утверждённому плану по году",null,null,null,null,"Скорректированный план",null,null,null,null,"Комментарии по изменениям плана","Приобретение в лизинг  (-/л)","Наличие авансовых платежей в основном плановом/отчётном периоде за товары, работы, услуги  будущих периодов (1-й, 2-й год за плановым/отчётным)","Критерий инновационности расходов (принадлежность к ПИРиТМ)","Примечание к бюджету","Сверка"]
[null,null,null,null,null,null,null,null,null,null,"Кол-во оборудования, шт. ","Стоимость 1 ед. оборудования (закуп)\n","Накладные расходы",null,null,null,"Стоимость оборудования \nвкл. накладные расходы","Кол-во оборудования, шт.","Стоимость 1 ед. оборудования (закуп)\n","Накладные расходы",null,null,null,"Стоимость оборудования \nвкл. накладные расходы","ПЛАН    ","в т.ч. по кварталам:",null,null,null,"ФАКТ ","в т.ч. по кварталам:",null,null,null,{"$f":"period","v":"12 месяцев"},{"$f":"AI13","v":"12 месяцев"},"12 месяцев",null,null,null,null,null,null,null,"ПЛАН    ","в т.ч. по кварталам:"]
[null,null,null,null,null,null,null,null,null,null,null,null,"Транспортные","Монаж (не заполняется)","ПИР (не заполняется)","Прочие",null,null,null,"Транспортные","Монаж (не заполняется)","ПИР (не заполнеяется)","Прочие",null,"Год        всего","1 кв.","2 кв.","3 кв.","4 кв.","Год        всего","1 кв.","2 кв.","3 кв.","4 кв.","Тыс.    руб.","Тыс.    руб.","Тыс.    руб.","% ",null,"Изменение всего",null,"В т.ч.",null,null,"Год   всего","1 кв.","2 кв.","3 кв.","4 кв."]
[null,null,null,null,null,null,null,null,null,null,null,null,null,null,null,null,null,null,null,null,null,null,null,null,null,null,null,null,null,null,null,null,null,null,null,null,null,null,null,"Тыс.    руб.","%","Вновь добавлено\n(указывается со знаком \"+\")","Исключено (указывается со знаком \"-\")","Изменение стоимости\n(удорожание \"+\", удешвление \"-\")"]
[null,1,{"$f":"B16+1","v":2},3,4,5,6,7,8,9,10,11,12,13,14,15,16,17,18,19,20,21,22,23,24,25,26,27,28,29,30,31,32,33,{"$f":"AH16+1","v":34},35,36,37,38,39,40,41,42,43,44,45,46,47,48,49,50,51,52,{"$f":"BA16+1","v":53}]
[null,null,"ОБОРУДОВАНИЕ  - ВСЕГО ",null,null,null,null,null,null,null,null,null,null,null,null,null,null,null,null,null,null,null,null,null,{"$f":"SUMIF($C28:$C$10132,\"*\",Y28:Y$10132)","v":28589},{"$f":"SUMIF($C28:$C$10132,\"*\",Z28:Z$10132)","v":0},{"$f":"SUMIF($C28:$C$10132,\"*\",AA28:AA$10132)","v":0},{"$f":"SUMIF($C28:$C$10132,\"*\",AB28:AB$10132)","v":4576},{"$f":"SUMIF($C28:$C$10132,\"*\",AC28:AC$10132)","v":24013},{"$f":"SUMIF($C28:$C$10132,\"*\",AD28:AD$10132)","v":20076.329000000002},{"$f":"SUMIF($C28:$C$10132,\"*\",AE28:AE$10132)","v":0},{"$f":"SUMIF($C28:$C$10132,\"*\",AF28:AF$10132)","v":0},{"$f":"SUMIF($C28:$C$10132,\"*\",AG28:AG$10132)","v":0},{"$f":"SUMIF($C28:$C$10132,\"*\",AH28:AH$10132)","v":20076.329000000002},{"$f":"IF(period=period_1Q, Z17, IF(period=period_1H, SUM(Z17:AA17), IF(period=period_9M, SUM(Z17:AB17), IF(period=period_1Y,SUM(Z17:AC17),0))))","v":28589},{"$f":"IF(period=period_1Q, AE17, IF(period=period_1H, SUM(AE17:AF17), IF(period=period_9M, SUM(AE17:AG17), IF(period=period_1Y,SUM(AE17:AH17),0))))","v":20076.329000000002},{"$f":"AJ17-AI17","v":-8512.6709999999985},{"$f":"IFERROR(AK17/AI17, 0)","v":-0.29776036237713799},null,{"$f":"SUM(AP17:AR17)","v":0},{"$f":"IFERROR(AN17/Y17, 0)","v":0},{"$f":"SUMIF($C28:$C$10131,\"*\",AP28:AP$10131)","v":0},{"$f":"SUMIF($C28:$C$10131,\"*\",AQ28:AQ$10131)","v":0},{"$f":"SUMIF($C28:$C$10131,\"*\",AR28:AR$10131)","v":0},{"$f":"Y17+AN17","v":28589},{"$f":"SUMIF($C28:$C$10131,\"*\",AT28:AT$10131)","v":0},{"$f":"SUMIF($C28:$C$10131,\"*\",AU28:AU$10131)","v":0},{"$f":"SUMIF($C28:$C$10131,\"*\",AV28:AV$10131)","v":4576},{"$f":"SUMIF($C28:$C$10131,\"*\",AW28:AW$10131)","v":24013},null,null,null,null,null,{"$f":"SUM(ABS(Y17-SUM(Z17:AC17)), ABS(AD17-SUM(AE17:AH17)), ABS(AS17-SUM(AT17:AW17))*1, ABS(AN17-SUM(AP17:AR17)))","v":0}]
[null,"1.1.","Обогатительное и дробильно-размольное оборудование",null,null,null,null,null,null,null,null,null,null,null,null,null,null,null,null,null,null,null,null,null,{"$f":"SUMIF($F:$F, $C18,Y:Y )","v":0},0,0,0,0,0,0,0,0,0,0,0,0,0,null,0,0,{"$f":"SUMIF($F:$F, $C18,AP:AP )","v":0},0,0,0,{"$f":"SUMIF($F:$F, $C18,AT:AT )","v":0},0,0,0,null,null,null,null,null,0]
[null,"1.2.","Горно-шахтное  оборудование",null,null,null,null,null,null,null,null,null,null,null,null,null,null,null,null,null,null,null,null,null,0,0,0,0,0,0,0,0,0,0,0,0,0,0,null,0,0,0,0,0,0,0,0,0,0,null,null,null,null,null,0]
[null,"1.3.","Оборудование для вскрышных и добычных работ",null,null,null,null,null,null,null,null,null,null,null,null,null,null,null,null,null,null,null,null,null,0,0,0,0,0,0,0,0,0,0,0,0,0,0,null,0,0,0,0,0,0,0,0,0,0,null,null,null,null,null,0]
[null,"1.4.","Технологический транспорт",null,null,null,null,null,null,null,null,null,null,null,null,null,null,null,null,null,null,null,null,null,0,0,0,0,0,0,0,0,0,0,0,0,0,0,null,0,0,0,0,0,0,0,0,0,0,null,null,null,null,null,0]
[null,"1.5.","Автотранспорт и дорожно-строительная техника ",null,null,null,null,null,null,null,null,null,null,null,null,null,null,null,null,null,null,null,null,null,0,0,0,0,0,0,0,0,0,0,0,0,0,0,null,0,0,0,0,0,0,0,0,0,0,null,null,null,null,null,0]
[null,"1.6.","Электротехническое и энергетическое оборудование",null,null,null,null,null,null,null,null,null,null,null,null,null,null,null,null,null,null,null,null,null,0,0,0,0,0,0,0,0,0,0,0,0,0,0,null,0,0,0,0,0,0,0,0,0,0,null,null,null,null,null,0]
[null,"1.7.","Вентиляционное, отопительное и насосное оборудование",null,null,null,null,null,null,null,null,null,null,null,null,null,null,null,null,null,null,null,null,null,0,0,0,0,0,0,0,0,0,0,0,0,0,0,null,0,0,0,0,0,0,0,0,0,0,null,null,null,null,null,0]
[null,"1.8.","Гаражное, компрессорное оборудование, станки",null,null,null,null,null,null,null,null,null,null,null,null,null,null,null,null,null,null,null,null,null,0,0,0,0,0,0,0,0,0,0,0,0,0,0,null,0,0,0,0,0,0,0,0,0,0,null,null,null,null,null,0]
[null,"1.9.","Оборудование автоматизации, ИТ и связи ",null,null,null,null,null,null,null,null,null,null,null,null,null,null,null,null,null,null,null,null,null,13867,0,0,4576,9291,4575.8770000000004,0,0,0,4575.8770000000004,13867,4575.8770000000004,-9291.1229999999996,-0.67001680248070961,null,0,0,0,0,0,13867,0,0,4576,9291,null,null,null,null,null,0]
[null,"1.10.","Прочее оборудование",null,null,null,null,null,null,null,null,null,null,null,null,null,null,null,null,null,null,null,null,null,14722,0,0,0,14722,15500.452000000001,0,0,0,15500.452000000001,14722,15500.452000000001,778.45200000000114,5.2876783045781903E-2,null,0,0,0,0,0,14722,0,0,{"$f":"SUMIF($F:$F, $C27,AV:AV )","v":0},14722,null,null,null,null,null,0]
[null,1,"Оснащение ответственных напорных гидротехнических сооружений автоматизированными системами диагностического контроля (АСДК)",null,"2016-1.3.","Оборудование автоматизации, ИТ и связи ","Шкаф АСДК ","КТС 600х800(1000)х2100 мм",null,null,null,null,null,null,null,null,null,null,null,null,null,null,null,{"$f":"R28*S28+SUM(T28:W28)","v":0},2649,null,null,null,2649,{"$f":"SUM(AE28:AH28)","v":0},null,null,0,0,2649,0,{"$f":"AJ28-AI28","v":-2649},{"$f":"IFERROR(AK28/AI28, 0)","v":-1},"На основании вх.№ 2272 от 21.09.2017 поставщика ООО СТГ-ЭКО о переносе срока поставки оборудования, по согласованию УИД АК \"АЛРОСА\", поставка данного оборудования планируется в 1 квартале 2018 года",{"$f":"SUM(AP28:AR28)","v":0},0,{"$f":"IF(AND(Y28=0, AS28>0), AS28, 0)","v":0},{"$f":"IF(AND(Y28>0, AS28=0), -Y28, 0)","v":0},{"$f":"IF(AND(Y28>0, AS28>0), AS28-Y28, 0)","v":0},{"$f":"SUM(AT28:AW28)","v":2649},{"$f":"Z28","v":0},{"$f":"AA28","v":0},null,2649,"Исх.№ 2049/011 от 18.11.2016 года согласовано использование запланированных средств на приобретение проеткного оборудования для устройства АСДК ГТС. "," -"," -"," -",null,0]
[null,2,"Оснащение ответственных напорных гидротехнических сооружений автоматизированными системами диагностического контроля (АСДК)",null,"2016-1.3.","Оборудование автоматизации, ИТ и связи ","Шкаф Концентратор сигналов","КС1 600х600х1200 мм",null,null,null,null,null,null,null,null,null,null,null,null,null,null,null,null,807,null,null,null,807,{"$f":"SUM(AE29:AH29)","v":0},null,null,0,0,807,0,-807,-1,"На основании вх.№ 2272 от 21.09.2017 поставщика ООО СТГ-ЭКО о переносе срока поставки оборудования, по согласованию УИД АК \"АЛРОСА\", поставка данного оборудования планируется в 1 квартале 2018 года",{"$f":"SUM(AP29:AR29)","v":0},{"$f":"IFERROR(AN29/Y29, 0)","v":0},{"$f":"IF(AND(Y29=0, AS29>0), AS29, 0)","v":0},{"$f":"IF(AND(Y29>0, AS29=0), -Y29, 0)","v":0},{"$f":"IF(AND(Y29>0, AS29>0), AS29-Y29, 0)","v":0},{"$f":"SUM(AT29:AW29)","v":807},null,null,null,807,"Исх.№ 2049/011 от 18.11.2016 года согласовано использование запланированных средств на приобретение проеткного оборудования для устройства АСДК ГТС. "," -"," -"," -"]
[null,3,"Оснащение ответственных напорных гидротехнических сооружений автоматизированными системами диагностического контроля (АСДК)",null,"2016-1.3.","Оборудование автоматизации, ИТ и связи ","Шкаф Концентратор сигналов","КС2 600х600х1200 мм",null,null,null,null,null,null,null,null,null,null,null,null,null,null,null,null,807,null,null,null,807,0,null,null,0,0,807,0,-807,-1,"На основании вх.№ 2272 от 21.09.2017 поставщика ООО СТГ-ЭКО о переносе срока поставки оборудования, по согласованию УИД АК \"АЛРОСА\", поставка данного оборудования планируется в 1 квартале 2018 года",0,0,0,0,0,807,null,null,null,807,"Исх.№ 2049/011 от 18.11.2016 года согласовано использование запланированных средств на приобретение проеткного оборудования для устройства АСДК ГТС. "," -"," -"," -"]
[null,4,"Оснащение ответственных напорных гидротехнических сооружений автоматизированными системами диагностического контроля (АСДК)",null,"2016-1.3.","Оборудование автоматизации, ИТ и связи ","Шкаф Концентратор сигналов","КС3 600х600х1200 мм",null,null,null,null,null,null,null,null,null,null,null,null,null,null,null,null,808,null,null,null,808,{"$f":"SUM(AE31:AH31)","v":0},null,null,0,0,808,0,-808,-1,"На основании вх.№ 2272 от 21.09.2017 поставщика ООО СТГ-ЭКО о переносе срока поставки оборудования, по согласованию УИД АК \"АЛРОСА\", поставка данного оборудования планируется в 1 квартале 2018 года",0,0,0,0,0,{"$f":"SUM(AT31:AW31)","v":808},null,null,null,808,"Исх.№ 2049/011 от 18.11.2016 года согласовано использование запланированных средств на приобретение проеткного оборудования для устройства АСДК ГТС. "," -"," -"," -"]
[null,5,"Оснащение ответственных напорных гидротехнических сооружений автоматизированными системами диагностического контроля (АСДК)",null,"2016-1.3.","Оборудование автоматизации, ИТ и связи ","Шкаф Концентратор сигналов","КС4 600х600х1200 мм",null,null,null,null,null,null,null,null,null,null,null,null,null,null,null,null,807,null,null,null,807,0,null,null,0,0,807,0,-807,-1,"На основании вх.№ 2272 от 21.09.2017 поставщика ООО СТГ-ЭКО о переносе срока поставки оборудования, по согласованию УИД АК \"АЛРОСА\", поставка данного оборудования планируется в 1 квартале 2018 года",0,0,0,0,0,807,null,null,null,807,"Исх.№ 2049/011 от 18.11.2016 года согласовано использование запланированных средств на приобретение проеткного оборудования для устройства АСДК ГТС. "," -"," -"," -"]
[null,6,"Оснащение ответственных напорных гидротехнических сооружений автоматизированными системами диагностического контроля (АСДК)",null,"2016-1.3.","Оборудование автоматизации, ИТ и связи ","Шкаф Концентратор сигналов","КС5 600х600х1200 мм",null,null,null,null,null,null,null,null,null,null,null,null,null,null,null,null,807,null,null,null,807,0,null,null,0,0,807,0,-807,-1,"На основании вх.№ 2272 от 21.09.2017 поставщика ООО СТГ-ЭКО о переносе срока поставки оборудования, по согласованию УИД АК \"АЛРОСА\", поставка данного оборудования планируется в 1 квартале 2018 года",0,0,0,0,0,807,null,null,null,807,"Исх.№ 2049/011 от 18.11.2016 года согласовано использование запланированных средств на приобретение проеткного оборудования для устройства АСДК ГТС. "," -"," -"," -"]
[null,7,"Оснащение ответственных напорных гидротехнических сооружений автоматизированными системами диагностического контроля (АСДК)",null,"2016-1.3.","Оборудование автоматизации, ИТ и связи ","Шкаф Концентратор сигналов","КС6 600х600х1200 мм",null,null,null,null,null,null,null,null,null,null,null,null,null,null,null,null,807,null,null,null,807,0,null,null,0,0,807,0,-807,-1,"На основании вх.№ 2272 от 21.09.2017 поставщика ООО СТГ-ЭКО о переносе срока поставки оборудования, по согласованию УИД АК \"АЛРОСА\", поставка данного оборудования планируется в 1 квартале 2018 года",0,0,0,0,0,807,null,null,null,807,"Исх.№ 2049/011 от 18.11.2016 года согласовано использование запланированных средств на приобретение проеткного оборудования для устройства АСДК ГТС. "," -"," -"," -"]
[null,8,"Оснащение ответственных напорных гидротехнических сооружений автоматизированными системами диагностического контроля (АСДК)",null,"2016-1.3.","Оборудование автоматизации, ИТ и связи ","Автоматизированное рабочее место оператора ИДС с одним монитором",null,null,null,null,null,null,null,null,null,null,null,null,null,null,null,null,null,274,null,null,null,274,0,null,null,0,0,274,0,-274,-1,"На основании вх.№ 2272 от 21.09.2017 поставщика ООО СТГ-ЭКО о переносе срока поставки оборудования, по согласованию УИД АК \"АЛРОСА\", поставка данного оборудования планируется в 1 квартале 2018 года",0,0,0,0,0,274,null,null,null,274,"Исх.№ 2049/011 от 18.11.2016 года согласовано использование запланированных средств на приобретение проеткного оборудования для устройства АСДК ГТС. "," -"," -"," -"]
[null,9,"Оснащение ответственных напорных гидротехнических сооружений автоматизированными системами диагностического контроля (АСДК)",null,"2016-1.3.","Оборудование автоматизации, ИТ и связи ","Комплект ПО АСО КИА",null,null,null,null,null,null,null,null,null,null,null,null,null,null,null,null,null,763,null,null,null,763,0,null,null,0,0,763,0,-763,-1,"На основании вх.№ 2272 от 21.09.2017 поставщика ООО СТГ-ЭКО о переносе срока поставки оборудования, по согласованию УИД АК \"АЛРОСА\", поставка данного оборудования планируется в 1 квартале 2018 года",0,0,0,0,0,763,null,null,null,763,"Исх.№ 2049/011 от 18.11.2016 года согласовано использование запланированных средств на приобретение проеткного оборудования для устройства АСДК ГТС. "," -"," -"," -"]
[null,10,"Оснащение ответственных напорных гидротехнических сооружений автоматизированными системами диагностического контроля (АСДК)",null,"2016-1.3.","Оборудование автоматизации, ИТ и связи ","Комплект ЗИП и сервисное оборудование в составе",null,null,null,null,null,null,null,null,null,null,null,null,null,null,null,null,null,762,null,null,null,762,0,null,null,0,0,762,0,-762,-1,"На основании вх.№ 2272 от 21.09.2017 поставщика ООО СТГ-ЭКО о переносе срока поставки оборудования, по согласованию УИД АК \"АЛРОСА\", поставка данного оборудования планируется в 1 квартале 2018 года",0,0,0,0,0,762,null,null,null,762,"Исх.№ 2049/011 от 18.11.2016 года согласовано использование запланированных средств на приобретение проеткного оборудования для устройства АСДК ГТС. "," -"," -"," -"]
[null,11,"Оснащение ответственных напорных гидротехнических сооружений автоматизированными системами диагностического контроля (АСДК)",null,"2016-1.3.","Оборудование автоматизации, ИТ и связи ","Комплект монтажных приспособлений и материалов",null,null,null,null,null,null,null,null,null,null,null,null,null,null,null,null,null,4576,null,null,4576,null,{"$f":"SUM(AE38:AH38)","v":4575.8770000000004},null,null,0,4575.8770000000004,4576,4575.8770000000004,-0.12299999999959255,-2.6879370629281587E-5,null,0,0,0,0,0,{"$f":"SUM(AT38:AW38)","v":4576},null,null,4576,null,"Исх.№ 2049/011 от 18.11.2016 года согласовано использование запланированных средств на приобретение проеткного оборудования для устройства АСДК ГТС. "]
[null,12,"Противотаранные устройства на границе охранной зоны территории Вилюйской ГЭС-3 (Светлинской ГЭС)",null,"2016-1.4.","Прочее оборудование","Противотаранное утсройство-М ПТУ-6","ДАБР.425728.001-04",null,null,null,null,null,null,null,null,{"$f":"K39*L39+SUM(M39:P39)","v":0},null,null,null,null,null,null,0,12961,null,null,null,12961,13161.741,null,null,0,13161.741,12961,13161.741,200.74099999999999,1.5488079623485841E-2,"Удорожание оборудования 17.10.2017 года согласовано с УИД АК \"АЛРОСА\" ",{"$f":"SUM(AP39:AR39)","v":0},{"$f":"IFERROR(AN39/Y39, 0)","v":0},0,0,0,{"$f":"SUM(AT39:AW39)","v":12961},{"$f":"Z39","v":0},{"$f":"AA39","v":0},null,12961,"планируется приобретение оборудования противотаранных заградительных установок для установки в 2018 году на границе охранной территории"," -"," -"," -",null,0]
[null,13,"Противотаранные устройства на границе охранной зоны территории Вилюйской ГЭС-3 (Светлинской ГЭС)",null,"2016-1.4.","Прочее оборудование","Стапель под средство специальное","ДАБР.296371.001-01",null,null,null,null,null,null,null,null,{"$f":"K40*L40+SUM(M40:P40)","v":0},null,null,null,null,null,null,{"$f":"R40*S40+SUM(T40:W40)","v":0},1740,null,null,null,1740,{"$f":"SUM(AE40:AH40)","v":2305.0839999999998},null,null,0,2305.0839999999998,{"$f":"IF(period=period_1Q, Z40, IF(period=period_1H, SUM(Z40:AA40), IF(period=period_9M, SUM(Z40:AB40), IF(period=period_1Y,SUM(Z40:AC40),0))))","v":1740},{"$f":"IF(period=period_1Q, AE40, IF(period=period_1H, SUM(AE40:AF40), IF(period=period_9M, SUM(AE40:AG40), IF(period=period_1Y,SUM(AE40:AH40),0))))","v":2305.0839999999998},{"$f":"AJ40-AI40","v":565.08399999999983},{"$f":"IFERROR(AK40/AI40, 0)","v":0.32476091954022979},"Удорожание оборудования 17.10.2017 года согласовано с УИД АК \"АЛРОСА\" ",{"$f":"SUM(AP40:AR40)","v":0},{"$f":"IFERROR(AN40/Y40, 0)","v":0},{"$f":"IF(AND(Y40=0, AS40>0), AS40, 0)","v":0},{"$f":"IF(AND(Y40>0, AS40=0), -Y40, 0)","v":0},{"$f":"IF(AND(Y40>0, AS40>0), AS40-Y40, 0)","v":0},{"$f":"SUM(AT40:AW40)","v":1740},{"$f":"Z40","v":0},{"$f":"AA40","v":0},null,1740,"планируется приобретение оборудования противотаранных заградительных установок для установки в 2018 году на границе охранной территории"," -"," -"," -",null,{"$f":"SUM(ABS(Y40-SUM(Z40:AC40)), ABS(AD40-SUM(AE40:AH40)), ABS(AS40-SUM(AT40:AW40))*1, ABS(AN40-SUM(AP40:AR40)))","v":0}]
[null,14,"Противотаранные устройства на границе охранной зоны территории Вилюйской ГЭС-3 (Светлинской ГЭС)",null,"2016-1.4.","Прочее оборудование","Термошкаф уличный с кабельным обогревом. ","ДАБР.301442.007-18",null,null,null,null,null,null,null,null,0,null,null,null,null,null,null,0,21,null,null,null,21,33.627000000000002,null,null,0,33.627000000000002,21,33.627000000000002,12.627000000000002,0.60128571428571442,"Удорожание оборудования 17.10.2017 года согласовано с УИД АК \"АЛРОСА\" ",0,0,0,0,0,21,0,0,null,21,"планируется приобретение оборудования противотаранных заградительных установок для установки в 2018 году на границе охранной территории"," -"," -"," -",null,0]
[null,null,{"$f":"org","v":"АО \"Вилюйская ГЭС-3\""},null,null,null,null,null,null,null,null,null,null,null,null,null,{"$f":"K42*L42+SUM(M42:P42)","v":0},null,null,null,null,null,null,{"$f":"R42*S42+SUM(T42:W42)","v":0},{"$f":"SUM(Z42:AC42)","v":0},null,null,null,null,{"$f":"SUM(AE42:AH42)","v":0},null,null,null,null,{"$f":"IF(period=period_1Q, Z42, IF(period=period_1H, SUM(Z42:AA42), IF(period=period_9M, SUM(Z42:AB42), IF(period=period_1Y,SUM(Z42:AC42),0))))","v":0},{"$f":"IF(period=period_1Q, AE42, IF(period=period_1H, SUM(AE42:AF42), IF(period=period_9M, SUM(AE42:AG42), IF(period=period_1Y,SUM(AE42:AH42),0))))","v":0},{"$f":"AJ42-AI42","v":0},{"$f":"IFERROR(AK42/AI42, 0)","v":0},null,{"$f":"SUM(AP42:AR42)","v":0},{"$f":"IFERROR(AN42/Y42, 0)","v":0},{"$f":"IF(AND(Y42=0, AS42>0), AS42, 0)","v":0},{"$f":"IF(AND(Y42>0, AS42=0), -Y42, 0)","v":0},{"$f":"IF(AND(Y42>0, AS42>0), AS42-Y42, 0)","v":0},{"$f":"SUM(AT42:AW42)","v":0},{"$f":"Z42","v":0},{"$f":"AA42","v":0},{"$f":"AB42","v":0},{"$f":"AC42","v":0},null," -"," -"," -",null,0]
[null,null,"АО \"Вилюйская ГЭС-3\"",null,null,null,null,null,null,null,null,null,null,null,null,null,0,null,null,null,null,null,null,0,0,null,null,null,null,0,null,null,null,null,0,0,0,0,null,0,0,0,0,0,0,0,0,0,0,null," -"," -"," -",null,0]
[null,null,"АО \"Вилюйская ГЭС-3\"",null,null,null,null,null,null,null,null,null,null,null,null,null,0,null,null,null,null,null,null,0,0,null,null,null,null,0,null,null,null,null,0,0,0,0,null,0,0,0,0,0,0,0,0,0,0,null," -"," -"," -",null,0]
[null,null,"АО \"Вилюйская ГЭС-3\"",null,null,null,null,null,null,null,null,null,null,null,null,null,0,null,null,null,null,null,null,0,0,null,null,null,null,0,null,null,null,null,0,0,0,0,null,0,0,0,0,0,0,0,0,0,0,null," -"," -"," -",null,0]
[null,null,"АО \"Вилюйская ГЭС-3\"",null,null,null,null,null,null,null,null,null,null,null,null,null,0,null,null,null,null,null,null,0,0,null,null,null,null,0,null,null,null,null,0,0,0,0,null,0,0,0,0,0,0,0,0,0,0,null," -"," -"," -",null,0]
[null,null,"АО \"Вилюйская ГЭС-3\"",null,null,null,null,null,null,null,null,null,null,null,null,null,0,null,null,null,null,null,null,0,0,null,null,null,null,0,null,null,null,null,0,0,0,0,null,0,0,0,0,0,0,0,0,0,0,null," -"," -"," -",null,0]
[null,null,"АО \"Вилюйская ГЭС-3\"",null,null,null,null,null,null,null,null,null,null,null,null,null,0,null,null,null,null,null,null,0,0,null,null,null,null,0,null,null,null,null,0,0,0,0,null,0,0,0,0,0,0,0,0,0,0,null," -"," -"," -",null,0]
[null,null,"АО \"Вилюйская ГЭС-3\"",null,null,null,null,null,null,null,null,null,null,null,null,null,0,null,null,null,null,null,null,0,0,null,null,null,null,0,null,null,null,null,0,0,0,0,null,0,0,0,0,0,0,0,0,0,0,null," -"," -"," -",null,0]
[null,null,"АО \"Вилюйская ГЭС-3\"",null,null,null,null,null,null,null,null,null,null,null,null,null,0,null,null,null,null,null,null,0,0,null,null,null,null,0,null,null,null,null,0,0,0,0,null,0,0,0,0,0,0,0,0,0,0,null," -"," -"," -",null,0]
[null,null,"АО \"Вилюйская ГЭС-3\"",null,null,null,null,null,null,null,null,null,null,null,null,null,0,null,null,null,null,null,null,0,0,null,null,null,null,0,null,null,null,null,0,0,0,0,null,0,0,0,0,0,0,0,0,0,0,null," -"," -"," -",null,0]
[null,null,"АО \"Вилюйская ГЭС-3\"",null,null,null,null,null,null,null,null,null,null,null,null,null,0,null,null,null,null,null,null,0,0,null,null,null,null,0,null,null,null,null,0,0,0,0,null,0,0,0,0,0,0,0,0,0,0,null," -"," -"," -",null,0]
[null,null,"АО \"Вилюйская ГЭС-3\"",null,null,null,null,null,null,null,null,null,null,null,null,null,0,null,null,null,null,null,null,0,0,null,null,null,null,0,null,null,null,null,0,0,0,0,null,0,0,0,0,0,0,0,0,0,0,null," -"," -"," -",null,0]
[null,null,"АО \"Вилюйская ГЭС-3\"",null,null,null,null,null,null,null,null,null,null,null,null,null,0,null,null,null,null,null,null,0,0,null,null,null,null,0,null,null,null,null,0,0,0,0,null,0,0,0,0,0,0,0,0,0,0,null," -"," -"," -",null,0]
[null,null,"АО \"Вилюйская ГЭС-3\"",null,null,null,null,null,null,null,null,null,null,null,null,null,0,null,null,null,null,null,null,0,0,null,null,null,null,0,null,null,null,null,0,0,0,0,null,0,0,0,0,0,0,0,0,0,0,null," -"," -"," -",null,0]
[null,null,"АО \"Вилюйская ГЭС-3\"",null,null,null,null,null,null,null,null,null,null,null,null,null,0,null,null,null,null,null,null,0,0,null,null,null,null,0,null,null,null,null,0,0,0,0,null,0,0,0,0,0,0,0,0,0,0,null," -"," -"," -",null,0]
[null,null,"АО \"Вилюйская ГЭС-3\"",null,null,null,null,null,null,null,null,null,null,null,null,null,0,null,null,null,null,null,null,0,0,null,null,null,null,0,null,null,null,null,0,0,0,0,null,0,0,0,0,0,0,0,0,0,0,null," -"," -"," -",null,0]
[null,null,"АО \"Вилюйская ГЭС-3\"",null,null,null,null,null,null,null,null,null,null,null,null,null,0,null,null,null,null,null,null,0,0,null,null,null,null,0,null,null,null,null,0,0,0,0,null,0,0,0,0,0,0,0,0,0,0,null," -"," -"," -",null,0]
[null,null,"АО \"Вилюйская ГЭС-3\"",null,null,null,null,null,null,null,null,null,null,null,null,null,0,null,null,null,null,null,null,0,0,null,null,null,null,0,null,null,null,null,0,0,0,0,null,0,0,0,0,0,0,0,0,0,0,null," -"," -"," -",null,0]
[null,null,"АО \"Вилюйская ГЭС-3\"",null,null,null,null,null,null,null,null,null,null,null,null,null,0,null,null,null,null,null,null,0,0,null,null,null,null,0,null,null,null,null,0,0,0,0,null,0,0,0,0,0,0,0,0,0,0,null," -"," -"," -",null,0]
[null,null,"АО \"Вилюйская ГЭС-3\"",null,null,null,null,null,null,null,null,null,null,null,null,null,0,null,null,null,null,null,null,0,0,null,null,null,null,0,null,null,null,null,0,0,0,0,null,0,0,0,0,0,0,0,0,0,0,null," -"," -"," -",null,0]
[null,null,"АО \"Вилюйская ГЭС-3\"",null,null,null,null,null,null,null,null,null,null,null,null,null,0,null,null,null,null,null,null,0,0,null,null,null,null,0,null,null,null,null,0,0,0,0,null,0,0,0,0,0,0,0,0,0,0,null," -"," -"," -",null,0]
[null,null,"АО \"Вилюйская ГЭС-3\"",null,null,null,null,null,null,null,null,null,null,null,null,null,0,null,null,null,null,null,null,0,0,null,null,null,null,0,null,null,null,null,0,0,0,0,null,0,0,0,0,0,0,0,0,0,0,null," -"," -"," -",null,0]
[null,null,"АО \"Вилюйская ГЭС-3\"",null,null,null,null,null,null,null,null,null,null,null,null,null,0,null,null,null,null,null,null,0,0,null,null,null,null,0,null,null,null,null,0,0,0,0,null,0,0,0,0,0,0,0,0,0,0,null," -"," -"," -",null,0]
[null,null,"АО \"Вилюйская ГЭС-3\"",null,null,null,null,null,null,null,null,null,null,null,null,null,0,null,null,null,null,null,null,0,0,null,null,null,null,0,null,null,null,null,0,0,0,0,null,0,0,0,0,0,0,0,0,0,0,null," -"," -"," -",null,0]
[null,null,"АО \"Вилюйская ГЭС-3\"",null,null,null,null,null,null,null,null,null,null,null,null,null,0,null,null,null,null,null,null,0,0,null,null,null,null,0,null,null,null,null,0,0,0,0,null,0,0,0,0,0,0,0,0,0,0,null," -"," -"," -",null,0]
[null,null,"АО \"Вилюйская ГЭС-3\"",null,null,null,null,null,null,null,null,null,null,null,null,null,0,null,null,null,null,null,null,0,0,null,null,null,null,0,null,null,null,null,0,0,0,0,null,0,0,0,0,0,0,0,0,0,0,null," -"," -"," -",null,0]
[null,null,"АО \"Вилюйская ГЭС-3\"",null,null,null,null,null,null,null,null,null,null,null,null,null,0,null,null,null,null,null,null,0,0,null,null,null,null,0,null,null,null,null,0,0,0,0,null,0,0,0,0,0,0,0,0,0,0,null," -"," -"," -",null,0]
[null,null,"АО \"Вилюйская ГЭС-3\"",null,null,null,null,null,null,null,null,null,null,null,null,null,0,null,null,null,null,null,null,0,0,null,null,null,null,0,null,null,null,null,0,0,0,0,null,0,0,0,0,0,0,0,0,0,0,null," -"," -"," -",null,0]
[null,null,"АО \"Вилюйская ГЭС-3\"",null,null,null,null,null,null,null,null,null,null,null,null,null,0,null,null,null,null,null,null,0,0,null,null,null,null,0,null,null,null,null,0,0,0,0,null,0,0,0,0,0,0,0,0,0,0,null," -"," -"," -",null,0]
[null,null,"АО \"Вилюйская ГЭС-3\"",null,null,null,null,null,null,null,null,null,null,null,null,null,0,null,null,null,null,null,null,0,0,null,null,null,null,0,null,null,null,null,0,0,0,0,null,0,0,0,0,0,0,0,0,0,0,null," -"," -"," -",null,0]
[null,null,"АО \"Вилюйская ГЭС-3\"",null,null,null,null,null,null,null,null,null,null,null,null,null,0,null,null,null,null,null,null,0,0,null,null,null,null,0,null,null,null,null,0,0,0,0,null,0,0,0,0,0,0,0,0,0,0,null," -"," -"," -",null,0]
[null,null,"АО \"Вилюйская ГЭС-3\"",null,null,null,null,null,null,null,null,null,null,null,null,null,0,null,null,null,null,null,null,0,0,null,null,null,null,0,null,null,null,null,0,0,0,0,null,0,0,0,0,0,0,0,0,0,0,null," -"," -"," -",null,0]
[null,null,"АО \"Вилюйская ГЭС-3\"",null,null,null,null,null,null,null,null,null,null,null,null,null,0,null,null,null,null,null,null,0,0,null,null,null,null,0,null,null,null,null,0,0,0,0,null,0,0,0,0,0,0,0,0,0,0,null," -"," -"," -",null,0]
[null,null,"АО \"Вилюйская ГЭС-3\"",null,null,null,null,null,null,null,null,null,null,null,null,null,0,null,null,null,null,null,null,0,0,null,null,null,null,0,null,null,null,null,0,0,0,0,null,0,0,0,0,0,0,0,0,0,0,null," -"," -"," -",null,0]
[null,null,"АО \"Вилюйская ГЭС-3\"",null,null,null,null,null,null,null,null,null,null,null,null,null,0,null,null,null,null,null,null,0,0,null,null,null,null,0,null,null,null,null,0,0,0,0,null,0,0,0,0,0,0,0,0,0,0,null," -"," -"," -",null,0]
[null,null,"АО \"Вилюйская ГЭС-3\"",null,null,null,null,null,null,null,null,null,null,null,null,null,0,null,null,null,null,null,null,0,0,null,null,null,null,0,null,null,null,null,0,0,0,0,null,0,0,0,0,0,0,0,0,0,0,null," -"," -"," -",null,0]
[null,null,"АО \"Вилюйская ГЭС-3\"",null,null,null,null,null,null,null,null,null,null,null,null,null,0,null,null,null,null,null,null,0,0,null,null,null,null,0,null,null,null,null,0,0,0,0,null,0,0,0,0,0,0,0,0,0,0,null," -"," -"," -",null,0]
[null,null,"АО \"Вилюйская ГЭС-3\"",null,null,null,null,null,null,null,null,null,null,null,null,null,0,null,null,null,null,null,null,0,0,null,null,null,null,0,null,null,null,null,0,0,0,0,null,0,0,0,0,0,0,0,0,0,0,null," -"," -"," -",null,0]
[null,null,"АО \"Вилюйская ГЭС-3\"",null,null,null,null,null,null,null,null,null,null,null,null,null,0,null,null,null,null,null,null,0,0,null,null,null,null,0,null,null,null,null,0,0,0,0,null,0,0,0,0,0,0,0,0,0,0,null," -"," -"," -",null,0]
[null,null,"АО \"Вилюйская ГЭС-3\"",null,null,null,null,null,null,null,null,null,null,null,null,null,0,null,null,null,null,null,null,0,0,null,null,null,null,0,null,null,null,null,0,0,0,0,null,0,0,0,0,0,0,0,0,0,0,null," -"," -"," -",null,0]
[null,null,"АО \"Вилюйская ГЭС-3\"",null,null,null,null,null,null,null,null,null,null,null,null,null,0,null,null,null,null,null,null,0,0,null,null,null,null,0,null,null,null,null,0,0,0,0,null,0,0,0,0,0,0,0,0,0,0,null," -"," -"," -",null,0]
[null,null,"АО \"Вилюйская ГЭС-3\"",null,null,null,null,null,null,null,null,null,null,null,null,null,0,null,null,null,null,null,null,0,0,null,null,null,null,0,null,null,null,null,0,0,0,0,null,0,0,0,0,0,0,0,0,0,0,null," -"," -"," -",null,0]
[null,null,"АО \"Вилюйская ГЭС-3\"",null,null,null,null,null,null,null,null,null,null,null,null,null,0,null,null,null,null,null,null,0,0,null,null,null,null,0,null,null,null,null,0,0,0,0,null,0,0,0,0,0,0,0,0,0,0,null," -"," -"," -",null,0]
[null,null,"АО \"Вилюйская ГЭС-3\"",null,null,null,null,null,null,null,null,null,null,null,null,null,0,null,null,null,null,null,null,0,0,null,null,null,null,0,null,null,null,null,0,0,0,0,null,0,0,0,0,0,0,0,0,0,0,null," -"," -"," -",null,0]
[null,null,"АО \"Вилюйская ГЭС-3\"",null,null,null,null,null,null,null,null,null,null,null,null,null,0,null,null,null,null,null,null,0,0,null,null,null,null,0,null,null,null,null,0,0,0,0,null,0,0,0,0,0,0,0,0,0,0,null," -"," -"," -",null,0]
[null,null,"АО \"Вилюйская ГЭС-3\"",null,null,null,null,null,null,null,null,null,null,null,null,null,0,null,null,null,null,null,null,0,0,null,null,null,null,0,null,null,null,null,0,0,0,0,null,0,0,0,0,0,0,0,0,0,0,null," -"," -"," -",null,0]
[null,null,"АО \"Вилюйская ГЭС-3\"",null,null,null,null,null,null,null,null,null,null,null,null,null,0,null,null,null,null,null,null,0,0,null,null,null,null,0,null,null,null,null,0,0,0,0,null,0,0,0,0,0,0,0,0,0,0,null," -"," -"," -",null,0]
[null,null,"АО \"Вилюйская ГЭС-3\"",null,null,null,null,null,null,null,null,null,null,null,null,null,0,null,null,null,null,null,null,0,0,null,null,null,null,0,null,null,null,null,0,0,0,0,null,0,0,0,0,0,0,0,0,0,0,null," -"," -"," -",null,0]
[null,null,"АО \"Вилюйская ГЭС-3\"",null,null,null,null,null,null,null,null,null,null,null,null,null,0,null,null,null,null,null,null,0,0,null,null,null,null,0,null,null,null,null,0,0,0,0,null,0,0,0,0,0,0,0,0,0,0,null," -"," -"," -",null,0]
[null,null,"АО \"Вилюйская ГЭС-3\"",null,null,null,null,null,null,null,null,null,null,null,null,null,0,null,null,null,null,null,null,0,0,null,null,null,null,0,null,null,null,null,0,0,0,0,null,0,0,0,0,0,0,0,0,0,0,null," -"," -"," -",null,0]
[null,null,"АО \"Вилюйская ГЭС-3\"",null,null,null,null,null,null,null,null,null,null,null,null,null,0,null,null,null,null,null,null,0,0,null,null,null,null,0,null,null,null,null,0,0,0,0,null,0,0,0,0,0,0,0,0,0,0,null," -"," -"," -",null,0]
[null,null,"АО \"Вилюйская ГЭС-3\"",null,null,null,null,null,null,null,null,null,null,null,null,null,0,null,null,null,null,null,null,0,0,null,null,null,null,0,null,null,null,null,0,0,0,0,null,0,0,0,0,0,0,0,0,0,0,null," -"," -"," -",null,0]
[null,null,"АО \"Вилюйская ГЭС-3\"",null,null,null,null,null,null,null,null,null,null,null,null,null,0,null,null,null,null,null,null,0,0,null,null,null,null,0,null,null,null,null,0,0,0,0,null,0,0,0,0,0,0,0,0,0,0,null," -"," -"," -",null,0]
[null,null,"АО \"Вилюйская ГЭС-3\"",null,null,null,null,null,null,null,null,null,null,null,null,null,0,null,null,null,null,null,null,0,0,null,null,null,null,0,null,null,null,null,0,0,0,0,null,0,0,0,0,0,0,0,0,0,0,null," -"," -"," -",null,0]
[null,null,"АО \"Вилюйская ГЭС-3\"",null,null,null,null,null,null,null,null,null,null,null,null,null,0,null,null,null,null,null,null,0,0,null,null,null,null,0,null,null,null,null,0,0,0,0,null,0,0,0,0,0,0,0,0,0,0,null," -"," -"," -",null,0]
[null,null,"АО \"Вилюйская ГЭС-3\"",null,null,null,null,null,null,null,null,null,null,null,null,null,0,null,null,null,null,null,null,0,0,null,null,null,null,0,null,null,null,null,0,0,0,0,null,0,0,0,0,0,0,0,0,0,0,null," -"," -"," -",null,0]
[null,null,"АО \"Вилюйская ГЭС-3\"",null,null,null,null,null,null,null,null,null,null,null,null,null,0,null,null,null,null,null,null,0,0,null,null,null,null,0,null,null,null,null,0,0,0,0,null,0,0,0,0,0,0,0,0,0,0,null," -"," -"," -",null,0]
[null,null,"АО \"Вилюйская ГЭС-3\"",null,null,null,null,null,null,null,null,null,null,null,null,null,0,null,null,null,null,null,null,0,0,null,null,null,null,0,null,null,null,null,0,0,0,0,null,0,0,0,0,0,0,0,0,0,0,null," -"," -"," -",null,0]
[null,null,"АО \"Вилюйская ГЭС-3\"",null,null,null,null,null,null,null,null,null,null,null,null,null,0,null,null,null,null,null,null,0,0,null,null,null,null,0,null,null,null,null,0,0,0,0,null,0,0,0,0,0,0,0,0,0,0,null," -"," -"," -",null,0]
[null,null,"АО \"Вилюйская ГЭС-3\"",null,null,null,null,null,null,null,null,null,null,null,null,null,0,null,null,null,null,null,null,0,0,null,null,null,null,0,null,null,null,null,0,0,0,0,null,0,0,0,0,0,0,0,0,0,0,null," -"," -"," -",null,0]
[null,null,"АО \"Вилюйская ГЭС-3\"",null,null,null,null,null,null,null,null,null,null,null,null,null,0,null,null,null,null,null,null,0,0,null,null,null,null,0,null,null,null,null,0,0,0,0,null,0,0,0,0,0,0,0,0,0,0,null," -"," -"," -",null,0]
[null,null,"АО \"Вилюйская ГЭС-3\"",null,null,null,null,null,null,null,null,null,null,null,null,null,0,null,null,null,null,null,null,0,0,null,null,null,null,0,null,null,null,null,0,0,0,0,null,0,0,0,0,0,0,0,0,0,0,null," -"," -"," -",null,0]
[null,null,"АО \"Вилюйская ГЭС-3\"",null,null,null,null,null,null,null,null,null,null,null,null,null,{"$f":"K104*L104+SUM(M104:P104)","v":0},null,null,null,null,null,null,{"$f":"R104*S104+SUM(T104:W104)","v":0},{"$f":"SUM(Z104:AC104)","v":0},null,null,null,null,{"$f":"SUM(AE104:AH104)","v":0},null,null,null,null,{"$f":"IF(period=period_1Q, Z104, IF(period=period_1H, SUM(Z104:AA104), IF(period=period_9M, SUM(Z104:AB104), IF(period=period_1Y,SUM(Z104:AC104),0))))","v":0},{"$f":"IF(period=period_1Q, AE104, IF(period=period_1H, SUM(AE104:AF104), IF(period=period_9M, SUM(AE104:AG104), IF(period=period_1Y,SUM(AE104:AH104),0))))","v":0},{"$f":"AJ104-AI104","v":0},{"$f":"IFERROR(AK104/AI104, 0)","v":0},null,{"$f":"SUM(AP104:AR104)","v":0},{"$f":"IFERROR(AN104/Y104, 0)","v":0},{"$f":"IF(AND(Y104=0, AS104>0), AS104, 0)","v":0},{"$f":"IF(AND(Y104>0, AS104=0), -Y104, 0)","v":0},{"$f":"IF(AND(Y104>0, AS104>0), AS104-Y104, 0)","v":0},{"$f":"SUM(AT104:AW104)","v":0},{"$f":"Z104","v":0},{"$f":"AA104","v":0},{"$f":"AB104","v":0},{"$f":"AC104","v":0},null," -"," -"," -",null,{"$f":"SUM(ABS(Y104-SUM(Z104:AC104)), ABS(AD104-SUM(AE104:AH104)), ABS(AS104-SUM(AT104:AW104))*1, ABS(AN104-SUM(AP104:AR104)))","v":0}]
[null,null,"АО \"Вилюйская ГЭС-3\"",null,null,null,null,null,null,null,null,null,null,null,null,null,0,null,null,null,null,null,null,0,0,null,null,null,null,0,null,null,null,null,0,0,0,0,null,0,0,0,0,0,0,0,0,0,0,null," -"," -"," -",null,0]
[null,null,"АО \"Вилюйская ГЭС-3\"",null,null,null,null,null,null,null,null,null,null,null,null,null,0,null,null,null,null,null,null,0,0,null,null,null,null,0,null,null,null,null,0,0,0,0,null,0,0,0,0,0,0,0,0,0,0,null," -"," -"," -",null,0]
[null,null,"АО \"Вилюйская ГЭС-3\"",null,null,null,null,null,null,null,null,null,null,null,null,null,0,null,null,null,null,null,null,0,0,null,null,null,null,0,null,null,null,null,0,0,0,0,null,0,0,0,0,0,0,0,0,0,0,null," -"," -"," -",null,0]
[null,null,"АО \"Вилюйская ГЭС-3\"",null,null,null,null,null,null,null,null,null,null,null,null,null,0,null,null,null,null,null,null,0,0,null,null,null,null,0,null,null,null,null,0,0,0,0,null,0,0,0,0,0,0,0,0,0,0,null," -"," -"," -",null,0]
[null,null,"АО \"Вилюйская ГЭС-3\"",null,null,null,null,null,null,null,null,null,null,null,null,null,0,null,null,null,null,null,null,0,0,null,null,null,null,0,null,null,null,null,0,0,0,0,null,0,0,0,0,0,0,0,0,0,0,null," -"," -"," -",null,0]
[null,null,"АО \"Вилюйская ГЭС-3\"",null,null,null,null,null,null,null,null,null,null,null,null,null,0,null,null,null,null,null,null,0,0,null,null,null,null,0,null,null,null,null,0,0,0,0,null,0,0,0,0,0,0,0,0,0,0,null," -"," -"," -",null,0]
[null,null,"АО \"Вилюйская ГЭС-3\"",null,null,null,null,null,null,null,null,null,null,null,null,null,0,null,null,null,null,null,null,0,0,null,null,null,null,0,null,null,null,null,0,0,0,0,null,0,0,0,0,0,0,0,0,0,0,null," -"," -"," -",null,0]
[null,null,"АО \"Вилюйская ГЭС-3\"",null,null,null,null,null,null,null,null,null,null,null,null,null,0,null,null,null,null,null,null,0,0,null,null,null,null,0,null,null,null,null,0,0,0,0,null,0,0,0,0,0,0,0,0,0,0,null," -"," -"," -",null,0]
[null,null,"АО \"Вилюйская ГЭС-3\"",null,null,null,null,null,null,null,null,null,null,null,null,null,0,null,null,null,null,null,null,0,0,null,null,null,null,0,null,null,null,null,0,0,0,0,null,0,0,0,0,0,0,0,0,0,0,null," -"," -"," -",null,0]
[null,null,"АО \"Вилюйская ГЭС-3\"",null,null,null,null,null,null,null,null,null,null,null,null,null,0,null,null,null,null,null,null,0,0,null,null,null,null,0,null,null,null,null,0,0,0,0,null,0,0,0,0,0,0,0,0,0,0,null," -"," -"," -",null,0]
[null,null,"АО \"Вилюйская ГЭС-3\"",null,null,null,null,null,null,null,null,null,null,null,null,null,0,null,null,null,null,null,null,0,0,null,null,null,null,0,null,null,null,null,0,0,0,0,null,0,0,0,0,0,0,0,0,0,0,null," -"," -"," -",null,0]
[null,null,"АО \"Вилюйская ГЭС-3\"",null,null,null,null,null,null,null,null,null,null,null,null,null,0,null,null,null,null,null,null,0,0,null,null,null,null,0,null,null,null,null,0,0,0,0,null,0,0,0,0,0,0,0,0,0,0,null," -"," -"," -",null,0]
[null,null,"АО \"Вилюйская ГЭС-3\"",null,null,null,null,null,null,null,null,null,null,null,null,null,0,null,null,null,null,null,null,0,0,null,null,null,null,0,null,null,null,null,0,0,0,0,null,0,0,0,0,0,0,0,0,0,0,null," -"," -"," -",null,0]
[null,null,"АО \"Вилюйская ГЭС-3\"",null,null,null,null,null,null,null,null,null,null,null,null,null,0,null,null,null,null,null,null,0,0,null,null,null,null,0,null,null,null,null,0,0,0,0,null,0,0,0,0,0,0,0,0,0,0,null," -"," -"," -",null,0]
[null,null,"АО \"Вилюйская ГЭС-3\"",null,null,null,null,null,null,null,null,null,null,null,null,null,0,null,null,null,null,null,null,0,0,null,null,null,null,0,null,null,null,null,0,0,0,0,null,0,0,0,0,0,0,0,0,0,0,null," -"," -"," -",null,0]
[null,null,"АО \"Вилюйская ГЭС-3\"",null,null,null,null,null,null,null,null,null,null,null,null,null,0,null,null,null,null,null,null,0,0,null,null,null,null,0,null,null,null,null,0,0,0,0,null,0,0,0,0,0,0,0,0,0,0,null," -"," -"," -",null,0]
[null,null,"АО \"Вилюйская ГЭС-3\"",null,null,null,null,null,null,null,null,null,null,null,null,null,0,null,null,null,null,null,null,0,0,null,null,null,null,0,null,null,null,null,0,0,0,0,null,0,0,0,0,0,0,0,0,0,0,null," -"," -"," -",null,0]
[null,null,"АО \"Вилюйская ГЭС-3\"",null,null,null,null,null,null,null,null,null,null,null,null,null,0,null,null,null,null,null,null,0,0,null,null,null,null,0,null,null,null,null,0,0,0,0,null,0,0,0,0,0,0,0,0,0,0,null," -"," -"," -",null,0]
[null,null,"АО \"Вилюйская ГЭС-3\"",null,null,null,null,null,null,null,null,null,null,null,null,null,0,null,null,null,null,null,null,0,0,null,null,null,null,0,null,null,null,null,0,0,0,0,null,0,0,0,0,0,0,0,0,0,0,null," -"," -"," -",null,0]
[null,null,"АО \"Вилюйская ГЭС-3\"",null,null,null,null,null,null,null,null,null,null,null,null,null,0,null,null,null,null,null,null,0,0,null,null,null,null,0,null,null,null,null,0,0,0,0,null,0,0,0,0,0,0,0,0,0,0,null," -"," -"," -",null,0]
[null,null,"АО \"Вилюйская ГЭС-3\"",null,null,null,null,null,null,null,null,null,null,null,null,null,0,null,null,null,null,null,null,0,0,null,null,null,null,0,null,null,null,null,0,0,0,0,null,0,0,0,0,0,0,0,0,0,0,null," -"," -"," -",null,0]
[null,null,"АО \"Вилюйская ГЭС-3\"",null,null,null,null,null,null,null,null,null,null,null,null,null,0,null,null,null,null,null,null,0,0,null,null,null,null,0,null,null,null,null,0,0,0,0,null,0,0,0,0,0,0,0,0,0,0,null," -"," -"," -",null,0]
[null,null,"АО \"Вилюйская ГЭС-3\"",null,null,null,null,null,null,null,null,null,null,null,null,null,0,null,null,null,null,null,null,0,0,null,null,null,null,0,null,null,null,null,0,0,0,0,null,0,0,0,0,0,0,0,0,0,0,null," -"," -"," -",null,0]
[null,null,"АО \"Вилюйская ГЭС-3\"",null,null,null,null,null,null,null,null,null,null,null,null,null,0,null,null,null,null,null,null,0,0,null,null,null,null,0,null,null,null,null,0,0,0,0,null,0,0,0,0,0,0,0,0,0,0,null," -"," -"," -",null,0]
[null,null,"АО \"Вилюйская ГЭС-3\"",null,null,null,null,null,null,null,null,null,null,null,null,null,0,null,null,null,null,null,null,0,0,null,null,null,null,0,null,null,null,null,0,0,0,0,null,0,0,0,0,0,0,0,0,0,0,null," -"," -"," -",null,0]
[null,null,"АО \"Вилюйская ГЭС-3\"",null,null,null,null,null,null,null,null,null,null,null,null,null,0,null,null,null,null,null,null,0,0,null,null,null,null,0,null,null,null,null,0,0,0,0,null,0,0,0,0,0,0,0,0,0,0,null," -"," -"," -",null,0]
[null,null,"АО \"Вилюйская ГЭС-3\"",null,null,null,null,null,null,null,null,null,null,null,null,null,0,null,null,null,null,null,null,0,0,null,null,null,null,0,null,null,null,null,0,0,0,0,null,0,0,0,0,0,0,0,0,0,0,null," -"," -"," -",null,0]
[null,null,"АО \"Вилюйская ГЭС-3\"",null,null,null,null,null,null,null,null,null,null,null,null,null,0,null,null,null,null,null,null,0,0,null,null,null,null,0,null,null,null,null,0,0,0,0,null,0,0,0,0,0,0,0,0,0,0,null," -"," -"," -",null,0]
[null,null,"АО \"Вилюйская ГЭС-3\"",null,null,null,null,null,null,null,null,null,null,null,null,null,0,null,null,null,null,null,null,0,0,null,null,null,null,0,null,null,null,null,0,0,0,0,null,0,0,0,0,0,0,0,0,0,0,null," -"," -"," -",null,0]
[null,null,"АО \"Вилюйская ГЭС-3\"",null,null,null,null,null,null,null,null,null,null,null,null,null,0,null,null,null,null,null,null,0,0,null,null,null,null,0,null,null,null,null,0,0,0,0,null,0,0,0,0,0,0,0,0,0,0,null," -"," -"," -",null,0]
[null,null,"АО \"Вилюйская ГЭС-3\"",null,null,null,null,null,null,null,null,null,null,null,null,null,0,null,null,null,null,null,null,0,0,null,null,null,null,0,null,null,null,null,0,0,0,0,null,0,0,0,0,0,0,0,0,0,0,null," -"," -"," -",null,0]
[null,null,"АО \"Вилюйская ГЭС-3\"",null,null,null,null,null,null,null,null,null,null,null,null,null,0,null,null,null,null,null,null,0,0,null,null,null,null,0,null,null,null,null,0,0,0,0,null,0,0,0,0,0,0,0,0,0,0,null," -"," -"," -",null,0]
[null,null,"АО \"Вилюйская ГЭС-3\"",null,null,null,null,null,null,null,null,null,null,null,null,null,0,null,null,null,null,null,null,0,0,null,null,null,null,0,null,null,null,null,0,0,0,0,null,0,0,0,0,0,0,0,0,0,0,null," -"," -"," -",null,0]
[null,null,"АО \"Вилюйская ГЭС-3\"",null,null,null,null,null,null,null,null,null,null,null,null,null,0,null,null,null,null,null,null,0,0,null,null,null,null,0,null,null,null,null,0,0,0,0,null,0,0,0,0,0,0,0,0,0,0,null," -"," -"," -",null,0]
[null,null,"АО \"Вилюйская ГЭС-3\"",null,null,null,null,null,null,null,null,null,null,null,null,null,0,null,null,null,null,null,null,0,0,null,null,null,null,0,null,null,null,null,0,0,0,0,null,0,0,0,0,0,0,0,0,0,0,null," -"," -"," -",null,0]
[null,null,"АО \"Вилюйская ГЭС-3\"",null,null,null,null,null,null,null,null,null,null,null,null,null,0,null,null,null,null,null,null,0,0,null,null,null,null,0,null,null,null,null,0,0,0,0,null,0,0,0,0,0,0,0,0,0,0,null," -"," -"," -",null,0]
[null,null,"АО \"Вилюйская ГЭС-3\"",null,null,null,null,null,null,null,null,null,null,null,null,null,0,null,null,null,null,null,null,0,0,null,null,null,null,0,null,null,null,null,0,0,0,0,null,0,0,0,0,0,0,0,0,0,0,null," -"," -"," -",null,0]
[null,null,"АО \"Вилюйская ГЭС-3\"",null,null,null,null,null,null,null,null,null,null,null,null,null,0,null,null,null,null,null,null,0,0,null,null,null,null,0,null,null,null,null,0,0,0,0,null,0,0,0,0,0,0,0,0,0,0,null," -"," -"," -",null,0]
[null,null,"АО \"Вилюйская ГЭС-3\"",null,null,null,null,null,null,null,null,null,null,null,null,null,0,null,null,null,null,null,null,0,0,null,null,null,null,0,null,null,null,null,0,0,0,0,null,0,0,0,0,0,0,0,0,0,0,null," -"," -"," -",null,0]
[null,null,"АО \"Вилюйская ГЭС-3\"",null,null,null,null,null,null,null,null,null,null,null,null,null,0,null,null,null,null,null,null,0,0,null,null,null,null,0,null,null,null,null,0,0,0,0,null,0,0,0,0,0,0,0,0,0,0,null," -"," -"," -",null,0]
[null,null,"АО \"Вилюйская ГЭС-3\"",null,null,null,null,null,null,null,null,null,null,null,null,null,0,null,null,null,null,null,null,0,0,null,null,null,null,0,null,null,null,null,0,0,0,0,null,0,0,0,0,0,0,0,0,0,0,null," -"," -"," -",null,0]
[null,null,"АО \"Вилюйская ГЭС-3\"",null,null,null,null,null,null,null,null,null,null,null,null,null,0,null,null,null,null,null,null,0,0,null,null,null,null,0,null,null,null,null,0,0,0,0,null,0,0,0,0,0,0,0,0,0,0,null," -"," -"," -",null,0]
[null,null,"АО \"Вилюйская ГЭС-3\"",null,null,null,null,null,null,null,null,null,null,null,null,null,0,null,null,null,null,null,null,0,0,null,null,null,null,0,null,null,null,null,0,0,0,0,null,0,0,0,0,0,0,0,0,0,0,null," -"," -"," -",null,0]
[null,null,"АО \"Вилюйская ГЭС-3\"",null,null,null,null,null,null,null,null,null,null,null,null,null,0,null,null,null,null,null,null,0,0,null,null,null,null,0,null,null,null,null,0,0,0,0,null,0,0,0,0,0,0,0,0,0,0,null," -"," -"," -",null,0]
[null,null,"АО \"Вилюйская ГЭС-3\"",null,null,null,null,null,null,null,null,null,null,null,null,null,0,null,null,null,null,null,null,0,0,null,null,null,null,0,null,null,null,null,0,0,0,0,null,0,0,0,0,0,0,0,0,0,0,null," -"," -"," -",null,0]
[null,null,"АО \"Вилюйская ГЭС-3\"",null,null,null,null,null,null,null,null,null,null,null,null,null,0,null,null,null,null,null,null,0,0,null,null,null,null,0,null,null,null,null,0,0,0,0,null,0,0,0,0,0,0,0,0,0,0,null," -"," -"," -",null,0]
[null,null,"АО \"Вилюйская ГЭС-3\"",null,null,null,null,null,null,null,null,null,null,null,null,null,0,null,null,null,null,null,null,0,0,null,null,null,null,0,null,null,null,null,0,0,0,0,null,0,0,0,0,0,0,0,0,0,0,null," -"," -"," -",null,0]
[null,null,"АО \"Вилюйская ГЭС-3\"",null,null,null,null,null,null,null,null,null,null,null,null,null,0,null,null,null,null,null,null,0,0,null,null,null,null,0,null,null,null,null,0,0,0,0,null,0,0,0,0,0,0,0,0,0,0,null," -"," -"," -",null,0]
[null,null,"АО \"Вилюйская ГЭС-3\"",null,null,null,null,null,null,null,null,null,null,null,null,null,0,null,null,null,null,null,null,0,0,null,null,null,null,0,null,null,null,null,0,0,0,0,null,0,0,0,0,0,0,0,0,0,0,null," -"," -"," -",null,0]
[null,null,"АО \"Вилюйская ГЭС-3\"",null,null,null,null,null,null,null,null,null,null,null,null,null,0,null,null,null,null,null,null,0,0,null,null,null,null,0,null,null,null,null,0,0,0,0,null,0,0,0,0,0,0,0,0,0,0,null," -"," -"," -",null,0]
[null,null,"АО \"Вилюйская ГЭС-3\"",null,null,null,null,null,null,null,null,null,null,null,null,null,0,null,null,null,null,null,null,0,0,null,null,null,null,0,null,null,null,null,0,0,0,0,null,0,0,0,0,0,0,0,0,0,0,null," -"," -"," -",null,0]
[null,null,"АО \"Вилюйская ГЭС-3\"",null,null,null,null,null,null,null,null,null,null,null,null,null,0,null,null,null,null,null,null,0,0,null,null,null,null,0,null,null,null,null,0,0,0,0,null,0,0,0,0,0,0,0,0,0,0,null," -"," -"," -",null,0]
[null,null,"АО \"Вилюйская ГЭС-3\"",null,null,null,null,null,null,null,null,null,null,null,null,null,0,null,null,null,null,null,null,0,0,null,null,null,null,0,null,null,null,null,0,0,0,0,null,0,0,0,0,0,0,0,0,0,0,null," -"," -"," -",null,0]
[null,null,"АО \"Вилюйская ГЭС-3\"",null,null,null,null,null,null,null,null,null,null,null,null,null,0,null,null,null,null,null,null,0,0,null,null,null,null,0,null,null,null,null,0,0,0,0,null,0,0,0,0,0,0,0,0,0,0,null," -"," -"," -",null,0]
[null,null,"АО \"Вилюйская ГЭС-3\"",null,null,null,null,null,null,null,null,null,null,null,null,null,0,null,null,null,null,null,null,0,0,null,null,null,null,0,null,null,null,null,0,0,0,0,null,0,0,0,0,0,0,0,0,0,0,null," -"," -"," -",null,0]
[null,null,"АО \"Вилюйская ГЭС-3\"",null,null,null,null,null,null,null,null,null,null,null,null,null,0,null,null,null,null,null,null,0,0,null,null,null,null,0,null,null,null,null,0,0,0,0,null,0,0,0,0,0,0,0,0,0,0,null," -"," -"," -",null,0]
[null,null,"АО \"Вилюйская ГЭС-3\"",null,null,null,null,null,null,null,null,null,null,null,null,null,0,null,null,null,null,null,null,0,0,null,null,null,null,0,null,null,null,null,0,0,0,0,null,0,0,0,0,0,0,0,0,0,0,null," -"," -"," -",null,0]
[null,null,"АО \"Вилюйская ГЭС-3\"",null,null,null,null,null,null,null,null,null,null,null,null,null,0,null,null,null,null,null,null,0,0,null,null,null,null,0,null,null,null,null,0,0,0,0,null,0,0,0,0,0,0,0,0,0,0,null," -"," -"," -",null,0]
[null,null,"АО \"Вилюйская ГЭС-3\"",null,null,null,null,null,null,null,null,null,null,null,null,null,0,null,null,null,null,null,null,0,0,null,null,null,null,0,null,null,null,null,0,0,0,0,null,0,0,0,0,0,0,0,0,0,0,null," -"," -"," -",null,0]
[null,null,"АО \"Вилюйская ГЭС-3\"",null,null,null,null,null,null,null,null,null,null,null,null,null,0,null,null,null,null,null,null,0,0,null,null,null,null,0,null,null,null,null,0,0,0,0,null,0,0,0,0,0,0,0,0,0,0,null," -"," -"," -",null,0]
[null,null,"АО \"Вилюйская ГЭС-3\"",null,null,null,null,null,null,null,null,null,null,null,null,null,0,null,null,null,null,null,null,0,0,null,null,null,null,0,null,null,null,null,0,0,0,0,null,0,0,0,0,0,0,0,0,0,0,null," -"," -"," -",null,0]
[null,null,"АО \"Вилюйская ГЭС-3\"",null,null,null,null,null,null,null,null,null,null,null,null,null,0,null,null,null,null,null,null,0,0,null,null,null,null,0,null,null,null,null,0,0,0,0,null,0,0,0,0,0,0,0,0,0,0,null," -"," -"," -",null,0]
[null,null,"АО \"Вилюйская ГЭС-3\"",null,null,null,null,null,null,null,null,null,null,null,null,null,0,null,null,null,null,null,null,0,0,null,null,null,null,0,null,null,null,null,0,0,0,0,null,0,0,0,0,0,0,0,0,0,0,null," -"," -"," -",null,0]
[null,null,"АО \"Вилюйская ГЭС-3\"",null,null,null,null,null,null,null,null,null,null,null,null,null,{"$f":"K168*L168+SUM(M168:P168)","v":0},null,null,null,null,null,null,{"$f":"R168*S168+SUM(T168:W168)","v":0},{"$f":"SUM(Z168:AC168)","v":0},null,null,null,null,{"$f":"SUM(AE168:AH168)","v":0},null,null,null,null,{"$f":"IF(period=period_1Q, Z168, IF(period=period_1H, SUM(Z168:AA168), IF(period=period_9M, SUM(Z168:AB168), IF(period=period_1Y,SUM(Z168:AC168),0))))","v":0},{"$f":"IF(period=period_1Q, AE168, IF(period=period_1H, SUM(AE168:AF168), IF(period=period_9M, SUM(AE168:AG168), IF(period=period_1Y,SUM(AE168:AH168),0))))","v":0},{"$f":"AJ168-AI168","v":0},{"$f":"IFERROR(AK168/AI168, 0)","v":0},null,{"$f":"SUM(AP168:AR168)","v":0},{"$f":"IFERROR(AN168/Y168, 0)","v":0},{"$f":"IF(AND(Y168=0, AS168>0), AS168, 0)","v":0},{"$f":"IF(AND(Y168>0, AS168=0), -Y168, 0)","v":0},{"$f":"IF(AND(Y168>0, AS168>0), AS168-Y168, 0)","v":0},{"$f":"SUM(AT168:AW168)","v":0},{"$f":"Z168","v":0},{"$f":"AA168","v":0},{"$f":"AB168","v":0},{"$f":"AC168","v":0},null," -"," -"," -",null,{"$f":"SUM(ABS(Y168-SUM(Z168:AC168)), ABS(AD168-SUM(AE168:AH168)), ABS(AS168-SUM(AT168:AW168))*1, ABS(AN168-SUM(AP168:AR168)))","v":0}]
[]
[]
[null,"1  Форма заполняется по освоениию (начислению). Подробнее -порядок заполнения формы определён в \"Положении об инвестиционном бюджете АК \"АЛРОСА\" ."]
[null,"2  Производитель указывается как для импртного, так и для российского оборудования. Поля \"Монтаж\" и \"ПИР\" в форме \"ОСС\" не заполняются."]
[null,"3  В графе \"Отклонение\" производится сравнение факта с плановым периодом нарастающим итогом."]
[null,"4 При отклонении более 10% (не зависимо +/-) в графе \"Комментарии по отклонениям\" в форме указывается причина отклонения. Подробно причины отклонений указываются в Пояснительной записке к инвестиционному бюджету/отчёту."]
[]
[]
[]
[null,null,null,null,null,"Исполнитель (ФИО):"]
[]
[]
[null,null,null,null,null,"Должность: "]
[]
[]
[null,null,null,null,null,"Контактный телефон:"]
[]
[]
[null,null,null,null,null,"Электронный адрес:"]

{"sheet":"9.ПИР","index":18,"n_rows":39,"n_cols":36,"rows_kept":39,"cut":false,"hidden":false,"merged":[[11,33,14,33],[0,1,0,5],[11,34,14,34],[13,6,14,6],[13,7,14,7],[13,8,14,8],[13,9,14,9],[13,10,14,10],[13,11,14,11],[13,12,14,12],[13,13,14,13],[13,14,14,14],[11,6,11,15],[13,15,14,15],[13,16,14,16],[13,17,14,17],[11,1,14,1],[11,32,14,32],[11,26,11,30],[11,31,14,31],[12,18,12,19],[12,27,12,30],[13,18,14,18],[13,19,14,19],[13,21,13,22],[13,23,13,25],[13,26,14,26],[13,27,14,27],[13,28,14,28],[13,29,14,29],[13,30,14,30],[37,4,37,5],[11,18,11,19],[11,20,14,20],[11,21,12,25],[5,2,5,5],[7,2,7,5],[11,3,14,3],[11,5,14,5],[11,4,14,4],[11,2,14,2],[28,4,28,5],[31,4,31,5],[34,4,34,5],[12,7,12,10],[12,12,12,15]]}
[null,"Назад к оглавлению",null,null,null,null,null,null,null,null,null,"base_fact","base_fact","base_fact","base_fact","base_fact","fact_fields","fact_fields","fact_fields","fact_fields","fact_fields","corr_fields","corr_fields","corr_fields","corr_fields","corr_fields","corr_fields","corr_fields","corr_fields","corr_fields","corr_fields","corr_fields","plan_fields",null,"plan_fields"]
[]
[null,"Приложение № 2 к \"Положению об инвестиционном бюджете АК \"АЛРОСА\"\""]
[null,"Код формы: ПИР"]
[]
[null,null,{"$f":"org","v":"АО \"Вилюйская ГЭС-3\""}]
[null,null,"Организационно-правовая форма и название Общества/структурного подразделения"]
[null,null,{"$f":"period_txt","v":"12 месяцев 2017"}]
[null,null," Плановый / отчётный период "]
[null,null," Бюджет проектно-изыскательских работ"]
[null,"Тыс. руб. без НДС 1"]
[null,"№","Общество / cтруктурное подразделение","Код проекта ","Код объекта","Наименование объекта","Плановый / отчётный период",null,null,null,null,null,null,null,null,null,"ПЛАН за","ФАКТ за","Отклонение за период2",null,"Комментарии по отклонениям3","Изменения к утверждённому плану по году",null,null,null,null,"Скорректированный план",null,null,null,null,"Комментарии по изменениям плана","Наличие авансовых платежей в основном плановом/отчётном периоде за товары, работы, услуги  будущих периодов (1-й, 2-й год за плановым/отчётным)","Критерий инновационности расходов (принадлежность к ПИРиТМ)","Примечание к бюджету","Сверка"]
[null,null,null,null,null,null,"ПЛАН    ","в т.ч. по кварталам:",null,null,null,"ФАКТ ","в т.ч. по кварталам:",null,null,null,{"$f":"period","v":"12 месяцев"},{"$f":"Q13","v":"12 месяцев"},"12 месяцев",null,null,null,null,null,null,null,"ПЛАН    ","в т.ч. по кварталам:"]
[null,null,null,null,null,null,"Год   всего","1 кв.","2 кв.","3 кв.","4 кв.","Год        всего","1 кв.","2 кв.","3 кв.","4 кв.","Тыс.    руб.","Тыс.    руб.","Тыс.    руб.","% ",null,"Изменение всего",null,"В т.ч.",null,null,"Год   всего","1 кв.","2 кв.","3 кв.","4 кв."]
[null,null,null,null,null,null,null,null,null,null,null,null,null,null,null,null,null,null,null,null,null,"Тыс.    руб.","%","Вновь добавлено\n(указывается со знаком \"+\")","Исключено (указывается со знаком \"-\")","Изменение стоимости\n(удорожание \"+\", удешвление \"-\")"]
[null,1,{"$f":"B16+1","v":2},3,4,5,6,7,8,9,10,11,12,13,14,15,16,17,18,19,20,21,22,23,24,25,26,27,28,29,30,31,32,33,34]
[null,null,null,null,null,"ПИР - ВСЕГО ",{"$f":"SUMIF($C18:$C$9999,\"*\",G18:G$9999)","v":9954},{"$f":"SUMIF($C18:$C$9999,\"*\",H18:H$9999)","v":244},{"$f":"SUMIF($C18:$C$9999,\"*\",I18:I$9999)","v":742},{"$f":"SUMIF($C18:$C$9999,\"*\",J18:J$9999)","v":3517},{"$f":"SUMIF($C18:$C$9999,\"*\",K18:K$9999)","v":5451},{"$f":"SUMIF($C18:$C$9999,\"*\",L18:L$9999)","v":8453.982},{"$f":"SUMIF($C18:$C$9999,\"*\",M18:M$9999)","v":244.15},{"$f":"SUMIF($C18:$C$9999,\"*\",N18:N$9999)","v":741.56},{"$f":"SUMIF($C18:$C$9999,\"*\",O18:O$9999)","v":1284.6579999999999},{"$f":"SUMIF($C18:$C$9999,\"*\",P18:P$9999)","v":6183.6139999999996},{"$f":"IF(period=period_1Q, H17, IF(period=period_1H, SUM(H17:I17), IF(period=period_9M, SUM(H17:J17), IF(period=period_1Y,SUM(H17:K17),0))))","v":9954},{"$f":"IF(period=period_1Q, M17, IF(period=period_1H, SUM(M17:N17), IF(period=period_9M, SUM(M17:O17), IF(period=period_1Y,SUM(M17:P17),0))))","v":8453.982},{"$f":"R17-Q17","v":-1500.018},{"$f":"IFERROR(S17/Q17, 0)","v":-0.15069499698613623},null,{"$f":"SUM(X17:Z17)","v":-1.7999999999545935E-2},{"$f":"IFERROR(V17/G17, 0)","v":-1.8083182639688502E-6},{"$f":"SUMIF($C18:$C$9998,\"*\",X18:X$9998)","v":0},{"$f":"SUMIF($C18:$C$9998,\"*\",Y18:Y$9998)","v":0},{"$f":"SUMIF($C18:$C$9998,\"*\",Z18:Z$9998)","v":-1.7999999999545935E-2},{"$f":"G17+V17","v":9953.982},{"$f":"SUMIF($C18:$C$9998,\"*\",AB18:AB$9998)","v":244.15},{"$f":"SUMIF($C18:$C$9998,\"*\",AC18:AC$9998)","v":741.56},{"$f":"SUMIF($C18:$C$9998,\"*\",AD18:AD$9998)","v":3517.3440000000001},{"$f":"SUMIF($C18:$C$9998,\"*\",AE18:AE$9998)","v":5450.9279999999999},null,null,null,null,{"$f":"SUM(ABS(G17-SUM(H17:K17)), ABS(L17-SUM(M17:P17)), ABS(AA17-SUM(AB17:AE17))*1, ABS(V17-SUM(X17:Z17)))","v":0}]
[null,1,{"$f":"org","v":"АО \"Вилюйская ГЭС-3\""},null,"2016-1.10.",{"$f":"IF(ISBLANK(E18), \"\", VLOOKUP(E18, objects, 2,FALSE))","v":"Здание ГЭС.Проектно-изыскательские  работы    по  ВГЭС "},{"$f":"SUM(H18:K18)","v":4638},0,346,1941,2351,{"$f":"SUM(M18:P18)","v":4637.5320000000002},null,345.8,604.35400000000004,3687.3780000000002,4638,{"$f":"IF(period=period_1Q, M18, IF(period=period_1H, SUM(M18:N18), IF(period=period_9M, SUM(M18:O18), IF(period=period_1Y,SUM(M18:P18),0))))","v":4637.5320000000002},{"$f":"R18-Q18","v":-0.4679999999998472},{"$f":"IFERROR(S18/Q18, 0)","v":-1.009055627425285E-4},"В связи с переносом исполнения проектных работ на 4 квартал",-0.4679999999998472,-1.009055627425285E-4,{"$f":"IF(AND(G18=0, AA18>0), AA18, 0)","v":0},{"$f":"IF(AND(G18>0, AA18=0), -G18, 0)","v":0},{"$f":"IF(AND(G18>0, AA18>0), AA18-G18, 0)","v":-0.4679999999998472},{"$f":"SUM(AB18:AE18)","v":4637.5320000000002},null,345.8,1940.8040000000001,2350.9279999999999,"удешевление статьи связано с проведением процедуры переторжки при тендерных торгах"," -"," -",null,0]
[null,2,"АО \"Вилюйская ГЭС-3\"",null,"2016-1.11.",{"$f":"IF(ISBLANK(E19), \"\", VLOOKUP(E19, objects, 2,FALSE))","v":"Здание ГЭС.ПИР.Разработка  технических решений  в  рамках програмы  по  подъему уровня водохранилища   (Акт тех.аудита)"},{"$f":"SUM(H19:K19)","v":4695},null,396,1199,3100,{"$f":"SUM(M19:P19)","v":3195.1819999999998},null,395.76,303.18599999999998,2496.2359999999999,{"$f":"IF(period=period_1Q, H19, IF(period=period_1H, SUM(H19:I19), IF(period=period_9M, SUM(H19:J19), IF(period=period_1Y,SUM(H19:K19),0))))","v":4695},3195.1819999999998,{"$f":"R19-Q19","v":-1499.8180000000002},{"$f":"IFERROR(S19/Q19, 0)","v":-0.31945005324813636},"В связи с тем, что для исполнения договора по оценке технического состояния плотин потребовались дополнительные данные. В 2018 году будет оценена стоимость изыскательских работ и проведена организационная работа по выполнению изысканий и оценке состояния плотин.",{"$f":"SUM(X19:Z19)","v":0.18000000000029104},{"$f":"IFERROR(V19/G19, 0)","v":3.8338658147026845E-5},{"$f":"IF(AND(G19=0, AA19>0), AA19, 0)","v":0},{"$f":"IF(AND(G19>0, AA19=0), -G19, 0)","v":0},{"$f":"IF(AND(G19>0, AA19>0), AA19-G19, 0)","v":0.18000000000029104},{"$f":"SUM(AB19:AE19)","v":4695.18},{"$f":"H19","v":0},395.76,1199.42,3100,"оптимизация статьи произведена в связи с уточнением стоимости работ с генеральным проектировщиком"," -"," -",null,{"$f":"SUM(ABS(G19-SUM(H19:K19)), ABS(L19-SUM(M19:P19)), ABS(AA19-SUM(AB19:AE19))*1, ABS(V19-SUM(X19:Z19)))","v":0}]
[null,3,"АО \"Вилюйская ГЭС-3\"",null,"2016-4.4.","ПКЗП. ПИР.Сыылага. Корректировка   технического проекта  разработки магматических пород (долеритов) открытым способом на  южном   участке месторождения 14ИД.",377,null,0,377,null,377.11799999999999,null,null,377.11799999999999,0,377,377.11799999999999,0.117999999999995,3.1299734748009285E-4,null,0.12000000000000455,3.1830238726791659E-4,0,0,0.12000000000000455,377.12,0,0,377.12,{"$f":"K20","v":0},"оптимизация статьи произведена на основании консультаций, проведенных с представителями Упраления по недропользованию РС(Я)"," -"," -",null,0]
[null,4,"АО \"Вилюйская ГЭС-3\"",null,"2016-5.4.","Автодорожный поезд Промбаза-ГЭС. ПИР. Электроосвещение  автодороги",244,244,null,null,null,244.15,244.15,null,0,0,244,244.14599999999999,0.14599999999998658,5.9836065573764998E-4,null,0.15000000000000568,6.1475409836067899E-4,0,0,0.15000000000000568,244.15,244.15,{"$f":"I21","v":0},{"$f":"J21","v":0},0,"удешевление статьи связано с проведением процедуры переторжки при тендерных торгах"," -"," -",null,0]
[]
[]
[null,"1  Форма заполняется по освоениию (начислению). Подробнее -порядок заполнения формы определён в \"Положении об инвестиционном бюджете АК \"АЛРОСА\" ."]
[null,"2  В графе \"Отклонение\" производится сравнение факта с плановым периодом нарастающим итогом."]
[null,"3  При отклонении более 10% (не зависимо +/-) в графе \"Комментарии по отклонениям\" в форме указывается причина отклонения. Подробно причины отклонений указываются в Пояснительной записке к инвестиционному бюджету/отчёту."]
[]
[]
[null,null,null,null,"Прудниченкова Софья Юрьевна"]
[null,null,null,null,"Исполнитель (ФИО):"]
[]
[null,null,null,null,"начальник отдела капитального строительства"]
[null,null,null,null,"Должность: "]
[]
[null,null,null,null,"(41136) 79464"]
[null,null,null,null,"Контактный телефон:"]
[]
[null,null,null,null,"oks@shpp.ru"]
[null,null,null,null,"Электронный адрес:"]

{"sheet":"10.БКП","index":19,"n_rows":60,"n_cols":35,"rows_kept":60,"cut":false,"hidden":false,"merged":[[11,32,14,32],[0,1,0,5],[11,2,14,2],[11,1,14,1],[11,3,14,3],[11,4,14,4],[11,5,14,5],[5,2,5,5],[7,2,7,5],[12,27,12,30],[13,30,14,30],[11,18,11,19],[11,20,14,20],[11,21,12,25],[12,18,12,19],[13,21,13,22],[11,33,14,33],[13,7,14,7],[13,8,14,8],[13,9,14,9],[13,10,14,10],[13,11,14,11],[13,14,14,14],[13,15,14,15],[13,16,14,16],[13,17,14,17],[11,6,11,15],[13,13,14,13],[13,12,14,12],[13,6,14,6],[12,7,12,10],[11,31,14,31],[13,23,13,25],[13,18,14,18],[13,19,14,19],[11,26,11,30],[13,26,14,26],[13,27,14,27],[13,28,14,28],[13,29,14,29],[12,12,12,15],[49,4,49,5],[52,4,52,5],[55,4,55,5],[58,4,58,5]]}
[null,"Назад к оглавлению",null,null,null,null,null,null,null,null,null,"base_fact","base_fact","base_fact","base_fact","base_fact","fact_fields","fact_fields","fact_fields","fact_fields","fact_fields","corr_fields","corr_fields","corr_fields","corr_fields","corr_fields","corr_fields","corr_fields","corr_fields","corr_fields","corr_fields","corr_fields",null,"plan_fields"]
[null,"Приложение № 2 к \"Положению об инвестиционном бюджете АК \"АЛРОСА\"\""]
[null,"Код формы: БКП"]
[]
[]
[null,null,{"$f":"org","v":"АО \"Вилюйская ГЭС-3\""}]
[null,null,"Организационно-правовая форма и название Общества/структурного подразделения"]
[null,null,{"$f":"period_txt","v":"12 месяцев 2017"}]
[null,null," Плановый / отчётный период "]
[null,null," Бюджет капитализируемых процентов"]
[null,"Тыс. руб. без НДС 1"]
[null,"№","Общество / cтруктурное подразделение","Код проекта ","Код объекта","Наименование объекта","Плановый / отчётный период",null,null,null,null,null,null,null,null,null,"ПЛАН за","ФАКТ за","Отклонение за период2",null,"Комментарии по отклонениям3","Изменения к утверждённому плану по году",null,null,null,null,"Скорректированный план",null,null,null,null,"Комментарии по изменениям плана","Критерий инновационности расходов (принадлежность к ПИРиТМ)","Примечание к бюджету","Сверка"]
[null,null,null,null,null,null,"ПЛАН    ","в т.ч. по кварталам:",null,null,null,"ФАКТ ","в т.ч. по кварталам:",null,null,null,{"$f":"period","v":"12 месяцев"},{"$f":"Q13","v":"12 месяцев"},"12 месяцев",null,null,null,null,null,null,null,"ПЛАН    ","в т.ч. по кварталам:"]
[null,null,null,null,null,null,"Год   всего","1 кв.","2 кв.","3 кв.","4 кв.","Год        всего","1 кв.","2 кв.","3 кв.","4 кв.","Тыс.    руб.","Тыс.    руб.","Тыс.    руб.","% ",null,"Изменение всего",null,"В т.ч.",null,null,"Год   всего","1 кв.","2 кв.","3 кв.","4 кв."]
[null,null,null,null,null,null,null,null,null,null,null,null,null,null,null,null,null,null,null,null,null,"Тыс.    руб.","%","Вновь добавлено\n(указывается со знаком \"+\")","Исключено (указывается со знаком \"-\")","Изменение стоимости\n(удорожание \"+\", удешвление \"-\")"]
[null,1,{"$f":"B16+1","v":2},3,4,5,6,7,8,9,10,11,12,13,14,15,16,17,18,19,20,21,22,23,24,25,26,27,28,29,30,31,{"$f":"AF16+1","v":32},{"$f":"AG16+1","v":33}]
[null,"Капитализируемые проценты, всего:",null,null,null,null,{"$f":"SUMIF($C18:$C$10020,\"*\",G18:G$10020)","v":0},{"$f":"SUMIF($C18:$C$10020,\"*\",H18:H$10020)","v":0},{"$f":"SUMIF($C18:$C$10020,\"*\",I18:I$10020)","v":0},{"$f":"SUMIF($C18:$C$10020,\"*\",J18:J$10020)","v":0},{"$f":"SUMIF($C18:$C$10020,\"*\",K18:K$10020)","v":0},{"$f":"SUMIF($C18:$C$10020,\"*\",L18:L$10020)","v":0},{"$f":"SUMIF($C18:$C$10020,\"*\",M18:M$10020)","v":0},{"$f":"SUMIF($C18:$C$10020,\"*\",N18:N$10020)","v":0},{"$f":"SUMIF($C18:$C$10020,\"*\",O18:O$10020)","v":0},{"$f":"SUMIF($C18:$C$10020,\"*\",P18:P$10020)","v":0},{"$f":"IF(period=period_1Q, H17, IF(period=period_1H, SUM(H17:I17), IF(period=period_9M, SUM(H17:J17), IF(period=period_1Y,SUM(H17:K17),0))))","v":0},{"$f":"IF(period=period_1Q, M17, IF(period=period_1H, SUM(M17:N17), IF(period=period_9M, SUM(M17:O17), IF(period=period_1Y,SUM(M17:P17),0))))","v":0},{"$f":"R17-Q17","v":0},{"$f":"IFERROR(S17/Q17, 0)","v":0},null,{"$f":"SUM(X17:Z17)","v":0},{"$f":"IFERROR(V17/G17, 0)","v":0},{"$f":"SUMIF($C18:$C$10019,\"*\",X18:X$10019)","v":0},{"$f":"SUMIF($C18:$C$10019,\"*\",Y18:Y$10019)","v":0},{"$f":"SUMIF($C18:$C$10019,\"*\",Z18:Z$10019)","v":0},{"$f":"G17+V17","v":0},{"$f":"SUMIF($C18:$C$10019,\"*\",AB18:AB$10019)","v":0},{"$f":"SUMIF($C18:$C$10019,\"*\",AC18:AC$10019)","v":0},{"$f":"SUMIF($C18:$C$10019,\"*\",AD18:AD$10019)","v":0},{"$f":"SUMIF($C18:$C$10019,\"*\",AE18:AE$10019)","v":0},null,null,null,{"$f":"SUM(ABS(G17-SUM(H17:K17)), ABS(L17-SUM(M17:P17)), ABS(AA17-SUM(AB17:AE17))*1, ABS(V17-SUM(X17:Z17)))","v":0}]
[null,1,{"$f":"org","v":"АО \"Вилюйская ГЭС-3\""},null,null,{"$f":"IF(ISBLANK(E18), \"\", VLOOKUP(E18, objects, 2,FALSE))","v":""},{"$f":"SUM(H18:K18)","v":0},null,null,null,null,{"$f":"SUM(M18:P18)","v":0},null,null,null,null,0,0,{"$f":"R18-Q18","v":0},{"$f":"IFERROR(S18/Q18, 0)","v":0},null,0,0,{"$f":"IF(AND(G18=0, AA18>0), AA18, 0)","v":0},{"$f":"IF(AND(G18>0, AA18=0), -G18, 0)","v":0},{"$f":"IF(AND(G18>0, AA18>0), AA18-G18, 0)","v":0},{"$f":"SUM(AB18:AE18)","v":0},{"$f":"H18","v":0},0,0,0,null," -",null,0]
[null,{"$f":"B18+1","v":2},"АО \"Вилюйская ГЭС-3\"",null,null,"",0,null,null,null,null,0,null,null,null,null,0,0,0,0,null,{"$f":"SUM(X19:Z19)","v":0},0,0,0,0,0,0,0,0,0,null," -",null,0]
[null,3,"АО \"Вилюйская ГЭС-3\"",null,null,"",{"$f":"SUM(H20:K20)","v":0},null,null,null,null,{"$f":"SUM(M20:P20)","v":0},null,null,null,null,{"$f":"IF(period=period_1Q, H20, IF(period=period_1H, SUM(H20:I20), IF(period=period_9M, SUM(H20:J20), IF(period=period_1Y,SUM(H20:K20),0))))","v":0},{"$f":"IF(period=period_1Q, M20, IF(period=period_1H, SUM(M20:N20), IF(period=period_9M, SUM(M20:O20), IF(period=period_1Y,SUM(M20:P20),0))))","v":0},{"$f":"R20-Q20","v":0},{"$f":"IFERROR(S20/Q20, 0)","v":0},null,{"$f":"SUM(X20:Z20)","v":0},{"$f":"IFERROR(V20/G20, 0)","v":0},{"$f":"IF(AND(G20=0, AA20>0), AA20, 0)","v":0},{"$f":"IF(AND(G20>0, AA20=0), -G20, 0)","v":0},{"$f":"IF(AND(G20>0, AA20>0), AA20-G20, 0)","v":0},{"$f":"SUM(AB20:AE20)","v":0},{"$f":"H20","v":0},{"$f":"I20","v":0},{"$f":"J20","v":0},{"$f":"K20","v":0},null," -",null,{"$f":"SUM(ABS(G20-SUM(H20:K20)), ABS(L20-SUM(M20:P20)), ABS(AA20-SUM(AB20:AE20))*1, ABS(V20-SUM(X20:Z20)))","v":0}]
[null,4,"АО \"Вилюйская ГЭС-3\"",null,null,"",0,null,null,null,null,0,null,null,null,null,0,0,0,0,null,0,0,0,0,0,0,0,0,0,0,null," -",null,0]
[null,5,"АО \"Вилюйская ГЭС-3\"",null,null,"",0,null,null,null,null,0,null,null,null,null,0,0,0,0,null,0,0,0,0,0,0,0,0,0,0,null," -",null,0]
[null,6,"АО \"Вилюйская ГЭС-3\"",null,null,"",0,null,null,null,null,0,null,null,null,null,0,0,0,0,null,0,0,0,0,0,0,0,0,0,0,null," -",null,0]
[null,7,"АО \"Вилюйская ГЭС-3\"",null,null,"",0,null,null,null,null,0,null,null,null,null,0,0,0,0,null,0,0,0,0,0,0,0,0,0,0,null," -",null,0]
[null,8,"АО \"Вилюйская ГЭС-3\"",null,null,"",0,null,null,null,null,0,null,null,null,null,0,0,0,0,null,0,0,0,0,0,0,0,0,0,0,null," -",null,0]
[null,9,"АО \"Вилюйская ГЭС-3\"",null,null,"",0,null,null,null,null,0,null,null,null,null,0,0,0,0,null,0,0,0,0,0,0,{"$f":"H26","v":0},0,0,0,null," -",null,0]
[null,10,"АО \"Вилюйская ГЭС-3\"",null,null,"",0,null,null,null,null,0,null,null,null,null,0,0,0,0,null,0,0,0,0,0,0,0,0,0,0,null," -",null,0]
[null,11,"АО \"Вилюйская ГЭС-3\"",null,null,"",0,null,null,null,null,0,null,null,null,null,0,0,0,0,null,0,0,0,0,0,0,0,0,0,0,null," -",null,0]
[null,12,"АО \"Вилюйская ГЭС-3\"",null,null,"",0,null,null,null,null,0,null,null,null,null,0,0,0,0,null,0,0,0,0,0,0,0,0,0,0,null," -",null,0]
[null,13,"АО \"Вилюйская ГЭС-3\"",null,null,"",0,null,null,null,null,0,null,null,null,null,0,0,0,0,null,0,0,0,0,0,0,0,0,0,0,null," -",null,0]
[null,14,"АО \"Вилюйская ГЭС-3\"",null,null,"",0,null,null,null,null,0,null,null,null,null,0,0,0,0,null,0,0,0,0,0,0,0,0,0,0,null," -",null,0]
[null,15,"АО \"Вилюйская ГЭС-3\"",null,null,"",0,null,null,null,null,0,null,null,null,null,0,0,0,0,null,0,0,0,0,0,0,0,0,0,0,null," -",null,0]
[null,16,"АО \"Вилюйская ГЭС-3\"",null,null,"",0,null,null,null,null,0,null,null,null,null,0,0,0,0,null,0,0,0,0,0,0,0,0,0,0,null," -",null,0]
[null,17,"АО \"Вилюйская ГЭС-3\"",null,null,"",0,null,null,null,null,0,null,null,null,null,0,0,0,0,null,0,0,0,0,0,0,0,0,0,0,null," -",null,0]
[null,18,"АО \"Вилюйская ГЭС-3\"",null,null,"",0,null,null,null,null,0,null,null,null,null,0,0,0,0,null,0,0,0,0,0,0,0,0,0,0,null," -",null,0]
[null,19,"АО \"Вилюйская ГЭС-3\"",null,null,"",0,null,null,null,null,0,null,null,null,null,0,0,0,0,null,0,0,0,0,0,0,0,0,0,0,null," -",null,0]
[null,20,"АО \"Вилюйская ГЭС-3\"",null,null,"",0,null,null,null,null,0,null,null,null,null,0,0,0,0,null,0,0,0,0,0,0,0,0,0,0,null," -",null,0]
[null,21,"АО \"Вилюйская ГЭС-3\"",null,null,"",0,null,null,null,null,0,null,null,null,null,0,0,0,0,null,0,0,0,0,0,0,0,0,0,0,null," -",null,0]
[null,22,"АО \"Вилюйская ГЭС-3\"",null,null,"",0,null,null,null,null,0,null,null,null,null,0,0,0,0,null,0,0,0,0,0,0,0,0,0,0,null," -",null,0]
[null,23,"АО \"Вилюйская ГЭС-3\"",null,null,"",0,null,null,null,null,0,null,null,null,null,0,0,0,0,null,0,0,0,0,0,0,0,0,0,0,null," -",null,0]
[null,24,"АО \"Вилюйская ГЭС-3\"",null,null,"",0,null,null,null,null,0,null,null,null,null,0,0,0,0,null,0,0,0,0,0,0,0,0,0,0,null," -",null,0]
[null,25,"АО \"Вилюйская ГЭС-3\"",null,null,"",0,null,null,null,null,0,null,null,null,null,0,0,0,0,null,0,0,0,0,0,0,0,0,0,0,null," -",null,0]
[]
[]
[null,"1  Форма заполняется по освоениию (начислению). Подробнее -порядок заполнения формы определён в \"Положении об инвестиционном бюджете АК \"АЛРОСА\" ."]
[null,"2  В графе \"Отклонение\" производится сравнение факта с плановым периодом нарастающим итогом."]
[null,"3  При отклонении более 10% (не зависимо +/-) в графе \"Комментарии по отклонениям\" в форме указывается причина отклонения. Подробно причины отклонений указываются в Пояснительной записке к инвестиционному бюджету/отчёту."]
[]
[]
[]
[null,null,null,null,"Исполнитель (ФИО):"]
[]
[]
[null,null,null,null,"Должность: "]
[]
[]
[null,null,null,null,"Контактный телефон:"]
[]
[]
[null,null,null,null,"Электронный адрес:"]

{"sheet":"11.ПЗС","index":20,"n_rows":45,"n_cols":37,"rows_kept":45,"cut":false,"hidden":false,"merged":[[11,34,14,34],[12,28,12,31],[13,19,14,19],[13,20,14,20],[0,1,0,4],[11,1,14,1],[11,3,14,3],[13,11,14,11],[11,2,14,2],[13,14,14,14],[13,15,14,15],[13,16,14,16],[13,13,14,13],[11,6,14,6],[11,4,14,4],[13,12,14,12],[13,17,14,17],[13,18,14,18],[11,35,14,35],[13,7,14,7],[13,8,14,8],[13,9,14,9],[13,10,14,10],[11,7,11,16],[11,33,14,33],[11,19,11,20],[11,21,14,21],[11,22,12,26],[11,27,11,31],[11,32,14,32],[12,19,12,20],[13,22,13,23],[13,31,14,31],[13,24,13,26],[13,27,14,27],[13,28,14,28],[13,29,14,29],[13,30,14,30],[12,8,12,11],[12,13,12,16],[43,5,43,6],[5,2,5,5],[7,2,7,5],[34,5,34,6],[37,5,37,6],[40,5,40,6],[11,5,14,5]]}
[null,"Назад к оглавлению",null,null,null,null,null,null,null,null,null,null,"base_fact","base_fact","base_fact","base_fact","base_fact","fact_fields","fact_fields","fact_fields","fact_fields","fact_fields","corr_fields","corr_fields","corr_fields","corr_fields","corr_fields","corr_fields","corr_fields","corr_fields","corr_fields","corr_fields","corr_fields","plan_fields",null,"plan_fields"]
[null,"Приложение № 2 к \"Положению об инвестиционном бюджете АК \"АЛРОСА\"\""]
[null,"Код формы: ПЗС"]
[]
[]
[null,null,{"$f":"org","v":"АО \"Вилюйская ГЭС-3\""}]
[null,null,"Организационно-правовая форма и название Общества/структурного подразделения"]
[null,null,{"$f":"period_txt","v":"12 месяцев 2017"}]
[null,null," Плановый / отчётный период "]
[null,null," Бюджет прочих затрат на капитальное строительство"]
[null,"Тыс. руб. без НДС 1"]
[null,"№","Общество/ cтруктурное подразделение","Код проекта ","Код объекта","Наименование объекта","Наименование группы затрат","Плановый / отчётный период",null,null,null,null,null,null,null,null,null,"ПЛАН за","ФАКТ за","Отклонение за период2",null,"Комментарии по отклонениям3","Изменения к утверждённому плану по году",null,null,null,null,"Скорректированный план",null,null,null,null,"Комментарии по изменениям плана","Наличие авансовых платежей в основном плановом/отчётном периоде за товары, работы, услуги  будущих периодов (1-й, 2-й год за плановым/отчётным)","Критерий инновационности расходов (принадлежность к ПИРиТМ)","Примечание к бюджету","Сверка"]
[null,null,null,null,null,null,null,"ПЛАН    ","в т.ч. по кварталам:",null,null,null,"ФАКТ ","в т.ч. по кварталам:",null,null,null,{"$f":"period","v":"12 месяцев"},{"$f":"R13","v":"12 месяцев"},"12 месяцев",null,null,null,null,null,null,null,"ПЛАН    ","в т.ч. по кварталам:"]
[null,null,null,null,null,null,null,"Год   всего","1 кв.","2 кв.","3 кв.","4 кв.","Год        всего","1 кв.","2 кв.","3 кв.","4 кв.","Тыс.    руб.","Тыс.    руб.","Тыс.    руб.","% ",null,"Изменение всего",null,"В т.ч.",null,null,"Год   всего","1 кв.","2 кв.","3 кв.","4 кв."]
[null,null,null,null,null,null,null,null,null,null,null,null,null,null,null,null,null,null,null,null,null,null,"Тыс.    руб.","%","Вновь добавлено\n(указывается со знаком \"+\")","Исключено (указывается со знаком \"-\")","Изменение стоимости\n(удорожание \"+\", удешвление \"-\")"]
[null,1,{"$f":"B16+1","v":2},3,4,5,6,7,8,9,10,11,12,13,14,15,16,17,18,19,20,21,22,23,24,25,26,27,28,29,30,31,32,33,{"$f":"AH16+1","v":34},{"$f":"AI16+1","v":35}]
[null,null,null,"     Прочие затраты на КС, всего:",null,null,null,{"$f":"SUMIF($C18:$C$10005,\"*\",H18:H$10005)","v":18560.940999999999},{"$f":"SUMIF($C18:$C$10005,\"*\",I18:I$10005)","v":3167},{"$f":"SUMIF($C18:$C$10005,\"*\",J18:J$10005)","v":2892.0410000000002},{"$f":"SUMIF($C18:$C$10005,\"*\",K18:K$10005)","v":7643.05},{"$f":"SUMIF($C18:$C$10005,\"*\",L18:L$10005)","v":4858.8499999999995},{"$f":"SUMIF($C18:$C$10005,\"*\",M18:M$10005)","v":15248.60169},{"$f":"SUMIF($C18:$C$10005,\"*\",N18:N$10005)","v":3166.83},{"$f":"SUMIF($C18:$C$10005,\"*\",O18:O$10005)","v":2892.78269},{"$f":"SUMIF($C18:$C$10005,\"*\",P18:P$10005)","v":3515.0030000000002},{"$f":"SUMIF($C18:$C$10005,\"*\",Q18:Q$10005)","v":5673.985999999999},{"$f":"IF(period=period_1Q, I17, IF(period=period_1H, SUM(I17:J17), IF(period=period_9M, SUM(I17:K17), IF(period=period_1Y,SUM(I17:L17),0))))","v":18560.940999999999},{"$f":"IF(period=period_1Q, N17, IF(period=period_1H, SUM(N17:O17), IF(period=period_9M, SUM(N17:P17), IF(period=period_1Y,SUM(N17:Q17),0))))","v":15248.60169},{"$f":"S17-R17","v":-3312.3393099999994},{"$f":"IFERROR(T17/R17, 0)","v":-0.17845750977819494},null,{"$f":"SUM(Y17:AA17)","v":31.274000000001251},{"$f":"IFERROR(W17/H17, 0)","v":1.6849361247364158E-3},{"$f":"SUMIF($C18:$C$10004,\"*\",Y18:Y$10004)","v":0},{"$f":"SUMIF($C18:$C$10004,\"*\",Z18:Z$10004)","v":0},{"$f":"SUMIF($C18:$C$10004,\"*\",AA18:AA$10004)","v":31.274000000001251},{"$f":"H17+W17","v":18592.215},{"$f":"SUMIF($C18:$C$10004,\"*\",AC18:AC$10004)","v":3166.83},{"$f":"SUMIF($C18:$C$10004,\"*\",AD18:AD$10004)","v":2892.2830000000004},{"$f":"SUMIF($C18:$C$10004,\"*\",AE18:AE$10004)","v":7643.1500000000005},{"$f":"SUMIF($C18:$C$10004,\"*\",AF18:AF$10004)","v":4889.9519999999993},null,null,null,null,{"$f":"SUM(ABS(H17-SUM(I17:L17)), ABS(M17-SUM(N17:Q17)), ABS(AB17-SUM(AC17:AF17))*1, ABS(W17-SUM(Y17:AA17)))","v":0}]
[null,1,{"$f":"org","v":"АО \"Вилюйская ГЭС-3\""},null,"2016-7.1.",{"$f":"IF(ISBLANK(E18), \"\", VLOOKUP(E18, objects, 2,FALSE))","v":"Прочие затраты. Автодорога. Налог на добычу ОПИ (НДПИ) "},"Другие расходы",{"$f":"SUM(I18:L18)","v":1581},null,null,1581,0,{"$f":"SUM(N18:Q18)","v":1139.2839999999999},null,null,934.78,204.50399999999999,1581,{"$f":"M18","v":1139.2839999999999},{"$f":"S18-R18","v":-441.71600000000012},{"$f":"IFERROR(T18/R18, 0)","v":-0.27939025932953837},"Исполнение по данной статье сложилось в соответствии с фактической добычей скального грунта в карьере 14ИД",0,0,{"$f":"IF(AND(H18=0, AB18>0), AB18, 0)","v":0},{"$f":"IF(AND(H18>0, AB18=0), -H18, 0)","v":0},{"$f":"IF(AND(H18>0, AB18>0), AB18-H18, 0)","v":0},{"$f":"SUM(AC18:AF18)","v":1581},{"$f":"I18","v":0},0,1581,null,null," -"," -",null,0]
[null,{"$f":"B18+1","v":2},"АО \"Вилюйская ГЭС-3\"",null,"2016-7.2.","Прочие затраты. Автодорога.Аренда  земельного участка","Работы и расходы по земельным участкам",{"$f":"SUM(I19:L19)","v":582.45799999999997},153,153,153.55000000000001,122.908,582.06520999999998,152.55000000000001,153.05121,153.553,122.911,582.45799999999997,582.06520999999998,-0.39278999999999087,-6.7436622039699148E-4,"Уменьшение статьи расзодов связано с тем, что завершены работы по добыче скального грунта для строительства автодороги",{"$f":"SUM(Y19:AA19)","v":30.322000000000116},5.2058689210209348E-2,0,0,30.322000000000116,612.78000000000009,152.55000000000001,152.55000000000001,153.84,153.84,null," -"," -",null,0]
[null,3,"АО \"Вилюйская ГЭС-3\"",null,"2016-7.3.","Прочие затраты.ПКЗП.Сыылага.Налог на добычу (НДПИ)","Другие расходы",{"$f":"SUM(I20:L20)","v":4309.8},null,null,2938.5,1371.3,{"$f":"SUM(N20:Q20)","v":1912.8389999999999},null,null,0,1912.8389999999999,{"$f":"IF(period=period_1Q, I20, IF(period=period_1H, SUM(I20:J20), IF(period=period_9M, SUM(I20:K20), IF(period=period_1Y,SUM(I20:L20),0))))","v":4309.8},1912.8389999999999,{"$f":"S20-R20","v":-2396.9610000000002},{"$f":"IFERROR(T20/R20, 0)","v":-0.55616525128776284},"Исполнение по данной статье сложилось в соответствии с фактической добычей скального грунта в карьере 14ИД",{"$f":"SUM(Y20:AA20)","v":0},{"$f":"IFERROR(W20/H20, 0)","v":0},{"$f":"IF(AND(H20=0, AB20>0), AB20, 0)","v":0},{"$f":"IF(AND(H20>0, AB20=0), -H20, 0)","v":0},{"$f":"IF(AND(H20>0, AB20>0), AB20-H20, 0)","v":0},{"$f":"SUM(AC20:AF20)","v":4309.8},{"$f":"I20","v":0},{"$f":"J20","v":0},2938.5,1371.3,null," -"," -",null,{"$f":"SUM(ABS(H20-SUM(I20:L20)), ABS(M20-SUM(N20:Q20)), ABS(AB20-SUM(AC20:AF20))*1, ABS(W20-SUM(Y20:AA20)))","v":0}]
[null,4,"АО \"Вилюйская ГЭС-3\"",null,"2016-7.4.","Прочие  затраты. Аренда  земли. Водовод неочищенной  воды ","Другие расходы",299.89999999999998,75,74.900000000000006,75,75,299.91410000000002,74.98,74.978099999999998,74.977999999999994,74.977999999999994,299.89999999999998,299.91410000000002,1.4100000000041746E-2,4.7015671890769411E-5,null,0.10000000000002274,3.334444814939071E-4,0,0,0.10000000000002274,300,74.98,74.98,75.02,75.02,null," -"," -",null,0]
[null,5,"АО \"Вилюйская ГЭС-3\"",null,"2016-7.5.","Прочие затраты на оформление  разрешительной  документации","Другие расходы",474.64099999999996,6,6.641,231,231,70.342449999999999,6.49,6.5694499999999998,6.641,50.642000000000003,474.64099999999996,70.342449999999999,-404.29854999999998,-0.85179862253787597,"по факту исполнения",0.41800000000000637,8.8066559778865797E-4,0,0,0.41800000000000637,475.05899999999997,6.49,6.569,231,231,"Оптимизация затрат осуществлена в связи с переносом затрат по регистрации права собственности на объекты незавершенные строительством на 2018 год"," -"," -",null,0]
[null,6,"АО \"Вилюйская ГЭС-3\"",null,"2016-3.6.","ЛКЗП.Авторский надзор. Ликвидация изыскательской штольни № 1000 ГСП","Авторский и мерзлотный надзор",0,null,null,0,0,0,null,null,0,0,0,0,0,0,null,0,0,0,0,0,0,0,0,0,0,null," -"," -",null,0]
[null,7,"АО \"Вилюйская ГЭС-3\"",null,"2016-4.5.",{"$f":"IF(ISBLANK(E24), \"\", VLOOKUP(E24, objects, 2,FALSE))","v":"ЛКЗП. Авторский надзор. Переход через ручей Сыылага"},"Авторский и мерзлотный надзор",500,null,null,300,200,0,null,null,0,0,500,{"$f":"M24","v":0},-500,-1,"Договор не будет заключен",0,0,0,0,0,500,0,0,300,200,null," -"," -",null,0]
[null,8,"АО \"Вилюйская ГЭС-3\"",null,"2016-1.12.","Здание ГЭС. Авторский надзор здание ГЭС","Авторский и мерзлотный надзор",650,null,0,325,325,650,null,null,325,325,650,650,0,0,null,0,0,0,0,0,650,0,0,325,325,null," -"," -",null,0]
[null,9,"АО \"Вилюйская ГЭС-3\"",null,"2016-8","Содержание Дирекции","Другие расходы",10132.5,2933,2657.5,2039,2503,10563.514929999999,2932.81,{"$f":"1343.53909+539.25259+775.39225","v":2658.1839300000001},2020.0509999999999,2952.47,10132.5,10563.514929999999,431.01492999999937,4.2537866271897297E-2,"Перерасход ВСХ по оплате проезда в отпуск связан с изменениями в Учетной политике АК \"АЛРОСА\", в части расчета величины оценочного обязательства - предстоящих расходов на оплату проезда в отпуск. ",0.43400000000110595,4.2832469775584108E-5,0,0,0.43400000000110595,10132.934000000001,2932.81,2658.1840000000002,2038.79,2503.15,null," -"," -",null,0]
[null,10,"АО \"Вилюйская ГЭС-3\"",null,"2016-7.6","Прочие затраты. ПКЗП. Сыылага. Аренда лесного участка",null,30.641999999999999,null,null,null,30.641999999999999,30.641999999999999,null,null,null,30.641999999999999,30.641999999999999,{"$f":"IF(period=period_1Q, N27, IF(period=period_1H, SUM(N27:O27), IF(period=period_9M, SUM(N27:P27), IF(period=period_1Y,SUM(N27:Q27),0))))","v":30.641999999999999},0,0,"Статья расходов связана оплатой аренды лесного участка для добычи скального грунта для строительства перехода черз р.Сыылага",0,0,0,0,0,30.641999999999999,0,0,{"$f":"K27","v":0},{"$f":"L27","v":30.641999999999999},null," -"," -",null,0]
[]
[]
[null,"1  Форма заполняется по освоениию (начислению). Подробнее -порядок заполнения формы определён в \"Положении об инвестиционном бюджете АК \"АЛРОСА\" ."]
[null,"2  В графе \"Отклонение\" производится сравнение факта с плановым периодом нарастающим итогом."]
[null,"3  При отклонении более 10% (не зависимо +/-) в графе \"Комментарии по отклонениям\" в форме указывается причина отклонения. Подробно причины отклонений указываются в Пояснительной записке к инвестиционному бюджету/отчёту."]
[]
[]
[null,null,null,null,null,"Прудниченкова Софья Юрьевна"]
[null,null,null,null,null,"Исполнитель (ФИО):"]
[]
[null,null,null,null,null,"начальник отдела капитального строительства"]
[null,null,null,null,null,"Должность: "]
[]
[null,null,null,null,null,"(41136) 79464"]
[null,null,null,null,null,"Контактный телефон:"]
[]
[null,null,null,null,null,"oks@shpp.ru"]
[null,null,null,null,null,"Электронный адрес:"]

{"sheet":"12.ТП_БЭФ","index":21,"n_rows":77,"n_cols":64,"rows_kept":77,"cut":false,"hidden":false,"merged":[[13,50,14,50],[11,40,14,40],[11,41,12,45],[12,12,14,12],[12,13,14,13],[12,18,14,18],[11,19,11,25],[11,26,11,35],[13,48,14,48],[11,12,11,18],[13,49,14,49],[12,21,13,24],[12,27,13,30],[12,32,13,35],[12,26,13,26],[12,14,13,17],[69,5,69,6],[11,62,14,62],[11,6,14,6],[11,59,14,59],[12,19,14,19],[12,20,14,20],[12,25,14,25],[11,54,14,54],[11,55,14,55],[11,56,14,56],[11,57,14,57],[11,58,14,58],[11,46,11,50],[11,60,14,60],[11,52,14,52],[11,61,14,61],[13,47,14,47],[0,1,0,6],[11,7,14,7],[11,4,14,4],[11,1,14,1],[11,2,14,2],[11,3,14,3],[11,5,14,5],[5,2,5,5],[7,2,7,5],[11,8,14,8],[11,9,14,9],[11,38,11,39],[12,31,13,31],[66,5,66,6],[72,5,72,6],[75,5,75,6],[11,53,14,53],[11,10,14,10],[11,11,14,11],[11,51,14,51],[12,38,12,39],[12,47,12,50],[13,36,14,36],[13,37,14,37],[13,38,14,38],[13,39,14,39],[13,41,13,42],[13,43,13,45],[13,46,14,46]]}
[null,"Назад к оглавлению",null,null,null,null,null,null,null,"plan_fields","plan_fields","plan_fields","plan_fields","plan_fields","plan_fields","plan_fields","plan_fields","plan_fields","plan_fields","fact_fields","fact_fields","fact_fields","fact_fields","fact_fields","fact_fields","fact_fields",null,null,null,null,null,"base_fact","base_fact","base_fact","base_fact","base_fact","fact_fields","fact_fields","fact_fields","fact_fields","fact_fields","corr_fields","corr_fields","corr_fields","corr_fields","corr_fields","corr_fields","corr_fields","corr_fields","corr_fields","corr_fields","corr_fields","plan_fields","plan_fields","plan_fields","plan_fields","plan_fields","plan_fields","plan_fields","plan_fields","plan_fields",null,"plan_fields"]
[null,"Приложение № 2 к \"Положению об инвестиционном бюджете АК \"АЛРОСА\"\""]
[null,"Код формы: ТП_БЭФ"]
[]
[]
[null,null,{"$f":"org","v":"АО \"Вилюйская ГЭС-3\""}]
[null,null,"Организационно-правовая форма и название Общества/структурного подразделения"]
[null,null,{"$f":"period_txt","v":"12 месяцев 2017"}]
[null,null," Плановый / отчётный период "]
[null,null,"Бюджет инвестиций в ТП по проекту и в оборудование без прямого экономического эффекта"]
[null,"Тыс. руб. без НДС 1"]
[null,"№","Общество / cтруктурное подразделение","Код проекта ","Приоритет ","Вид\n технического\n перевооружения","Категория (вид) оборудования","Наименование оборудования","Марка, модель","Осн. характеристики","Происхождение ","Производитель2","ПЛАН",null,null,null,null,null,null,"ФАКТ",null,null,null,null,null,null,"Плановый / отчётный период \n(всего вкл. накладные расходы)",null,null,null,null,null,null,null,null,null,"ПЛАН за","ФАКТ за","Отклонение за период3",null,"Комментарии по отклонениям4","Изменения к утверждённому плану по году",null,null,null,null,"Скорректированный план",null,null,null,null,"Комментарии по изменениям плана","Приобретение в лизинг  (-/л)5","Цели / причины приобретения","Последствия неприобретения","Обосновывающий документ (утверждённый документ, обосновывающий необходимость приобретения)","Данная марка  обеспечивает минимизацию расходов на жизненном цикле (Да/Нет) ","Задействовать оборудование других подразделений вместо покупки невозможно (Да/Нет)","Имеется долгосрочная потребность в использовании  (Да/Нет)","Возможность аутсорсинга вместо приобретения отсутствует  (Да/Нет)","Наличие авансовых платежей в основном плановом/отчётном периоде за товары, работы, услуги  будущих периодов (1-й, 2-й год за плановым/отчётным)","Критерий инновационности расходов (принадлежность к ПИРиТМ)","Примечание к бюджету","Сверка"]
[null,null,null,null,null,null,null,null,null,null,null,null,"Кол-во оборудования, шт. ","Стоимость 1 ед. оборудования (закуп)\n","Накладные расходы",null,null,null,"Стоимость оборудования \nвкл. накладные расходы","Кол-во оборудования, шт.","Стоимость 1 ед. оборудования (закуп)\n","Накладные расходы",null,null,null,"Стоимость оборудования \nвкл. накладные расходы","ПЛАН    ","в т.ч. по кварталам:",null,null,null,"ФАКТ ","в т.ч. по кварталам:",null,null,null,{"$f":"period","v":"12 месяцев"},{"$f":"AK13","v":"12 месяцев"},"12 месяцев",null,null,null,null,null,null,null,"ПЛАН    ","в т.ч. по кварталам:"]
[null,null,null,null,null,null,null,null,null,null,null,null,null,null,null,null,null,null,null,null,null,null,null,null,null,null,null,null,null,null,null,null,null,null,null,null,"Тыс.    руб.","Тыс.    руб.","Тыс.    руб.","% ",null,"Изменение всего",null,"В т.ч.",null,null,"Год   всего","1 кв.","2 кв.","3 кв.","4 кв."]
[null,null,null,null,null,null,null,null,null,null,null,null,null,null,"Транспортные","Монаж","ПИР","Прочие",null,null,null,"Транспортные","Монаж","ПИР","Прочие",null,"Год   всего","1 кв.","2 кв.","3 кв.","4 кв.","Год        всего","1 кв.","2 кв.","3 кв.","4 кв.",null,null,null,null,null,"Тыс.    руб.","%","Вновь добавлено\n(указывается со знаком \"+\")","Исключено (указывается со знаком \"-\")","Изменение стоимости\n(удорожание \"+\", удешвление \"-\")"]
[null,1,{"$f":"B16+1","v":2},3,4,5,6,7,8,9,10,11,12,13,14,15,16,17,18,19,20,21,22,23,24,25,26,27,28,29,30,31,32,33,{"$f":"AH16+1","v":34},35,36,37,38,39,40,41,42,43,44,45,46,47,48,49,50,51,52,53,54,55,56,57,58,59,{"$f":"BH16+1","v":60},{"$f":"BI16+1","v":61},{"$f":"BJ16+1","v":62}]
[null,1,"ОБОРУДОВАНИЕ  - ВСЕГО, в т.ч.:",null,null,null,null,null,null,null,null,null,null,null,null,null,null,null,null,null,null,null,null,null,null,null,{"$f":"SUMIF($C28:$C$9993,\"*\",AA30:AA$9993)","v":7043.2049999999999},{"$f":"SUMIF($C28:$C$9993,\"*\",AB30:AB$9993)","v":407.4},{"$f":"SUMIF($C28:$C$9993,\"*\",AC30:AC$9993)","v":128.42000000000002},{"$f":"SUMIF($C28:$C$9993,\"*\",AD30:AD$9993)","v":3342.4999999999995},{"$f":"SUMIF($C28:$C$9993,\"*\",AE30:AE$9993)","v":3164.8850000000002},{"$f":"SUMIF($C28:$C$9993,\"*\",AF30:AF$9993)","v":12175.159999999998},{"$f":"SUMIF($C28:$C$9993,\"*\",AG30:AG$9993)","v":407.4},{"$f":"SUMIF($C28:$C$9993,\"*\",AH30:AH$9993)","v":128.42000000000002},{"$f":"SUMIF($C28:$C$9993,\"*\",AI30:AI$9993)","v":7698.9},{"$f":"SUMIF($C28:$C$9993,\"*\",AJ30:AJ$9993)","v":3940.44},{"$f":"IF(period=period_1Q, AB17, IF(period=period_1H, SUM(AB17:AC17), IF(period=period_9M, SUM(AB17:AD17), IF(period=period_1Y,SUM(AB17:AE17),0))))","v":7043.2049999999999},{"$f":"IF(period=period_1Q, AG17, IF(period=period_1H, SUM(AG17:AH17), IF(period=period_9M, SUM(AG17:AI17), IF(period=period_1Y,SUM(AG17:AJ17),0))))","v":12175.16},{"$f":"AL17-AK17","v":5131.9549999999999},{"$f":"IFERROR(AM17/AK17, 0)","v":0.72863916356261105},null,{"$f":"SUM(AR17:AT17)","v":0},{"$f":"IFERROR(AP17/AA17, 0)","v":0},{"$f":"SUMIF($C28:$C$9993,\"*\",AR30:AR$9993)","v":0},{"$f":"SUMIF($C28:$C$9993,\"*\",AS30:AS$9993)","v":0},{"$f":"SUMIF($C28:$C$9993,\"*\",AT30:AT$9993)","v":0},{"$f":"AA17+AP17","v":7043.2049999999999},{"$f":"SUMIF($C28:$C$9993,\"*\",AV30:AV$9993)","v":407.4},{"$f":"SUMIF($C28:$C$9993,\"*\",AW30:AW$9993)","v":128.42000000000002},{"$f":"SUMIF($C28:$C$9993,\"*\",AX30:AX$9993)","v":3342.4999999999995},{"$f":"SUMIF($C28:$C$9993,\"*\",AY30:AY$9993)","v":3164.8850000000002},null,null,null,null,null,null,null,null,null,null,null,null,{"$f":"SUM(ABS(AA17-SUM(AB17:AE17)), ABS(AF17-SUM(AG17:AJ17)), ABS(AU17-SUM(AV17:AY17))*1, ABS(AP17-SUM(AR17:AT17)))","v":1.8189894035458565E-12}]
[null,"1.1.","Обогатительное и дробильно-размольное оборудование",null,null,null,null,null,null,null,null,null,null,null,null,null,null,null,null,null,null,null,null,null,null,null,{"$f":"SUM(AB18:AE18)","v":0},{"$f":"SUMIF($G:$G, $C18,AB:AB )","v":0},0,0,0,{"$f":"SUM(AG18:AJ18)","v":0},{"$f":"SUMIF($G:$G, $C18,AG:AG )","v":0},0,0,0,0,0,{"$f":"AL18-AK18","v":0},{"$f":"IFERROR(AM18/AK18, 0)","v":0},null,0,0,{"$f":"SUMIF($G:$G, $C18,AR:AR )","v":0},0,0,0,{"$f":"SUMIF($G:$G, $C18,AV:AV )","v":0},0,0,0,null,null,null,null,null,null,null,null,null,null,null,null,0]
[null,"1.2.","Горно-шахтное  оборудование",null,null,null,null,null,null,null,null,null,null,null,null,null,null,null,null,null,null,null,null,null,null,null,0,0,0,0,0,0,0,0,0,0,0,0,0,0,null,0,0,0,0,0,0,0,0,0,0,null,null,null,null,null,null,null,null,null,null,null,null,0]
[null,"1.3.","Оборудование для вскрышных и добычных работ",null,null,null,null,null,null,null,null,null,null,null,null,null,null,null,null,null,null,null,null,null,null,null,0,0,0,0,0,0,0,0,0,0,0,0,0,0,null,0,0,0,0,0,0,0,0,0,0,null,null,null,null,null,null,null,null,null,null,null,null,0]
[null,"1.4.","Технологический транспорт",null,null,null,null,null,null,null,null,null,null,null,null,null,null,null,null,null,null,null,null,null,null,null,0,0,0,0,0,0,0,0,0,0,0,0,0,0,null,0,0,0,0,0,0,0,0,0,0,null,null,null,null,null,null,null,null,null,null,null,null,0]
[null,"1.5.","Автотранспорт и дорожно-строительная техника ",null,null,null,null,null,null,null,null,null,null,null,null,null,null,null,null,null,null,null,null,null,null,null,0,0,0,0,0,0,0,0,0,0,0,0,0,0,null,0,0,0,0,0,0,0,0,0,0,null,null,null,null,null,null,null,null,null,null,null,null,0]
[null,"1.6.","Электротехническое и энергетическое оборудование",null,null,null,null,null,null,null,null,null,null,null,null,null,null,null,null,null,null,null,null,null,null,null,2101.35,0,0,816,1285.3499999999999,8091.08,0,0,6876.28,1214.8,2101.35,8091.08,5989.73,2.8504199681157352,null,0,0,0,0,0,2101.35,0,0,816,1285.3499999999999,null,null,null,null,null,null,null,null,null,null,null,null,0]
[null,"1.7.","Вентиляционное, отопительное и насосное оборудование",null,null,null,null,null,null,null,null,null,null,null,null,null,null,null,null,null,null,null,null,null,null,null,528.12,0,0,528.12,0,252.4,0,0,252.4,0,528.12,252.4,-275.72000000000003,-0.52207831553434825,null,0,0,0,0,0,528.12,0,0,528.12,0,null,null,null,null,null,null,null,null,null,null,null,null,0]
[null,"1.8.","Гаражное, компрессорное оборудование, станки",null,null,null,null,null,null,null,null,null,null,null,null,null,null,null,null,null,null,null,null,null,null,null,1779.1,0,0,1779.1,0,1711.97,0,0,0,1711.97,1779.1,1711.97,-67.129999999999882,-3.7732561407453145E-2,null,0,0,0,0,0,1779.1,0,0,1779.1,0,null,null,null,null,null,null,null,null,null,null,null,null,0]
[null,"1.9.","Оборудование автоматизации, ИТ и связи ",null,null,null,null,null,null,null,null,null,null,null,null,null,null,null,null,null,null,null,null,null,null,null,16.3,0,16.3,0,0,680.28,0,16.3,0,663.98,16.3,680.28,663.98,40.734969325153372,null,0,0,0,0,0,16.3,0,16.3,0,0,null,null,null,null,null,null,null,null,null,null,null,null,0]
[null,"1.10.","Прочее оборудование",null,null,null,null,null,null,null,null,null,null,null,null,null,null,null,null,null,null,null,null,null,null,null,{"$f":"SUM(AB27:AE27)","v":2618.335},407.4,112.12,219.27999999999997,1879.5350000000001,{"$f":"SUM(AG27:AJ27)","v":1439.43},407.4,112.12,570.22,349.69,2618.335,1439.43,-1178.905,-0.45024987253349935,null,0,0,0,0,0,2618.335,407.4,112.12,219.27999999999997,1879.5350000000001,null,null,null,null,null,null,null,null,null,null,null,null,0]
[null,2,"в т.ч. Бюджет инвестиций в оборудование по проектам",null,null,null,null,null,null,null,null,null,null,null,null,null,null,null,null,null,null,null,null,null,null,null,0,{"$f":"SUMIF($F:$F, equip_prj,AB:AB )","v":0},{"$f":"SUMIF($F:$F, equip_prj,AC:AC )","v":0},{"$f":"SUMIF($F:$F, equip_prj,AD:AD )","v":0},{"$f":"SUMIF($F:$F, equip_prj,AE:AE )","v":0},0,{"$f":"SUMIF($F:$F, equip_prj,AG:AG )","v":0},{"$f":"SUMIF($F:$F, equip_prj,AH:AH )","v":0},{"$f":"SUMIF($F:$F, equip_prj,AI:AI )","v":0},{"$f":"SUMIF($F:$F, equip_prj,AJ:AJ )","v":0},0,0,0,0,null,{"$f":"SUM(AR28:AT28)","v":0},{"$f":"IFERROR(AP28/AA28, 0)","v":0},{"$f":"SUMIF($F:$F, equip_prj,AR:AR )","v":0},{"$f":"SUMIF($F:$F, equip_prj,AS:AS )","v":0},{"$f":"SUMIF($F:$F, equip_prj,AT:AT )","v":0},{"$f":"AA28+AP28","v":0},{"$f":"SUMIF($F:$F, equip_prj,AV:AV )","v":0},{"$f":"SUMIF($F:$F, equip_prj,AW:AW )","v":0},{"$f":"SUMIF($F:$F, equip_prj,AX:AX )","v":0},{"$f":"SUMIF($F:$F, equip_prj,AY:AY )","v":0},null,null,null,null,null,null,null,null,null,null,null,null,0]
[null,3,"в т.ч. Бюджет инвестиций в оборудование вне проектов  (без прямого экономического эффекта)",null,null,null,null,null,null,null,null,null,null,null,null,null,null,null,null,null,null,null,null,null,null,null,7043.2049999999999,{"$f":"SUMIF($F:$F, equip_nonprj,AB:AB )","v":407.4},{"$f":"SUMIF($F:$F, equip_nonprj,AC:AC )","v":128.42000000000002},{"$f":"SUMIF($F:$F, equip_nonprj,AD:AD )","v":3342.4999999999995},{"$f":"SUMIF($F:$F, equip_nonprj,AE:AE )","v":3164.8850000000002},12175.16,{"$f":"SUMIF($F:$F, equip_nonprj,AG:AG )","v":407.4},{"$f":"SUMIF($F:$F, equip_nonprj,AH:AH )","v":128.42000000000002},{"$f":"SUMIF($F:$F, equip_nonprj,AI:AI )","v":7698.9},{"$f":"SUMIF($F:$F, equip_nonprj,AJ:AJ )","v":3940.44},7043.2049999999999,12175.16,5131.9549999999999,0.72863916356261105,null,0,0,{"$f":"SUMIF($F:$F, equip_nonprj,AR:AR )","v":0},{"$f":"SUMIF($F:$F, equip_nonprj,AS:AS )","v":0},{"$f":"SUMIF($F:$F, equip_nonprj,AT:AT )","v":0},7043.2049999999999,{"$f":"SUMIF($F:$F, equip_nonprj,AV:AV )","v":407.4},{"$f":"SUMIF($F:$F, equip_nonprj,AW:AW )","v":128.42000000000002},{"$f":"SUMIF($F:$F, equip_nonprj,AX:AX )","v":3342.4999999999995},{"$f":"SUMIF($F:$F, equip_nonprj,AY:AY )","v":3164.8850000000002},null,null,null,null,null,null,null,null,null,null,null,null,0]
[null,1,{"$f":"org","v":"АО \"Вилюйская ГЭС-3\""},null,"Средний","Оборудование вне проектов","Автотранспорт и дорожно-строительная техника ","Минипогрузчик","РАТЕП-800",null,null,null,null,null,null,null,null,null,{"$f":"M30*N30+SUM(O30:R30)","v":0},null,null,null,null,null,null,{"$f":"T30*U30+SUM(V30:Y30)","v":0},{"$f":"SUM(AB30:AE30)","v":0},0,0,null,0,{"$f":"SUM(AG30:AJ30)","v":0},null,null,null,null,{"$f":"IF(period=period_1Q, AB30, IF(period=period_1H, SUM(AB30:AC30), IF(period=period_9M, SUM(AB30:AD30), IF(period=period_1Y,SUM(AB30:AE30),0))))","v":0},{"$f":"IF(period=period_1Q, AG30, IF(period=period_1H, SUM(AG30:AH30), IF(period=period_9M, SUM(AG30:AI30), IF(period=period_1Y,SUM(AG30:AJ30),0))))","v":0},0,0,null,{"$f":"SUM(AR30:AT30)","v":0},0,{"$f":"IF(AND(AA30=0, AU30>0), AU30, 0)","v":0},{"$f":"IF(AND(AA30>0, AU30=0), -AA30, 0)","v":0},{"$f":"IF(AND(AA30>0, AU30>0), AU30-AA30, 0)","v":0},{"$f":"SUM(AV30:AY30)","v":0},{"$f":"AB30","v":0},0,null,0,"В связи с отсутствием возможности приобретения данной позиции (отсутствие сертификации) позиция исключена в пользу позиции № 3 статьи ОВИЗ \"Автобус ЛИАЗ 525660-01 (44 местный)\"."," -","Для укомплектования гидротехнического цеха Светлинской ГЭС в целях использования при очистке от снега пристанционной площадки, консольного автопроезда (моста) со стороны нижнего бьефа, прилегающей территории, крышек затворов нижнего бьефа и т.п. В зимнее время очистка производится вручную, лопатами (крышки пазов затворов нижнего бьефа в количестве 16 шт.).  Минипогрузчик  необходим для регулярной и очистки от снега и ремонта (в т.ч. перемещение грунта при ремонте просадок полотна автодороги на ГЭС, а так же при ремонте грунтовых плотин) проездов на территории станции, проходов к оголовкам КИА.","Выполнение работ по очистке от снега, ремонтных работ автодорог, посыпка автодорог ручным способом.","отсутствует","Да","Да","Да","Да"," -"," -","В связи с отсутствием возможности приобретения данной позиции (отсутствие сертификации) позиция исключена в пользу позиции № 3 статьи ОВИЗ \"Автобус ЛИАЗ 525660-01 (44 местный)\".",0]
[null,2,"АО \"Вилюйская ГЭС-3\"",null,"Высокий","Оборудование вне проектов","Электротехническое и энергетическое оборудование","Модернизация защит блока генератор-трансформатор гидроагрегата №3",null,null,null,null,null,null,null,null,null,null,0,null,null,null,null,null,null,0,905,0,0,null,905,847,null,null,null,847,{"$f":"IF(period=period_1Q, AB31, IF(period=period_1H, SUM(AB31:AC31), IF(period=period_9M, SUM(AB31:AD31), IF(period=period_1Y,SUM(AB31:AE31),0))))","v":905},{"$f":"IF(period=period_1Q, AG31, IF(period=period_1H, SUM(AG31:AH31), IF(period=period_9M, SUM(AG31:AI31), IF(period=period_1Y,SUM(AG31:AJ31),0))))","v":847},-58,-6.4088397790055249E-2,null,0,0,0,0,0,905,0,0,null,905,null," -","Необходима в связи с физическим и моральным износом оборудования релейных защит блока генератор-трансформатор гидроагрегата №32 (срок использования более 10 лет, более 100 000 моточасов), с все более частыми отказами и отсутствием запасных частей ввиду снятия их с производства.","Увеличение вероятности возникновения аварийных ситуаций ввиду отказа оборудования и невозможностью оперативного ремонта по причине отсутствия запчастей.","отсутствует","Да","Да","Да","Да"," -"," -",null,0]
[null,3,"АО \"Вилюйская ГЭС-3\"",null,"Высокий","Оборудование вне проектов","Электротехническое и энергетическое оборудование","Диагностический комплекс мониторинга нормальной работы гидроагрегатов на базе СВК с резервированным источником питания",null,null,null,null,null,null,null,null,null,null,0,null,null,null,null,null,null,{"$f":"T32*U32+SUM(V32:Y32)","v":0},0,0,0,0,null,0,null,null,null,null,0,0,0,0,null,0,0,0,0,0,0,0,0,0,null,"Перенос на 2018 г. в связи с оптимизацией."," -","На основании СТО 70238424.27.140.023-2010 \"Гидроэлектростанции. Мониторинг технического состояния основного оборудования. Нормы и требования\", устанавливающим требования к составу и организации эксплуатации системы мониторинга, выполнение которых является обязательным для безопасной эксплуатации гидроэлектростанции, соблюдению требований к охране природы. стандарт предназначен для применения организациями (обществами, компаниями) независимо от их формы собственности, являющимися собственниками и (или) эксплуатирующими организациями гидроэлектростанций.","Невыполнение СТО 70238424.27.140.023-2010 \"Гидроэлектростанции. Мониторинг технического состояния основного оборудования. Нормы и требования\"","СТО 70238424.27.140.023-2010 \"Гидроэлектростанции. Мониторинг технического состояния основного оборудования. Нормы и требования\"","Да","Да","Да","Да"," -"," -","Перенос на 2018 г. в связи с оптимизацией.",0]
[null,4,"АО \"Вилюйская ГЭС-3\"",null,"Высокий","Оборудование вне проектов","Электротехническое и энергетическое оборудование","Аппарат для определения времени деэмульсации масел ","МОСТ-1М",null,null,null,null,null,null,null,null,null,0,null,null,null,null,null,null,0,300,0,0,null,300,300,null,null,null,300,300,300,0,0,null,0,0,0,0,0,300,0,0,null,300,"Перенос на 4-ый квартал"," -","Необходим для укомплектования химической лаборатории электротехнического цеха Светлинской ГЭС. Определение времени деэмульсации масла – это обязательный анализ турбинного масла на ГЭС, который определяет возможность отслоения воды от масла в определенных условиях (ГОСТ 12068-66).","Отсутствие возможности определения времени деэмульсации турбинного масла гидроагрегатов.","ГОСТ 12068-66","Да","Да","Да","Да"," -"," -","Перенос на 4-ый квартал",0]
[null,5,"АО \"Вилюйская ГЭС-3\"",null,"Высокий","Оборудование вне проектов","Электротехническое и энергетическое оборудование","Тепловизор","Fluke Ti90",null,null,null,null,null,null,null,null,null,0,null,null,null,null,null,null,0,80.349999999999994,0,0,0,80.349999999999994,67.8,null,null,null,67.8,80.349999999999994,67.8,-12.549999999999997,-0.15619166148102051,null,0,0,0,0,0,80.349999999999994,0,0,0,80.349999999999994,null," -","Необходим для своевременного обнаружения зарождающегося повреждения энергетического оборудования ПС «Районная» (по нагреву контактных соединений), а также для регулярного контроля за действующим оборудованием ПС «Районная» согласно РД 34.45-51.300-97.","Вероятность пропустить момент начала нагрева контактных соединений высоковольтного оборудования, с возможностью перерастания в аварийную ситуацию.","РД 34.45-51.300-97","Да","Да","Да","Да"," -"," -",null,0]
[null,6,"АО \"Вилюйская ГЭС-3\"",null,"Высокий","Оборудование вне проектов","Вентиляционное, отопительное и насосное оборудование","Тепловая пушка","Kerona P-15000E-T",null,null,null,null,null,null,null,null,null,0,null,null,null,null,null,null,0,131.1,0,0,131.1,0,41.5,null,null,41.5,null,131.1,41.5,-89.6,-0.68344774980930589,"Удешевление позиции ввиду проведения тендерных процедур.",0,0,0,0,0,131.1,0,0,131.1,0,null," -","Данное оборудование необходимо для обогрева буровой установки в период пониженных температур наружного воздуха. Предполагается укомплектовать буровой участок филиала АО «ВГЭС-3» Экспедиция №13.","Увеличение времени обогрева буровой установки.","отсутствует","Да","Да","Да","Да"," -"," -",null,0]
[null,7,"АО \"Вилюйская ГЭС-3\"",null,"Средний","Оборудование вне проектов","Вентиляционное, отопительное и насосное оборудование","Кондиционер ","Mitsubishi Electric MSZ-SF25VE / MUZ-SF25VE",null,null,null,null,null,null,null,null,null,{"$f":"M36*N36+SUM(O36:R36)","v":0},null,null,null,null,null,null,{"$f":"T36*U36+SUM(V36:Y36)","v":0},397.02,0,null,397.02,0,210.9,null,null,210.9,null,{"$f":"IF(period=period_1Q, AB36, IF(period=period_1H, SUM(AB36:AC36), IF(period=period_9M, SUM(AB36:AD36), IF(period=period_1Y,SUM(AB36:AE36),0))))","v":397.02},{"$f":"IF(period=period_1Q, AG36, IF(period=period_1H, SUM(AG36:AH36), IF(period=period_9M, SUM(AG36:AI36), IF(period=period_1Y,SUM(AG36:AJ36),0))))","v":210.9},-186.11999999999998,-0.46879250415596185,"В корректировке учтен перенос на 3-ий квартал в связи с долгим  оформлением договора на монтаж оборудования ввиду тендерных процедур.",0,0,0,0,0,397.02,0,null,397.02,0,"Перенос на 3-ий квартал. Закуп дополнительного кондиционера в счет складывающейся экономии за поставку ранее приобретенных кондиционеров (всего 6 ед.)"," -","Согласно СанПиН 2.2.4.548-96 «Гигиенические требования к микроклимату производственных помещений», в связи с повышением температуры в рабочих помещениях.","Ухудшение психологического, а также физического комфорта персонала.","СанПиН 2.2.4.548-96 «Гигиенические требования к микроклимату производственных помещений»","Да","Да","Да","Да"," -"," -","Перенос на 3-ий квартал. Закуп дополнительного кондиционера в счет складывающейся экономии за поставку ранее приобретенных кондиционеров (всего 6 ед.)",{"$f":"SUM(ABS(AA36-SUM(AB36:AE36)), ABS(AF36-SUM(AG36:AJ36)), ABS(AU36-SUM(AV36:AY36))*1, ABS(AP36-SUM(AR36:AT36)))","v":0}]
[null,8,"АО \"Вилюйская ГЭС-3\"",null,"Высокий","Оборудование вне проектов","Гаражное, компрессорное оборудование, станки","Пневмогайковерт  c набором  торцовых головок S=55,65,75,95,175мм","PLARAD  DPA80TSX",null,null,null,null,null,null,null,null,null,0,null,null,null,null,null,null,0,1683.1,0,null,1683.1,0,1627.97,null,null,null,1627.97,1683.1,1627.97,-55.129999999999882,-3.2755035351434786E-2,"В корректировке учтен перенос на 3-ий квартал ввиду долгого времени поставки оборудования.",0,0,0,0,0,1683.1,0,null,1683.1,0,"Удорожание позиции в счет позиции №10 ОВИЗ \"Насос артезианский\", согласовано с УИД заявкой от 03.03.2017 г. Перенос на 3-ий квартал."," -","Для контроля силы затяжки крепежа рабочих колес гидротурбин. На основании п. 4.5.8. СТО РусГидро 02.03.70-2011 «Гидротурбины. Общие технические условия на капитальный ремонт. Нормы и требования» данное устройство необходимо использовать при проведении капитальных ремонтов всех трех гидроагрегатов станции в 2017, 2018 и 2019 г.г. (ранее использовался метод тепловой затяжки резьбовых соединений турбин, который в данный момент не рекомендуется ввиду невозможности соблюдения требований НТД).","Невозможность соблюдения требований конструкторской документации в период проведения капитальных ремонтов гидроагрегатов (ГА-1 - в 2017 г., ГА-2 - в 2019 г., ГА-3 - в 2018 г.).","п. 4.5.8. СТО РусГидро 02.03.70-2011 «Гидротурбины. Общие технические условия на капитальный ремонт. Нормы и требования»","Да","Да","Да","Да"," -"," -","Удорожание позиции в счет позиции №10 ОВИЗ \"Насос артезианский\", согласовано с УИД заявкой от 03.03.2017 г. Перенос на 3-ий квартал.",0]
[null,9,"АО \"Вилюйская ГЭС-3\"",null,"Высокий","Оборудование вне проектов","Гаражное, компрессорное оборудование, станки","Индукционный нагреватель для монтажа подшипников","ИНП-2",null,null,null,null,null,null,null,null,null,0,null,null,null,null,null,null,0,96,0,null,96,0,84,null,null,null,84,96,84,-12,-0.125,"Удешевление позиции ввиду проведения тендерных процедур.",0,0,0,0,0,96,0,null,96,0,"Перенос на 3-ий квартал."," -","Индукционный нагреватель применяется для легкого монтажа   подшипников, втулок, шестерен, муфт и других металлических деталей,  разработан и произведен в России. Обеспечивают быстрый и качественный монтаж подшипников при посадке на вал электродвигателя с натягом.","Продолжение выполнения работ по монтажу подшипников на вал электродвигателя \"на горячую\" посредством нагрева подшипников открытым пламенем.","отсутствует","Да","Да","Да","Да"," -"," -","Перенос на 3-ий квартал.",0]
[null,10,"АО \"Вилюйская ГЭС-3\"",null,"Высокий","Оборудование вне проектов","Прочее оборудование","Лодка с лодочным мотором"," класс \"Казанка 5М4\" с  мотором Yamaha F60CETL",null,null,null,null,null,null,null,null,null,0,null,null,null,null,null,null,0,0,0,null,0,0,0,null,null,null,null,0,0,0,0,"С УИД согласована замена взамен позиций №№ 16, 17, 18, 19 заявкой от 13.02.2017 г.",0,0,0,0,0,0,0,null,0,0,"Перенос  позиции на 2018 г. в пользу приобретения позиций №17, 18, 19, 20 статьи ТП, согласованных с УИД заявкой от 13.02.2017 г."," -","Для  обеспечения требований безопасности на акватории верхнего и нижнего бьефов гидроэлектростанции, а также прилегающей к сооружениям акватории водохранилища должны иметься плавсредства. В ведении гидротехнического цеха Светлинской ГЭС на данный момент имеется только одна лодка. При возникновении нештатной ситуации оперативный перенос лодки с верхнего бьефа в нижний бьеф невозможен.","При возникновении нештатной ситуации возможность возникновения несчастного случая (утопления).","отсутствует","Да","Да","Да","Да"," -"," -","Перенос  позиции на 2018 г. в пользу приобретения позиций №17, 18, 19, 20 статьи ТП, согласованных с УИД заявкой от 13.02.2017 г.",0]
[null,11,"АО \"Вилюйская ГЭС-3\"",null,"Высокий","Оборудование вне проектов","Прочее оборудование","Система видеонаблюдения БГСО",null,null,null,null,null,null,null,null,null,null,0,null,null,null,null,null,null,0,350,0,0,null,350,349.69,null,null,null,349.69,350,349.69,-0.31000000000000227,-8.8571428571429219E-4,null,0,0,0,0,0,350,0,0,null,350,"Перенос на 4-ый квартал"," -","В целях налаживания надежной и качественной охраны объекта База гидросилового оборудования (БГСО) от противоправных посягательств, несанкционированного проникновения посторонних лиц на территорию, а также для усиления антитеррористической устойчивости объекта БГСО. На БГСО осуществляется приемка, хранение и выдача материальных ценностей подразделениям Светлинской ГЭС.","Несанкционированное проникновение, хищение, порча материальных ценностей АО \"Вилюйская ГЭС-3\".","отсутствует","Да","Да","Да","Да"," -"," -","Перенос на 4-ый квартал",0]
[null,12,"АО \"Вилюйская ГЭС-3\"",null,"Высокий","Оборудование вне проектов","Прочее оборудование","Инклинометрическая система скважин (геотехнический мониторинг)",null,null,null,null,null,null,null,null,null,null,0,null,null,null,null,null,null,0,1529.5350000000001,0,0,0,1529.5350000000001,0,null,null,null,null,1529.5350000000001,0,-1529.5350000000001,-1,"Отказ от приобретения   в связи с удорожанием позиции.",0,0,0,0,0,1529.5350000000001,{"$f":"AB41","v":0},0,0,1529.5350000000001,null," -","Для мониторинга горизонтальных смещений и деформации гидротехнических сооружений с целью оценки их безаварийной эксплуатации и функционирования, а также для своевременного принятия решений о необходимости выполнения ремонтных мероприятий. Основные показатели, которые должны контролироваться при проведении мониторинга гидротехнических сооружений, регламентирует ГОСТ Р 22.1.11-2002.","Отсутствие мониторинга за горизонтальными смещениями тела плотин.","ГОСТ Р 22.1.11-2002","Да","Да","Да","Да"," -"," -",null,0]
[null,13,"АО \"Вилюйская ГЭС-3\"",null,"Высокий","Оборудование вне проектов","Прочее оборудование","Лебедка электрическая + консоль ","КБК HE 300",null,null,null,null,null,null,null,null,null,0,null,null,null,null,null,null,0,71.88,0,null,71.88,0,66.72,null,null,66.72,null,71.88,66.72,-5.1599999999999966,-7.1786310517529178E-2,"В корректировке учтен перенос на 3-ий квартал ввиду долгого времени поставки оборудования.",0,0,0,0,0,71.88,0,null,71.88,0,"Перенос на 3-ий квартал."," -","Предполагается использование персоналом гидротехнического цеха Светлинской ГЭС. Позволяет поднимать грузы на высоту 40 м и массой до 300 кг. Планируется использовать для выполнения ремонтных работ на кровлях и крышах здания ГЭС и других объектах АО «ВГЭС-3». В настоящее время подъем грузов на высоту осуществляется вручную.","Применение подъема грузов на высоту вручную.","отсутствует","Да","Да","Да","Да"," -"," -","Перенос на 3-ий квартал.",0]
[null,14,"АО \"Вилюйская ГЭС-3\"",null,"Средний","Оборудование вне проектов","Прочее оборудование","Строительная многофункциональная лебедка ","НЕ 325",null,null,null,null,null,null,null,null,null,0,null,null,null,null,null,null,0,88.2,0,null,88.2,0,80.510000000000005,null,null,80.510000000000005,null,88.2,80.510000000000005,-7.6899999999999977,-8.7188208616780019E-2,"В корректировке учтен перенос на 3-ий квартал ввиду долгого времени поставки оборудования.",0,0,0,0,0,88.2,0,null,88.2,0,"Перенос на 3-ий квартал."," -","Предполагается использование персоналом гидротехнического цеха Светлинской ГЭС. Позволяет поднимать грузы на высоту 50 м и массой до 325 кг. Возможна установка в любом месте здания: в помещении – крепление пол – потолок, крепление тренога – на любом плоском открытом пространстве и крыше, крепление для оконного проема – в окне. В настоящее время подъем грузов на высоту осуществляется вручную.","Применение подъема грузов на высоту вручную.","отсутствует","Да","Да","Да","Да"," -"," -","Перенос на 3-ий квартал.",0]
[null,15,"АО \"Вилюйская ГЭС-3\"",null,"Высокий","Оборудование вне проектов","Прочее оборудование","Лебедка  для строительных лесов","НЕ200 Europea",null,null,null,null,null,null,null,null,null,0,null,null,null,null,null,null,0,59.2,0,null,59.2,0,{"$f":"SUM(AG44:AJ44)","v":57.82},null,null,57.82,null,{"$f":"IF(period=period_1Q, AB44, IF(period=period_1H, SUM(AB44:AC44), IF(period=period_9M, SUM(AB44:AD44), IF(period=period_1Y,SUM(AB44:AE44),0))))","v":59.2},{"$f":"IF(period=period_1Q, AG44, IF(period=period_1H, SUM(AG44:AH44), IF(period=period_9M, SUM(AG44:AI44), IF(period=period_1Y,SUM(AG44:AJ44),0))))","v":57.82},{"$f":"AL44-AK44","v":-1.3800000000000026},{"$f":"IFERROR(AM44/AK44, 0)","v":-2.3310810810810854E-2},"В корректировке учтен перенос на 3-ий квартал ввиду долгого времени поставки оборудования.",{"$f":"SUM(AR44:AT44)","v":0},0,{"$f":"IF(AND(AA44=0, AU44>0), AU44, 0)","v":0},{"$f":"IF(AND(AA44>0, AU44=0), -AA44, 0)","v":0},{"$f":"IF(AND(AA44>0, AU44>0), AU44-AA44, 0)","v":0},{"$f":"SUM(AV44:AY44)","v":59.2},{"$f":"AB44","v":0},null,59.2,{"$f":"AE44","v":0},"Перенос на 3-ий квартал."," -","Предполагается использование персоналом гидротехнического цеха Светлинской ГЭС. Позволяет поднимать грузы на высоту 50 м и массой до 325 кг. Возможна установка в любом месте здания: в помещении – крепление пол – потолок, крепление тренога – на любом плоском открытом пространстве и крыше, крепление для оконного проема – в окне. В настоящее время подъем грузов на высоту осуществляется вручную.","Применение подъема грузов на высоту вручную.","отсутствует","Да","Да","Да","Да"," -"," -","Перенос на 3-ий квартал."]
[null,16,"АО \"Вилюйская ГЭС-3\"",null,"Высокий","Оборудование вне проектов","Электротехническое и энергетическое оборудование","Система резервирования оперативного постоянного тока, включая аккумуляторные батареии (104 эл.), ЗВУ, шкаф управления (РЕЗЕРВ). II этап.",null,null,null,null,null,null,null,null,null,null,null,null,null,null,null,null,null,null,816,null,null,816,null,6876.28,null,null,6876.28,null,null,null,null,null,null,{"$f":"SUM(AR45:AT45)","v":0},{"$f":"IFERROR(AP45/AA45, 0)","v":0},{"$f":"IF(AND(AA45=0, AU45>0), AU45, 0)","v":0},{"$f":"IF(AND(AA45>0, AU45=0), -AA45, 0)","v":0},{"$f":"IF(AND(AA45>0, AU45>0), AU45-AA45, 0)","v":0},816,null,null,816,null,"Взамен позиции №10 статьи ОВИЗ \"Насос артезианский\", согласовано с УИД заявкой от 03.03.2017 г.",null,null,null,null,null,null,null,null,null,null,"Взамен позиции №10 статьи ОВИЗ \"Насос артезианский\", согласовано с УИД заявкой от 03.03.2017 г."]
[null,17,"АО \"Вилюйская ГЭС-3\"",null,"Высокий","Оборудование вне проектов","Прочее оборудование","Ультразвуковой дефектоскоп"," А1220 MONOLITH",null,null,null,null,null,null,null,null,null,0,1,293.5,null,null,null,null,293.5,293.5,293.5,0,0,0,293.5,293.5,null,null,null,293.5,293.5,0,0,"Согласовано с УИД Заявкой на авторизацию отклонений (13.02.2017 г.) взамен позиции № 10.",0,{"$f":"IFERROR(AP46/AA46, 0)","v":0},0,0,0,293.5,293.5,{"$f":"AC46","v":0},{"$f":"AD46","v":0},0,"Взамен позиции № 10 статьи ТП \"Лодка Казанка\", согласовано с УИД заявкой от 13.02.2017 г."," -",null,null,null,null,null,null,null," -"," -","Взамен позиции № 10 статьи ТП \"Лодка Казанка\", согласовано с УИД заявкой от 13.02.2017 г."]
[null,18,"АО \"Вилюйская ГЭС-3\"",null,"Высокий","Оборудование вне проектов","Прочее оборудование","Шумомер ","CEL-620А/1",null,null,null,null,null,null,null,null,null,0,1,113.9,null,null,null,null,113.9,113.9,113.9,0,0,0,113.9,113.9,null,null,null,113.9,113.9,0,0,"Согласовано с УИД Заявкой на авторизацию отклонений (13.02.2017 г.) взамен позиции № 10.",0,0,0,0,0,113.9,113.9,0,0,0,"Взамен позиции № 10 статьи ТП \"Лодка Казанка\", согласовано с УИД заявкой от 13.02.2017 г."," -",null,null,null,null,null,null,null," -"," -","Взамен позиции № 10 статьи ТП \"Лодка Казанка\", согласовано с УИД заявкой от 13.02.2017 г."]
[null,19,"АО \"Вилюйская ГЭС-3\"",null,"Высокий","Оборудование вне проектов","Прочее оборудование","Датчик избыточного давления ","МЕТРАН-150",null,null,null,null,null,null,null,null,null,0,1,56.06,null,null,null,null,56.06,56.06,0,56.06,0,0,56.06,null,56.06,null,null,56.06,56.06,0,0,"Согласовано с УИД Заявкой на авторизацию отклонений (13.02.2017 г.) взамен позиции № 10.",0,0,0,0,0,56.06,0,56.06,0,0,"Взамен позиции № 10 статьи ТП \"Лодка Казанка\", согласовано с УИД заявкой от 13.02.2017 г."," -",null,null,null,null,null,null,null," -"," -","Взамен позиции № 10 статьи ТП \"Лодка Казанка\", согласовано с УИД заявкой от 13.02.2017 г."]
[null,20,"АО \"Вилюйская ГЭС-3\"",null,"Высокий","Оборудование вне проектов","Прочее оборудование","Датчик избыточного давления ","МЕТРАН-150",null,null,null,null,null,null,null,null,null,0,1,56.06,null,null,null,null,56.06,56.06,0,56.06,0,0,56.06,null,56.06,null,null,56.06,56.06,0,0,"Согласовано с УИД Заявкой на авторизацию отклонений (13.02.2017 г.) взамен позиции № 10.",0,0,0,0,0,56.06,0,56.06,0,0,"Взамен позиции № 10 статьи ТП \"Лодка Казанка\", согласовано с УИД заявкой от 13.02.2017 г."," -",null,null,null,null,null,null,null," -"," -","Взамен позиции № 10 статьи ТП \"Лодка Казанка\", согласовано с УИД заявкой от 13.02.2017 г."]
[null,21,"АО \"Вилюйская ГЭС-3\"",null,"Высокий","Оборудование вне проектов","Оборудование автоматизации, ИТ и связи ","Модернизация ПО системы учета электроэнергии АИИС КУЭ (позиция из ТПиОВИЗ 2016 г.)",null,null,null,null,null,null,null,null,null,null,0,2,8.15,null,null,null,null,16.3,16.3,0,16.3,0,0,16.3,null,16.3,null,null,16.3,16.3,0,0,"Дополнительные затраты из ТПиОВИЗ 2016 г. (позиция № 26 ТП_БЭФ).",0,0,{"$f":"IF(AND(AA50=0, AU50>0), AU50, 0)","v":0},{"$f":"IF(AND(AA50>0, AU50=0), -AA50, 0)","v":0},{"$f":"IF(AND(AA50>0, AU50>0), AU50-AA50, 0)","v":0},16.3,{"$f":"AB50","v":0},16.3,0,0,"Дополнительные затраты из ТПиОВИЗ 2016 г. (позиция № 26 ТП_БЭФ)."," -",null,null,null,null,null,null,null," -"," -","Дополнительные затраты из ТПиОВИЗ 2016 г. (позиция № 26 ТП_БЭФ)."]
[null,22,{"$f":"org","v":"АО \"Вилюйская ГЭС-3\""},null,"Высокий","Оборудование вне проектов","Оборудование автоматизации, ИТ и связи ","Система уплотнения оптического волокна (мультиплексор)",null,null,null,null,null,null,null,null,null,null,{"$f":"M51*N51+SUM(O51:R51)","v":0},1,661,null,null,null,null,661,0,0,0,null,0,663.98,null,null,null,663.98,{"$f":"IF(period=period_1Q, AB51, IF(period=period_1H, SUM(AB51:AC51), IF(period=period_9M, SUM(AB51:AD51), IF(period=period_1Y,SUM(AB51:AE51),0))))","v":0},{"$f":"IF(period=period_1Q, AG51, IF(period=period_1H, SUM(AG51:AH51), IF(period=period_9M, SUM(AG51:AI51), IF(period=period_1Y,SUM(AG51:AJ51),0))))","v":663.98},663.98,0,"Согласовано с УИД Заявкой на авторизацию отклонений (21.08.2017 г.) взамен позиции № 31 ОВИЗ.",0,0,0,0,0,0,0,0,null,0,"Взамен позиции № 4 статьи ОВИЗ \"Автобус ПАЗ 32054 (24 местный)\".  Для снижения рейсов и сопутствующих расходов по доставке персонала на ГЭС (один рейс вместо двух рейсов ПАЗ)."," -",null,null,null,null,null,null,null," -"," -","Взамен позиции № 4 статьи ОВИЗ \"Автобус ПАЗ 32054 (24 местный)\".  Для снижения рейсов и сопутствующих расходов по доставке персонала на ГЭС (один рейс вместо двух рейсов ПАЗ)."]
[null,23,"АО \"Вилюйская ГЭС-3\"",null,"Высокий","Оборудование вне проектов","Прочее оборудование","Агрегат очистительный пескоструйный ","OERIZEN",null,null,null,null,null,null,null,null,null,0,2,182.59,null,null,null,null,365.18,0,null,null,null,null,365.17,null,null,365.17,null,0,365.17,365.17,0,null,0,0,0,0,0,0,0,0,0,0,null," -",null,null,null,null,null,null,null," -"," -"]
[null,24,null,null,null,null,null,null,null,null,null,null,null,null,null,null,null,null,0,null,null,null,null,null,null,0,0,null,null,null,null,0,null,null,null,null,0,0,0,0,null,0,0,0,0,0,0,0,0,0,0,null," -",null,null,null,null,null,null,null," -"," -"]
[null,25,null,null,null,null,null,null,null,null,null,null,null,null,null,null,null,null,0,null,null,null,null,null,null,0,0,null,null,null,null,0,null,null,null,null,0,0,0,0,null,0,0,0,0,0,0,0,0,0,0,null," -",null,null,null,null,null,null,null," -"," -"]
[null,26,null,null,null,null,null,null,null,null,null,null,null,null,null,null,null,null,0,null,null,null,null,null,null,0,0,null,null,null,null,0,null,null,null,null,0,0,0,0,null,0,0,0,0,0,0,0,0,0,0,null," -",null,null,null,null,null,null,null," -"," -"]
[null,null,null,null,null,null,null,null,null,null,null,null,null,null,null,null,null,null,0,null,null,null,null,null,null,0,0,null,null,null,null,0,null,null,null,null,0,0,0,0,null,0,0,0,0,0,0,0,0,0,0,null," -",null,null,null,null,null,null,null," -"," -"]
[null,null,null,null,null,null,null,null,null,null,null,null,null,null,null,null,null,null,0,null,null,null,null,null,null,0,0,null,null,null,null,0,null,null,null,null,0,0,0,0,null,0,0,0,0,0,0,0,0,0,0,null," -",null,null,null,null,null,null,null," -"," -"]
[null,null,null,null,null,null,null,null,null,null,null,null,null,null,null,null,null,null,0,null,null,null,null,null,null,0,0,null,null,null,null,0,null,null,null,null,0,0,0,0,null,0,0,0,0,0,0,0,0,0,0,null," -",null,null,null,null,null,null,null," -"," -",null,0]
[]
[]
[null,"1  Форма заполняется по освоениию (начислению). Подробнее -порядок заполнения формы определён в \"Положении об инвестиционном бюджете АК \"АЛРОСА\" . "]
[null,"2  Производитель указывается как для импртного, так и для российского оборудования%"]
[null,"3  В графе \"Отклонение\" производится сравнение факта с плановым периодом нарастающим итогом."]
[null,"4 При отклонении более 10% (не зависимо +/-) в графе \"Комментарии по отклонениям\" в форме указывается причина отклонения. Подробно причины отклонений указываются в Пояснительной записке к инвестиционному бюджету/отчёту."]
[null,"5 По лизингу отражается вся сумма на момент приобретения."]
[]
[null,null,null,null,null,"Федотов Леонид Степанович"]
[null,null,null,null,null,"Исполнитель (ФИО):"]
[]
[null,null,null,null,null,"начальник ПТО филиала АО \"Вилюйская ГЭС-3\" \"Светлинская ГЭС\""]
[null,null,null,null,null,"Должность: "]
[]
[null,null,null,null,null,"(41136) 79365"]
[null,null,null,null,null,"Контактный телефон:"]
[]
[null,null,null,null,null,"pto@shpp.ru"]
[null,null,null,null,null,"Электронный адрес:"]

{"sheet":"13.ТП_СЭФ","index":22,"n_rows":96,"n_cols":75,"rows_kept":96,"cut":false,"hidden":false,"merged":[[11,69,14,69],[11,70,14,70],[11,71,14,71],[11,72,14,72],[11,48,14,48],[11,61,14,61],[11,62,14,62],[11,63,12,66],[11,67,14,67],[11,68,14,68],[12,20,12,26],[13,63,14,63],[13,27,14,27],[13,28,14,28],[13,29,13,32],[13,33,14,33],[13,47,14,47],[11,59,14,59],[13,54,14,54],[13,55,14,55],[13,56,14,56],[13,57,14,57],[13,58,14,58],[11,46,11,47],[11,60,14,60],[5,2,5,5],[7,2,7,5],[11,73,14,73],[12,34,12,43],[13,64,14,64],[13,65,14,65],[13,66,14,66],[13,22,13,25],[13,26,14,26],[12,27,12,33],[11,49,12,53],[12,18,14,18],[12,8,14,8],[12,9,14,9],[12,10,14,10],[12,15,14,15],[11,1,14,1],[11,2,14,2],[11,3,14,3],[11,4,14,4],[11,5,14,5],[12,16,14,16],[12,17,14,17],[12,13,14,13],[12,14,14,14],[11,6,11,14],[12,11,14,11],[12,12,14,12],[12,6,14,6],[12,7,14,7],[85,4,85,5],[88,4,88,5],[91,4,91,5],[94,4,94,5],[11,54,11,58],[11,15,11,19],[12,46,12,47],[12,55,12,58],[13,44,14,44],[13,45,14,45],[13,46,14,46],[13,49,13,50],[13,51,13,53],[12,19,14,19],[13,20,14,20],[13,21,14,21]]}
[null,"Назад к оглавлению",null,null,null,null,"plan_fields","plan_fields","plan_fields","plan_fields","plan_fields","plan_fields","plan_fields","plan_fields","plan_fields","plan_fields","plan_fields","plan_fields","plan_fields","plan_fields","plan_fields","plan_fields","plan_fields","plan_fields","plan_fields","plan_fields","plan_fields","fact_fields","fact_fields","fact_fields","fact_fields","fact_fields","fact_fields","fact_fields",null,null,null,null,null,"base_fact","base_fact","base_fact","base_fact","base_fact","fact_fields","fact_fields","fact_fields","fact_fields","fact_fields","corr_fields","corr_fields","corr_fields","corr_fields","corr_fields","corr_fields","corr_fields","corr_fields","corr_fields","corr_fields","corr_fields","plan_fields","plan_fields","plan_fields","plan_fields","plan_fields","plan_fields","plan_fields","plan_fields","plan_fields","plan_fields","plan_fields","plan_fields",null,"plan_fields"]
[null,"Приложение № 2 к \"Положению об инвестиционном бюджете АК \"АЛРОСА\"\""]
[null,"Код формы: ТП_СЭФ"]
[]
[]
[null,null,{"$f":"org","v":"АО \"Вилюйская ГЭС-3\""}]
[null,null,"Организационно-правовая форма и название Общества/структурного подразделения"]
[null,null,{"$f":"period_txt","v":"12 месяцев 2017"}]
[null,null," Плановый / отчётный период "]
[null,null,"Бюджет инвестиций в ТП с прямым экономическим эффектом"]
[null,"Тыс. руб. без НДС 1"]
[null,"№","Общество / cтруктурное подразделение","Код проекта ","Приоритет ","Категория (вид) оборудования","Заменяемое оборудование (запоняется в случае его наличия)",null,null,null,null,null,null,null,null,"Новое оборудование",null,null,null,null,null,null,null,null,null,null,null,null,null,null,null,null,null,null,null,null,null,null,null,null,null,null,null,null,"ПЛАН за","ФАКТ за","Отклонение за период3",null,"Комментарии по отклонениям4","Изменения к утверждённому плану по году",null,null,null,null,"Скорректированный план",null,null,null,null,"Комментарии по изменениям плана","Приобретение в лизинг  (-/л)5","Цели / причины приобретения","Обосновывающий документ","Экономическая\n эффективность ",null,null,null,"Данная марка  обеспечивает минимизацию расходов на жизненном цикле (Да/Нет) ","Задействовать оборудование других подразделений вместо покупки невозможно (Да/Нет)","Имеется долгосрочная потребность в использовании  (Да/Нет)","Возможность аутсорсинга вместо приобретения отсутствует  (Да/Нет)","Наличие авансовых платежей в основном плановом/отчётном периоде за товары, работы, услуги  будущих периодов (1-й, 2-й год за плановым/отчётным)","Критерий инновационности расходов (принадлежность к ПИРиТМ)","Примечание к бюджету","Сверка"]
[null,null,null,null,null,null,"Наименование оборудования","Марка, модель","Осн. функц. хар-ки","Инвент. номер","Год выпуска","Первоночальная стоимость","Износ в %% (для целей бухг. учёта)","Выработка ресурса (километраж/ машиночасы и т.п.)","Теущий статус (в эксплуатации, на консервации, др.)","Наименование оборудования","Марка, модель","Осн. харктеристики","Происхождение ","Производитель2","ПЛАН",null,null,null,null,null,null,"ФАКТ",null,null,null,null,null,null,"Плановый / отчётный период \n(всего вкл. накладные расходы)",null,null,null,null,null,null,null,null,null,{"$f":"period","v":"12 месяцев"},{"$f":"AS13","v":"12 месяцев"},"12 месяцев",null,null,null,null,null,null,null,"ПЛАН    ","в т.ч. по кварталам:"]
[null,null,null,null,null,null,null,null,null,null,null,null,null,null,null,null,null,null,null,null,"Кол-во оборудования, шт. ","Стоимость 1 ед. оборудования (закуп)\n","Накладные расходы",null,null,null,"Стоимость оборудования \nвкл. накладные расходы","Кол-во оборудования, шт.","Стоимость 1 ед. оборудования (закуп)\n","Накладные расходы",null,null,null,"Стоимость оборудования \nвкл. накладные расходы","ПЛАН    ","в т.ч. по кварталам:",null,null,null,"ФАКТ ","в т.ч. по кварталам:",null,null,null,"Тыс.    руб.","Тыс.    руб.","Тыс.    руб.","% ",null,"Изменение всего",null,"В т.ч.",null,null,"Год   всего","1 кв.","2 кв.","3 кв.","4 кв.",null,null,null,null,"Чистый приведённый доход (NPV), руб.","Дисконтированный срок окупаемости, лет","Внутренняя норма доходности в реальных ценах, %","Внутренняя норма доходности в номинальных ценах, %"]
[null,null,null,null,null,null,null,null,null,null,null,null,null,null,null,null,null,null,null,null,null,null,"Транспортные","Монаж","ПИР","Прочие",null,null,null,"Транспортные","Монаж","ПИР","Прочие",null,"Год   всего","1 кв.","2 кв.","3 кв.","4 кв.","Год        всего","1 кв.","2 кв.","3 кв.","4 кв.",null,null,null,null,null,"Тыс.    руб.","%","Вновь добавлено\n(указывается со знаком \"+\")","Исключено (указывается со знаком \"-\")","Изменение стоимости\n(удорожание \"+\", удешвление \"-\")"]
[null,1,{"$f":"B16+1","v":2},3,4,5,6,7,8,9,10,11,12,13,14,15,16,17,18,19,20,21,22,23,24,25,26,27,28,29,30,31,32,33,{"$f":"AH16+1","v":34},35,36,37,38,39,40,41,42,43,44,45,46,47,48,49,50,51,52,53,54,55,56,57,58,59,60,61,62,63,64,65,{"$f":"BN16+1","v":66},67,68,69,70,{"$f":"BS16+1","v":71},{"$f":"BT16+1","v":72},{"$f":"BU16+1","v":73}]
[null,1,"ОБОРУДОВАНИЕ  - ВСЕГО, в т.ч.:",null,null,null,null,null,null,null,null,null,null,null,null,null,null,null,null,null,null,null,null,null,null,null,null,null,null,null,null,null,null,null,{"$f":"SUMIF($C28:$C$10033,\"*\",AI28:AI$10033)","v":6261.7},{"$f":"SUMIF($C28:$C$10033,\"*\",AJ28:AJ$10033)","v":0},{"$f":"SUMIF($C28:$C$10033,\"*\",AK28:AK$10033)","v":0},{"$f":"SUMIF($C28:$C$10033,\"*\",AL28:AL$10033)","v":6261.7},{"$f":"SUMIF($C28:$C$10033,\"*\",AM28:AM$10033)","v":0},{"$f":"SUMIF($C28:$C$10033,\"*\",AN28:AN$10033)","v":5551.45},{"$f":"SUMIF($C28:$C$10033,\"*\",AO28:AO$10033)","v":0},{"$f":"SUMIF($C28:$C$10033,\"*\",AP28:AP$10033)","v":0},{"$f":"SUMIF($C28:$C$10033,\"*\",AQ28:AQ$10033)","v":0},{"$f":"SUMIF($C28:$C$10033,\"*\",AR28:AR$10033)","v":5551.45},{"$f":"IF(period=period_1Q, AJ17, IF(period=period_1H, SUM(AJ17:AK17), IF(period=period_9M, SUM(AJ17:AL17), IF(period=period_1Y,SUM(AJ17:AM17),0))))","v":6261.7},{"$f":"IF(period=period_1Q, AO17, IF(period=period_1H, SUM(AO17:AP17), IF(period=period_9M, SUM(AO17:AQ17), IF(period=period_1Y,SUM(AO17:AR17),0))))","v":5551.45},{"$f":"AT17-AS17","v":-710.25},{"$f":"IFERROR(AU17/AS17, 0)","v":-0.11342766341408883},null,{"$f":"SUM(AZ17:BB17)","v":0},{"$f":"IFERROR(AX17/AI17, 0)","v":0},{"$f":"SUMIF($C28:$C$10033,\"*\",AZ28:AZ$10033)","v":0},{"$f":"SUMIF($C28:$C$10033,\"*\",BA28:BA$10033)","v":0},{"$f":"SUMIF($C28:$C$10033,\"*\",BB28:BB$10033)","v":0},{"$f":"AI17+AX17","v":6261.7},{"$f":"SUMIF($C28:$C$10033,\"*\",BD28:BD$10033)","v":0},{"$f":"SUMIF($C28:$C$10033,\"*\",BE28:BE$10033)","v":0},{"$f":"SUMIF($C28:$C$10033,\"*\",BF28:BF$10033)","v":6261.7},{"$f":"SUMIF($C28:$C$10033,\"*\",BG28:BG$10033)","v":0},null,null,null,null,null,null,null,null,null,null,null,null,null,null,null,{"$f":"SUM(ABS(AI17-SUM(AJ17:AM17)), ABS(AN17-SUM(AO17:AR17)), ABS(BC17-SUM(BD17:BG17))*1, ABS(AX17-SUM(AZ17:BB17)))","v":0}]
[null,"1.1.","Обогатительное и дробильно-размольное оборудование",null,null,null,null,null,null,null,null,null,null,null,null,null,null,null,null,null,null,null,null,null,null,null,null,null,null,null,null,null,null,null,{"$f":"SUM(AJ18:AM18)","v":0},{"$f":"SUMIF($F:$F, $C18,AJ:AJ )","v":0},0,0,0,{"$f":"SUM(AO18:AR18)","v":0},{"$f":"SUMIF($F:$F, $C18,AO:AO )","v":0},0,0,0,0,0,{"$f":"AT18-AS18","v":0},{"$f":"IFERROR(AU18/AS18, 0)","v":0},null,{"$f":"SUM(AZ18:BB18)","v":0},{"$f":"IFERROR(AX18/AI18, 0)","v":0},{"$f":"SUMIF($F:$F, $C18,AZ:AZ )","v":0},0,0,{"$f":"AI18+AX18","v":0},{"$f":"SUMIF($F:$F, $C18,BD:BD )","v":0},0,0,0,null,null,null,null,null,null,null,null,null,null,null,null,null,null,null,0]
[null,"1.2.","Горно-шахтное  оборудование",null,null,null,null,null,null,null,null,null,null,null,null,null,null,null,null,null,null,null,null,null,null,null,null,null,null,null,null,null,null,null,0,0,0,0,0,0,0,0,0,0,0,0,0,0,null,0,0,0,0,0,0,0,0,0,0,null,null,null,null,null,null,null,null,null,null,null,null,null,null,null,0]
[null,"1.3.","Оборудование для вскрышных и добычных работ",null,null,null,null,null,null,null,null,null,null,null,null,null,null,null,null,null,null,null,null,null,null,null,null,null,null,null,null,null,null,null,0,0,0,0,0,0,0,0,0,0,0,0,0,0,null,0,0,0,0,0,0,0,0,0,0,null,null,null,null,null,null,null,null,null,null,null,null,null,null,null,0]
[null,"1.4.","Технологический транспорт",null,null,null,null,null,null,null,null,null,null,null,null,null,null,null,null,null,null,null,null,null,null,null,null,null,null,null,null,null,null,null,0,0,0,0,0,0,0,0,0,0,0,0,0,0,null,0,0,0,0,0,0,0,0,0,0,null,null,null,null,null,null,null,null,null,null,null,null,null,null,null,0]
[null,"1.5.","Автотранспорт и дорожно-строительная техника ",null,null,null,null,null,null,null,null,null,null,null,null,null,null,null,null,null,null,null,null,null,null,null,null,null,null,null,null,null,null,null,6261.7,0,0,6261.7,0,5551.45,0,0,0,5551.45,6261.7,5551.45,-710.25,-0.11342766341408883,null,0,0,0,0,0,6261.7,0,0,6261.7,0,null,null,null,null,null,null,null,null,null,null,null,null,null,null,null,0]
[null,"1.6.","Электротехническое и энергетическое оборудование",null,null,null,null,null,null,null,null,null,null,null,null,null,null,null,null,null,null,null,null,null,null,null,null,null,null,null,null,null,null,null,0,0,0,0,0,0,0,0,0,0,0,0,0,0,null,0,0,0,0,0,0,0,0,0,0,null,null,null,null,null,null,null,null,null,null,null,null,null,null,null,0]
[null,"1.7.","Вентиляционное, отопительное и насосное оборудование",null,null,null,null,null,null,null,null,null,null,null,null,null,null,null,null,null,null,null,null,null,null,null,null,null,null,null,null,null,null,null,0,0,0,0,0,0,0,0,0,0,0,0,0,0,null,0,0,0,0,0,0,0,0,0,0,null,null,null,null,null,null,null,null,null,null,null,null,null,null,null,0]
[null,"1.8.","Гаражное, компрессорное оборудование, станки",null,null,null,null,null,null,null,null,null,null,null,null,null,null,null,null,null,null,null,null,null,null,null,null,null,null,null,null,null,null,null,0,0,0,0,0,0,0,0,0,0,0,0,0,0,null,0,0,0,0,0,0,0,0,0,0,null,null,null,null,null,null,null,null,null,null,null,null,null,null,null,0]
[null,"1.9.","Оборудование автоматизации, ИТ и связи ",null,null,null,null,null,null,null,null,null,null,null,null,null,null,null,null,null,null,null,null,null,null,null,null,null,null,null,null,null,null,null,0,0,0,0,0,0,0,0,0,0,0,0,0,0,null,0,0,0,0,0,0,0,0,0,0,null,null,null,null,null,null,null,null,null,null,null,null,null,null,null,0]
[null,"1.10.","Прочее оборудование",null,null,null,null,null,null,null,null,null,null,null,null,null,null,null,null,null,null,null,null,null,null,null,null,null,null,null,null,null,null,null,0,0,0,0,0,0,0,0,0,0,0,0,0,0,null,0,0,0,0,0,0,0,0,0,0,null,null,null,null,null,null,null,null,null,null,null,null,null,null,null,0]
[null,1,{"$f":"org","v":"АО \"Вилюйская ГЭС-3\""},null,"Высокий","Автотранспорт и дорожно-строительная техника ",null,null,null,null,null,null,null,null,null,"Автобус пассажирский","ЛИАЗ 525660-01","с 44-мя посадочными  местами и  88 общими местами","РФ","ЛиАЗ",null,null,null,null,null,null,{"$f":"U28*V28+SUM(W28:Z28)","v":0},null,null,null,null,null,null,{"$f":"AB28*AC28+SUM(AD28:AG28)","v":0},{"$f":"SUM(AJ28:AM28)","v":6261.7},null,null,6261.7,null,{"$f":"SUM(AO28:AR28)","v":5551.45},null,null,null,5551.45,6261.7,5551.45,-710.25,-0.11342766341408883,"Удешевление позиции ввиду проведения тендерных процедур.",0,0,{"$f":"IF(AND(AI28=0, BC28>0), BC28, 0)","v":0},{"$f":"IF(AND(AI28>0, BC28=0), -AI28, 0)","v":0},{"$f":"IF(AND(AI28>0, BC28>0), BC28-AI28, 0)","v":0},{"$f":"SUM(BD28:BG28)","v":6261.7},{"$f":"AJ28","v":0},0,6261.7,0,"Взамен позиции № 4 статьи ОВИЗ \"Автобус ПАЗ 32054 (24 местный)\".  Для снижения рейсов и сопутствующих расходов по доставке персонала на ГЭС (один рейс вместо двух рейсов ПАЗ)."," -",null,null,null,null,null,null,null,null,null,null," -"," -","Взамен позиции № 4 статьи ОВИЗ \"Автобус ПАЗ 32054 (24 местный)\".  Для снижения рейсов и сопутствующих расходов по доставке персонала на ГЭС (один рейс вместо двух рейсов ПАЗ).",0]
[null,null,"АО \"Вилюйская ГЭС-3\"",null,null,null,null,null,null,null,null,null,null,null,null,null,null,null,null,null,null,null,null,null,null,null,0,null,null,null,null,null,null,0,0,null,null,null,null,0,null,null,null,null,0,0,0,0,null,{"$f":"SUM(AZ29:BB29)","v":0},0,0,0,0,0,0,0,0,0,null," -",null,null,null,null,null,null,null,null,null,null," -"," -",null,0]
[null,null,"АО \"Вилюйская ГЭС-3\"",null,null,null,null,null,null,null,null,null,null,null,null,null,null,null,null,null,null,null,null,null,null,null,0,null,null,null,null,null,null,0,0,null,null,null,null,0,null,null,null,null,0,0,0,0,null,0,0,0,0,0,0,0,0,0,0,null," -",null,null,null,null,null,null,null,null,null,null," -"," -",null,0]
[null,null,"АО \"Вилюйская ГЭС-3\"",null,null,null,null,null,null,null,null,null,null,null,null,null,null,null,null,null,null,null,null,null,null,null,0,null,null,null,null,null,null,0,0,null,null,null,null,0,null,null,null,null,0,0,0,0,null,0,0,0,0,0,0,0,0,0,0,null," -",null,null,null,null,null,null,null,null,null,null," -"," -",null,0]
[null,null,"АО \"Вилюйская ГЭС-3\"",null,null,null,null,null,null,null,null,null,null,null,null,null,null,null,null,null,null,null,null,null,null,null,0,null,null,null,null,null,null,0,0,null,null,null,null,0,null,null,null,null,0,0,0,0,null,0,0,0,0,0,0,0,0,0,0,null,null,null,null,null,null,null,null,null,null,null,null," -"," -",null,0]
[null,null,"АО \"Вилюйская ГЭС-3\"",null,null,null,null,null,null,null,null,null,null,null,null,null,null,null,null,null,null,null,null,null,null,null,0,null,null,null,null,null,null,0,0,null,null,null,null,0,null,null,null,null,0,0,0,0,null,0,0,0,0,0,0,0,0,0,0,null,null,null,null,null,null,null,null,null,null,null,null," -"," -",null,0]
[null,null,"АО \"Вилюйская ГЭС-3\"",null,null,null,null,null,null,null,null,null,null,null,null,null,null,null,null,null,null,null,null,null,null,null,0,null,null,null,null,null,null,0,0,null,null,null,null,0,null,null,null,null,0,0,0,0,null,0,0,0,0,0,0,0,0,0,0,null,null,null,null,null,null,null,null,null,null,null,null," -"," -",null,0]
[null,null,"АО \"Вилюйская ГЭС-3\"",null,null,null,null,null,null,null,null,null,null,null,null,null,null,null,null,null,null,null,null,null,null,null,{"$f":"U35*V35+SUM(W35:Z35)","v":0},null,null,null,null,null,null,{"$f":"AB35*AC35+SUM(AD35:AG35)","v":0},{"$f":"SUM(AJ35:AM35)","v":0},null,null,null,null,{"$f":"SUM(AO35:AR35)","v":0},null,null,null,null,{"$f":"IF(period=period_1Q, AJ35, IF(period=period_1H, SUM(AJ35:AK35), IF(period=period_9M, SUM(AJ35:AL35), IF(period=period_1Y,SUM(AJ35:AM35),0))))","v":0},{"$f":"IF(period=period_1Q, AO35, IF(period=period_1H, SUM(AO35:AP35), IF(period=period_9M, SUM(AO35:AQ35), IF(period=period_1Y,SUM(AO35:AR35),0))))","v":0},{"$f":"AT35-AS35","v":0},{"$f":"IFERROR(AU35/AS35, 0)","v":0},null,{"$f":"SUM(AZ35:BB35)","v":0},{"$f":"IFERROR(AX35/AI35, 0)","v":0},{"$f":"IF(AND(AI35=0, BC35>0), BC35, 0)","v":0},{"$f":"IF(AND(AI35>0, BC35=0), -AI35, 0)","v":0},{"$f":"IF(AND(AI35>0, BC35>0), BC35-AI35, 0)","v":0},{"$f":"SUM(BD35:BG35)","v":0},{"$f":"AJ35","v":0},{"$f":"AK35","v":0},{"$f":"AL35","v":0},{"$f":"AM35","v":0},null,null,null,null,null,null,null,null,null,null,null,null," -"," -",null,{"$f":"SUM(ABS(AI35-SUM(AJ35:AM35)), ABS(AN35-SUM(AO35:AR35)), ABS(BC35-SUM(BD35:BG35))*1, ABS(AX35-SUM(AZ35:BB35)))","v":0}]
[null,null,"АО \"Вилюйская ГЭС-3\"",null,null,null,null,null,null,null,null,null,null,null,null,null,null,null,null,null,null,null,null,null,null,null,0,null,null,null,null,null,null,0,0,null,null,null,null,0,null,null,null,null,0,0,0,0,null,0,0,0,0,0,0,0,0,0,0,null,null,null,null,null,null,null,null,null,null,null,null," -"," -",null,0]
[null,null,"АО \"Вилюйская ГЭС-3\"",null,null,null,null,null,null,null,null,null,null,null,null,null,null,null,null,null,null,null,null,null,null,null,0,null,null,null,null,null,null,0,0,null,null,null,null,0,null,null,null,null,0,0,0,0,null,0,0,0,0,0,0,0,0,0,0,null,null,null,null,null,null,null,null,null,null,null,null," -"," -",null,0]
[null,null,"АО \"Вилюйская ГЭС-3\"",null,null,null,null,null,null,null,null,null,null,null,null,null,null,null,null,null,null,null,null,null,null,null,0,null,null,null,null,null,null,0,0,null,null,null,null,0,null,null,null,null,0,0,0,0,null,0,0,0,0,0,0,0,0,0,0,null,null,null,null,null,null,null,null,null,null,null,null," -"," -",null,0]
[null,null,"АО \"Вилюйская ГЭС-3\"",null,null,null,null,null,null,null,null,null,null,null,null,null,null,null,null,null,null,null,null,null,null,null,0,null,null,null,null,null,null,0,0,null,null,null,null,0,null,null,null,null,0,0,0,0,null,0,0,0,0,0,0,0,0,0,0,null,null,null,null,null,null,null,null,null,null,null,null," -"," -",null,0]
[null,null,"АО \"Вилюйская ГЭС-3\"",null,null,null,null,null,null,null,null,null,null,null,null,null,null,null,null,null,null,null,null,null,null,null,0,null,null,null,null,null,null,0,0,null,null,null,null,0,null,null,null,null,0,0,0,0,null,0,0,0,0,0,0,0,0,0,0,null,null,null,null,null,null,null,null,null,null,null,null," -"," -",null,0]
[null,null,"АО \"Вилюйская ГЭС-3\"",null,null,null,null,null,null,null,null,null,null,null,null,null,null,null,null,null,null,null,null,null,null,null,0,null,null,null,null,null,null,0,0,null,null,null,null,0,null,null,null,null,0,0,0,0,null,0,0,0,0,0,0,0,0,0,0,null,null,null,null,null,null,null,null,null,null,null,null," -"," -",null,0]
[null,null,"АО \"Вилюйская ГЭС-3\"",null,null,null,null,null,null,null,null,null,null,null,null,null,null,null,null,null,null,null,null,null,null,null,0,null,null,null,null,null,null,0,0,null,null,null,null,0,null,null,null,null,0,0,0,0,null,0,0,0,0,0,0,0,0,0,0,null,null,null,null,null,null,null,null,null,null,null,null," -"," -",null,0]
[null,null,"АО \"Вилюйская ГЭС-3\"",null,null,null,null,null,null,null,null,null,null,null,null,null,null,null,null,null,null,null,null,null,null,null,0,null,null,null,null,null,null,0,0,null,null,null,null,0,null,null,null,null,0,0,0,0,null,0,0,0,0,0,0,0,0,0,0,null,null,null,null,null,null,null,null,null,null,null,null," -"," -",null,0]
[null,null,"АО \"Вилюйская ГЭС-3\"",null,null,null,null,null,null,null,null,null,null,null,null,null,null,null,null,null,null,null,null,null,null,null,0,null,null,null,null,null,null,0,0,null,null,null,null,0,null,null,null,null,0,0,0,0,null,0,0,0,0,0,0,0,0,0,0,null,null,null,null,null,null,null,null,null,null,null,null," -"," -",null,0]
[null,null,"АО \"Вилюйская ГЭС-3\"",null,null,null,null,null,null,null,null,null,null,null,null,null,null,null,null,null,null,null,null,null,null,null,0,null,null,null,null,null,null,0,0,null,null,null,null,0,null,null,null,null,0,0,0,0,null,0,0,0,0,0,0,0,0,0,0,null,null,null,null,null,null,null,null,null,null,null,null," -"," -",null,0]
[null,null,"АО \"Вилюйская ГЭС-3\"",null,null,null,null,null,null,null,null,null,null,null,null,null,null,null,null,null,null,null,null,null,null,null,0,null,null,null,null,null,null,0,0,null,null,null,null,0,null,null,null,null,0,0,0,0,null,0,0,0,0,0,0,0,0,0,0,null,null,null,null,null,null,null,null,null,null,null,null," -"," -",null,0]
[null,null,"АО \"Вилюйская ГЭС-3\"",null,null,null,null,null,null,null,null,null,null,null,null,null,null,null,null,null,null,null,null,null,null,null,0,null,null,null,null,null,null,0,0,null,null,null,null,0,null,null,null,null,0,0,0,0,null,0,0,0,0,0,0,0,0,0,0,null,null,null,null,null,null,null,null,null,null,null,null," -"," -",null,0]
[null,null,"АО \"Вилюйская ГЭС-3\"",null,null,null,null,null,null,null,null,null,null,null,null,null,null,null,null,null,null,null,null,null,null,null,0,null,null,null,null,null,null,0,0,null,null,null,null,0,null,null,null,null,0,0,0,0,null,0,0,0,0,0,0,0,0,0,0,null,null,null,null,null,null,null,null,null,null,null,null," -"," -",null,0]
[null,null,"АО \"Вилюйская ГЭС-3\"",null,null,null,null,null,null,null,null,null,null,null,null,null,null,null,null,null,null,null,null,null,null,null,0,null,null,null,null,null,null,0,0,null,null,null,null,0,null,null,null,null,0,0,0,0,null,0,0,0,0,0,0,0,0,0,0,null,null,null,null,null,null,null,null,null,null,null,null," -"," -",null,0]
[null,null,"АО \"Вилюйская ГЭС-3\"",null,null,null,null,null,null,null,null,null,null,null,null,null,null,null,null,null,null,null,null,null,null,null,0,null,null,null,null,null,null,0,0,null,null,null,null,0,null,null,null,null,0,0,0,0,null,0,0,0,0,0,0,0,0,0,0,null,null,null,null,null,null,null,null,null,null,null,null," -"," -",null,0]
[null,null,"АО \"Вилюйская ГЭС-3\"",null,null,null,null,null,null,null,null,null,null,null,null,null,null,null,null,null,null,null,null,null,null,null,0,null,null,null,null,null,null,0,0,null,null,null,null,0,null,null,null,null,0,0,0,0,null,0,0,0,0,0,0,0,0,0,0,null,null,null,null,null,null,null,null,null,null,null,null," -"," -",null,0]
[null,null,"АО \"Вилюйская ГЭС-3\"",null,null,null,null,null,null,null,null,null,null,null,null,null,null,null,null,null,null,null,null,null,null,null,0,null,null,null,null,null,null,0,0,null,null,null,null,0,null,null,null,null,0,0,0,0,null,0,0,0,0,0,0,0,0,0,0,null,null,null,null,null,null,null,null,null,null,null,null," -"," -",null,0]
[null,null,"АО \"Вилюйская ГЭС-3\"",null,null,null,null,null,null,null,null,null,null,null,null,null,null,null,null,null,null,null,null,null,null,null,0,null,null,null,null,null,null,0,0,null,null,null,null,0,null,null,null,null,0,0,0,0,null,0,0,0,0,0,0,0,0,0,0,null,null,null,null,null,null,null,null,null,null,null,null," -"," -",null,0]
[null,null,"АО \"Вилюйская ГЭС-3\"",null,null,null,null,null,null,null,null,null,null,null,null,null,null,null,null,null,null,null,null,null,null,null,0,null,null,null,null,null,null,0,0,null,null,null,null,0,null,null,null,null,0,0,0,0,null,0,0,0,0,0,0,0,0,0,0,null,null,null,null,null,null,null,null,null,null,null,null," -"," -",null,0]
[null,null,"АО \"Вилюйская ГЭС-3\"",null,null,null,null,null,null,null,null,null,null,null,null,null,null,null,null,null,null,null,null,null,null,null,0,null,null,null,null,null,null,0,0,null,null,null,null,0,null,null,null,null,0,0,0,0,null,0,0,0,0,0,0,0,0,0,0,null,null,null,null,null,null,null,null,null,null,null,null," -"," -",null,0]
[null,null,"АО \"Вилюйская ГЭС-3\"",null,null,null,null,null,null,null,null,null,null,null,null,null,null,null,null,null,null,null,null,null,null,null,0,null,null,null,null,null,null,0,0,null,null,null,null,0,null,null,null,null,0,0,0,0,null,0,0,0,0,0,0,0,0,0,0,null,null,null,null,null,null,null,null,null,null,null,null," -"," -",null,0]
[null,null,"АО \"Вилюйская ГЭС-3\"",null,null,null,null,null,null,null,null,null,null,null,null,null,null,null,null,null,null,null,null,null,null,null,0,null,null,null,null,null,null,0,0,null,null,null,null,0,null,null,null,null,0,0,0,0,null,0,0,0,0,0,0,0,0,0,0,null,null,null,null,null,null,null,null,null,null,null,null," -"," -",null,0]
[null,null,"АО \"Вилюйская ГЭС-3\"",null,null,null,null,null,null,null,null,null,null,null,null,null,null,null,null,null,null,null,null,null,null,null,0,null,null,null,null,null,null,0,0,null,null,null,null,0,null,null,null,null,0,0,0,0,null,0,0,0,0,0,0,0,0,0,0,null,null,null,null,null,null,null,null,null,null,null,null," -"," -",null,0]
[null,null,"АО \"Вилюйская ГЭС-3\"",null,null,null,null,null,null,null,null,null,null,null,null,null,null,null,null,null,null,null,null,null,null,null,0,null,null,null,null,null,null,0,0,null,null,null,null,0,null,null,null,null,0,0,0,0,null,0,0,0,0,0,0,0,0,0,0,null,null,null,null,null,null,null,null,null,null,null,null," -"," -",null,0]
[null,null,"АО \"Вилюйская ГЭС-3\"",null,null,null,null,null,null,null,null,null,null,null,null,null,null,null,null,null,null,null,null,null,null,null,0,null,null,null,null,null,null,0,0,null,null,null,null,0,null,null,null,null,0,0,0,0,null,0,0,0,0,0,0,0,0,0,0,null,null,null,null,null,null,null,null,null,null,null,null," -"," -",null,0]
[null,null,"АО \"Вилюйская ГЭС-3\"",null,null,null,null,null,null,null,null,null,null,null,null,null,null,null,null,null,null,null,null,null,null,null,0,null,null,null,null,null,null,0,0,null,null,null,null,0,null,null,null,null,0,0,0,0,null,0,0,0,0,0,0,0,0,0,0,null,null,null,null,null,null,null,null,null,null,null,null," -"," -",null,0]
[null,null,"АО \"Вилюйская ГЭС-3\"",null,null,null,null,null,null,null,null,null,null,null,null,null,null,null,null,null,null,null,null,null,null,null,0,null,null,null,null,null,null,0,0,null,null,null,null,0,null,null,null,null,0,0,0,0,null,0,0,0,0,0,0,0,0,0,0,null,null,null,null,null,null,null,null,null,null,null,null," -"," -",null,0]
[null,null,"АО \"Вилюйская ГЭС-3\"",null,null,null,null,null,null,null,null,null,null,null,null,null,null,null,null,null,null,null,null,null,null,null,0,null,null,null,null,null,null,0,0,null,null,null,null,0,null,null,null,null,0,0,0,0,null,0,0,0,0,0,0,0,0,0,0,null,null,null,null,null,null,null,null,null,null,null,null," -"," -",null,0]
[null,null,"АО \"Вилюйская ГЭС-3\"",null,null,null,null,null,null,null,null,null,null,null,null,null,null,null,null,null,null,null,null,null,null,null,0,null,null,null,null,null,null,0,0,null,null,null,null,0,null,null,null,null,0,0,0,0,null,0,0,0,0,0,0,0,0,0,0,null,null,null,null,null,null,null,null,null,null,null,null," -"," -",null,0]
[null,null,"АО \"Вилюйская ГЭС-3\"",null,null,null,null,null,null,null,null,null,null,null,null,null,null,null,null,null,null,null,null,null,null,null,0,null,null,null,null,null,null,0,0,null,null,null,null,0,null,null,null,null,0,0,0,0,null,0,0,0,0,0,0,0,0,0,0,null,null,null,null,null,null,null,null,null,null,null,null," -"," -",null,0]
[null,null,"АО \"Вилюйская ГЭС-3\"",null,null,null,null,null,null,null,null,null,null,null,null,null,null,null,null,null,null,null,null,null,null,null,0,null,null,null,null,null,null,0,0,null,null,null,null,0,null,null,null,null,0,0,0,0,null,0,0,0,0,0,0,0,0,0,0,null,null,null,null,null,null,null,null,null,null,null,null," -"," -",null,0]
[null,null,"АО \"Вилюйская ГЭС-3\"",null,null,null,null,null,null,null,null,null,null,null,null,null,null,null,null,null,null,null,null,null,null,null,0,null,null,null,null,null,null,0,0,null,null,null,null,0,null,null,null,null,0,0,0,0,null,0,0,0,0,0,0,0,0,0,0,null,null,null,null,null,null,null,null,null,null,null,null," -"," -",null,0]
[null,null,"АО \"Вилюйская ГЭС-3\"",null,null,null,null,null,null,null,null,null,null,null,null,null,null,null,null,null,null,null,null,null,null,null,0,null,null,null,null,null,null,0,0,null,null,null,null,0,null,null,null,null,0,0,0,0,null,0,0,0,0,0,0,0,0,0,0,null,null,null,null,null,null,null,null,null,null,null,null," -"," -",null,0]
[null,null,"АО \"Вилюйская ГЭС-3\"",null,null,null,null,null,null,null,null,null,null,null,null,null,null,null,null,null,null,null,null,null,null,null,0,null,null,null,null,null,null,0,0,null,null,null,null,0,null,null,null,null,0,0,0,0,null,0,0,0,0,0,0,0,0,0,0,null,null,null,null,null,null,null,null,null,null,null,null," -"," -",null,0]
[null,null,"АО \"Вилюйская ГЭС-3\"",null,null,null,null,null,null,null,null,null,null,null,null,null,null,null,null,null,null,null,null,null,null,null,0,null,null,null,null,null,null,0,0,null,null,null,null,0,null,null,null,null,0,0,0,0,null,0,0,0,0,0,0,0,0,0,0,null,null,null,null,null,null,null,null,null,null,null,null," -"," -",null,0]
[null,null,"АО \"Вилюйская ГЭС-3\"",null,null,null,null,null,null,null,null,null,null,null,null,null,null,null,null,null,null,null,null,null,null,null,0,null,null,null,null,null,null,0,0,null,null,null,null,0,null,null,null,null,0,0,0,0,null,0,0,0,0,0,0,0,0,0,0,null,null,null,null,null,null,null,null,null,null,null,null," -"," -",null,0]
[null,null,"АО \"Вилюйская ГЭС-3\"",null,null,null,null,null,null,null,null,null,null,null,null,null,null,null,null,null,null,null,null,null,null,null,0,null,null,null,null,null,null,0,0,null,null,null,null,0,null,null,null,null,0,0,0,0,null,0,0,0,0,0,0,0,0,0,0,null,null,null,null,null,null,null,null,null,null,null,null," -"," -",null,0]
[null,null,"АО \"Вилюйская ГЭС-3\"",null,null,null,null,null,null,null,null,null,null,null,null,null,null,null,null,null,null,null,null,null,null,null,0,null,null,null,null,null,null,0,0,null,null,null,null,0,null,null,null,null,0,0,0,0,null,0,0,0,0,0,0,0,0,0,0,null,null,null,null,null,null,null,null,null,null,null,null," -"," -",null,0]
[null,null,"АО \"Вилюйская ГЭС-3\"",null,null,null,null,null,null,null,null,null,null,null,null,null,null,null,null,null,null,null,null,null,null,null,0,null,null,null,null,null,null,0,0,null,null,null,null,0,null,null,null,null,0,0,0,0,null,0,0,0,0,0,0,{"$f":"AJ74","v":0},0,0,0,null,null,null,null,null,null,null,null,null,null,null,null," -"," -",null,0]
[null,null,"АО \"Вилюйская ГЭС-3\"",null,null,null,null,null,null,null,null,null,null,null,null,null,null,null,null,null,null,null,null,null,null,null,0,null,null,null,null,null,null,0,0,null,null,null,null,0,null,null,null,null,0,0,0,0,null,0,0,0,0,0,0,0,0,0,0,null,null,null,null,null,null,null,null,null,null,null,null," -"," -",null,0]
[null,null,"АО \"Вилюйская ГЭС-3\"",null,null,null,null,null,null,null,null,null,null,null,null,null,null,null,null,null,null,null,null,null,null,null,0,null,null,null,null,null,null,0,0,null,null,null,null,0,null,null,null,null,0,0,0,0,null,0,0,0,0,0,0,0,0,0,0,null,null,null,null,null,null,null,null,null,null,null,null," -"," -",null,0]
[]
[]
[null,"1  Форма заполняется по освоениию (начислению). Подробнее -порядок заполнения формы определён в \"Положении об инвестиционном бюджете АК \"АЛРОСА\" . "]
[null,"2  Производитель указывается как для импртного, так и для российского оборудования%"]
[null,"3  В графе \"Отклонение\" производится сравнение факта с плановым периодом нарастающим итогом."]
[null,"4 При отклонении более 10% (не зависимо +/-) в графе \"Комментарии по отклонениям\" в форме указывается причина отклонения. Подробно причины отклонений указываются в Пояснительной записке к инвестиционному бюджету/отчёту."]
[null,"5 По лизингу отражается вся сумма на момент приобретения."]
[]
[]
[null,null,null,null,"Федотов Леонид Степанович"]
[null,null,null,null,"Исполнитель (ФИО):"]
[]
[null,null,null,null,"начальник ПТО филиала АО \"Вилюйская ГЭС-3\" \"Светлинская ГЭС\""]
[null,null,null,null,"Должность: "]
[]
[null,null,null,null,"(41136) 79365"]
[null,null,null,null,"Контактный телефон:"]
[]
[null,null,null,null,"pto@shpp.ru "]
[null,null,null,null,"Электронный адрес:"]

{"sheet":"14.ОВИЗ","index":23,"n_rows":82,"n_cols":72,"rows_kept":82,"cut":false,"hidden":false,"merged":[[13,56,14,56],[11,61,14,61],[13,28,14,28],[13,29,14,29],[13,30,13,33],[13,52,13,54],[13,55,14,55],[13,34,14,34],[13,48,14,48],[13,50,13,51],[13,39,14,39],[11,28,12,34],[12,36,12,39],[12,41,12,44],[11,49,14,49],[11,35,11,44],[13,27,14,27],[11,47,11,48],[13,45,14,45],[13,46,14,46],[13,47,14,47],[13,42,14,42],[13,43,14,43],[13,44,14,44],[13,41,14,41],[13,35,14,35],[13,36,14,36],[13,37,14,37],[13,38,14,38],[12,47,12,48],[11,70,14,70],[11,50,12,54],[11,55,11,59],[11,60,14,60],[13,57,14,57],[13,58,14,58],[13,59,14,59],[11,64,14,64],[11,65,14,65],[11,66,14,66],[11,67,14,67],[11,68,14,68],[11,69,14,69],[11,62,14,62],[11,63,14,63],[12,56,12,59],[11,1,14,1],[11,2,14,2],[11,3,14,3],[11,4,14,4],[11,5,14,5],[80,4,80,5],[5,2,5,5],[7,2,7,5],[71,4,71,5],[74,4,74,5],[77,4,77,5],[13,21,14,21],[13,23,13,26],[12,15,14,15],[12,13,14,13],[13,22,14,22],[12,14,14,14],[12,8,14,8],[11,16,11,20],[11,6,11,15],[11,21,12,27],[13,40,14,40],[12,9,14,9],[12,16,14,16],[12,17,14,17],[12,6,14,6],[12,7,14,7],[12,11,14,11],[12,12,14,12],[12,10,14,10],[12,18,14,18],[12,19,14,19],[12,20,14,20]]}
[null,"Назад к оглавлению",null,null,null,null,"plan_fields","plan_fields","plan_fields","plan_fields","plan_fields","plan_fields","plan_fields","plan_fields","plan_fields","plan_fields",null,null,"plan_fields","plan_fields","plan_fields","plan_fields","plan_fields","plan_fields","plan_fields","plan_fields","plan_fields","plan_fields","fact_fields","fact_fields","fact_fields","fact_fields","fact_fields","fact_fields","fact_fields",null,null,null,null,null,"base_fact","base_fact","base_fact","base_fact","base_fact","fact_fields","fact_fields","fact_fields","fact_fields","fact_fields","corr_fields","corr_fields","corr_fields","corr_fields","corr_fields","corr_fields","corr_fields","corr_fields","corr_fields","corr_fields","corr_fields","plan_fields","plan_fields","plan_fields","plan_fields","plan_fields","plan_fields","plan_fields","plan_fields",null,"plan_fields"]
[null,"Приложение № 2 к \"Положению об инвестиционном бюджете АК \"АЛРОСА\"\""]
[null,"Код формы: ОВИЗ"]
[]
[]
[null,null,{"$f":"org","v":"АО \"Вилюйская ГЭС-3\""}]
[null,null,"Организационно-правовая форма и название Общества/структурного подразделения"]
[null,null,{"$f":"period_txt","v":"12 месяцев 2017"}]
[null,null," Плановый / отчётный период "]
[null,null,"Бюджет инвестиций в оборудование взамен изношенного"]
[null,"Тыс. руб. без НДС 1"]
[null,"№","Общество / cтруктурное подразделение","Код проекта ","Приоритет ","Категория (вид) оборудования","Заменяемое оборудование",null,null,null,null,null,null,null,null,null,"Новое оборудование",null,null,null,null,"ПЛАН",null,null,null,null,null,null,"ФАКТ",null,null,null,null,null,null,"Плановый / отчётный период",null,null,null,null,null,null,null,null,null,"ПЛАН за","ФАКТ за","Отклонение за период3",null,"Комментарии по отклонениям4","Изменения к утверждённому плану по году",null,null,null,null,"Скорректированный план",null,null,null,null,"Комментарии по изменениям плана","Приобретение в лизинг  (-/л)5","Последствия неприобретения","Обосновывающий документ","Данная марка  обеспечивает минимизацию расходов на жизненном цикле (Да/Нет) ","Задействовать оборудование других подразделений вместо покупки невозможно (Да/Нет)","Имеется долгосрочная потребность в использовании  (Да/Нет)","Возможность аутсорсинга вместо приобретения отсутствует  (Да/Нет)","Наличие авансовых платежей в основном плановом/отчётном периоде за товары, работы, услуги  будущих периодов (1-й, 2-й год за плановым/отчётным)","Критерий инновационности расходов (принадлежность к ПИРиТМ)","Примечание к бюджету","Сверка"]
[null,null,null,null,null,null,"Наименование оборудования","Марка, модель","Осн. функц. хар-ки*","Инвент. номер","Год выпуска","Первоначальная стоимость","Износ в %% (для целей бухг. учёта)","Выработка ресурса (километраж/ машиночасы и т.п.)","Текущий статус (в эксплуатации, на консервации, др.)","Причина, основание замены","Наименование оборудования","Марка, модель","Осн. характеристики","Происхождение ","Производитель2",null,null,null,null,null,null,null,null,null,null,null,null,null,null,"ПЛАН    ","в т.ч. по кварталам:",null,null,null,"ФАКТ ","в т.ч. по кварталам:",null,null,null,{"$f":"period","v":"12 месяцев"},{"$f":"AT13","v":"12 месяцев"},"12 месяцев",null,null,null,null,null,null,null,"ПЛАН    ","в т.ч. по кварталам:"]
[null,null,null,null,null,null,null,null,null,null,null,null,null,null,null,null,null,null,null,null,null,"Кол-во оборудования, шт. ","Стоимость 1 ед. оборудования (закуп)\n","Накладные расходы",null,null,null,"Стоимость оборудования \nвкл. накладные расходы","Кол-во оборудования, шт.","Стоимость 1 ед. оборудования (закуп)\n","Накладные расходы",null,null,null,"Стоимость оборудования \nвкл. накладные расходы","Год   всего","1 кв.","2 кв.","3 кв.","4 кв.","Год        всего","1 кв.","2 кв.","3 кв.","4 кв.","Тыс.    руб.","Тыс.    руб.","Тыс.    руб.","% ",null,"Изменение всего",null,"В т.ч.",null,null,"Год   всего","1 кв.","2 кв.","3 кв.","4 кв."]
[null,null,null,null,null,null,null,null,null,null,null,null,null,null,null,null,null,null,null,null,null,null,null,"Транспортные","Монтаж","ПИР","Прочие",null,null,null,"Транспортные","Монаж","ПИР","Прочие",null,null,null,null,null,null,null,null,null,null,null,null,null,null,null,null,"Тыс.    руб.","%","Вновь добавлено\n(указывается со знаком \"+\")","Исключено (указывается со знаком \"-\")","Изменение стоимости\n(удорожание \"+\", удешвление \"-\")"]
[null,1,{"$f":"B16+1","v":2},3,4,5,6,7,8,9,10,11,12,13,14,15,16,17,18,19,20,21,22,23,24,25,26,27,28,29,30,31,32,33,{"$f":"AH16+1","v":34},35,36,37,38,39,40,41,42,43,44,45,46,47,48,49,50,51,52,53,54,55,56,57,58,59,60,61,62,63,64,65,66,67,{"$f":"BP16+1","v":68},{"$f":"BQ16+1","v":69},{"$f":"BR16+1","v":70}]
[null,null,"ОБОРУДОВАНИЕ  - ВСЕГО, в т.ч.:",null,null,null,null,null,null,null,null,null,null,null,null,null,null,null,null,null,null,null,null,null,null,null,null,null,null,null,null,null,null,null,null,{"$f":"SUMIF($C28:$C$10019,\"*\",AJ28:AJ$10019)","v":16990.739466246388},{"$f":"SUMIF($C28:$C$10019,\"*\",AK28:AK$10019)","v":0},{"$f":"SUMIF($C28:$C$10019,\"*\",AL28:AL$10019)","v":286.45999999999998},{"$f":"SUMIF($C28:$C$10019,\"*\",AM28:AM$10019)","v":1864.8629267209631},{"$f":"SUMIF($C28:$C$10019,\"*\",AN28:AN$10019)","v":14839.416539525426},{"$f":"SUMIF($C28:$C$10019,\"*\",AO28:AO$10019)","v":14729.413},{"$f":"SUMIF($C28:$C$10019,\"*\",AP28:AP$10019)","v":0},{"$f":"SUMIF($C28:$C$10019,\"*\",AQ28:AQ$10019)","v":286.81299999999999},{"$f":"SUMIF($C28:$C$10019,\"*\",AR28:AR$10019)","v":686.07999999999993},{"$f":"SUMIF($C28:$C$10019,\"*\",AS28:AS$10019)","v":13756.52},{"$f":"IF(period=period_1Q, AK17, IF(period=period_1H, SUM(AK17:AL17), IF(period=period_9M, SUM(AK17:AM17), IF(period=period_1Y,SUM(AK17:AN17),0))))","v":16990.739466246388},{"$f":"IF(period=period_1Q, AP17, IF(period=period_1H, SUM(AP17:AQ17), IF(period=period_9M, SUM(AP17:AR17), IF(period=period_1Y,SUM(AP17:AS17),0))))","v":14729.413},{"$f":"AU17-AT17","v":-2261.326466246388},{"$f":"IFERROR(AV17/AT17, 0)","v":-0.13309170390957462},null,{"$f":"SUM(BA17:BC17)","v":0},{"$f":"IFERROR(AY17/AJ17, 0)","v":0},{"$f":"SUMIF($C28:$C$10019,\"*\",BA28:BA$10019)","v":0},{"$f":"SUMIF($C28:$C$10019,\"*\",BB28:BB$10019)","v":0},{"$f":"SUMIF($C28:$C$10019,\"*\",BC28:BC$10019)","v":0},{"$f":"AJ17+AY17","v":16990.739466246388},{"$f":"SUMIF($C28:$C$10019,\"*\",BE28:BE$10019)","v":0},{"$f":"SUMIF($C28:$C$10019,\"*\",BF28:BF$10019)","v":286.45999999999998},{"$f":"SUMIF($C28:$C$10019,\"*\",BG28:BG$10019)","v":1864.8629267209631},{"$f":"SUMIF($C28:$C$10019,\"*\",BH28:BH$10019)","v":14839.416539525426},null,null,null,null,null,null,null,null,null,null,null,{"$f":"SUM(ABS(AJ17-SUM(AK17:AN17)), ABS(AO17-SUM(AP17:AS17)), ABS(BD17-SUM(BE17:BH17))*1, ABS(AY17-SUM(BA17:BC17)))","v":0}]
[null,"1.","Обогатительное и дробильно-размольное оборудование",null,null,null,null,null,null,null,null,null,null,null,null,null,null,null,null,null,null,null,null,null,null,null,null,null,null,null,null,null,null,null,null,{"$f":"SUM(AK18:AN18)","v":0},{"$f":"SUMIF($F:$F, $C18,AK:AK )","v":0},0,0,0,{"$f":"SUM(AP18:AS18)","v":0},{"$f":"SUMIF($F:$F, $C18,AP:AP )","v":0},0,0,0,0,0,{"$f":"AU18-AT18","v":0},{"$f":"IFERROR(AV18/AT18, 0)","v":0},null,{"$f":"SUM(BA18:BC18)","v":0},{"$f":"IFERROR(AY18/AJ18, 0)","v":0},{"$f":"SUMIF($F:$F, $C18,BA:BA )","v":0},0,0,{"$f":"AJ18+AY18","v":0},{"$f":"SUMIF($F:$F, $C18,BE:BE )","v":0},0,0,0,null,null,null,null,null,null,null,null,null,null,null,0]
[null,"2.","Горно-шахтное  оборудование",null,null,null,null,null,null,null,null,null,null,null,null,null,null,null,null,null,null,null,null,null,null,null,null,null,null,null,null,null,null,null,null,0,0,0,0,0,0,0,0,0,0,0,0,0,0,null,0,0,0,0,0,0,0,0,0,0,null,null,null,null,null,null,null,null,null,null,null,0]
[null,"3.","Оборудование для вскрышных и добычных работ",null,null,null,null,null,null,null,null,null,null,null,null,null,null,null,null,null,null,null,null,null,null,null,null,null,null,null,null,null,null,null,null,0,0,0,0,0,0,0,0,0,0,0,0,{"$f":"AU20-AT20","v":0},{"$f":"IFERROR(AV20/AT20, 0)","v":0},null,{"$f":"SUM(BA20:BC20)","v":0},{"$f":"IFERROR(AY20/AJ20, 0)","v":0},0,0,0,{"$f":"AJ20+AY20","v":0},0,0,0,0,null,null,null,null,null,null,null,null,null,null,null,0]
[null,"4.","Технологический транспорт",null,null,null,null,null,null,null,null,null,null,null,null,null,null,null,null,null,null,null,null,null,null,null,null,null,null,null,null,null,null,null,null,0,0,0,0,0,0,0,0,0,0,0,0,0,0,null,0,0,0,0,0,0,0,0,0,0,null,null,null,null,null,null,null,null,null,null,null,0]
[null,"5.","Автотранспорт и дорожно-строительная техника ",null,null,null,null,null,null,null,null,null,null,null,null,null,null,null,null,null,null,null,null,null,null,null,null,null,null,null,null,null,null,null,null,1013,0,0,1013,0,932.6,0,0,0,932.6,1013,932.6,-80.399999999999977,-7.9368213228035514E-2,null,0,0,0,0,0,1013,0,0,1013,0,null,null,null,null,null,null,null,null,null,null,null,0]
[null,"6.","Электротехническое и энергетическое оборудование",null,null,null,null,null,null,null,null,null,null,null,null,null,null,null,null,null,null,null,null,null,null,null,null,null,null,null,null,null,null,null,null,717.12653952542371,0,85,203.30949152542374,428.817048,713.66000000000008,0,85,173,455.66,717.12653952542371,713.66000000000008,-3.4665395254236273,-4.8339300449230281E-3,null,0,0,0,0,0,717.12653952542371,0,85,203.30949152542374,428.817048,null,null,null,null,null,null,null,null,null,null,null,0]
[null,"7.","Вентиляционное, отопительное и насосное оборудование",null,null,null,null,null,null,null,null,null,null,null,null,null,null,null,null,null,null,null,null,null,null,null,null,null,null,null,null,null,null,null,null,478.76400000000001,0,0,228.92399999999998,249.84,327.48999999999995,0,0,327.48999999999995,0,478.76400000000001,327.48999999999995,-151.27400000000006,-0.31596778370971929,null,0,0,0,0,0,478.76400000000001,0,0,228.92399999999998,249.84,null,null,null,null,null,null,null,null,null,null,null,0]
[null,"8.","Гаражное, компрессорное оборудование, станки",null,null,null,null,null,null,null,null,null,null,null,null,null,null,null,null,null,null,null,null,null,null,null,null,null,null,null,null,null,null,null,null,78.459999999999994,0,78.459999999999994,0,0,78.462999999999994,0,78.462999999999994,0,0,78.459999999999994,78.462999999999994,3.0000000000001137E-3,3.8236043843998396E-5,null,0,0,0,0,0,78.459999999999994,0,78.459999999999994,0,0,null,null,null,null,null,null,null,null,null,null,null,0]
[null,"9.","Оборудование автоматизации, ИТ и связи ",null,null,null,null,null,null,null,null,null,null,null,null,null,null,null,null,null,null,null,null,null,null,null,null,null,null,null,null,null,null,null,null,12737.640847457629,0,42,185.59322033898306,12510.047627118645,12452.17,0,42,185.59,12224.58,12737.640847457629,12452.17,-285.47084745762913,-2.2411594963019209E-2,null,0,0,0,0,0,12737.640847457629,0,42,185.59322033898306,12510.047627118645,null,null,null,null,null,null,null,null,null,null,null,0]
[null,"10.","Прочее оборудование",null,null,null,null,null,null,null,null,null,null,null,null,null,null,null,null,null,null,null,null,null,null,null,null,null,null,null,null,null,null,null,null,1965.7480792633362,0,81,234.03621485655623,1650.71186440678,225.03,0,81.349999999999994,0,143.68,1965.7480792633362,225.03,-1740.7180792633362,-0.88552449707374004,null,0,0,0,0,0,1965.7480792633362,0,81,234.03621485655623,1650.71186440678,null,null,null,null,null,null,null,null,null,null,null,0]
[null,1,{"$f":"org","v":"АО \"Вилюйская ГЭС-3\""},null,"Высокий","Автотранспорт и дорожно-строительная техника ","Автомобиль","УАЗ 220695","6 местный, 4х4, специальный пассажирский, категория В",70012709,2010,501.85599999999999,100,"303 381 км","В эксплуатации","Полный физический износ","Автомобиль","ГАЗ Соболь 4х4","8-местный, 4х4, ","РФ","ГАЗ",null,null,null,null,null,null,{"$f":"V28*W28+SUM(X28:AA28)","v":0},null,null,null,null,null,null,{"$f":"AC28*AD28+SUM(AE28:AH28)","v":0},{"$f":"SUM(AK28:AN28)","v":1013},0,0,1013,0,932.6,null,null,null,932.6,{"$f":"IF(period=period_1Q, AK28, IF(period=period_1H, SUM(AK28:AL28), IF(period=period_9M, SUM(AK28:AM28), IF(period=period_1Y,SUM(AK28:AN28),0))))","v":1013},{"$f":"IF(period=period_1Q, AP28, IF(period=period_1H, SUM(AP28:AQ28), IF(period=period_9M, SUM(AP28:AR28), IF(period=period_1Y,SUM(AP28:AS28),0))))","v":932.6},-80.399999999999977,-7.9368213228035514E-2,null,0,0,{"$f":"IF(AND(AJ28=0, BD28>0), BD28, 0)","v":0},{"$f":"IF(AND(AJ28>0, BD28=0), -AJ28, 0)","v":0},{"$f":"IF(AND(AJ28>0, BD28>0), BD28-AJ28, 0)","v":0},{"$f":"SUM(BE28:BH28)","v":1013},{"$f":"AK28","v":0},{"$f":"AL28","v":0},{"$f":"AM28","v":1013},{"$f":"AN28","v":0},null," -","Выход из строя имеющегося автомобиля","отсутствует","Да","Да","Да","Да"," -"," -",null,0]
[null,2,"АО \"Вилюйская ГЭС-3\"",null,"Высокий","Автотранспорт и дорожно-строительная техника ","Балластный тягач","МАЗ-631708","грузоподъемность 14 тонн, 6х6, мощность 400 л.с.",5000110,2000,1694.826,100,"482 934 км","В эксплуатации","Полный физический износ","Самосвал","МАЗ-5550В5-480-021","грузоподъемность 10,2 тонны","РФ","МАЗ",null,null,null,null,null,null,{"$f":"V29*W29+SUM(X29:AA29)","v":0},null,null,null,null,null,null,{"$f":"AC29*AD29+SUM(AE29:AH29)","v":0},0,0,0,null,0,{"$f":"SUM(AP29:AS29)","v":0},null,null,null,null,0,0,0,0,null,0,0,0,0,0,0,{"$f":"AK29","v":0},0,null,0,"Перенос на 2018 г. (с учетом разработки модели развития автотранспорта общего назначения, спец-го, вспомог-ых машин и мех-змов на Мирнинской и Ленской производственных площадках)."," -","Дополнительные расходы, связанные с арендой самосвала в г. Мирный (75 км от п. Светлый), ввиду того что в п. Светлый арендовать самосвал невозможно ввиду его отсутствия. ","отсутствует","Да","Да","Да","Да"," -"," -","Перенос на 2018 г. (с учетом разработки модели развития автотранспорта общего назначения, спец-го, вспомог-ых машин и мех-змов на Мирнинской и Ленской производственных площадках).",0]
[null,null,null,null,null,null,null,null,null,null,null,null,null,null,null,null,"Автобус","ЛИАЗ 525660-01",null,null,null,null,null,null,null,null,null,{"$f":"V30*W30+SUM(X30:AA30)","v":0},null,null,null,null,null,null,{"$f":"AC30*AD30+SUM(AE30:AH30)","v":0},0,0,0,null,0,0,null,null,null,null,{"$f":"IF(period=period_1Q, AK30, IF(period=period_1H, SUM(AK30:AL30), IF(period=period_9M, SUM(AK30:AM30), IF(period=period_1Y,SUM(AK30:AN30),0))))","v":0},{"$f":"IF(period=period_1Q, AP30, IF(period=period_1H, SUM(AP30:AQ30), IF(period=period_9M, SUM(AP30:AR30), IF(period=period_1Y,SUM(AP30:AS30),0))))","v":0},0,0,null,{"$f":"SUM(BA30:BC30)","v":0},0,0,0,0,0,0,0,null,0,"Вновь добавленная позиция взамен позиции № 4 статьи ОВИЗ \"Автобус ПАЗ 32054 (24 местный)\"."," -",null,"отсутствует",null,null,null,null," -"," -","Вновь добавленная позиция взамен позиции № 4 статьи ОВИЗ \"Автобус ПАЗ 32054 (24 местный)\".",{"$f":"SUM(ABS(AJ30-SUM(AK30:AN30)), ABS(AO30-SUM(AP30:AS30)), ABS(BD30-SUM(BE30:BH30))*1, ABS(AY30-SUM(BA30:BC30)))","v":0}]
[null,4]
[null,3,"АО \"Вилюйская ГЭС-3\"",null,"Высокий","Автотранспорт и дорожно-строительная техника ","Автобус","ПАЗ 3205 ","24 местный, среднего класса, категория Д",50000641,2002,384.17700000000002,100,"270 338 км","В эксплуатации","Полный физический износ","Автобус","ПАЗ 32054","24 местный, среднего класса, категория Д","РФ","ПАЗ",null,null,null,null,null,null,{"$f":"V32*W32+SUM(X32:AA32)","v":0},null,null,null,null,null,null,{"$f":"AC32*AD32+SUM(AE32:AH32)","v":0},0,0,0,null,0,0,null,null,null,null,{"$f":"IF(period=period_1Q, AK32, IF(period=period_1H, SUM(AK32:AL32), IF(period=period_9M, SUM(AK32:AM32), IF(period=period_1Y,SUM(AK32:AN32),0))))","v":0},{"$f":"IF(period=period_1Q, AP32, IF(period=period_1H, SUM(AP32:AQ32), IF(period=period_9M, SUM(AP32:AR32), IF(period=period_1Y,SUM(AP32:AS32),0))))","v":0},0,0,null,{"$f":"SUM(BA32:BC32)","v":0},0,0,0,0,0,0,0,null,0,"Позиция исключена в пользу позиции № 3 статьи ОВИЗ \"Автобус ЛИАЗ 525660-01 (44 местный)\"."," -","Выход из строя имеющегося автомобиля","отсутствует","Да","Да","Да","Да"," -"," -","Позиция исключена в пользу позиции № 3 статьи ОВИЗ \"Автобус ЛИАЗ 525660-01 (44 местный)\".",0]
[null,4,"АО \"Вилюйская ГЭС-3\"",null,"Высокий","Электротехническое и энергетическое оборудование","Колонка торможения ГА-1","КТ-1","входное давление 8 кгс/см2",null,2004,null,100,null,"В эксплуатации","Полный физический износ","Колонка торможения ГА-1","КТ-2","входное давление 8 кгс/см2","РФ","ООО \"ПромАвтоматика\"",null,null,null,null,null,null,0,null,null,null,null,null,null,0,428.817048,0,0,null,428.817048,455.66,null,null,null,455.66,428.817048,455.66,26.842952000000025,6.259767918555334E-2,null,0,0,0,0,0,428.817048,0,0,null,428.817048,"Перенос на 4-ый квартал"," -","Отказ в работе, возможность развития нештатной ситуации с развитием в аварийную.","отсутствует","Да","Да","Да","Да"," -"," -","Перенос на 4-ый квартал",0]
[null,5,"АО \"Вилюйская ГЭС-3\"",null,"Высокий","Электротехническое и энергетическое оборудование","Колонка торможения ГА-2","КТ-1","входное давление 8 кгс/см2",null,2005,null,100,null,"В эксплуатации","Полный физический износ","Колонка торможения ГА-2","КТ-2","входное давление 8 кгс/см3","РФ","ООО \"ПромАвтоматика\"",null,null,null,null,null,null,0,null,null,null,null,null,null,0,0,0,0,0,0,0,null,null,null,null,0,0,0,0,null,0,0,0,0,0,0,0,0,0,0,"Перенос на 2018 г. в связи с оптимизацией."," -","Отказ в работе, возможность развития нештатной ситуации с развитием в аварийную.","отсутствует","Да","Да","Да","Да"," -"," -","Перенос на 2018 г. в связи с оптимизацией.",0]
[null,6,"АО \"Вилюйская ГЭС-3\"",null,"Высокий","Электротехническое и энергетическое оборудование","Колонка торможения ГА-3","КТ-1","входное давление 8 кгс/см2",null,2008,null,100,null,"В эксплуатации","Полный физический износ","Колонка торможения ГА-3","КТ-2","входное давление 8 кгс/см4","РФ","ООО \"ПромАвтоматика\"",null,null,null,null,null,null,0,null,null,null,null,null,null,0,0,0,0,null,0,0,null,null,null,null,0,0,0,0,null,0,0,0,0,0,0,0,0,null,0,"Перенос на 2018 г. в связи с оптимизацией."," -","Отказ в работе, возможность развития нештатной ситуации с развитием в аварийную.","отсутствует","Да","Да","Да","Да"," -"," -","Перенос на 2018 г. в связи с оптимизацией.",0]
[null,7,"АО \"Вилюйская ГЭС-3\"",null,"Высокий","Электротехническое и энергетическое оборудование","Генератор водорода","6.140","производительность 6 л/час (100 мл/мин), выходное давление 140 кПа (1,4 атм)",70004951,2006,48,100,null,"В эксплуатации","Полный физический износ","Генератор водорода",null,"производительность 6 л/час (100 мл/мин), выходное давление 140 кПа (1,4 атм)","РФ",null,null,null,null,null,null,null,0,1,85,null,null,null,null,85,85,0,85,null,0,85,null,85,null,null,85,85,0,0,null,0,0,0,0,0,85,0,85,null,0,"Перенос на 3 квартал. В результате тендерных процедур произошло удешевление позиции."," -","Выход из строя, невозможность выполнения химических лабораторных анализов на станции.","отсутствует","Да","Да","Да","Да"," -"," -","Перенос на 3 квартал. В результате тендерных процедур произошло удешевление позиции.",0]
[null,8,"АО \"Вилюйская ГЭС-3\"",null,"Высокий","Электротехническое и энергетическое оборудование","Дистиллятор ","GFL 2004 1.75.05.0210","производительность 4 л/час, объем бака 8 л, потребление охлаждающей воды 48 л/ч, мошность 3 кВт",7004805,2010,75,100,null,"В эксплуатации","Полный физический износ","Дистиллятор ","GFL-2004","производительность 4 л/час, объем бака 8 л, потребление охлаждающей воды 48 л/ч, мошность 3 кВт","РФ",null,null,null,null,null,null,null,0,null,null,null,null,null,null,0,203.30949152542374,0,null,203.30949152542374,0,173,null,null,173,null,203.30949152542374,173,-30.309491525423738,-0.14908055348529339,"Удешевление позиции ввиду проведения тендерных процедур.",0,0,0,0,0,203.30949152542374,0,null,203.30949152542374,0,"Перенос на 3 квартал"," -","Выход из строя, невозможность выполнения химических лабораторных анализов на станции.","отсутствует","Да","Да","Да","Да"," -"," -","Перенос на 3 квартал",0]
[null,9,"АО \"Вилюйская ГЭС-3\"",null,"Высокий","Вентиляционное, отопительное и насосное оборудование","Насос артезианский","24А-18Х1-15","производительность 1200 м3/час, напор 45 м",70004248,"2005",1118.29,100,null,"В эксплуатации","Полный физический износ","Насос артезианский ","24А-18Х1-15","производительность 1200 м3/час, напор 45 м","Импорт",null,null,null,null,null,null,null,{"$f":"V38*W38+SUM(X38:AA38)","v":0},null,null,null,null,null,null,0,0,0,0,0,null,0,null,null,null,null,0,0,0,0,null,0,0,0,0,0,0,0,0,0,null,"Отказ от позиции в пользу позиций № 8 и № 16 статьи ТП, согласовано с УИД заявкой от 03.03.2017 г. Оставшаяся часть суммы оптимизирована."," -","Выход из строя, невозможность откачки дренажных вод.","отсутствует","Да","Да","Да","Да"," -"," -","Отказ от позиции в пользу позиций № 8 и № 16 статьи ТП, согласовано с УИД заявкой от 03.03.2017 г. Оставшаяся часть суммы оптимизирована.",0]
[null,10,"АО \"Вилюйская ГЭС-3\"",null,"Средний","Вентиляционное, отопительное и насосное оборудование","Задвижка ","30с6нж Ду250","диаметр 250, давление 16 кгс/см2",70002527,2004,28.952760000000001,100,null,"В эксплуатации","Полный физический износ","Задвижка","Ду-250","диаметр 250, давление 16 кгс/см2","РФ",null,null,null,null,null,null,null,0,null,null,null,null,null,null,0,0,0,0,0,0,0,null,null,null,null,0,0,0,0,"В корректировке учтен перенос на 3-ий квартал ввиду долгого времени оформления договора на монтаж оборудования ввиду тендерных процедур.",0,0,0,0,0,0,0,0,0,0,"Перенос на 2018 г. в связи с оптимизацией."," -","Выход из строя, невозможность оперативной замены.","отсутствует","Да","Да","Да","Да"," -"," -","Перенос на 2018 г. в связи с оптимизацией.",0]
[null,11,"АО \"Вилюйская ГЭС-3\"",null,"Средний","Вентиляционное, отопительное и насосное оборудование","Задвижка","30ч6бр ДУ300 РУ10","диаметр 300, давление 16 кгс/см2",70002489,2004,14.49658,100,null,"В эксплуатации","Полный физический износ","Задвижка","Ду-300","диаметр 300, давление 16 кгс/см2","РФ",null,null,null,null,null,null,null,0,null,null,null,null,null,null,0,0,0,0,0,0,0,null,null,null,null,{"$f":"IF(period=period_1Q, AK40, IF(period=period_1H, SUM(AK40:AL40), IF(period=period_9M, SUM(AK40:AM40), IF(period=period_1Y,SUM(AK40:AN40),0))))","v":0},{"$f":"IF(period=period_1Q, AP40, IF(period=period_1H, SUM(AP40:AQ40), IF(period=period_9M, SUM(AP40:AR40), IF(period=period_1Y,SUM(AP40:AS40),0))))","v":0},0,0,null,{"$f":"SUM(BA40:BC40)","v":0},0,0,0,0,0,0,0,0,0,"Перенос на 2018 г. в связи с оптимизацией."," -","Выход из строя, невозможность оперативной замены.","отсутствует","Да","Да","Да","Да"," -"," -","Перенос на 2018 г. в связи с оптимизацией.",0]
[null,12,"АО \"Вилюйская ГЭС-3\"",null,"Средний","Вентиляционное, отопительное и насосное оборудование","Задвижка","30ч6бр ДУ300 РУ11","диаметр 300, давление 16 кгс/см2",70002490,2004,14.49658,100,null,"В эксплуатации","Полный физический износ","Задвижка","Ду-300","диаметр 300, давление 16 кгс/см2","РФ",null,null,null,null,null,null,null,0,null,null,null,null,null,null,0,0,0,0,0,0,0,null,null,null,null,0,0,0,0,null,0,0,0,0,0,0,{"$f":"AK41","v":0},0,0,0,"Перенос на 2018 г. в связи с оптимизацией."," -","Выход из строя, невозможность оперативной замены.","отсутствует","Да","Да","Да","Да"," -"," -","Перенос на 2018 г. в связи с оптимизацией.",0]
[null,13,"АО \"Вилюйская ГЭС-3\"",null,"Высокий","Вентиляционное, отопительное и насосное оборудование","Насос масляный","НМШ 5/25-4/4 2,2/1500","производительность 3,6 м3/час, напор 25 м",7004597,2007,23.52525,100,null,"В эксплуатации","Полный физический износ","Насос масляный","НМШ 5/25-4/4 2,2/1500","производительность 3,6 м3/час, напор 25 м","РФ",null,null,null,null,null,null,null,0,null,null,null,null,null,null,0,69.347999999999999,0,0,69.347999999999999,0,60.9,null,null,60.9,null,69.347999999999999,60.9,-8.4480000000000004,-0.12182038414950684,null,0,0,0,0,0,69.347999999999999,0,0,69.347999999999999,0,null," -","Выход из строя, невозможность оперативной замены.","отсутствует","Да","Да","Да","Да"," -"," -",null,0]
[null,14,"АО \"Вилюйская ГЭС-3\"",null,"Высокий","Вентиляционное, отопительное и насосное оборудование","Насос","НМШ 32-10","производительность 10 м3/час, напор 32 м",70003185,2005,67.346000000000004,100,null,"В эксплуатации","Полный физический износ","Насос","НМШ 32-10","производительность 10 м3/час, напор 32 м","РФ",null,null,null,null,null,null,null,0,null,null,null,null,null,null,0,0,0,0,0,0,0,null,null,null,null,0,0,0,0,null,0,0,0,0,0,0,0,0,0,0,"Перенос на 2018 г. в связи с оптимизацией."," -","Выход из строя, невозможность оперативной замены.","отсутствует","Да","Да","Да","Да"," -"," -","Перенос на 2018 г. в связи с оптимизацией.",0]
[null,15,"АО \"Вилюйская ГЭС-3\"",null,"Высокий","Вентиляционное, отопительное и насосное оборудование","Насос песковый с электродвигателем","П12,5/12,5","производительность 12,5 м3/час, напор 12,5 м",70004856,2006,36.32,100,null,"В эксплуатации","Полный физический износ","Насос песковый с электродвигателем","П12,5/12,5","производительность 12,5 м3/час, напор 12,5 м","РФ",null,null,null,null,null,null,null,0,null,null,null,null,null,null,0,0,0,0,0,0,0,null,null,null,null,0,0,0,0,null,0,0,0,0,0,0,0,0,0,0,"Перенос на 2018 г. в связи с оптимизацией."," -","Выход из строя, невозможность оперативной замены.","отсутствует","Да","Да","Да","Да"," -"," -","Перенос на 2018 г. в связи с оптимизацией.",0]
[null,16,"АО \"Вилюйская ГЭС-3\"",null,"Высокий","Вентиляционное, отопительное и насосное оборудование","Насос песковый с электродвигателем","П12,5/12,5","производительность 12,5 м3/час, напор 12,5 м",70004857,2006,36.32,100,null,"В эксплуатации","Полный физический износ","Насос песковый с электродвигателем","П12,5/12,5","производительность 12,5 м3/час, напор 12,5 м","РФ",null,null,null,null,null,null,null,0,null,null,null,null,null,null,0,83.28,0,0,0,83.28,48.263333333333328,null,null,{"$f":"144.79/3","v":48.263333333333328},null,83.28,48.263333333333328,-35.016666666666673,-0.42046910022414352,null,0,0,0,0,0,83.28,0,0,0,83.28,null," -","Выход из строя, невозможность оперативной замены.","отсутствует","Да","Да","Да","Да"," -"," -",null,0]
[null,17,"АО \"Вилюйская ГЭС-3\"",null,"Средний","Вентиляционное, отопительное и насосное оборудование","Насос песковый с электродвигателем","П12,5/12,5","производительность 12,5 м3/час, напор 12,5 м",70004858,2006,35.131070000000001,100,null,"В эксплуатации","Полный физический износ","Насос песковый с электродвигателем","П12,5/12,5","производительность 12,5 м3/час, напор 12,5 м","РФ",null,null,null,null,null,null,null,0,null,null,null,null,null,null,0,83.28,0,0,0,83.28,48.263333333333328,null,null,{"$f":"144.79/3","v":48.263333333333328},null,83.28,48.263333333333328,-35.016666666666673,-0.42046910022414352,null,0,0,0,0,0,83.28,0,0,0,83.28,null," -","Выход из строя, невозможность оперативной замены.","отсутствует","Да","Да","Да","Да"," -"," -",null,0]
[null,18,"АО \"Вилюйская ГЭС-3\"",null,"Средний","Вентиляционное, отопительное и насосное оборудование","Насос песковый с электродвигателем","П12,5/12,5","производительность 12,5 м3/час, напор 12,5 м",70004859,2006,35.131070000000001,100,null,"В эксплуатации","Полный физический износ","Насос песковый с электродвигателем","П12,5/12,5","производительность 12,5 м3/час, напор 12,5 м","РФ",null,null,null,null,null,null,null,0,null,null,null,null,null,null,0,83.28,0,0,0,83.28,48.263333333333328,null,null,{"$f":"144.79/3","v":48.263333333333328},null,83.28,48.263333333333328,-35.016666666666673,-0.42046910022414352,null,0,0,0,0,0,83.28,0,0,0,83.28,null," -","Выход из строя, невозможность оперативной замены.","отсутствует","Да","Да","Да","Да"," -"," -",null,0]
[null,19,"АО \"Вилюйская ГЭС-3\"",null,"Высокий","Вентиляционное, отопительное и насосное оборудование","Насос консольный моноблочный","КМ 65-50-160","производительность 25 м3/час, напор 32 м",7004732,2009,24.57788,100,null,"В эксплуатации","Полный физический износ","Насос консольный моноблочный","КМ 65-50-160","производительность 25 м3/час, напор 32 м","РФ",null,null,null,null,null,null,null,0,null,null,null,null,null,null,0,79.787999999999997,0,0,79.787999999999997,0,60.9,null,null,{"$f":"121.8/2","v":60.9},null,79.787999999999997,60.9,-18.887999999999998,-0.23672732741765679,null,0,0,0,0,0,79.787999999999997,0,0,79.787999999999997,0,null," -","Выход из строя, невозможность оперативной замены.","отсутствует","Да","Да","Да","Да"," -"," -",null,0]
[null,20,"АО \"Вилюйская ГЭС-3\"",null,"Средний","Вентиляционное, отопительное и насосное оборудование","Насос консольный моноблочный","КМ 65-50-160","производительность 25 м3/час, напор 32 м",7004731,2009,24.57788,100,null,"В эксплуатации","Полный физический износ","Насос консольный моноблочный","КМ 65-50-160","производительность 25 м3/час, напор 32 м","РФ",null,null,null,null,null,null,null,0,null,null,null,null,null,null,0,79.787999999999997,0,0,79.787999999999997,0,60.9,null,null,{"$f":"121.8/2","v":60.9},null,79.787999999999997,60.9,-18.887999999999998,-0.23672732741765679,null,0,0,0,0,0,79.787999999999997,0,0,79.787999999999997,0,null," -","Выход из строя, невозможность оперативной замены.","отсутствует","Да","Да","Да","Да"," -"," -",null,0]
[null,21,"АО \"Вилюйская ГЭС-3\"",null,"Высокий","Гаражное, компрессорное оборудование, станки","Сварочный аппарат","SPASE 280","max ток, А 230; min ток, А 45; диаметр электр/провол, мм 1.6-5",60000154,2004,27.87,100,null,"В эксплуатации","Полный физический износ","Сварочный инвертор ","EWM PICO 162",null,"РФ",null,null,null,null,null,null,null,0,1,78.462999999999994,null,null,null,null,78.462999999999994,78.459999999999994,0,78.459999999999994,null,0,78.462999999999994,null,78.462999999999994,null,null,78.459999999999994,78.462999999999994,3.0000000000001137E-3,3.8236043843998396E-5,null,0,0,0,0,0,78.459999999999994,0,78.459999999999994,null,0,"В результате тендерных процедур произошло удешевдение позиции."," -","Выход из строя.","отсутствует","Да","Да","Да","Да"," -"," -","В результате тендерных процедур произошло удешевдение позиции.",0]
[null,22,"АО \"Вилюйская ГЭС-3\"",null,"Высокий","Оборудование автоматизации, ИТ и связи ","Система часофикации","СТС","управление часовыми системами среднего размера, синхронизация точного времени по GPS",70005383,2006,441.06799999999998,100,null,"В эксплуатации","Полный физический износ","Система часофикации","СВР-01","управление часовыми системами среднего размера, синхронизация точного времени по ГЛОНАСС, и по GPS","РФ","ЗАО \"СИСТЕМЫ ВРЕМЕНИ\"",null,null,null,null,null,null,0,null,null,null,null,null,null,0,912.59,0,0,null,912.59,627.12,null,null,null,627.12,912.59,627.12,-285.47000000000003,-0.31281298282909087,"Удешевление позиции ввиду проведения тендерных процедур.",0,0,0,0,0,912.59,0,0,null,912.59,"Перенос на 4-ый квартал"," -","Выход из строя, отсутствие возможности синхронизации времени по ГЛОНАСС.","отсутствует","Да","Да","Да","Да"," -"," -","Перенос на 4-ый квартал",0]
[null,23,"АО \"Вилюйская ГЭС-3\"",null,"Высокий","Оборудование автоматизации, ИТ и связи ","Принтер цветной","HP Offise Jet 7000","формат А3",42054,2006,11.23729,100,null,"Другое","Полный физический износ","Принтер струйный","EPSON L1300","формат А3","РФ",null,null,null,null,null,null,null,0,1,42,null,null,null,null,42,42,0,42,0,0,42,null,42,null,null,42,42,0,0,null,0,0,0,0,0,42,0,42,0,0,"В результате тендерных процедур произошло удешевление позиции."," -","Невозможность выдачи результатов наблюдений на бумажном носителе.","отсутствует","Да","Да","Да","Да"," -"," -","В результате тендерных процедур произошло удешевление позиции.",0]
[null,24,"АО \"Вилюйская ГЭС-3\"",null,"Высокий","Оборудование автоматизации, ИТ и связи ","Плоттер струйный","HP Degignjet 500","формат А1",42040,2002,77.283330000000007,100,null,"Другое","Полный физический износ","Плоттер струйный","Canon imagePROGRAF IPF670 MFP","формат А1","РФ",null,null,null,null,null,null,null,0,null,null,null,null,null,null,0,185.59322033898306,0,null,185.59322033898306,0,185.59,null,null,185.59,null,185.59322033898306,185.59,-3.2203389830556262E-3,-1.7351598173541729E-5,"В корректировке учтен перенос на 3-ий квартал ввиду долгого времени оформления договора на монтаж оборудования ввиду тендерных процедур.",0,0,0,0,0,185.59322033898306,0,null,{"$f":"219/1.18","v":185.59322033898306},0,"Перенос на 3 квартал. В результате предтендерных процедур произошло удешевление позиции. (согласовано с УИД 22.05.2017)"," -","Невозможность выдачи результатов замеров и наблюдений на бумажном носителе.","отсутствует","Да","Да","Да","Да"," -"," -","Перенос на 3 квартал. В результате предтендерных процедур произошло удешевление позиции. (согласовано с УИД 22.05.2017)",0]
[null,25,"АО \"Вилюйская ГЭС-3\"",null,"Высокий","Оборудование автоматизации, ИТ и связи ","Комплекс защит ПС \"Районная\"","Терминал основной защиты АТ (1АТ, 2АТ) RET 521V2,3, дифференциальная защита шин 110,220 кВ RED 521V1.0","осуществление релейной защиты трансформаторов и шин 110, 220 кВ",70002626,2004,26597.4,100,null,"В эксплуатации","Полный физический износ","Модернизация МП защит ПС \"Районная\" ","Модернизация МП защит ПС \"Районная\" REL 670-RU31 3*ВОМ (4 шт.); REL 670-RU11 1*ВОМ (3 шт.); REL 670-RU31 1*ВОМ (3 шт.)","осуществление релейной защиты трансформаторов и шин 110, 220 кВ","РФ","\"АВВ\"",null,null,null,null,null,null,0,null,null,null,null,null,null,0,11597.457627118645,0,0,0,11597.457627118645,11597.46,null,null,null,11597.46,11597.457627118645,11597.46,2.3728813539491966E-3,2.046035803916735E-7,"Изменение марки оборудования согласовано с УИД заявкой на вторизацию отклонений от 18.12.2017",0,0,0,0,0,11597.457627118645,0,0,0,{"$f":"13685/1.18","v":11597.457627118645},"В результате тендерных процедур произошло удешевление позиции."," -","Отказ в работе, возможность развития нештатной ситуации с развитием в аварийную.","отсутствует","Да","Да","Да","Да"," -"," -","В результате тендерных процедур произошло удешевление позиции.",0]
[null,26,"АО \"Вилюйская ГЭС-3\"",null,"Высокий","Прочее оборудование","Штангенщелемер (измерение при помощи шкалы нониуса)","измерение при помощи шкалы нониуса","ЩМ-000",60141,"2005",46.23,100,null,"В эксплуатации","Полный физический износ","Штангенщелемер в цифровом эл.варианте с отображением цифр на дисплее","в цифровом эл.варианте с отображением цифр на дисплее",null,"РФ",null,null,null,null,null,null,null,0,null,null,null,null,null,null,0,127.11864406779661,0,null,null,127.11864406779661,0,null,null,null,null,127.11864406779661,0,-127.11864406779661,-1,"Отказ от позиции в связи со значительным удорожанией ее стоимости.",0,0,0,0,0,127.11864406779661,0,null,null,127.11864406779661,"Перенос на 4-ый квартал"," -","Невозможность выполнения замеров.","отсутствует","Да","Да","Да","Да"," -"," -","Перенос на 4-ый квартал",0]
[null,27,"АО \"Вилюйская ГЭС-3\"",null,"Высокий","Прочее оборудование","Мотокоса","STIHL FS55","до 7700 об./мин, мощность 1 л/с",28212,2013,11.4,100,null,"В эксплуатации","Полный физический износ","Кусторез","STIHL FS 560 C-EM",null,"РФ",null,null,null,null,null,null,null,0,null,null,null,null,null,null,0,89.4,0,null,89.4,0,0,null,null,null,null,89.4,0,-89.4,-1,"Отказ от приобретения позиции в связи с удорожанием ее стоимомти.",0,0,0,0,0,89.4,0,null,89.4,0,"Перенос на 3 квартал"," -","Применение ручного труда при вырубке древесно-кустарниковой растительности.","отсутствует","Да","Да","Да","Да"," -"," -","Перенос на 3 квартал",0]
[null,28,"АО \"Вилюйская ГЭС-3\"",null,"Высокий","Прочее оборудование","Таль электрическая","ТЭ 3200","г/п 2,0 т высота подъема 6 м",7004271,2005,5.6669999999999998,100,null,"В эксплуатации","Полный физический износ","Таль электрическая","серия HVAT,тип Т10"," высота подъема 6м, г/п 2т","РФ",null,null,null,null,null,null,null,0,null,null,null,null,null,null,0,0,0,0,0,null,0,null,null,null,null,0,0,0,0,null,0,0,0,0,0,0,0,0,0,null,"Перенос  позиции на 2018 г. в пользу приобретения позиций № 25, 31, 34 статьи ОВИЗ, согласованных с УИД заявкой от 22.05.2017 г."," -","Отсутствие возможности подъема, транспортировки и опускания грузов в столярном цехе.","отсутствует","Да","Да","Да","Да"," -"," -","Перенос  позиции на 2018 г. в пользу приобретения позиций № 25, 31, 34 статьи ОВИЗ, согласованных с УИД заявкой от 22.05.2017 г.",0]
[null,29,"АО \"Вилюйская ГЭС-3\"",null,"Высокий","Прочее оборудование","Перфоратор пневматический ","ПП-54В2","диаметр шпура до 40 мм глубиной до 2-х метров",7004575,2007,27.043380000000003,100,null,"В эксплуатации","Полный физический износ","Бетонолом пневматический"," СРВ-40",null,"РФ",null,null,null,null,null,null,null,0,null,null,null,null,null,null,0,62.636214856556222,0,null,62.636214856556222,0,62.18,null,null,null,62.18,62.636214856556222,62.18,-0.45621485655622251,-7.2835636316946097E-3,"В корректировке учтен перенос на 3-ий квартал ввиду долгого времени оформления договора на монтаж оборудования ввиду тендерных процедур.",0,0,0,0,0,62.636214856556222,0,null,62.636214856556222,0,"Перенос на 3 квартал"," -","Применение ручного труда.","отсутствует","Да","Да","Да","Да"," -"," -","Перенос на 3 квартал",0]
[null,30,"АО \"Вилюйская ГЭС-3\"",null,"Высокий","Прочее оборудование","Перфоратор пневматический ","ПП-54В2","диаметр шпура до 40 мм глубиной до 2-х метров",7004574,2007,27.043369999999999,100,null,"В эксплуатации","Полный физический износ","Бетонолом пневматический"," Б-200",null,"РФ",null,null,null,null,null,null,null,0,null,null,null,null,null,null,0,82,0,null,82,0,81.5,null,null,null,81.5,82,81.5,-0.5,-6.0975609756097563E-3,"В корректировке учтен перенос на 3-ий квартал ввиду долгого времени оформления договора на монтаж оборудования ввиду тендерных процедур.",0,0,0,0,0,82,0,null,82,0,"Перенос на 3 квартал"," -","Применение ручного труда.","отсутствует","Да","Да","Да","Да"," -"," -","Перенос на 3 квартал",0]
[null,31,"АО \"Вилюйская ГЭС-3\"",null,"Высокий","Прочее оборудование","Кран-балка","2ТЭ10000-12","г/п 10 тонн, высота подъема 12",70003467,2005,120,100,null,"В эксплуатации","Полный физический износ","Тельфер электрический ","MD (двухскоростной) ","г/п 10 тонн с высотой подъема 36 метра","РФ",null,null,null,null,null,null,null,0,null,null,null,null,null,null,0,664.47457627118661,0,0,null,664.47457627118661,0,null,null,null,null,664.47457627118661,0,-664.47457627118661,-1,"С УИД согласована замена на мультиплексор (ЗЕЛАКС) - система уплотнения оптоволокна (СДТУ)",0,0,0,0,0,664.47457627118661,0,0,null,664.47457627118661,"Перенос на 4-ый квартал"," -","Отсутствие возможности подъема, транспортировки и опускания грузов в помещении водоприемника станции.","отсутствует","Да","Да","Да","Да"," -"," -","Перенос на 4-ый квартал",0]
[null,32,"АО \"Вилюйская ГЭС-3\"",null,"Высокий","Прочее оборудование","Кран-балка","2ТЭ10000-12","г/п 10 тонн, высота подъема 12",70003464,2005,335.98572999999999,100,null,"В эксплуатации","Полный физический износ","Тельфер электрический ","MD (двухскоростной) ","г/п 10 тонн с высотой подъема 24 метра","РФ",null,null,null,null,null,null,null,0,null,null,null,null,null,null,0,859.11864406779682,0,0,null,859.11864406779682,0,null,null,null,null,859.11864406779682,0,-859.11864406779682,-1,"Отказ от позиции в связи с удорожанией ее стоимости.",0,0,0,0,0,859.11864406779682,0,0,null,859.11864406779682,"Перенос на 4-ый квартал"," -","Отсутствие возможности подъема, транспортировки и опускания грузов в помещении водоприемника станции.","отсутствует","Да","Да","Да","Да"," -"," -","Перенос на 4-ый квартал",0]
[null,33,"АО \"Вилюйская ГЭС-3\"",null,"Высокий","Прочее оборудование",null,null,null,null,null,null,null,null,null,null,"Сервер АСКУЭ Светлинской ГЭС и ПС \"Районная\"",null,null,null,null,null,null,null,null,null,null,null,1,81.348889999999997,null,null,null,null,81.348889999999997,81,null,81,null,null,81.349999999999994,null,81.349999999999994,null,null,{"$f":"IF(period=period_1Q, AK62, IF(period=period_1H, SUM(AK62:AL62), IF(period=period_9M, SUM(AK62:AM62), IF(period=period_1Y,SUM(AK62:AN62),0))))","v":81},{"$f":"IF(period=period_1Q, AP62, IF(period=period_1H, SUM(AP62:AQ62), IF(period=period_9M, SUM(AP62:AR62), IF(period=period_1Y,SUM(AP62:AS62),0))))","v":81.349999999999994},{"$f":"AU62-AT62","v":0.34999999999999432},{"$f":"IFERROR(AV62/AT62, 0)","v":4.3209876543209179E-3},"С УИД согласована замена взамен позиции № 28 заявкой от 22.05.2017 г.",{"$f":"SUM(BA62:BC62)","v":0},{"$f":"IFERROR(AY62/AJ62, 0)","v":0},{"$f":"IF(AND(AJ62=0, BD62>0), BD62, 0)","v":0},{"$f":"IF(AND(AJ62>0, BD62=0), -AJ62, 0)","v":0},{"$f":"IF(AND(AJ62>0, BD62>0), BD62-AJ62, 0)","v":0},81,null,81,null,null,"Перенос на 3 квартал",null,null,null,null,null,null,null,null,null,"Перенос на 3 квартал"]
[]
[]
[null,"1 Форма заполняется по освоениию (начислению). Подробнее -порядок заполнения формы определён в \"Положении об инвестиционном бюджете АК \"АЛРОСА\" . "]
[null,"2 Производитель указывается как для импртного, так и для российского оборудования%"]
[null,"3 В графе \"Отклонение\" производится сравнение факта с плановым периодом нарастающим итогом."]
[null,"4 При отклонении более 10% (не зависимо +/-) в графе \"Комментарии по отклонениям\" в форме указывается причина отклонения. Подробно причины отклонений указываются в Пояснительной записке к инвестиционному бюджету/отчёту."]
[null,"5 По лизингу отражается вся сумма на момент приобретения."]
[]
[]
[null,null,null,null,"Федотов Леонид Степанович"]
[null,null,null,null,"Исполнитель (ФИО):"]
[]
[null,null,null,null,"начальник ПТО филиала АО \"Вилюйская ГЭС-3\" \"Светлинская ГЭС\""]
[null,null,null,null,"Должность: "]
[]
[null,null,null,null,"(41136) 79365"]
[null,null,null,null,"Контактный телефон:"]
[]
[null,null,null,null,"pto@shpp.ru"]
[null,null,null,null,"Электронный адрес:"]

{"sheet":"15.ГРР","index":24,"n_rows":60,"n_cols":42,"rows_kept":60,"cut":false,"hidden":false,"merged":[[11,39,14,39],[11,18,11,19],[11,20,14,20],[13,16,14,16],[13,32,14,32],[13,33,14,33],[11,21,12,25],[12,18,12,19],[12,27,12,30],[11,26,11,30],[11,31,14,31],[11,38,14,38],[13,27,14,27],[13,28,14,28],[13,29,14,29],[13,30,14,30],[0,1,0,5],[13,19,14,19],[13,21,13,22],[13,23,13,25],[13,26,14,26],[13,14,14,14],[13,36,14,36],[11,1,14,1],[11,6,11,15],[13,15,14,15],[11,2,14,2],[12,7,12,10],[12,12,12,15],[11,40,14,40],[13,6,14,6],[13,7,14,7],[13,8,14,8],[13,9,14,9],[13,10,14,10],[13,11,14,11],[13,12,14,12],[13,13,14,13],[11,32,12,34],[11,35,12,36],[11,37,14,37],[13,34,14,34],[13,35,14,35],[13,17,14,17],[13,18,14,18],[58,4,58,5],[5,2,5,5],[7,2,7,5],[49,4,49,5],[52,4,52,5],[55,4,55,5],[11,3,14,3],[11,4,14,4],[11,5,14,5]]}
[null,"Назад к оглавлению",null,null,null,null,null,null,null,null,null,"base_fact","base_fact","base_fact","base_fact","base_fact","fact_fields","fact_fields","fact_fields","fact_fields","fact_fields","corr_fields","corr_fields","corr_fields","corr_fields","corr_fields","corr_fields","corr_fields","corr_fields","corr_fields","corr_fields","corr_fields","plan_fields","plan_fields","plan_fields","plan_fields","plan_fields","plan_fields","plan_fields",null,"plan_fields"]
[]
[null,"Приложение № 2 к \"Положению об инвестиционном бюджете АК \"АЛРОСА\"\""]
[null,"Код формы: ГРР"]
[]
[null,null,{"$f":"org","v":"АО \"Вилюйская ГЭС-3\""}]
[null,null,"Организационно-правовая форма и название Общества/структурного подразделения"]
[null,null,{"$f":"period_txt","v":"12 месяцев 2017"}]
[null,null," Плановый / отчётный период "]
[null,null,"Бюджет инвестиций в геолого-разведочные работы"]
[null,"Тыс. руб. без НДС 1"]
[null,"№","Общество / cтруктурное подразделение","Код проекта ","Приоритет","Наименование ","Плановый / отчётный период",null,null,null,null,null,null,null,null,null,"ПЛАН за","ФАКТ за","Отклонение за период2",null,"Комментарии по отклонениям3","Изменения к утверждённому плану по году",null,null,null,null,"Скорректированный план",null,null,null,null,"Комментарии по изменениям плана","Общая стоимость работ \n",null,null,"Сроки выполнения ГРР (мес. год)",null,"Основание и цели проведения работ","Наличие авансовых платежей в основном плановом/отчётном периоде за товары, работы, услуги  будущих периодов (1-й, 2-й год за плановым/отчётным)","Критерий инновационности расходов (принадлежность к ПИРиТМ)","Примечание к бюджету","Сверка"]
[null,null,null,null,null,null,"ПЛАН    ","в т.ч. по кварталам:",null,null,null,"ФАКТ ","в т.ч. по кварталам:",null,null,null,{"$f":"period","v":"12 месяцев"},{"$f":"Q13","v":"12 месяцев"},"12 месяцев",null,null,null,null,null,null,null,"ПЛАН    ","в т.ч. по кварталам:"]
[null,null,null,null,null,null,"Год   всего","1 кв.","2 кв.","3 кв.","4 кв.","Год        всего","1 кв.","2 кв.","3 кв.","4 кв.","Тыс.    руб.","Тыс.    руб.","Тыс.    руб.","% ",null,"Изменение всего",null,"В т.ч.",null,null,"Год   всего","1 кв.","2 кв.","3 кв.","4 кв.",null,"Общая плановая стоимость ","Освоено на начало план./отчётного периода, факт (прогноз)","Остаток к освоению на конец планового (ПЛАН) периода ","Начало","Ожидаемое окончание"]
[null,null,null,null,null,null,null,null,null,null,null,null,null,null,null,null,null,null,null,null,null,"Тыс.    руб.","%","Вновь добавлено\n(указывается со знаком \"+\")","Исключено (указывается со знаком \"-\")","Изменение стоимости\n(удорожание \"+\", удешвление \"-\")"]
[null,1,{"$f":"B16+1","v":2},3,4,5,6,7,8,9,10,11,12,13,14,15,16,17,18,19,20,21,22,23,24,25,26,27,28,29,30,31,32,33,34,35,36,37,{"$f":"AL16+1","v":38},{"$f":"AM16+1","v":39},{"$f":"AN16+1","v":40}]
[null,null,null,null,null,"ГРР  - ВСЕГО ",{"$f":"SUMIF($C18:$C$10020,\"*\",G18:G$10020)","v":0},{"$f":"SUMIF($C18:$C$10020,\"*\",H18:H$10020)","v":0},{"$f":"SUMIF($C18:$C$10020,\"*\",I18:I$10020)","v":0},{"$f":"SUMIF($C18:$C$10020,\"*\",J18:J$10020)","v":0},{"$f":"SUMIF($C18:$C$10020,\"*\",K18:K$10020)","v":0},{"$f":"SUMIF($C18:$C$10020,\"*\",L18:L$10020)","v":0},{"$f":"SUMIF($C18:$C$10020,\"*\",M18:M$10020)","v":0},{"$f":"SUMIF($C18:$C$10020,\"*\",N18:N$10020)","v":0},{"$f":"SUMIF($C18:$C$10020,\"*\",O18:O$10020)","v":0},{"$f":"SUMIF($C18:$C$10020,\"*\",P18:P$10020)","v":0},{"$f":"IF(period=period_1Q, H17, IF(period=period_1H, SUM(H17:I17), IF(period=period_9M, SUM(H17:J17), IF(period=period_1Y,SUM(H17:K17),0))))","v":0},{"$f":"IF(period=period_1Q, M17, IF(period=period_1H, SUM(M17:N17), IF(period=period_9M, SUM(M17:O17), IF(period=period_1Y,SUM(M17:P17),0))))","v":0},{"$f":"R17-Q17","v":0},{"$f":"IFERROR(S17/Q17, 0)","v":0},null,{"$f":"SUM(X17:Z17)","v":0},{"$f":"IFERROR(V17/G17, 0)","v":0},{"$f":"SUMIF($C18:$C$10019,\"*\",X18:X$10019)","v":0},{"$f":"SUMIF($C18:$C$10019,\"*\",Y18:Y$10019)","v":0},{"$f":"SUMIF($C18:$C$10019,\"*\",Z18:Z$10019)","v":0},{"$f":"G17+V17","v":0},{"$f":"SUMIF($C18:$C$10019,\"*\",AB18:AB$10019)","v":0},{"$f":"SUMIF($C18:$C$10019,\"*\",AC18:AC$10019)","v":0},{"$f":"SUMIF($C18:$C$10019,\"*\",AD18:AD$10019)","v":0},{"$f":"SUMIF($C18:$C$10019,\"*\",AE18:AE$10019)","v":0},null,{"$f":"SUMIF($C:$C, org,AG:AG )","v":0},{"$f":"SUMIF($C:$C, org,AH:AH )","v":0},{"$f":"AG17-(AH17+G17)","v":0},null,null,null,null,null,null,{"$f":"SUM(ABS(G17-SUM(H17:K17)), ABS(L17-SUM(M17:P17)), ABS(AA17-SUM(AB17:AE17))*1, ABS(V17-SUM(X17:Z17)), ABS(MIN(AI17, 0)))","v":0}]
[null,1,{"$f":"org","v":"АО \"Вилюйская ГЭС-3\""},null,null,null,{"$f":"SUM(H18:K18)","v":0},null,null,null,null,{"$f":"SUM(M18:P18)","v":0},null,null,null,null,0,0,{"$f":"R18-Q18","v":0},{"$f":"IFERROR(S18/Q18, 0)","v":0},null,0,0,{"$f":"IF(AND(G18=0, AA18>0), AA18, 0)","v":0},{"$f":"IF(AND(G18>0, AA18=0), -G18, 0)","v":0},{"$f":"IF(AND(G18>0, AA18>0), AA18-G18, 0)","v":0},{"$f":"SUM(AB18:AE18)","v":0},{"$f":"H18","v":0},0,0,0,null,null,null,0,null,null,null," -"," -",null,0]
[null,{"$f":"B18+1","v":2},"АО \"Вилюйская ГЭС-3\"",null,null,null,0,null,null,null,null,0,null,null,null,null,0,0,0,0,null,{"$f":"SUM(X19:Z19)","v":0},0,0,0,0,0,0,0,0,0,null,null,null,0,null,null,null," -"," -",null,0]
[null,3,"АО \"Вилюйская ГЭС-3\"",null,null,null,{"$f":"SUM(H20:K20)","v":0},null,null,null,null,{"$f":"SUM(M20:P20)","v":0},null,null,null,null,{"$f":"IF(period=period_1Q, H20, IF(period=period_1H, SUM(H20:I20), IF(period=period_9M, SUM(H20:J20), IF(period=period_1Y,SUM(H20:K20),0))))","v":0},{"$f":"IF(period=period_1Q, M20, IF(period=period_1H, SUM(M20:N20), IF(period=period_9M, SUM(M20:O20), IF(period=period_1Y,SUM(M20:P20),0))))","v":0},{"$f":"R20-Q20","v":0},{"$f":"IFERROR(S20/Q20, 0)","v":0},null,{"$f":"SUM(X20:Z20)","v":0},{"$f":"IFERROR(V20/G20, 0)","v":0},{"$f":"IF(AND(G20=0, AA20>0), AA20, 0)","v":0},{"$f":"IF(AND(G20>0, AA20=0), -G20, 0)","v":0},{"$f":"IF(AND(G20>0, AA20>0), AA20-G20, 0)","v":0},{"$f":"SUM(AB20:AE20)","v":0},{"$f":"H20","v":0},{"$f":"I20","v":0},{"$f":"J20","v":0},{"$f":"K20","v":0},null,null,null,{"$f":"AG20-(AH20+G20)","v":0},null,null,null," -"," -",null,{"$f":"SUM(ABS(G20-SUM(H20:K20)), ABS(L20-SUM(M20:P20)), ABS(AA20-SUM(AB20:AE20))*1, ABS(V20-SUM(X20:Z20)), ABS(MIN(AI20, 0)))","v":0}]
[null,4,"АО \"Вилюйская ГЭС-3\"",null,null,null,0,null,null,null,null,0,null,null,null,null,0,0,0,0,null,0,0,0,0,0,0,0,0,0,0,null,null,null,0,null,null,null," -"," -",null,0]
[null,5,"АО \"Вилюйская ГЭС-3\"",null,null,null,0,null,null,null,null,0,null,null,null,null,0,0,0,0,null,0,0,0,0,0,0,0,0,0,0,null,null,null,0,null,null,null," -"," -",null,0]
[null,6,"АО \"Вилюйская ГЭС-3\"",null,null,null,0,null,null,null,null,0,null,null,null,null,0,0,0,0,null,0,0,0,0,0,0,0,0,0,0,null,null,null,0,null,null,null," -"," -",null,0]
[null,7,"АО \"Вилюйская ГЭС-3\"",null,null,null,0,null,null,null,null,0,null,null,null,null,0,0,0,0,null,0,0,0,0,0,0,0,0,0,0,null,null,null,0,null,null,null," -"," -",null,0]
[null,8,"АО \"Вилюйская ГЭС-3\"",null,null,null,0,null,null,null,null,0,null,null,null,null,0,0,0,0,null,0,0,0,0,0,0,0,0,0,0,null,null,null,0,null,null,null," -"," -",null,0]
[null,9,"АО \"Вилюйская ГЭС-3\"",null,null,null,0,null,null,null,null,0,null,null,null,null,0,0,0,0,null,0,0,0,0,0,0,0,0,0,0,null,null,null,0,null,null,null," -"," -",null,0]
[null,10,"АО \"Вилюйская ГЭС-3\"",null,null,null,0,null,null,null,null,0,null,null,null,null,0,0,0,0,null,0,0,0,0,0,0,0,0,0,0,null,null,null,0,null,null,null," -"," -",null,0]
[null,11,"АО \"Вилюйская ГЭС-3\"",null,null,null,0,null,null,null,null,0,null,null,null,null,0,0,0,0,null,0,0,0,0,0,0,0,0,0,0,null,null,null,0,null,null,null," -"," -",null,0]
[null,12,"АО \"Вилюйская ГЭС-3\"",null,null,null,0,null,null,null,null,0,null,null,null,null,0,0,0,0,null,0,0,0,0,0,0,0,0,0,0,null,null,null,0,null,null,null," -"," -",null,0]
[null,13,"АО \"Вилюйская ГЭС-3\"",null,null,null,0,null,null,null,null,0,null,null,null,null,0,0,0,0,null,0,0,0,0,0,0,0,0,0,0,null,null,null,0,null,null,null," -"," -",null,0]
[null,14,"АО \"Вилюйская ГЭС-3\"",null,null,null,0,null,null,null,null,0,null,null,null,null,0,0,0,0,null,0,0,0,0,0,0,0,0,0,0,null,null,null,0,null,null,null," -"," -",null,0]
[null,15,"АО \"Вилюйская ГЭС-3\"",null,null,null,0,null,null,null,null,0,null,null,null,null,0,0,0,0,null,0,0,0,0,0,0,0,0,0,0,null,null,null,0,null,null,null," -"," -",null,0]
[null,16,"АО \"Вилюйская ГЭС-3\"",null,null,null,0,null,null,null,null,0,null,null,null,null,0,0,0,0,null,0,0,0,0,0,0,0,0,0,0,null,null,null,0,null,null,null," -"," -",null,0]
[null,17,"АО \"Вилюйская ГЭС-3\"",null,null,null,0,null,null,null,null,0,null,null,null,null,0,0,0,0,null,0,0,0,0,0,0,0,0,0,0,null,null,null,0,null,null,null," -"," -",null,0]
[null,18,"АО \"Вилюйская ГЭС-3\"",null,null,null,0,null,null,null,null,0,null,null,null,null,0,0,0,0,null,0,0,0,0,0,0,0,0,0,0,null,null,null,0,null,null,null," -"," -",null,0]
[null,19,"АО \"Вилюйская ГЭС-3\"",null,null,null,{"$f":"SUM(H36:K36)","v":0},null,null,null,null,{"$f":"SUM(M36:P36)","v":0},null,null,null,null,{"$f":"IF(period=period_1Q, H36, IF(period=period_1H, SUM(H36:I36), IF(period=period_9M, SUM(H36:J36), IF(period=period_1Y,SUM(H36:K36),0))))","v":0},{"$f":"IF(period=period_1Q, M36, IF(period=period_1H, SUM(M36:N36), IF(period=period_9M, SUM(M36:O36), IF(period=period_1Y,SUM(M36:P36),0))))","v":0},{"$f":"R36-Q36","v":0},{"$f":"IFERROR(S36/Q36, 0)","v":0},null,{"$f":"SUM(X36:Z36)","v":0},{"$f":"IFERROR(V36/G36, 0)","v":0},{"$f":"IF(AND(G36=0, AA36>0), AA36, 0)","v":0},{"$f":"IF(AND(G36>0, AA36=0), -G36, 0)","v":0},{"$f":"IF(AND(G36>0, AA36>0), AA36-G36, 0)","v":0},{"$f":"SUM(AB36:AE36)","v":0},{"$f":"H36","v":0},{"$f":"I36","v":0},{"$f":"J36","v":0},{"$f":"K36","v":0},null,null,null,{"$f":"AG36-(AH36+G36)","v":0},null,null,null," -"," -",null,{"$f":"SUM(ABS(G36-SUM(H36:K36)), ABS(L36-SUM(M36:P36)), ABS(AA36-SUM(AB36:AE36))*1, ABS(V36-SUM(X36:Z36)), ABS(MIN(AI36, 0)))","v":0}]
[null,20,"АО \"Вилюйская ГЭС-3\"",null,null,null,{"$f":"SUM(H37:K37)","v":0},null,null,null,null,{"$f":"SUM(M37:P37)","v":0},null,null,null,null,{"$f":"IF(period=period_1Q, H37, IF(period=period_1H, SUM(H37:I37), IF(period=period_9M, SUM(H37:J37), IF(period=period_1Y,SUM(H37:K37),0))))","v":0},{"$f":"IF(period=period_1Q, M37, IF(period=period_1H, SUM(M37:N37), IF(period=period_9M, SUM(M37:O37), IF(period=period_1Y,SUM(M37:P37),0))))","v":0},{"$f":"R37-Q37","v":0},{"$f":"IFERROR(S37/Q37, 0)","v":0},null,{"$f":"SUM(X37:Z37)","v":0},{"$f":"IFERROR(V37/G37, 0)","v":0},{"$f":"IF(AND(G37=0, AA37>0), AA37, 0)","v":0},{"$f":"IF(AND(G37>0, AA37=0), -G37, 0)","v":0},{"$f":"IF(AND(G37>0, AA37>0), AA37-G37, 0)","v":0},{"$f":"SUM(AB37:AE37)","v":0},{"$f":"H37","v":0},{"$f":"I37","v":0},{"$f":"J37","v":0},{"$f":"K37","v":0},null,null,null,{"$f":"AG37-(AH37+G37)","v":0},null,null,null," -"," -",null,{"$f":"SUM(ABS(G37-SUM(H37:K37)), ABS(L37-SUM(M37:P37)), ABS(AA37-SUM(AB37:AE37))*1, ABS(V37-SUM(X37:Z37)), ABS(MIN(AI37, 0)))","v":0}]
[null,21,"АО \"Вилюйская ГЭС-3\"",null,null,null,0,null,null,null,null,0,null,null,null,null,0,0,0,0,null,0,0,0,0,0,0,0,0,0,0,null,null,null,0,null,null,null," -"," -",null,0]
[null,22,"АО \"Вилюйская ГЭС-3\"",null,null,null,0,null,null,null,null,0,null,null,null,null,0,0,0,0,null,0,0,0,0,0,0,0,0,0,0,null,null,null,0,null,null,null," -"," -",null,0]
[null,23,"АО \"Вилюйская ГЭС-3\"",null,null,null,0,null,null,null,null,0,null,null,null,null,0,0,0,0,null,0,0,0,0,0,0,0,0,0,0,null,null,null,0,null,null,null," -"," -",null,0]
[null,24,"АО \"Вилюйская ГЭС-3\"",null,null,null,0,null,null,null,null,0,null,null,null,null,0,0,0,0,null,0,0,0,0,0,0,0,0,0,0,null,null,null,0,null,null,null," -"," -",null,0]
[null,25,"АО \"Вилюйская ГЭС-3\"",null,null,null,0,null,null,null,null,0,null,null,null,null,0,0,0,0,null,0,0,0,0,0,0,0,0,0,0,null,null,null,0,null,null,null," -"," -",null,0]
[]
[]
[null,"1  Форма заполняется по освоениию (начислению). Подробнее -порядок заполнения формы определён в \"Положении об инвестиционном бюджете АК \"АЛРОСА\" ."]
[null,"2  В графе \"Отклонение\" производится сравнение факта с плановым периодом нарастающим итогом."]
[null,"3  При отклонении более 10% (не зависимо +/-) в графе \"Комментарии по отклонениям\" в форме указывается причина отклонения. Подробно причины отклонений указываются в Пояснительной записке к инвестиционному бюджету/отчёту."]
[]
[]
[]
[null,null,null,null,"Исполнитель (ФИО):"]
[]
[]
[null,null,null,null,"Должность: "]
[]
[]
[null,null,null,null,"Контактный телефон:"]
[]
[]
[null,null,null,null,"Электронный адрес:"]

{"sheet":"16.НИОКР","index":25,"n_rows":60,"n_cols":42,"rows_kept":60,"cut":false,"hidden":false,"merged":[[49,4,49,5],[11,38,14,38],[13,14,14,14],[13,36,14,36],[11,6,11,15],[13,15,14,15],[13,30,14,30],[13,29,14,29],[13,32,14,32],[13,33,14,33],[11,20,14,20],[11,21,12,25],[11,26,11,30],[0,1,0,5],[11,40,14,40],[13,6,14,6],[13,7,14,7],[13,8,14,8],[13,9,14,9],[13,10,14,10],[13,11,14,11],[13,12,14,12],[13,13,14,13],[11,32,12,34],[11,35,12,36],[11,37,14,37],[11,18,11,19],[12,12,12,15],[11,39,14,39],[5,2,5,5],[13,34,14,34],[13,35,14,35],[13,26,14,26],[13,27,14,27],[13,28,14,28],[11,31,14,31],[12,27,12,30],[7,2,7,5],[52,4,52,5],[55,4,55,5],[58,4,58,5],[11,1,14,1],[13,23,13,25],[11,5,14,5],[11,4,14,4],[11,3,14,3],[11,2,14,2],[13,16,14,16],[13,17,14,17],[13,18,14,18],[13,19,14,19],[13,21,13,22],[12,18,12,19],[12,7,12,10]]}
[null,"Назад к оглавлению",null,null,null,null,null,null,null,null,null,"base_fact","base_fact","base_fact","base_fact","base_fact","fact_fields","fact_fields","fact_fields","fact_fields","fact_fields","corr_fields","corr_fields","corr_fields","corr_fields","corr_fields","corr_fields","corr_fields","corr_fields","corr_fields","corr_fields","corr_fields","plan_fields","plan_fields","plan_fields","plan_fields","plan_fields","plan_fields","plan_fields",null,"plan_fields"]
[]
[null,"Приложение № 2 к \"Положению об инвестиционном бюджете АК \"АЛРОСА\"\""]
[null,"Код формы: НИОКР"]
[]
[null,null,{"$f":"org","v":"АО \"Вилюйская ГЭС-3\""}]
[null,null,"Организационно-правовая форма и название Общества/структурного подразделения"]
[null,null,{"$f":"period_txt","v":"12 месяцев 2017"}]
[null,null," Плановый / отчётный период "]
[null,null,"Бюджет научно-исследовательских и опытно-конструкторских разработок"]
[null,"Тыс. руб. без НДС 1"]
[null,"№","Общество/ cтруктурное подразделение","Код проекта ","Приоритет","Наименование работы","Плановый / отчётный период",null,null,null,null,null,null,null,null,null,"ПЛАН за","ФАКТ за","Отклонение за период2",null,"Комментарии по отклонениям3","Изменения к утверждённому плану по году",null,null,null,null,"Скорректированный план",null,null,null,null,"Комментарии по изменениям плана","Общая стоимость работ \n",null,null,"Сроки выполнения НИОКР (мес. год)",null,"Основание и цели проведения работ","Наличие авансовых платежей в основном плановом/отчётном периоде за товары, работы, услуги  будущих периодов (1-й, 2-й год за плановым/отчётным)","Критерий инновационности расходов (принадлежность к ПИРиТМ)","Примечание к бюджету","Сверка"]
[null,null,null,null,null,null,"ПЛАН    ","в т.ч. по кварталам:",null,null,null,"ФАКТ ","в т.ч. по кварталам:",null,null,null,{"$f":"period","v":"12 месяцев"},{"$f":"Q13","v":"12 месяцев"},"12 месяцев",null,null,null,null,null,null,null,"ПЛАН    ","в т.ч. по кварталам:"]
[null,null,null,null,null,null,"Год   всего","1 кв.","2 кв.","3 кв.","4 кв.","Год        всего","1 кв.","2 кв.","3 кв.","4 кв.","Тыс.    руб.","Тыс.    руб.","Тыс.    руб.","% ",null,"Изменение всего",null,"В т.ч.",null,null,"Год   всего","1 кв.","2 кв.","3 кв.","4 кв.",null,"Общая плановая стоимость ","Освоено на начало план./отчётного периода, факт (прогноз)","Остаток к освоению на конец планового (ПЛАН) периода ","Начало","Ожидаемое окончание"]
[null,null,null,null,null,null,null,null,null,null,null,null,null,null,null,null,null,null,null,null,null,"Тыс.    руб.","%","Вновь добавлено\n(указывается со знаком \"+\")","Исключено (указывается со знаком \"-\")","Изменение стоимости\n(удорожание \"+\", удешвление \"-\")"]
[null,1,{"$f":"B16+1","v":2},3,4,5,6,7,8,9,10,11,12,13,14,15,16,17,18,19,20,21,22,23,24,25,26,27,28,29,30,31,32,33,34,35,36,37,38,{"$f":"AM16+1","v":39},{"$f":"AN16+1","v":40}]
[null,null,null,null,null,"НИОКР  - ВСЕГО ",{"$f":"SUMIF($C18:$C$10020,\"*\",G18:G$10020)","v":0},{"$f":"SUMIF($C18:$C$10020,\"*\",H18:H$10020)","v":0},{"$f":"SUMIF($C18:$C$10020,\"*\",I18:I$10020)","v":0},{"$f":"SUMIF($C18:$C$10020,\"*\",J18:J$10020)","v":0},{"$f":"SUMIF($C18:$C$10020,\"*\",K18:K$10020)","v":0},{"$f":"SUMIF($C18:$C$10020,\"*\",L18:L$10020)","v":0},{"$f":"SUMIF($C18:$C$10020,\"*\",M18:M$10020)","v":0},{"$f":"SUMIF($C18:$C$10020,\"*\",N18:N$10020)","v":0},{"$f":"SUMIF($C18:$C$10020,\"*\",O18:O$10020)","v":0},{"$f":"SUMIF($C18:$C$10020,\"*\",P18:P$10020)","v":0},{"$f":"IF(period=period_1Q, H17, IF(period=period_1H, SUM(H17:I17), IF(period=period_9M, SUM(H17:J17), IF(period=period_1Y,SUM(H17:K17),0))))","v":0},{"$f":"IF(period=period_1Q, M17, IF(period=period_1H, SUM(M17:N17), IF(period=period_9M, SUM(M17:O17), IF(period=period_1Y,SUM(M17:P17),0))))","v":0},{"$f":"R17-Q17","v":0},{"$f":"IFERROR(S17/Q17, 0)","v":0},null,{"$f":"SUM(X17:Z17)","v":0},{"$f":"IFERROR(V17/G17, 0)","v":0},{"$f":"SUMIF($C18:$C$10019,\"*\",X18:X$10019)","v":0},{"$f":"SUMIF($C18:$C$10019,\"*\",Y18:Y$10019)","v":0},{"$f":"SUMIF($C18:$C$10019,\"*\",Z18:Z$10019)","v":0},{"$f":"G17+V17","v":0},{"$f":"SUMIF($C18:$C$10019,\"*\",AB18:AB$10019)","v":0},{"$f":"SUMIF($C18:$C$10019,\"*\",AC18:AC$10019)","v":0},{"$f":"SUMIF($C18:$C$10019,\"*\",AD18:AD$10019)","v":0},{"$f":"SUMIF($C18:$C$10019,\"*\",AE18:AE$10019)","v":0},null,{"$f":"SUMIF($C:$C, org,AG:AG )","v":0},{"$f":"SUMIF($C:$C, org,AH:AH )","v":0},{"$f":"AG17-(AH17+G17)","v":0},null,null,null,null,null,null,{"$f":"SUM(ABS(G17-SUM(H17:K17)), ABS(L17-SUM(M17:P17)), ABS(AA17-SUM(AB17:AE17))*1, ABS(V17-SUM(X17:Z17)), ABS(MIN(AI17, 0)))","v":0}]
[null,1,{"$f":"org","v":"АО \"Вилюйская ГЭС-3\""},null,null,null,{"$f":"SUM(H18:K18)","v":0},null,null,null,null,{"$f":"SUM(M18:P18)","v":0},null,null,null,null,0,0,{"$f":"R18-Q18","v":0},{"$f":"IFERROR(S18/Q18, 0)","v":0},null,0,0,{"$f":"IF(AND(G18=0, AA18>0), AA18, 0)","v":0},{"$f":"IF(AND(G18>0, AA18=0), -G18, 0)","v":0},{"$f":"IF(AND(G18>0, AA18>0), AA18-G18, 0)","v":0},{"$f":"SUM(AB18:AE18)","v":0},{"$f":"H18","v":0},{"$f":"I18","v":0},{"$f":"J18","v":0},{"$f":"K18","v":0},null,null,null,0,null,null,null," -"," -",null,0]
[null,{"$f":"B18+1","v":2},"АО \"Вилюйская ГЭС-3\"",null,null,null,0,null,null,null,null,0,null,null,null,null,0,0,0,0,null,{"$f":"SUM(X19:Z19)","v":0},0,0,0,0,0,0,0,0,0,null,null,null,0,null,null,null," -"," -",null,0]
[null,3,"АО \"Вилюйская ГЭС-3\"",null,null,null,{"$f":"SUM(H20:K20)","v":0},null,null,null,null,{"$f":"SUM(M20:P20)","v":0},null,null,null,null,{"$f":"IF(period=period_1Q, H20, IF(period=period_1H, SUM(H20:I20), IF(period=period_9M, SUM(H20:J20), IF(period=period_1Y,SUM(H20:K20),0))))","v":0},{"$f":"IF(period=period_1Q, M20, IF(period=period_1H, SUM(M20:N20), IF(period=period_9M, SUM(M20:O20), IF(period=period_1Y,SUM(M20:P20),0))))","v":0},{"$f":"R20-Q20","v":0},{"$f":"IFERROR(S20/Q20, 0)","v":0},null,{"$f":"SUM(X20:Z20)","v":0},{"$f":"IFERROR(V20/G20, 0)","v":0},{"$f":"IF(AND(G20=0, AA20>0), AA20, 0)","v":0},{"$f":"IF(AND(G20>0, AA20=0), -G20, 0)","v":0},{"$f":"IF(AND(G20>0, AA20>0), AA20-G20, 0)","v":0},{"$f":"SUM(AB20:AE20)","v":0},{"$f":"H20","v":0},{"$f":"I20","v":0},{"$f":"J20","v":0},{"$f":"K20","v":0},null,null,null,{"$f":"AG20-(AH20+G20)","v":0},null,null,null," -"," -",null,{"$f":"SUM(ABS(G20-SUM(H20:K20)), ABS(L20-SUM(M20:P20)), ABS(AA20-SUM(AB20:AE20))*1, ABS(V20-SUM(X20:Z20)), ABS(MIN(AI20, 0)))","v":0}]
[null,4,"АО \"Вилюйская ГЭС-3\"",null,null,null,0,null,null,null,null,0,null,null,null,null,0,0,0,0,null,0,0,0,0,0,0,0,0,0,0,null,null,null,0,null,null,null," -"," -",null,0]
[null,5,"АО \"Вилюйская ГЭС-3\"",null,null,null,0,null,null,null,null,0,null,null,null,null,0,0,0,0,null,0,0,0,0,0,0,0,0,0,0,null,null,null,0,null,null,null," -"," -",null,0]
[null,6,"АО \"Вилюйская ГЭС-3\"",null,null,null,0,null,null,null,null,0,null,null,null,null,0,0,0,0,null,0,0,0,0,0,0,0,0,0,0,null,null,null,0,null,null,null," -"," -",null,0]
[null,7,"АО \"Вилюйская ГЭС-3\"",null,null,null,0,null,null,null,null,0,null,null,null,null,0,0,0,0,null,0,0,0,0,0,0,0,0,0,0,null,null,null,0,null,null,null," -"," -",null,0]
[null,8,"АО \"Вилюйская ГЭС-3\"",null,null,null,0,null,null,null,null,0,null,null,null,null,0,0,0,0,null,0,0,0,0,0,0,0,0,0,0,null,null,null,0,null,null,null," -"," -",null,0]
[null,9,"АО \"Вилюйская ГЭС-3\"",null,null,null,0,null,null,null,null,0,null,null,null,null,0,0,0,0,null,0,0,0,0,0,0,0,0,0,0,null,null,null,0,null,null,null," -"," -",null,0]
[null,10,"АО \"Вилюйская ГЭС-3\"",null,null,null,0,null,null,null,null,0,null,null,null,null,0,0,0,0,null,0,0,0,0,0,0,0,0,0,0,null,null,null,0,null,null,null," -"," -",null,0]
[null,11,"АО \"Вилюйская ГЭС-3\"",null,null,null,0,null,null,null,null,0,null,null,null,null,0,0,0,0,null,0,0,0,0,0,0,0,0,0,0,null,null,null,0,null,null,null," -"," -",null,0]
[null,12,"АО \"Вилюйская ГЭС-3\"",null,null,null,0,null,null,null,null,0,null,null,null,null,0,0,0,0,null,0,0,0,0,0,0,0,0,0,0,null,null,null,0,null,null,null," -"," -",null,0]
[null,13,"АО \"Вилюйская ГЭС-3\"",null,null,null,0,null,null,null,null,0,null,null,null,null,0,0,0,0,null,0,0,0,0,0,0,0,0,0,0,null,null,null,0,null,null,null," -"," -",null,0]
[null,14,"АО \"Вилюйская ГЭС-3\"",null,null,null,0,null,null,null,null,0,null,null,null,null,0,0,0,0,null,0,0,0,0,0,0,0,0,0,0,null,null,null,0,null,null,null," -"," -",null,0]
[null,15,"АО \"Вилюйская ГЭС-3\"",null,null,null,0,null,null,null,null,0,null,null,null,null,0,0,0,0,null,0,0,0,0,0,0,0,0,0,0,null,null,null,0,null,null,null," -"," -",null,0]
[null,16,"АО \"Вилюйская ГЭС-3\"",null,null,null,0,null,null,null,null,0,null,null,null,null,0,0,0,0,null,0,0,0,0,0,0,0,0,0,0,null,null,null,0,null,null,null," -"," -",null,0]
[null,17,"АО \"Вилюйская ГЭС-3\"",null,null,null,0,null,null,null,null,0,null,null,null,null,0,0,0,0,null,0,0,0,0,0,0,0,0,0,0,null,null,null,0,null,null,null," -"," -",null,0]
[null,18,"АО \"Вилюйская ГЭС-3\"",null,null,null,{"$f":"SUM(H35:K35)","v":0},null,null,null,null,{"$f":"SUM(M35:P35)","v":0},null,null,null,null,{"$f":"IF(period=period_1Q, H35, IF(period=period_1H, SUM(H35:I35), IF(period=period_9M, SUM(H35:J35), IF(period=period_1Y,SUM(H35:K35),0))))","v":0},{"$f":"IF(period=period_1Q, M35, IF(period=period_1H, SUM(M35:N35), IF(period=period_9M, SUM(M35:O35), IF(period=period_1Y,SUM(M35:P35),0))))","v":0},{"$f":"R35-Q35","v":0},{"$f":"IFERROR(S35/Q35, 0)","v":0},null,{"$f":"SUM(X35:Z35)","v":0},{"$f":"IFERROR(V35/G35, 0)","v":0},{"$f":"IF(AND(G35=0, AA35>0), AA35, 0)","v":0},{"$f":"IF(AND(G35>0, AA35=0), -G35, 0)","v":0},{"$f":"IF(AND(G35>0, AA35>0), AA35-G35, 0)","v":0},{"$f":"SUM(AB35:AE35)","v":0},{"$f":"H35","v":0},{"$f":"I35","v":0},{"$f":"J35","v":0},{"$f":"K35","v":0},null,null,null,{"$f":"AG35-(AH35+G35)","v":0},null,null,null," -"," -",null,{"$f":"SUM(ABS(G35-SUM(H35:K35)), ABS(L35-SUM(M35:P35)), ABS(AA35-SUM(AB35:AE35))*1, ABS(V35-SUM(X35:Z35)), ABS(MIN(AI35, 0)))","v":0}]
[null,19,"АО \"Вилюйская ГЭС-3\"",null,null,null,0,null,null,null,null,0,null,null,null,null,0,0,0,0,null,0,0,0,0,0,0,0,0,0,0,null,null,null,0,null,null,null," -"," -",null,0]
[null,20,"АО \"Вилюйская ГЭС-3\"",null,null,null,0,null,null,null,null,0,null,null,null,null,0,0,0,0,null,0,0,0,0,0,0,0,0,0,0,null,null,null,0,null,null,null," -"," -",null,0]
[null,21,"АО \"Вилюйская ГЭС-3\"",null,null,null,0,null,null,null,null,0,null,null,null,null,0,0,0,0,null,0,0,0,0,0,0,0,0,0,0,null,null,null,0,null,null,null," -"," -",null,0]
[null,22,"АО \"Вилюйская ГЭС-3\"",null,null,null,0,null,null,null,null,0,null,null,null,null,0,0,0,0,null,0,0,0,0,0,0,0,0,0,0,null,null,null,0,null,null,null," -"," -",null,0]
[null,23,"АО \"Вилюйская ГЭС-3\"",null,null,null,0,null,null,null,null,0,null,null,null,null,0,0,0,0,null,0,0,0,0,0,0,0,0,0,0,null,null,null,0,null,null,null," -"," -",null,0]
[null,24,"АО \"Вилюйская ГЭС-3\"",null,null,null,0,null,null,null,null,0,null,null,null,null,0,0,0,0,null,0,0,0,0,0,0,0,0,0,0,null,null,null,0,null,null,null," -"," -",null,0]
[null,25,"АО \"Вилюйская ГЭС-3\"",null,null,null,0,null,null,null,null,0,null,null,null,null,0,0,0,0,null,0,0,0,0,0,0,0,0,0,0,null,null,null,0,null,null,null," -"," -",null,0]
[]
[]
[null,"1  Форма заполняется по освоениию (начислению). Подробнее -порядок заполнения формы определён в \"Положении об инвестиционном бюджете АК \"АЛРОСА\" ."]
[null,"2  В графе \"Отклонение\" производится сравнение факта с плановым периодом нарастающим итогом."]
[null,"3  При отклонении более 10% (не зависимо +/-) в графе \"Комментарии по отклонениям\" в форме указывается причина отклонения. Подробно причины отклонений указываются в Пояснительной записке к инвестиционному бюджету/отчёту."]
[]
[]
[]
[null,null,null,null,"Исполнитель (ФИО):"]
[]
[]
[null,null,null,null,"Должность: "]
[]
[]
[null,null,null,null,"Контактный телефон:"]
[]
[]
[null,null,null,null,"Электронный адрес:"]

{"sheet":"17.НМА","index":26,"n_rows":60,"n_cols":38,"rows_kept":60,"cut":false,"hidden":false,"merged":[[11,36,14,36],[11,34,14,34],[13,13,14,13],[13,14,14,14],[13,15,14,15],[13,16,14,16],[11,7,11,16],[13,11,14,11],[13,12,14,12],[13,10,14,10],[11,33,14,33],[11,27,11,31],[11,32,14,32],[12,19,12,20],[12,28,12,31],[13,28,14,28],[13,29,14,29],[13,30,14,30],[13,31,14,31],[11,35,14,35],[0,1,0,6],[13,7,14,7],[13,8,14,8],[11,1,14,1],[11,3,14,3],[11,4,14,4],[11,5,14,5],[11,2,14,2],[11,6,14,6],[5,2,5,5],[7,2,7,5],[12,8,12,11],[13,22,13,23],[11,19,11,20],[11,21,14,21],[11,22,12,26],[13,27,14,27],[13,24,13,26],[13,17,14,17],[13,9,14,9],[13,18,14,18],[13,19,14,19],[13,20,14,20],[12,13,12,16],[49,4,49,5],[52,4,52,5],[55,4,55,5],[58,4,58,5]]}
[null,"Назад к оглавлению",null,null,null,null,null,null,null,null,null,null,"base_fact","base_fact","base_fact","base_fact","base_fact","fact_fields","fact_fields","fact_fields","fact_fields","fact_fields","corr_fields","corr_fields","corr_fields","corr_fields","corr_fields","corr_fields","corr_fields","corr_fields","corr_fields","corr_fields","corr_fields","plan_fields","plan_fields",null,"plan_fields"]
[null,"Приложение № 2 к \"Положению об инвестиционном бюджете АК \"АЛРОСА\"\""]
[null,"Код формы: НМА"]
[]
[]
[null,null,{"$f":"org","v":"АО \"Вилюйская ГЭС-3\""}]
[null,null,"Организационно-правовая форма и название Общества/структурного подразделения"]
[null,null,{"$f":"period_txt","v":"12 месяцев 2017"}]
[null,null," Плановый / отчётный период "]
[null,null,"Бюджет нематериальных активов"]
[null,"Тыс. руб. без НДС 1"]
[null,"№","Общество / cтруктурное подразделение","Код проекта ","Приоритет","Вид НМА","Наименование объекта НМА","Плановый / отчётный период",null,null,null,null,null,null,null,null,null,"ПЛАН за","ФАКТ за","Отклонение за период2",null,"Комментарии по отклонениям3","Изменения к утверждённому плану по году",null,null,null,null,"Скорректированный план",null,null,null,null,"Комментарии по изменениям плана","Основание и цели осуществления инвестиций","Наличие авансовых платежей в основном плановом/отчётном периоде за товары, работы, услуги  будущих периодов (1-й, 2-й год за плановым/отчётным)","Критерий инновационности расходов (принадлежность к ПИРиТМ)","Примечание к бюджету","Сверка"]
[null,null,null,null,null,null,null,"ПЛАН    ","в т.ч. по кварталам:",null,null,null,"ФАКТ ","в т.ч. по кварталам:",null,null,null,{"$f":"period","v":"12 месяцев"},{"$f":"R13","v":"12 месяцев"},"12 месяцев",null,null,null,null,null,null,null,"ПЛАН    ","в т.ч. по кварталам:"]
[null,null,null,null,null,null,null,"Год   всего","1 кв.","2 кв.","3 кв.","4 кв.","Год        всего","1 кв.","2 кв.","3 кв.","4 кв.","Тыс.    руб.","Тыс.    руб.","Тыс.    руб.","% ",null,"Изменение всего",null,"В т.ч.",null,null,"Год   всего","1 кв.","2 кв.","3 кв.","4 кв."]
[null,null,null,null,null,null,null,null,null,null,null,null,null,null,null,null,null,null,null,null,null,null,"Тыс.    руб.","%","Вновь добавлено\n(указывается со знаком \"+\")","Исключено (указывается со знаком \"-\")","Изменение стоимости\n(удорожание \"+\", удешвление \"-\")"]
[null,1,{"$f":"B16+1","v":2},3,4,5,6,7,8,9,10,11,12,13,14,15,16,17,18,19,20,21,22,23,24,25,26,27,28,29,30,31,32,33,{"$f":"AH16+1","v":34},{"$f":"AI16+1","v":35},{"$f":"AJ16+1","v":36}]
[null,"     Инвестициии в нематериальные активы, всего:",null,null,null,null,null,{"$f":"SUMIF($C18:$C$10019,\"*\",H18:H$10019)","v":0},{"$f":"SUMIF($C18:$C$10019,\"*\",I18:I$10019)","v":0},{"$f":"SUMIF($C18:$C$10019,\"*\",J18:J$10019)","v":0},{"$f":"SUMIF($C18:$C$10019,\"*\",K18:K$10019)","v":0},{"$f":"SUMIF($C18:$C$10019,\"*\",L18:L$10019)","v":0},{"$f":"SUMIF($C18:$C$10019,\"*\",M18:M$10019)","v":0},{"$f":"SUMIF($C18:$C$10019,\"*\",N18:N$10019)","v":0},{"$f":"SUMIF($C18:$C$10019,\"*\",O18:O$10019)","v":0},{"$f":"SUMIF($C18:$C$10019,\"*\",P18:P$10019)","v":0},{"$f":"SUMIF($C18:$C$10019,\"*\",Q18:Q$10019)","v":0},{"$f":"IF(period=period_1Q, I17, IF(period=period_1H, SUM(I17:J17), IF(period=period_9M, SUM(I17:K17), IF(period=period_1Y,SUM(I17:L17),0))))","v":0},{"$f":"IF(period=period_1Q, N17, IF(period=period_1H, SUM(N17:O17), IF(period=period_9M, SUM(N17:P17), IF(period=period_1Y,SUM(N17:Q17),0))))","v":0},{"$f":"S17-R17","v":0},{"$f":"IFERROR(T17/R17, 0)","v":0},null,{"$f":"SUM(Y17:AA17)","v":0},{"$f":"IFERROR(W17/H17, 0)","v":0},{"$f":"SUMIF($C18:$C$10019,\"*\",Y18:Y$10019)","v":0},{"$f":"SUMIF($C18:$C$10019,\"*\",Z18:Z$10019)","v":0},{"$f":"SUMIF($C18:$C$10019,\"*\",AA18:AA$10019)","v":0},{"$f":"H17+W17","v":0},{"$f":"SUMIF($C18:$C$10019,\"*\",AC18:AC$10019)","v":0},{"$f":"SUMIF($C18:$C$10019,\"*\",AD18:AD$10019)","v":0},{"$f":"SUMIF($C18:$C$10019,\"*\",AE18:AE$10019)","v":0},{"$f":"SUMIF($C18:$C$10019,\"*\",AF18:AF$10019)","v":0},null,null,null,null,null,{"$f":"SUM(ABS(H17-SUM(I17:L17)), ABS(M17-SUM(N17:Q17)), ABS(AB17-SUM(AC17:AF17))*1, ABS(W17-SUM(Y17:AA17)))","v":0}]
[null,1,{"$f":"org","v":"АО \"Вилюйская ГЭС-3\""},null,null,null,null,{"$f":"SUM(I18:L18)","v":0},null,null,null,null,{"$f":"SUM(N18:Q18)","v":0},null,null,null,null,0,0,{"$f":"S18-R18","v":0},{"$f":"IFERROR(T18/R18, 0)","v":0},null,0,0,{"$f":"IF(AND(H18=0, AB18>0), AB18, 0)","v":0},{"$f":"IF(AND(H18>0, AB18=0), -H18, 0)","v":0},{"$f":"IF(AND(H18>0, AB18>0), AB18-H18, 0)","v":0},{"$f":"SUM(AC18:AF18)","v":0},{"$f":"I18","v":0},0,0,0,null,null," -"," -",null,0]
[null,{"$f":"B18+1","v":2},"АО \"Вилюйская ГЭС-3\"",null,null,null,null,0,null,null,null,null,0,null,null,null,null,0,0,0,0,null,{"$f":"SUM(Y19:AA19)","v":0},0,0,0,0,0,0,0,0,0,null,null," -"," -",null,0]
[null,3,"АО \"Вилюйская ГЭС-3\"",null,null,null,null,{"$f":"SUM(I20:L20)","v":0},null,null,null,null,{"$f":"SUM(N20:Q20)","v":0},null,null,null,null,{"$f":"IF(period=period_1Q, I20, IF(period=period_1H, SUM(I20:J20), IF(period=period_9M, SUM(I20:K20), IF(period=period_1Y,SUM(I20:L20),0))))","v":0},{"$f":"IF(period=period_1Q, N20, IF(period=period_1H, SUM(N20:O20), IF(period=period_9M, SUM(N20:P20), IF(period=period_1Y,SUM(N20:Q20),0))))","v":0},{"$f":"S20-R20","v":0},{"$f":"IFERROR(T20/R20, 0)","v":0},null,{"$f":"SUM(Y20:AA20)","v":0},{"$f":"IFERROR(W20/H20, 0)","v":0},{"$f":"IF(AND(H20=0, AB20>0), AB20, 0)","v":0},{"$f":"IF(AND(H20>0, AB20=0), -H20, 0)","v":0},{"$f":"IF(AND(H20>0, AB20>0), AB20-H20, 0)","v":0},{"$f":"SUM(AC20:AF20)","v":0},0,{"$f":"J20","v":0},{"$f":"K20","v":0},{"$f":"L20","v":0},null,null," -"," -",null,{"$f":"SUM(ABS(H20-SUM(I20:L20)), ABS(M20-SUM(N20:Q20)), ABS(AB20-SUM(AC20:AF20))*1, ABS(W20-SUM(Y20:AA20)))","v":0}]
[null,4,"АО \"Вилюйская ГЭС-3\"",null,null,null,null,0,null,null,null,null,0,null,null,null,null,0,0,0,0,null,0,0,0,0,0,0,0,0,0,0,null,null," -"," -",null,0]
[null,5,"АО \"Вилюйская ГЭС-3\"",null,null,null,null,0,null,null,null,null,0,null,null,null,null,0,0,0,0,null,0,0,0,0,0,0,0,0,0,0,null,null," -"," -",null,0]
[null,6,"АО \"Вилюйская ГЭС-3\"",null,null,null,null,0,null,null,null,null,0,null,null,null,null,0,0,0,0,null,0,0,0,0,0,0,0,0,0,0,null,null," -"," -",null,0]
[null,7,"АО \"Вилюйская ГЭС-3\"",null,null,null,null,0,null,null,null,null,0,null,null,null,null,0,0,0,0,null,0,0,0,0,0,0,0,0,0,0,null,null," -"," -",null,0]
[null,8,"АО \"Вилюйская ГЭС-3\"",null,null,null,null,0,null,null,null,null,0,null,null,null,null,0,0,0,0,null,0,0,0,0,0,0,0,0,0,0,null,null," -"," -",null,0]
[null,9,"АО \"Вилюйская ГЭС-3\"",null,null,null,null,0,null,null,null,null,0,null,null,null,null,0,0,0,0,null,0,0,0,0,0,0,0,0,0,0,null,null," -"," -",null,0]
[null,10,"АО \"Вилюйская ГЭС-3\"",null,null,null,null,0,null,null,null,null,0,null,null,null,null,0,0,0,0,null,0,0,0,0,0,0,0,0,0,0,null,null," -"," -",null,0]
[null,11,"АО \"Вилюйская ГЭС-3\"",null,null,null,null,0,null,null,null,null,0,null,null,null,null,0,0,0,0,null,0,0,0,0,0,0,0,0,0,0,null,null," -"," -",null,0]
[null,12,"АО \"Вилюйская ГЭС-3\"",null,null,null,null,0,null,null,null,null,0,null,null,null,null,0,0,0,0,null,0,0,0,0,0,0,0,0,0,0,null,null," -"," -",null,0]
[null,13,"АО \"Вилюйская ГЭС-3\"",null,null,null,null,0,null,null,null,null,0,null,null,null,null,0,0,0,0,null,0,0,0,0,0,0,0,0,0,0,null,null," -"," -",null,0]
[null,14,"АО \"Вилюйская ГЭС-3\"",null,null,null,null,0,null,null,null,null,0,null,null,null,null,0,0,0,0,null,0,0,0,0,0,0,0,0,0,0,null,null," -"," -",null,0]
[null,15,"АО \"Вилюйская ГЭС-3\"",null,null,null,null,0,null,null,null,null,0,null,null,null,null,0,0,0,0,null,0,0,0,0,0,0,0,0,0,0,null,null," -"," -",null,0]
[null,16,"АО \"Вилюйская ГЭС-3\"",null,null,null,null,0,null,null,null,null,0,null,null,null,null,0,0,0,0,null,0,0,0,0,0,0,0,0,0,0,null,null," -"," -",null,0]
[null,17,"АО \"Вилюйская ГЭС-3\"",null,null,null,null,0,null,null,null,null,0,null,null,null,null,0,0,0,0,null,0,0,0,0,0,0,0,0,0,0,null,null," -"," -",null,0]
[null,18,"АО \"Вилюйская ГЭС-3\"",null,null,null,null,0,null,null,null,null,0,null,null,null,null,0,0,0,0,null,0,0,0,0,0,0,0,0,0,0,null,null," -"," -",null,0]
[null,19,"АО \"Вилюйская ГЭС-3\"",null,null,null,null,{"$f":"SUM(I36:L36)","v":0},null,null,null,null,{"$f":"SUM(N36:Q36)","v":0},null,null,null,null,{"$f":"IF(period=period_1Q, I36, IF(period=period_1H, SUM(I36:J36), IF(period=period_9M, SUM(I36:K36), IF(period=period_1Y,SUM(I36:L36),0))))","v":0},{"$f":"IF(period=period_1Q, N36, IF(period=period_1H, SUM(N36:O36), IF(period=period_9M, SUM(N36:P36), IF(period=period_1Y,SUM(N36:Q36),0))))","v":0},{"$f":"S36-R36","v":0},{"$f":"IFERROR(T36/R36, 0)","v":0},null,{"$f":"SUM(Y36:AA36)","v":0},{"$f":"IFERROR(W36/H36, 0)","v":0},{"$f":"IF(AND(H36=0, AB36>0), AB36, 0)","v":0},{"$f":"IF(AND(H36>0, AB36=0), -H36, 0)","v":0},{"$f":"IF(AND(H36>0, AB36>0), AB36-H36, 0)","v":0},{"$f":"SUM(AC36:AF36)","v":0},0,{"$f":"J36","v":0},{"$f":"K36","v":0},{"$f":"L36","v":0},null,null," -"," -",null,{"$f":"SUM(ABS(H36-SUM(I36:L36)), ABS(M36-SUM(N36:Q36)), ABS(AB36-SUM(AC36:AF36))*1, ABS(W36-SUM(Y36:AA36)))","v":0}]
[null,20,"АО \"Вилюйская ГЭС-3\"",null,null,null,null,0,null,null,null,null,0,null,null,null,null,0,0,0,0,null,0,0,0,0,0,0,0,0,0,0,null,null," -"," -",null,0]
[null,21,"АО \"Вилюйская ГЭС-3\"",null,null,null,null,0,null,null,null,null,0,null,null,null,null,0,0,0,0,null,0,0,0,0,0,0,0,0,0,0,null,null," -"," -",null,0]
[null,22,"АО \"Вилюйская ГЭС-3\"",null,null,null,null,0,null,null,null,null,0,null,null,null,null,0,0,0,0,null,0,0,0,0,0,0,0,0,0,0,null,null," -"," -",null,0]
[null,23,"АО \"Вилюйская ГЭС-3\"",null,null,null,null,0,null,null,null,null,0,null,null,null,null,0,0,0,0,null,0,0,0,0,0,0,0,0,0,0,null,null," -"," -",null,0]
[null,24,"АО \"Вилюйская ГЭС-3\"",null,null,null,null,0,null,null,null,null,0,null,null,null,null,0,0,0,0,null,0,0,0,0,0,0,0,0,0,0,null,null," -"," -",null,0]
[null,25,"АО \"Вилюйская ГЭС-3\"",null,null,null,null,0,null,null,null,null,0,null,null,null,null,0,0,0,0,null,0,0,0,0,0,0,0,0,0,0,null,null," -"," -",null,0]
[]
[]
[null,"1  Форма заполняется по освоениию (начислению). Подробнее -порядок заполнения формы определён в \"Положении об инвестиционном бюджете АК \"АЛРОСА\" ."]
[null,"2  В графе \"Отклонение\" производится сравнение факта с плановым периодом нарастающим итогом."]
[null,"3  При отклонении более 10% (не зависимо +/-) в графе \"Комментарии по отклонениям\" в форме указывается причина отклонения. Подробно причины отклонений указываются в Пояснительной записке к инвестиционному бюджету/отчёту."]
[]
[]
[]
[null,null,null,null,"Исполнитель (ФИО):"]
[]
[]
[null,null,null,null,"Должность: "]
[]
[]
[null,null,null,null,"Контактный телефон:"]
[]
[]
[null,null,null,null,"Электронный адрес:"]

{"sheet":"18.ПКЗ","index":27,"n_rows":60,"n_cols":38,"rows_kept":60,"cut":false,"hidden":false,"merged":[[11,35,14,35],[11,36,14,36],[13,7,14,7],[13,8,14,8],[13,9,14,9],[13,10,14,10],[13,11,14,11],[13,12,14,12],[11,34,14,34],[13,18,14,18],[11,33,14,33],[11,19,11,20],[11,21,14,21],[11,22,12,26],[11,27,11,31],[11,32,14,32],[11,7,11,16],[13,16,14,16],[13,17,14,17],[13,15,14,15],[13,13,14,13],[13,14,14,14],[12,8,12,11],[12,13,12,16],[0,1,0,6],[11,2,14,2],[11,1,14,1],[11,3,14,3],[11,4,14,4],[11,5,14,5],[11,6,14,6],[12,28,12,31],[13,19,14,19],[13,20,14,20],[13,22,13,23],[13,24,13,26],[13,27,14,27],[13,28,14,28],[13,29,14,29],[13,30,14,30],[13,31,14,31],[12,19,12,20],[55,4,55,5],[58,4,58,5],[5,2,5,5],[7,2,7,5],[49,4,49,5],[52,4,52,5]]}
[null,"Назад к оглавлению",null,null,null,null,null,null,null,null,null,null,"base_fact","base_fact","base_fact","base_fact","base_fact","fact_fields","fact_fields","fact_fields","fact_fields","fact_fields","corr_fields","corr_fields","corr_fields","corr_fields","corr_fields","corr_fields","corr_fields","corr_fields","corr_fields","corr_fields","corr_fields","plan_fields","plan_fields",null,"plan_fields"]
[null,"Приложение № 2 к \"Положению об инвестиционном бюджете АК \"АЛРОСА\"\""]
[null,"Код формы: ПКЗ"]
[]
[]
[null,null,{"$f":"org","v":"АО \"Вилюйская ГЭС-3\""}]
[null,null,"Организационно-правовая форма и название Общества/структурного подразделения"]
[null,null,{"$f":"period_txt","v":"12 месяцев 2017"}]
[null,null," Плановый / отчётный период "]
[null,null,"Бюджет прочих капитальных затрат"]
[null,"Тыс. руб. без НДС 1"]
[null,"№","Общество / cтруктурное подразделение","Код проекта ","Приоритет","Вид затрат","Наименование  объекта  НА","Плановый / отчётный период",null,null,null,null,null,null,null,null,null,"ПЛАН за","ФАКТ за","Отклонение за период2",null,"Комментарии по отклонениям3","Изменения к утверждённому плану по году",null,null,null,null,"Скорректированный план",null,null,null,null,"Комментарии по изменениям плана","Основание и цели осуществления расходов","Наличие авансовых платежей в основном плановом/отчётном периоде за товары, работы, услуги  будущих периодов (1-й, 2-й год за плановым/отчётным)","Критерий инновационности расходов (принадлежность к ПИРиТМ)","Примечание к бюджету","Сверка"]
[null,null,null,null,null,null,null,"ПЛАН    ","в т.ч. по кварталам:",null,null,null,"ФАКТ ","в т.ч. по кварталам:",null,null,null,{"$f":"period","v":"12 месяцев"},{"$f":"R13","v":"12 месяцев"},"12 месяцев",null,null,null,null,null,null,null,"ПЛАН    ","в т.ч. по кварталам:"]
[null,null,null,null,null,null,null,"Год   всего","1 кв.","2 кв.","3 кв.","4 кв.","Год        всего","1 кв.","2 кв.","3 кв.","4 кв.","Тыс.    руб.","Тыс.    руб.","Тыс.    руб.","% ",null,"Изменение всего",null,"В т.ч.",null,null,"Год   всего","1 кв.","2 кв.","3 кв.","4 кв."]
[null,null,null,null,null,null,null,null,null,null,null,null,null,null,null,null,null,null,null,null,null,null,"Тыс.    руб.","%","Вновь добавлено\n(указывается со знаком \"+\")","Исключено (указывается со знаком \"-\")","Изменение стоимости\n(удорожание \"+\", удешвление \"-\")"]
[null,1,{"$f":"B16+1","v":2},3,4,5,6,7,8,9,10,11,12,13,14,15,16,17,18,19,20,21,22,23,24,25,26,27,28,29,30,31,32,33,{"$f":"AH16+1","v":34},{"$f":"AI16+1","v":35},{"$f":"AJ16+1","v":36}]
[null,"     Прочие инвестициии в нефинансовые активы, всего:",null,null,null,null,null,{"$f":"SUMIF($C18:$C$10019,\"*\",H18:H$10019)","v":0},{"$f":"SUMIF($C18:$C$10019,\"*\",I18:I$10019)","v":0},{"$f":"SUMIF($C18:$C$10019,\"*\",J18:J$10019)","v":0},{"$f":"SUMIF($C18:$C$10019,\"*\",K18:K$10019)","v":0},{"$f":"SUMIF($C18:$C$10019,\"*\",L18:L$10019)","v":0},{"$f":"SUMIF($C18:$C$10019,\"*\",M18:M$10019)","v":0},{"$f":"SUMIF($C18:$C$10019,\"*\",N18:N$10019)","v":0},{"$f":"SUMIF($C18:$C$10019,\"*\",O18:O$10019)","v":0},{"$f":"SUMIF($C18:$C$10019,\"*\",P18:P$10019)","v":0},{"$f":"SUMIF($C18:$C$10019,\"*\",Q18:Q$10019)","v":0},{"$f":"IF(period=period_1Q, I17, IF(period=period_1H, SUM(I17:J17), IF(period=period_9M, SUM(I17:K17), IF(period=period_1Y,SUM(I17:L17),0))))","v":0},{"$f":"IF(period=period_1Q, N17, IF(period=period_1H, SUM(N17:O17), IF(period=period_9M, SUM(N17:P17), IF(period=period_1Y,SUM(N17:Q17),0))))","v":0},{"$f":"S17-R17","v":0},{"$f":"IFERROR(T17/R17, 0)","v":0},null,{"$f":"SUM(Y17:AA17)","v":0},{"$f":"IFERROR(W17/H17, 0)","v":0},{"$f":"SUMIF($C18:$C$10019,\"*\",Y18:Y$10019)","v":0},{"$f":"SUMIF($C18:$C$10019,\"*\",Z18:Z$10019)","v":0},{"$f":"SUMIF($C18:$C$10019,\"*\",AA18:AA$10019)","v":0},{"$f":"H17+W17","v":0},{"$f":"SUMIF($C18:$C$10019,\"*\",AC18:AC$10019)","v":0},{"$f":"SUMIF($C18:$C$10019,\"*\",AD18:AD$10019)","v":0},{"$f":"SUMIF($C18:$C$10019,\"*\",AE18:AE$10019)","v":0},{"$f":"SUMIF($C18:$C$10019,\"*\",AF18:AF$10019)","v":0},null,null,null,null,null,{"$f":"SUM(ABS(H17-SUM(I17:L17)), ABS(M17-SUM(N17:Q17)), ABS(AB17-SUM(AC17:AF17))*1, ABS(W17-SUM(Y17:AA17)))","v":0}]
[null,1,{"$f":"org","v":"АО \"Вилюйская ГЭС-3\""},null,null,null,null,{"$f":"SUM(I18:L18)","v":0},null,null,null,null,{"$f":"SUM(N18:Q18)","v":0},null,null,null,null,0,0,{"$f":"S18-R18","v":0},{"$f":"IFERROR(T18/R18, 0)","v":0},null,0,0,{"$f":"IF(AND(H18=0, AB18>0), AB18, 0)","v":0},{"$f":"IF(AND(H18>0, AB18=0), -H18, 0)","v":0},{"$f":"IF(AND(H18>0, AB18>0), AB18-H18, 0)","v":0},{"$f":"SUM(AC18:AF18)","v":0},{"$f":"I18","v":0},{"$f":"J18","v":0},{"$f":"K18","v":0},null,null,null," -"," -",null,0]
[null,{"$f":"B18+1","v":2},"АО \"Вилюйская ГЭС-3\"",null,null,null,null,0,null,null,null,null,0,null,null,null,null,0,0,0,0,null,{"$f":"SUM(Y19:AA19)","v":0},0,0,0,0,0,0,0,0,0,null,null," -"," -",null,0]
[null,3,"АО \"Вилюйская ГЭС-3\"",null,null,null,null,{"$f":"SUM(I20:L20)","v":0},null,null,null,null,{"$f":"SUM(N20:Q20)","v":0},null,null,null,null,{"$f":"IF(period=period_1Q, I20, IF(period=period_1H, SUM(I20:J20), IF(period=period_9M, SUM(I20:K20), IF(period=period_1Y,SUM(I20:L20),0))))","v":0},{"$f":"IF(period=period_1Q, N20, IF(period=period_1H, SUM(N20:O20), IF(period=period_9M, SUM(N20:P20), IF(period=period_1Y,SUM(N20:Q20),0))))","v":0},{"$f":"S20-R20","v":0},{"$f":"IFERROR(T20/R20, 0)","v":0},null,{"$f":"SUM(Y20:AA20)","v":0},{"$f":"IFERROR(W20/H20, 0)","v":0},{"$f":"IF(AND(H20=0, AB20>0), AB20, 0)","v":0},{"$f":"IF(AND(H20>0, AB20=0), -H20, 0)","v":0},{"$f":"IF(AND(H20>0, AB20>0), AB20-H20, 0)","v":0},{"$f":"SUM(AC20:AF20)","v":0},0,{"$f":"J20","v":0},{"$f":"K20","v":0},{"$f":"L20","v":0},null,null," -"," -",null,{"$f":"SUM(ABS(H20-SUM(I20:L20)), ABS(M20-SUM(N20:Q20)), ABS(AB20-SUM(AC20:AF20))*1, ABS(W20-SUM(Y20:AA20)))","v":0}]
[null,4,"АО \"Вилюйская ГЭС-3\"",null,null,null,null,0,null,null,null,null,0,null,null,null,null,0,0,0,0,null,0,0,0,0,0,0,0,0,0,0,null,null," -"," -",null,0]
[null,5,"АО \"Вилюйская ГЭС-3\"",null,null,null,null,0,null,null,null,null,0,null,null,null,null,0,0,0,0,null,0,0,0,0,0,0,0,0,0,0,null,null," -"," -",null,0]
[null,6,"АО \"Вилюйская ГЭС-3\"",null,null,null,null,0,null,null,null,null,0,null,null,null,null,0,0,0,0,null,0,0,0,0,0,0,0,0,0,0,null,null," -"," -",null,0]
[null,7,"АО \"Вилюйская ГЭС-3\"",null,null,null,null,0,null,null,null,null,0,null,null,null,null,0,0,0,0,null,0,0,0,0,0,0,0,0,0,0,null,null," -"," -",null,0]
[null,8,"АО \"Вилюйская ГЭС-3\"",null,null,null,null,0,null,null,null,null,0,null,null,null,null,0,0,0,0,null,0,0,0,0,0,0,0,0,0,0,null,null," -"," -",null,0]
[null,9,"АО \"Вилюйская ГЭС-3\"",null,null,null,null,0,null,null,null,null,0,null,null,null,null,0,0,0,0,null,0,0,0,0,0,0,0,0,0,0,null,null," -"," -",null,0]
[null,10,"АО \"Вилюйская ГЭС-3\"",null,null,null,null,0,null,null,null,null,0,null,null,null,null,0,0,0,0,null,0,0,0,0,0,0,0,0,0,0,null,null," -"," -",null,0]
[null,11,"АО \"Вилюйская ГЭС-3\"",null,null,null,null,0,null,null,null,null,0,null,null,null,null,0,0,0,0,null,0,0,0,0,0,0,0,0,0,0,null,null," -"," -",null,0]
[null,12,"АО \"Вилюйская ГЭС-3\"",null,null,null,null,0,null,null,null,null,0,null,null,null,null,0,0,0,0,null,0,0,0,0,0,0,0,0,0,0,null,null," -"," -",null,0]
[null,13,"АО \"Вилюйская ГЭС-3\"",null,null,null,null,0,null,null,null,null,0,null,null,null,null,0,0,0,0,null,0,0,0,0,0,0,0,0,0,0,null,null," -"," -",null,0]
[null,14,"АО \"Вилюйская ГЭС-3\"",null,null,null,null,0,null,null,null,null,0,null,null,null,null,0,0,0,0,null,0,0,0,0,0,0,0,0,0,0,null,null," -"," -",null,0]
[null,15,"АО \"Вилюйская ГЭС-3\"",null,null,null,null,0,null,null,null,null,0,null,null,null,null,0,0,0,0,null,0,0,0,0,0,0,0,0,0,0,null,null," -"," -",null,0]
[null,16,"АО \"Вилюйская ГЭС-3\"",null,null,null,null,0,null,null,null,null,0,null,null,null,null,0,0,0,0,null,0,0,0,0,0,0,0,0,0,0,null,null," -"," -",null,0]
[null,17,"АО \"Вилюйская ГЭС-3\"",null,null,null,null,0,null,null,null,null,0,null,null,null,null,0,0,0,0,null,0,0,0,0,0,0,0,0,0,0,null,null," -"," -",null,0]
[null,18,"АО \"Вилюйская ГЭС-3\"",null,null,null,null,0,null,null,null,null,0,null,null,null,null,0,0,0,0,null,0,0,0,0,0,0,0,0,0,0,null,null," -"," -",null,0]
[null,19,"АО \"Вилюйская ГЭС-3\"",null,null,null,null,0,null,null,null,null,0,null,null,null,null,0,0,0,0,null,0,0,0,0,0,0,0,0,0,0,null,null," -"," -",null,0]
[null,20,"АО \"Вилюйская ГЭС-3\"",null,null,null,null,0,null,null,null,null,0,null,null,null,null,0,0,0,0,null,0,0,0,0,0,0,0,0,0,0,null,null," -"," -",null,0]
[null,21,"АО \"Вилюйская ГЭС-3\"",null,null,null,null,0,null,null,null,null,0,null,null,null,null,0,0,0,0,null,0,0,0,0,0,0,0,0,0,0,null,null," -"," -",null,0]
[null,22,"АО \"Вилюйская ГЭС-3\"",null,null,null,null,0,null,null,null,null,0,null,null,null,null,0,0,0,0,null,0,0,0,0,0,0,0,0,0,0,null,null," -"," -",null,0]
[null,23,"АО \"Вилюйская ГЭС-3\"",null,null,null,null,0,null,null,null,null,0,null,null,null,null,0,0,0,0,null,0,0,0,0,0,0,0,0,0,0,null,null," -"," -",null,0]
[null,24,"АО \"Вилюйская ГЭС-3\"",null,null,null,null,0,null,null,null,null,0,null,null,null,null,0,0,0,0,null,0,0,0,0,0,0,0,0,0,0,null,null," -"," -",null,0]
[null,25,"АО \"Вилюйская ГЭС-3\"",null,null,null,null,0,null,null,null,null,0,null,null,null,null,0,0,0,0,null,0,0,0,0,0,0,0,0,0,0,null,null," -"," -",null,0]
[]
[]
[null,"1  Форма заполняется по освоениию (начислению). Подробнее -порядок заполнения формы определён в \"Положении об инвестиционном бюджете АК \"АЛРОСА\" ."]
[null,"2  В графе \"Отклонение\" производится сравнение факта с плановым периодом нарастающим итогом."]
[null,"3  При отклонении более 10% (не зависимо +/-) в графе \"Комментарии по отклонениям\" в форме указывается причина отклонения. Подробно причины отклонений указываются в Пояснительной записке к инвестиционному бюджету/отчёту."]
[]
[]
[]
[null,null,null,null,"Исполнитель (ФИО):"]
[]
[]
[null,null,null,null,"Должность: "]
[]
[]
[null,null,null,null,"Контактный телефон:"]
[]
[]
[null,null,null,null,"Электронный адрес:"]

{"sheet":"19.БФИ","index":28,"n_rows":63,"n_cols":38,"rows_kept":63,"cut":false,"hidden":false,"merged":[[0,1,0,6],[11,19,11,20],[13,17,14,17],[13,18,14,18],[11,6,14,6],[11,1,14,1],[11,2,14,2],[11,3,14,3],[11,4,14,4],[11,5,14,5],[5,2,5,5],[7,2,7,5],[13,19,14,19],[11,36,14,36],[13,8,14,8],[13,9,14,9],[13,10,14,10],[13,11,14,11],[13,12,14,12],[13,13,14,13],[13,14,14,14],[13,15,14,15],[13,16,14,16],[11,7,11,16],[12,8,12,11],[12,13,12,16],[13,7,14,7],[11,22,12,26],[13,22,13,23],[61,4,61,5],[11,33,14,33],[11,27,11,31],[11,32,14,32],[12,19,12,20],[12,28,12,31],[13,24,13,26],[13,27,14,27],[13,28,14,28],[13,29,14,29],[13,30,14,30],[13,31,14,31],[13,20,14,20],[16,5,16,6],[11,21,14,21],[11,35,14,35],[52,4,52,5],[55,4,55,5],[58,4,58,5],[11,34,14,34]]}
[null,"Назад к оглавлению",null,null,null,null,null,null,null,null,null,null,"base_fact","base_fact","base_fact","base_fact","base_fact","fact_fields","fact_fields","fact_fields","fact_fields","fact_fields","corr_fields","corr_fields","corr_fields","corr_fields","corr_fields","corr_fields","corr_fields","corr_fields","corr_fields","corr_fields","corr_fields","plan_fields","plan_fields",null,"plan_fields"]
[]
[null,"Приложение № 2 к \"Положению об инвестиционном бюджете АК \"АЛРОСА\"\""]
[null,"Код формы: БФИ"]
[]
[null,null,{"$f":"org","v":"АО \"Вилюйская ГЭС-3\""}]
[null,null,"Организационно-правовая форма и название Общества/структурного подразделения"]
[null,null,{"$f":"period_txt","v":"12 месяцев 2017"}]
[null,null," Плановый / отчётный период "]
[null,null,"Бюджет финансовых инвестиций (вложений) "]
[null,"Тыс. руб. без НДС (начисление)1"]
[null,"№","Общество / cтруктурное подразделение","Код проекта ","Приоритет","Наименование Общества, в которое осушествляются финансовые инвестиции","Вид                                                 финансовых инвестиций 2","Плановый / отчётный период",null,null,null,null,null,null,null,null,null,"ПЛАН за","ФАКТ за","Отклонение за период3",null,"Комментарии по отклонениям4","Изменения к утверждённому плану по году",null,null,null,null,"Скорректированный план",null,null,null,null,"Комментарии по изменениям плана","Основание и цели осуществления инвестиций","Наличие авансовых платежей в основном плановом/отчётном периоде за товары, работы, услуги  будущих периодов (1-й, 2-й год за плановым/отчётным)","Критерий инновационности расходов (принадлежность к ПИРиТМ)","Примечание к бюджету","Сверка"]
[null,null,null,null,null,null,null,"ПЛАН    ","в т.ч. по кварталам:",null,null,null,"ФАКТ ","в т.ч. по кварталам:",null,null,null,{"$f":"period","v":"12 месяцев"},{"$f":"R13","v":"12 месяцев"},"12 месяцев",null,null,null,null,null,null,null,"ПЛАН    ","в т.ч. по кварталам:"]
[null,null,null,null,null,null,null,"Год   всего","1 кв.","2 кв.","3 кв.","4 кв.","Год        всего","1 кв.","2 кв.","3 кв.","4 кв.","Тыс.    руб.","Тыс.    руб.","Тыс.    руб.","% ",null,"Изменение всего",null,"В т.ч.",null,null,"Год   всего","1 кв.","2 кв.","3 кв.","4 кв."]
[null,null,null,null,null,null,null,null,null,null,null,null,null,null,null,null,null,null,null,null,null,null,"Тыс.    руб.","%","Вновь добавлено\n(указывается со знаком \"+\")","Исключено (указывается со знаком \"-\")","Изменение стоимости\n(удорожание \"+\", удешвление \"-\")"]
[null,1,{"$f":"B16+1","v":2},3,4,5,6,7,8,9,10,11,12,13,14,15,16,17,18,19,20,21,22,23,24,25,26,27,28,29,30,31,32,33,34,{"$f":"AI16+1","v":35},{"$f":"AJ16+1","v":36}]
[null,null,null,null,null,"Финансовые инвестиции, всего:",null,{"$f":"SUMIF($C18:$C$10026,\"*\",H18:H$10026)","v":0},{"$f":"SUMIF($C18:$C$10026,\"*\",I18:I$10026)","v":0},{"$f":"SUMIF($C18:$C$10026,\"*\",J18:J$10026)","v":0},{"$f":"SUMIF($C18:$C$10026,\"*\",K18:K$10026)","v":0},{"$f":"SUMIF($C18:$C$10026,\"*\",L18:L$10026)","v":0},{"$f":"SUMIF($C18:$C$10026,\"*\",M18:M$10026)","v":0},{"$f":"SUMIF($C18:$C$10026,\"*\",N18:N$10026)","v":0},{"$f":"SUMIF($C18:$C$10026,\"*\",O18:O$10026)","v":0},{"$f":"SUMIF($C18:$C$10026,\"*\",P18:P$10026)","v":0},{"$f":"SUMIF($C18:$C$10026,\"*\",Q18:Q$10026)","v":0},{"$f":"IF(period=period_1Q, I17, IF(period=period_1H, SUM(I17:J17), IF(period=period_9M, SUM(I17:K17), IF(period=period_1Y,SUM(I17:L17),0))))","v":0},{"$f":"IF(period=period_1Q, N17, IF(period=period_1H, SUM(N17:O17), IF(period=period_9M, SUM(N17:P17), IF(period=period_1Y,SUM(N17:Q17),0))))","v":0},{"$f":"S17-R17","v":0},{"$f":"IFERROR(T17/R17, 0)","v":0},null,{"$f":"SUM(Y17:AA17)","v":0},{"$f":"IFERROR(W17/H17, 0)","v":0},{"$f":"SUMIF($C18:$C$10019,\"*\",Y18:Y$10019)","v":0},{"$f":"SUMIF($C18:$C$10019,\"*\",Z18:Z$10019)","v":0},{"$f":"SUMIF($C18:$C$10019,\"*\",AA18:AA$10019)","v":0},{"$f":"H17+W17","v":0},{"$f":"SUMIF($C18:$C$10019,\"*\",AC18:AC$10019)","v":0},{"$f":"SUMIF($C18:$C$10019,\"*\",AD18:AD$10019)","v":0},{"$f":"SUMIF($C18:$C$10019,\"*\",AE18:AE$10019)","v":0},{"$f":"SUMIF($C18:$C$10019,\"*\",AF18:AF$10019)","v":0},null,null,null,null,null,{"$f":"SUM(ABS(H17-SUM(I17:L17)), ABS(M17-SUM(N17:Q17)), ABS(AB17-SUM(AC17:AF17))*1, ABS(W17-SUM(Y17:AA17)))","v":0}]
[null,1,{"$f":"org","v":"АО \"Вилюйская ГЭС-3\""},null,null,null,null,{"$f":"SUM(I18:L18)","v":0},null,null,null,null,{"$f":"SUM(N18:Q18)","v":0},null,null,null,null,0,0,{"$f":"S18-R18","v":0},{"$f":"IFERROR(T18/R18, 0)","v":0},null,0,0,{"$f":"IF(AND(H18=0, AB18>0), AB18, 0)","v":0},{"$f":"IF(AND(H18>0, AB18=0), -H18, 0)","v":0},{"$f":"IF(AND(H18>0, AB18>0), AB18-H18, 0)","v":0},{"$f":"SUM(AC18:AF18)","v":0},{"$f":"I18","v":0},0,0,0,null,null," -"," -",null,0]
[null,2,"АО \"Вилюйская ГЭС-3\"",null,null,null,null,0,null,null,null,null,0,null,null,null,null,0,0,0,0,null,{"$f":"SUM(Y19:AA19)","v":0},0,0,0,0,0,0,0,0,0,null,null," -"," -",null,0]
[null,3,"АО \"Вилюйская ГЭС-3\"",null,null,null,null,0,null,null,null,null,0,null,null,null,null,0,0,0,0,null,0,0,0,0,0,0,0,0,0,0,null,null," -"," -",null,0]
[null,4,"АО \"Вилюйская ГЭС-3\"",null,null,null,null,{"$f":"SUM(I21:L21)","v":0},null,null,null,null,{"$f":"SUM(N21:Q21)","v":0},null,null,null,null,{"$f":"IF(period=period_1Q, I21, IF(period=period_1H, SUM(I21:J21), IF(period=period_9M, SUM(I21:K21), IF(period=period_1Y,SUM(I21:L21),0))))","v":0},{"$f":"IF(period=period_1Q, N21, IF(period=period_1H, SUM(N21:O21), IF(period=period_9M, SUM(N21:P21), IF(period=period_1Y,SUM(N21:Q21),0))))","v":0},{"$f":"S21-R21","v":0},{"$f":"IFERROR(T21/R21, 0)","v":0},null,{"$f":"SUM(Y21:AA21)","v":0},{"$f":"IFERROR(W21/H21, 0)","v":0},{"$f":"IF(AND(H21=0, AB21>0), AB21, 0)","v":0},{"$f":"IF(AND(H21>0, AB21=0), -H21, 0)","v":0},{"$f":"IF(AND(H21>0, AB21>0), AB21-H21, 0)","v":0},{"$f":"SUM(AC21:AF21)","v":0},{"$f":"I21","v":0},{"$f":"J21","v":0},{"$f":"K21","v":0},{"$f":"L21","v":0},null,null," -"," -",null,{"$f":"SUM(ABS(H21-SUM(I21:L21)), ABS(M21-SUM(N21:Q21)), ABS(AB21-SUM(AC21:AF21))*1, ABS(W21-SUM(Y21:AA21)))","v":0}]
[null,5,"АО \"Вилюйская ГЭС-3\"",null,null,null,null,0,null,null,null,null,0,null,null,null,null,0,0,0,0,null,0,0,0,0,0,0,0,0,0,0,null,null," -"," -",null,0]
[null,6,"АО \"Вилюйская ГЭС-3\"",null,null,null,null,0,null,null,null,null,0,null,null,null,null,0,0,0,0,null,0,0,0,0,0,0,0,0,0,0,null,null," -"," -",null,0]
[null,7,"АО \"Вилюйская ГЭС-3\"",null,null,null,null,0,null,null,null,null,0,null,null,null,null,0,0,0,0,null,0,0,0,0,0,0,0,0,0,0,null,null," -"," -",null,0]
[null,8,"АО \"Вилюйская ГЭС-3\"",null,null,null,null,0,null,null,null,null,0,null,null,null,null,0,0,0,0,null,0,0,0,0,0,0,0,0,0,0,null,null," -"," -",null,0]
[null,9,"АО \"Вилюйская ГЭС-3\"",null,null,null,null,0,null,null,null,null,0,null,null,null,null,0,0,0,0,null,0,0,0,0,0,0,0,0,0,0,null,null," -"," -",null,0]
[null,10,"АО \"Вилюйская ГЭС-3\"",null,null,null,null,0,null,null,null,null,0,null,null,null,null,0,0,0,0,null,0,0,0,0,0,0,0,0,0,0,null,null," -"," -",null,0]
[null,11,"АО \"Вилюйская ГЭС-3\"",null,null,null,null,0,null,null,null,null,0,null,null,null,null,0,0,0,0,null,0,0,0,0,0,0,0,0,0,0,null,null," -"," -",null,0]
[null,12,"АО \"Вилюйская ГЭС-3\"",null,null,null,null,0,null,null,null,null,0,null,null,null,null,0,0,0,0,null,0,0,0,0,0,0,0,0,0,0,null,null," -"," -",null,0]
[null,13,"АО \"Вилюйская ГЭС-3\"",null,null,null,null,0,null,null,null,null,0,null,null,null,null,0,0,0,0,null,0,0,0,0,0,0,0,0,0,0,null,null," -"," -",null,0]
[null,14,"АО \"Вилюйская ГЭС-3\"",null,null,null,null,0,null,null,null,null,0,null,null,null,null,0,0,0,0,null,0,0,0,0,0,0,0,0,0,0,null,null," -"," -",null,0]
[null,15,"АО \"Вилюйская ГЭС-3\"",null,null,null,null,0,null,null,null,null,0,null,null,null,null,0,0,0,0,null,0,0,0,0,0,0,0,0,0,0,null,null," -"," -",null,0]
[null,16,"АО \"Вилюйская ГЭС-3\"",null,null,null,null,0,null,null,null,null,0,null,null,null,null,0,0,0,0,null,0,0,0,0,0,0,0,0,0,0,null,null," -"," -",null,0]
[null,17,"АО \"Вилюйская ГЭС-3\"",null,null,null,null,0,null,null,null,null,0,null,null,null,null,0,0,0,0,null,0,0,0,0,0,0,0,0,0,0,null,null," -"," -",null,0]
[null,18,"АО \"Вилюйская ГЭС-3\"",null,null,null,null,0,null,null,null,null,0,null,null,null,null,0,0,0,0,null,0,0,0,0,0,0,0,0,0,0,null,null," -"," -",null,0]
[null,19,"АО \"Вилюйская ГЭС-3\"",null,null,null,null,0,null,null,null,null,0,null,null,null,null,0,0,0,0,null,0,0,0,0,0,0,0,0,0,0,null,null," -"," -",null,0]
[null,20,"АО \"Вилюйская ГЭС-3\"",null,null,null,null,0,null,null,null,null,0,null,null,null,null,0,0,0,0,null,0,0,0,0,0,0,0,0,0,0,null,null," -"," -",null,0]
[null,21,"АО \"Вилюйская ГЭС-3\"",null,null,null,null,0,null,null,null,null,0,null,null,null,null,0,0,0,0,null,0,0,0,0,0,0,0,0,0,0,null,null," -"," -",null,0]
[null,22,"АО \"Вилюйская ГЭС-3\"",null,null,null,null,{"$f":"SUM(I39:L39)","v":0},null,null,null,null,{"$f":"SUM(N39:Q39)","v":0},null,null,null,null,{"$f":"IF(period=period_1Q, I39, IF(period=period_1H, SUM(I39:J39), IF(period=period_9M, SUM(I39:K39), IF(period=period_1Y,SUM(I39:L39),0))))","v":0},{"$f":"IF(period=period_1Q, N39, IF(period=period_1H, SUM(N39:O39), IF(period=period_9M, SUM(N39:P39), IF(period=period_1Y,SUM(N39:Q39),0))))","v":0},{"$f":"S39-R39","v":0},{"$f":"IFERROR(T39/R39, 0)","v":0},null,{"$f":"SUM(Y39:AA39)","v":0},{"$f":"IFERROR(W39/H39, 0)","v":0},{"$f":"IF(AND(H39=0, AB39>0), AB39, 0)","v":0},{"$f":"IF(AND(H39>0, AB39=0), -H39, 0)","v":0},{"$f":"IF(AND(H39>0, AB39>0), AB39-H39, 0)","v":0},{"$f":"SUM(AC39:AF39)","v":0},{"$f":"I39","v":0},{"$f":"J39","v":0},{"$f":"K39","v":0},{"$f":"L39","v":0},null,null," -"," -",null,{"$f":"SUM(ABS(H39-SUM(I39:L39)), ABS(M39-SUM(N39:Q39)), ABS(AB39-SUM(AC39:AF39))*1, ABS(W39-SUM(Y39:AA39)))","v":0}]
[null,23,"АО \"Вилюйская ГЭС-3\"",null,null,null,null,{"$f":"SUM(I40:L40)","v":0},null,null,null,null,{"$f":"SUM(N40:Q40)","v":0},null,null,null,null,{"$f":"IF(period=period_1Q, I40, IF(period=period_1H, SUM(I40:J40), IF(period=period_9M, SUM(I40:K40), IF(period=period_1Y,SUM(I40:L40),0))))","v":0},{"$f":"IF(period=period_1Q, N40, IF(period=period_1H, SUM(N40:O40), IF(period=period_9M, SUM(N40:P40), IF(period=period_1Y,SUM(N40:Q40),0))))","v":0},{"$f":"S40-R40","v":0},{"$f":"IFERROR(T40/R40, 0)","v":0},null,{"$f":"SUM(Y40:AA40)","v":0},{"$f":"IFERROR(W40/H40, 0)","v":0},{"$f":"IF(AND(H40=0, AB40>0), AB40, 0)","v":0},{"$f":"IF(AND(H40>0, AB40=0), -H40, 0)","v":0},{"$f":"IF(AND(H40>0, AB40>0), AB40-H40, 0)","v":0},{"$f":"SUM(AC40:AF40)","v":0},{"$f":"I40","v":0},{"$f":"J40","v":0},{"$f":"K40","v":0},{"$f":"L40","v":0},null,null," -"," -",null,{"$f":"SUM(ABS(H40-SUM(I40:L40)), ABS(M40-SUM(N40:Q40)), ABS(AB40-SUM(AC40:AF40))*1, ABS(W40-SUM(Y40:AA40)))","v":0}]
[null,24,"АО \"Вилюйская ГЭС-3\"",null,null,null,null,0,null,null,null,null,0,null,null,null,null,0,0,0,0,null,0,0,0,0,0,0,0,0,0,0,null,null," -"," -",null,0]
[null,25,"АО \"Вилюйская ГЭС-3\"",null,null,null,null,0,null,null,null,null,0,null,null,null,null,0,0,0,0,null,0,0,0,0,0,0,0,0,0,0,null,null," -"," -",null,0]
[]
[]
[null," 1 Форма заполняется по начислению. Подробнее -порядок заполнения формы определён в \"Положении об инвестиционном бюджете АК \"АЛРОСА\" ."]
[null,"   Под финансовыми инвестициями для целей инвестиционного бюджета понимаются вложения в виде вкладов в УК, приобретение долей и акций, другие формы участия в УК. Займы, кредиты и приобретение векселей не относятся к инвестиционой деятельности "]
[null,"   Выбытия, оценка и переоценка в инвестиционном бюджете не отражаются (п. 1.2. \"Положения об инвестиционном бюджете АК \"АЛРОСА\")"]
[null,"2  Вид финансовых инвестиций выбирается из списка."]
[null,"3   В графе \"Отклонение\" производится сравнение факта с плановым периодом нарастающим итогом."]
[null,"4  При отклонении более 10% (не зависимо +/-) в графе \"Комментарии по отклонениям\" в форме указывается причина отклонения. Подробно - причины отклонений указываются в Пояснительной записке к инвестиционному бюджету."]
[]
[]
[]
[null,null,null,null,"Исполнитель (ФИО):"]
[]
[]
[null,null,null,null,"Должность: "]
[]
[]
[null,null,null,null,"Контактный телефон:"]
[]
[]
[null,null,null,null,"Электронный адрес:"]

{"sheet":"##_","index":29,"n_rows":0,"n_cols":0,"rows_kept":0,"cut":false,"hidden":false,"merged":[]}

{"sheet":"04.РИП","index":30,"n_rows":42,"n_cols":7,"rows_kept":42,"cut":false,"hidden":false,"merged":[[10,0,10,4],[0,0,0,6],[6,2,6,3],[8,2,8,3]]}
["Назад к оглавлению"]
[]
["Приложение № 2 к \"Положению об инвестиционном бюджете АК \"АЛРОСА\"\""]
["Код формы: РИП"]
[]
[]
[null,null,{"$f":"org","v":"АО \"Вилюйская ГЭС-3\""}]
[null,null,"Организационно-правовая форма и название Общества/структурного подразделения"]
[null,null,{"$f":"period_txt","v":"12 месяцев 2017"}]
[null,null," Плановый / отчётный период "]
["Реестр инвестиционных проектов*"]
[]
[]
["№ п/п","Код проекта","Наименование проекта","Общество / cтруктурное подразделение","Вид проекта","Критерий инновационности расходов (принадлежность к ПИРиТМ)","Примечание"]
[1,null,null,{"$f":"org","v":"АО \"Вилюйская ГЭС-3\""}]
[2,null,null,"АО \"Вилюйская ГЭС-3\""]
[3,null,null,"АО \"Вилюйская ГЭС-3\""]
[4,null,null,"АО \"Вилюйская ГЭС-3\""]
[5,null,null,"АО \"Вилюйская ГЭС-3\""]
[6,null,null,"АО \"Вилюйская ГЭС-3\""]
[7,null,null,"АО \"Вилюйская ГЭС-3\""]
[8,null,null,"АО \"Вилюйская ГЭС-3\""]
[9,null,null,"АО \"Вилюйская ГЭС-3\""]
[10,null,null,"АО \"Вилюйская ГЭС-3\""]
[11,null,null,"АО \"Вилюйская ГЭС-3\""]
[12,null,null,"АО \"Вилюйская ГЭС-3\""]
[13,null,null,"АО \"Вилюйская ГЭС-3\""]
[14,null,null,"АО \"Вилюйская ГЭС-3\""]
[15,null,null,"АО \"Вилюйская ГЭС-3\""]
[16,null,null,"АО \"Вилюйская ГЭС-3\""]
[17,null,null,"АО \"Вилюйская ГЭС-3\""]
[18,null,null,"АО \"Вилюйская ГЭС-3\""]
[19,null,null,"АО \"Вилюйская ГЭС-3\""]
[20,null,null,"АО \"Вилюйская ГЭС-3\""]
[21,null,null,"АО \"Вилюйская ГЭС-3\""]
[22,null,null,"АО \"Вилюйская ГЭС-3\""]
[23,null,null,"АО \"Вилюйская ГЭС-3\""]
[24,null,null,"АО \"Вилюйская ГЭС-3\""]
[25,null,null,"АО \"Вилюйская ГЭС-3\""]
[]
[]
["* - Под инвестиционным проектом понимается проект, оформленный в установленном порядке в соответствии с требованиями \"Положения об управлении инвестиционными проектами АК \"АЛРОСА\"."]

{"sheet":"05.РКС","index":31,"n_rows":161,"n_cols":16,"rows_kept":161,"cut":false,"hidden":false,"merged":[[13,14,16,14],[13,6,16,6],[13,5,16,5],[13,4,16,4],[15,11,16,11],[15,12,16,12],[0,0,0,5],[6,2,6,4],[8,2,8,4],[13,0,16,0],[11,0,11,15],[13,13,16,13],[13,15,16,15],[13,11,14,12],[13,3,16,3],[13,9,14,10],[15,9,16,9],[15,10,16,10],[13,2,16,2],[13,1,16,1],[13,8,16,8],[13,7,16,7]]}
["Назад к оглавлению"]
[]
["Приложение № 2 к \"Положению об инвестиционном бюджете АК \"АЛРОСА\"\""]
["Код формы: РКС"]
[]
[]
[null,null,{"$f":"org","v":"АО \"Вилюйская ГЭС-3\""}]
[null,null,"Организационно-правовая форма и название Общества/структурного подразделения"]
[null,null,{"$f":"period_txt","v":"12 месяцев 2017"}]
[null,null," Плановый / отчётный период "]
[]
["Реестр объектов капитального строительства"]
[]
["№ п/п","Код объекта","Наименование объекта","Общество / cтруктурное подразделение","Код проекта","Наименование проекта","Вид КС по направлению деятельности","Площадка","Приоритет","Общая стоимость работ \n",null,"Сроки строительства объекта (мес. год)",null,"Основание для начала строительства","Критерий инновационности расходов (принадлежность к ПИРиТМ)","Примечание"]
[]
[null,null,null,null,null,null,null,null,null,"Общая плановая (сметная)стоимость ","Освоено на начало план./отчётного периода, факт (прогноз)","Начало","Ожидаемое окончание"]
[]
[1,{"$f":"A18+1","v":2},3,4,5,6,7,8,9,10,11,12,13,14,{"$f":"N18+1","v":15},{"$f":"O18+1","v":16}]
[1,"2016-1.1.","Здание ГЭС.Монтаж вентсистем ",{"$f":"org","v":"АО \"Вилюйская ГЭС-3\""},null,{"$f":"IF(ISBLANK(E19), \"\", VLOOKUP(E19, projects, 2, 0))","v":""},"Прочая основная деятельность","Прочее","Высокий",4723,null,"2017-01-01","2017-12-01","Приказ Министерства энергетики и электрификации СССР № 51пс от 19.04.1978 г. об утверждении ТЭО строительства Вилюйской ГЭС-3 на р.Вилюй; Разрешение на строительство № 8-5 от 15.06.2005 г., выданное УиАГ МО \"Мирнинский район\""," -"]
[2,"2016-1.2.","Здание ГЭС. Общестроительные работы","АО \"Вилюйская ГЭС-3\"",null,{"$f":"IF(ISBLANK(E20), \"\", VLOOKUP(E20, projects, 2, 0))","v":""},"Прочая основная деятельность","Прочее","Высокий",1000,null,"2017-01-01","2017-12-01","Приказ Министерства энергетики и электрификации СССР № 51пс от 19.04.1978 г. об утверждении ТЭО строительства Вилюйской ГЭС-3 на р.Вилюй; Разрешение на строительство № 8-5 от 15.06.2005 г., выданное УиАГ МО \"Мирнинский район\""," -"]
[3,"2016-1.3.","Здание ГЭС.Оснащение   ответственных напорных  гидротехнических  сооружений автоматизированными  системами диагностического контроля (АСДК),","АО \"Вилюйская ГЭС-3\"",null,"","Прочая основная деятельность","Прочее","Высокий",13867,null,"2016-10-01","2018-12-30","Декларация  безопасности   ГТ  сооружений утв. Ростехнадзором  РФ рег.№00-ДБ-0048-2015"," -","выведено из \"РЕЗЕРВА\"                            исх.№ 2049/011 от 18.11.2016"]
[4,"2016-1.4.","Здание ГЭС.Противотаранное устройство на границе охранной зоны   акватории","АО \"Вилюйская ГЭС-3\"",null,"","Прочая основная деятельность","Прочее","Высокий",14722,null,"2017-04-01","2017-12-30","Правила  по обеспечению  безопасности  и   антитеррористической  защищенности   объектов топливно-энергетического комплекса   п.302,  утв. Правительством  РФ от 05.05.2012г №458,  рекомендации  техаудита ПАО \"РусГидро\" 01.07.2016г "," -"]
[null,"2016-1.4.1.","Здание ГЭС.Противотаранное устройство на границе охранной зоны   акватории. Оборудование","АО \"Вилюйская ГЭС-3\"",null,{"$f":"IF(ISBLANK(E23), \"\", VLOOKUP(E23, projects, 2, 0))","v":""},"Прочая основная деятельность","Прочее","Высокий",12961,null,"2017-04-01","2017-12-30","Правила  по обеспечению  безопасности  и   антитеррористической  защищенности   объектов топливно-энергетического комплекса   п.302,  утв. Правительством  РФ от 05.05.2012г №458,  рекомендации  техаудита ПАО \"РусГидро\" 01.07.2016г "," -"]
[null,"2016-1.4.2.","Здание ГЭС.Противотаранное устройство на границе охранной зоны   акватории. Оборудование","АО \"Вилюйская ГЭС-3\"",null,{"$f":"IF(ISBLANK(E24), \"\", VLOOKUP(E24, projects, 2, 0))","v":""},"Прочая основная деятельность","Прочее","Высокий",1740,null,"2017-04-01","2017-12-30","Правила  по обеспечению  безопасности  и   антитеррористической  защищенности   объектов топливно-энергетического комплекса   п.302,  утв. Правительством  РФ от 05.05.2012г №458,  рекомендации  техаудита ПАО \"РусГидро\" 01.07.2016г "," -"]
[null,"2016-1.4.3.","Здание ГЭС.Противотаранное устройство на границе охранной зоны   акватории. Оборудование","АО \"Вилюйская ГЭС-3\"",null,"","Прочая основная деятельность","Прочее","Высокий",21,null,"2017-04-01","2017-12-30","Правила  по обеспечению  безопасности  и   антитеррористической  защищенности   объектов топливно-энергетического комплекса   п.302,  утв. Правительством  РФ от 05.05.2012г №458,  рекомендации  техаудита ПАО \"РусГидро\" 01.07.2016г "," -"]
[5,"2016-1.5.","Здание ГЭС. Электроосвещение помещения   окраски затворов (отм.154 оси А-1-2)","АО \"Вилюйская ГЭС-3\"",null,"","Прочая основная деятельность","Прочее","Высокий",430,null,"2017-01-01","2017-07-30","Приказ Министерства энергетики и электрификации СССР № 51пс от 19.04.1978 г. об утверждении ТЭО строительства Вилюйской ГЭС-3 на р.Вилюй; Разрешение на строительство № 8-5 от 15.06.2005 г., выданное УиАГ МО \"Мирнинский район\""," -"]
[6,"2016-1.6.","Здание ГЭС.Электроосвещение  вспомогательного помещения","АО \"Вилюйская ГЭС-3\"",null,"","Прочая основная деятельность","Прочее","Высокий",139,null,"2017-04-01","2017-06-30","Приказ Министерства энергетики и электрификации СССР № 51пс от 19.04.1978 г. об утверждении ТЭО строительства Вилюйской ГЭС-3 на р.Вилюй; Разрешение на строительство № 8-5 от 15.06.2005 г., выданное УиАГ МО \"Мирнинский район\""," -"]
[7,"2016-1.7.","Здание ГЭС.Электроосвещение и  заземление помещения венткамеры вытяжной (отм.165,20)","АО \"Вилюйская ГЭС-3\"",null,"","Прочая основная деятельность","Прочее","Высокий",165,null,"2017-04-01","2017-06-30","Приказ Министерства энергетики и электрификации СССР № 51пс от 19.04.1978 г. об утверждении ТЭО строительства Вилюйской ГЭС-3 на р.Вилюй; Разрешение на строительство № 8-5 от 15.06.2005 г., выданное УиАГ МО \"Мирнинский район\""," -"]
[8,"2016-1.8.","Здание ГЭС.Электроосвещение и  заземление помещения венткамеры приточной (отм.165,20)","АО \"Вилюйская ГЭС-3\"",null,"","Прочая основная деятельность","Прочее","Высокий",148,null,"2017-07-01","2017-09-30","Приказ Министерства энергетики и электрификации СССР № 51пс от 19.04.1978 г. об утверждении ТЭО строительства Вилюйской ГЭС-3 на р.Вилюй; Разрешение на строительство № 8-5 от 15.06.2005 г., выданное УиАГ МО \"Мирнинский район\""," -"]
[9,"2016-1.9.","Здание  ГЭС Электропомещение помещения  ГРУ","АО \"Вилюйская ГЭС-3\"",null,"","Прочая основная деятельность","Прочее","Высокий",165,null,"2017-07-01","2017-09-30","Приказ Министерства энергетики и электрификации СССР № 51пс от 19.04.1978 г. об утверждении ТЭО строительства Вилюйской ГЭС-3 на р.Вилюй; Разрешение на строительство № 8-5 от 15.06.2005 г., выданное УиАГ МО \"Мирнинский район\""," -"]
[10,"2016-3.1.","ЛКЗП.Ликвидация    изыскательной штольни  №1000","АО \"Вилюйская ГЭС-3\"",null,"","Прочая основная деятельность","Прочее","Высокий",53765,26682,"2016-06-01","2017-10-01","Приказ Министерства энергетики и электрификации СССР № 51пс от 19.04.1978 г. об утверждении ТЭО строительства Вилюйской ГЭС-3 на р.Вилюй; Разрешение на строительство № 8-5 от 15.06.2005 г., выданное УиАГ МО \"Мирнинский район\". Декларация  безопасности  ГТ  сооружений п.10"," -"]
[11,"2016-3.2.","ЛКЗП.КИА. Буровые работы   по программе  КИС на  штольнях  ","АО \"Вилюйская ГЭС-3\"",null,"","Прочая основная деятельность","Прочее","Высокий",951,null,"2017-01-01","2017-10-01","Приказ Министерства энергетики и электрификации СССР № 51пс от 19.04.1978 г. об утверждении ТЭО строительства Вилюйской ГЭС-3 на р.Вилюй; Разрешение на строительство № 8-5 от 15.06.2005 г., выданное УиАГ МО \"Мирнинский район\""," -"]
[12,"2016-3.3.","ЛКЗП.Обустройство приплотинной  площадки на   левом берегу","АО \"Вилюйская ГЭС-3\"",null,"","Прочая основная деятельность","Прочее","Высокий",4000,null,"2017-06-01","2017-10-01","Приказ Министерства энергетики и электрификации СССР № 51пс от 19.04.1978 г. об утверждении ТЭО строительства Вилюйской ГЭС-3 на р.Вилюй; Разрешение на строительство № 8-5 от 15.06.2005 г., выданное УиАГ МО \"Мирнинский район\""," -"]
[13,"2016-3.4.","ЛКЗП.Устройство вторых ворот   низовой  штольни (п.36 акта  техаудита),  в т.ч. ","АО \"Вилюйская ГЭС-3\"",null,"","Прочая основная деятельность","Прочее","Высокий",724,null,"2017-07-01","2017-10-01","Рекомендации техаудита   \"РусГидро\" п.36"," -"]
[14,"2016-3.5.","ЛКЗП.Защитная  облицовка портала.Теплозащитный  экран и анкера крепления стенко к  массиву (п.35 акта  техаудита)","АО \"Вилюйская ГЭС-3\"",null,"","Прочая основная деятельность","Прочее","Высокий",1500,null,"2017-07-01","2017-10-01","Рекомендации техаудита   \"РусГидро\" п.36"," -"]
[15,"2016-4.1.","ПКЗП. Переход через ручей Сыылага (Добыча скального  грунта  в карьере 14 ИД, земельно-скальные работы)","АО \"Вилюйская ГЭС-3\"",null,"","Прочая основная деятельность","Прочее","Высокий",130223,null,"2017-06-01","2018-11-01","Приказ Министерства энергетики и электрификации СССР № 51пс от 19.04.1978 г. об утверждении ТЭО строительства Вилюйской ГЭС-3 на р.Вилюй; Разрешение на строительство № 8-5 от 15.06.2005 г., выданное УиАГ МО \"Мирнинский район\""," -"]
[16,"2016-4.2.","ПКЗП.Электромонтажные работы по подключению и обеспечению водоотлива, монтажу и демонтажу оборудования на период взрывов в карьере 14 ИД.","АО \"Вилюйская ГЭС-3\"",null,"","Прочая основная деятельность","Прочее","Высокий",700,null,null,null,"Приказ Министерства энергетики и электрификации СССР № 51пс от 19.04.1978 г. об утверждении ТЭО строительства Вилюйской ГЭС-3 на р.Вилюй; Разрешение на строительство № 8-5 от 15.06.2005 г., выданное УиАГ МО \"Мирнинский район\""," -"]
[17,"2016-4.3.","ПКЗП. Потребление электроэнергии в карьере 14 ИД  (июнь-декабрь)","АО \"Вилюйская ГЭС-3\"",null,"","Прочая основная деятельность","Прочее","Высокий",440,null,null,null,"Приказ Министерства энергетики и электрификации СССР № 51пс от 19.04.1978 г. об утверждении ТЭО строительства Вилюйской ГЭС-3 на р.Вилюй; Разрешение на строительство № 8-5 от 15.06.2005 г., выданное УиАГ МО \"Мирнинский район\""," -"]
[18,"2016-5.1.","Автодорожный проезд Промбаза-ГЭС. Устройство  автодороги  ПК0+00 - ПК43+36,1          ","АО \"Вилюйская ГЭС-3\"",null,"","Прочая основная деятельность","Прочее","Высокий",257210,{"$f":"8400+6193+4724","v":19317},"2016-09-01","2018-10-30","Приказ Министерства энергетики и электрификации СССР № 51пс от 19.04.1978 г. об утверждении ТЭО строительства Вилюйской ГЭС-3 на р.Вилюй; Разрешение на строительство № 8-5 от 15.06.2005 г., выданное УиАГ МО \"Мирнинский район\""," -"]
[19,"2016-5.2.","Автодорпожный проезд Промбаза-ГЭС.Электромонтажные работы   по подключению  и  обеспечению водоотлива, монтажу и демонтажу оборудования   на  период  взрывов в карьере 14 ИД.","АО \"Вилюйская ГЭС-3\"",null,"","Прочая основная деятельность","Прочее","Высокий",2738,null,"2017-03-01","2018-12-01","Приказ Министерства энергетики и электрификации СССР № 51пс от 19.04.1978 г. об утверждении ТЭО строительства Вилюйской ГЭС-3 на р.Вилюй; Разрешение на строительство № 8-5 от 15.06.2005 г., выданное УиАГ МО \"Мирнинский район\""," -"]
[20,"2016-5.3.","Автодорожный  проезд Промбаза-ГЭС. Потребление электроэнергии в карьере 14 ИД  (июнь-декабрь)","АО \"Вилюйская ГЭС-3\"",null,"","Прочая основная деятельность","Прочее","Высокий",420,null,"2017-03-01","2018-12-01","Приказ Министерства энергетики и электрификации СССР № 51пс от 19.04.1978 г. об утверждении ТЭО строительства Вилюйской ГЭС-3 на р.Вилюй; Разрешение на строительство № 8-5 от 15.06.2005 г., выданное УиАГ МО \"Мирнинский район\""," -"]
[21,"2016-1.10.","Здание ГЭС.Проектно-изыскательские  работы    по  ВГЭС ","АО \"Вилюйская ГЭС-3\"",null,null,"Прочая основная деятельность","Прочее","Высокий",5400,null,"2017-03-01","2017-12-30","Ежегодный договор с генпроектировщиком   АО \"Ленгидропроект\". Инженерно-геодезическе,гидрометеорологические  отчеты  по   данным \"Экспедиция №13\", стационарные наблюдения   постоянной  КИА на   склонах и сооружениях,наблюдения за горизонтальными смещениями  бетонных сооружений, наблюдение за устойчивость склонов  районе гидроузла. "," -"]
[22,"2016-1.11.","Здание ГЭС.ПИР.Разработка  технических решений  в  рамках програмы  по  подъему уровня водохранилища   (Акт тех.аудита)","АО \"Вилюйская ГЭС-3\"",null,null,"Прочая основная деятельность","Прочее","Высокий",10000,null,"2017-01-01","2017-12-30","Рекомендации техаудита   \"РусГидро\"  по разработке технических решений  по   подъему уровня  водохранилища."," -"]
[23,"2016-4.4.","ПКЗП. ПИР.Сыылага. Корректировка   технического проекта  разработки магматических пород (долеритов) открытым способом на  южном   участке месторождения 14ИД.","АО \"Вилюйская ГЭС-3\"",null,null,"Прочая основная деятельность","Прочее","Высокий",3500,null,"2017-04-01","2017-06-01","В соответствии с решением Протокола заседания ТКР Якутнедра № 182-тпи от 28.05.2012 г. при изменении горнотехнических условий разработки участка недр, изменении парка оборудования и иных условий технического регламента разработки запасов строительного камня необходимо выполнить корректировку технического проекта разработки месторождения и его согласование в установленном порядке. "," -"]
[24,"2016-5.4.","Автодорожный поезд Промбаза-ГЭС. ПИР. Электроосвещение  автодороги","АО \"Вилюйская ГЭС-3\"",null,null,"Прочая основная деятельность","Прочее","Высокий",450,null,"2017-01-01","2017-03-30","Приказ Министерства энергетики и электрификации СССР № 51пс от 19.04.1978 г. об утверждении ТЭО строительства Вилюйской ГЭС-3 на р.Вилюй; Разрешение на строительство № 8-5 от 15.06.2005 г., выданное УиАГ МО \"Мирнинский район\""," -"]
[25,"2016-7.1.","Прочие затраты. Автодорога. Налог на добычу ОПИ (НДПИ) ","АО \"Вилюйская ГЭС-3\"",null,null,"Прочая основная деятельность","Прочее","Высокий",1581.4,null,null,null,"Требование Налогового Кодекса"," -"]
[26,"2016-7.2.","Прочие затраты. Автодорога.Аренда  земельного участка","АО \"Вилюйская ГЭС-3\"",null,null,"Прочая основная деятельность","Прочее","Высокий",622.09,null,null,null,"Договор аренды земельного участка с Администрацией  МО \"Поселок Светлый\""," -"]
[27,"2016-7.3.","Прочие затраты.ПКЗП.Сыылага.Налог на добычу (НДПИ)","АО \"Вилюйская ГЭС-3\"",null,null,"Прочая основная деятельность","Прочее","Высокий",4310,null,null,null,"Требование Налогового Кодекса"," -"]
[28,"2016-7.4.","Прочие  затраты. Аренда  земли. Водовод неочищенной  воды ","АО \"Вилюйская ГЭС-3\"",null,null,"Прочая основная деятельность","Прочее","Высокий",307.39999999999998,null,null,null,"Договор аренды земельного участка с Администрацией  МО \"Поселок Светлый\""," -"]
[29,"2016-7.5.","Прочие затраты на оформление  разрешительной  документации","АО \"Вилюйская ГЭС-3\"",null,null,"Прочая основная деятельность","Прочее","Высокий",3264,null,null,null,"Расчет "," -"]
[30,"2016-3.6.","ЛКЗП.Авторский надзор. Ликвидация изыскательской штольни № 1000 ГСП","АО \"Вилюйская ГЭС-3\"",null,null,"Прочая основная деятельность","Прочее","Высокий",1700,null,null,null,"Проектной документацией предусмотрена необходимость ведения авторского надзора"," -"]
[31,"2016-4.5.","ЛКЗП. Авторский надзор. Переход через ручей Сыылага","АО \"Вилюйская ГЭС-3\"",null,null,"Прочая основная деятельность","Прочее","Высокий",500,null,null,null,null," -"]
[32,"2016-1.12.","Здание ГЭС. Авторский надзор здание ГЭС","АО \"Вилюйская ГЭС-3\"",null,null,"Прочая основная деятельность","Прочее","Высокий",650,null,null,null,"Проектной документацией предусмотрена необходимость ведения авторского надзора"," -"]
[33,"2016-8","Содержание Дирекции","АО \"Вилюйская ГЭС-3\"",null,null,"Прочая основная деятельность","Прочее","Высокий",11782.46,null,null,null,"Расчет "," -"]
[34,"2016-7.6","Прочие затраты.ПКЗП.Сыылага.Аренда лесного участка","АО \"Вилюйская ГЭС-3\"",null,null,"Прочая основная деятельность","Прочее","Высокий",30.641999999999999,null,null,null,"Договора аренды лесного участка"," -"]
[35,null,null,null,null,null,null,null,null,null,null,null,null,null," -"]
[36,null,null,null,null,null,null,null,null,null,null,null,null,null," -"]
[37,null,null,null,null,null,null,null,null,null,null,null,null,null," -"]
[38,null,null,null,null,null,null,null,null,null,null,null,null,null," -"]
[39,null,null,null,null,null,null,null,null,null,null,null,null,null," -"]
[40,null,null,null,null,null,null,null,null,null,null,null,null,null," -"]
[41,null,null,null,null,null,null,null,null,null,null,null,null,null," -"]
[42,null,null,null,null,null,null,null,null,null,null,null,null,null," -"]
[43,null,null,null,null,null,null,null,null,null,null,null,null,null," -"]
[44,null,null,null,null,null,null,null,null,null,null,null,null,null," -"]
[45,null,null,null,null,null,null,null,null,null,null,null,null,null," -"]
[46,null,null,null,null,null,null,null,null,null,null,null,null,null," -"]
[47,null,null,null,null,null,null,null,null,null,null,null,null,null," -"]
[48,null,null,null,null,null,null,null,null,null,null,null,null,null," -"]
[49,null,null,null,null,null,null,null,null,null,null,null,null,null," -"]
[50,null,null,null,null,null,null,null,null,null,null,null,null,null," -"]
[null,null,null,null,null,null,null,null,null,null,null,null,null,null," -"]
[]
[]
[]
[]
[]
[]
[]
[]
[null,null,null,null,null,{"$f":"IF(ISBLANK(E81), \"\", VLOOKUP(E81, projects, 2, 0))","v":""}]
[null,null,null,null,null,""]
[null,null,null,null,null,""]
[null,null,null,null,null,""]
[null,null,null,null,null,""]
[null,null,null,null,null,""]
[null,null,null,null,null,""]
[null,null,null,null,null,""]
[null,null,null,null,null,""]
[null,null,null,null,null,""]
[null,null,null,null,null,""]
[null,null,null,null,null,""]
[null,null,null,null,null,""]
[null,null,null,null,null,""]
[null,null,null,null,null,""]
[null,null,null,null,null,""]
[null,null,null,null,null,""]
[null,null,null,null,null,""]
[null,null,null,null,null,""]
[null,null,null,null,null,""]
[null,null,null,null,null,""]
[null,null,null,null,null,{"$f":"IF(ISBLANK(E102), \"\", VLOOKUP(E102, projects, 2, 0))","v":""}]
[null,null,null,null,null,""]
[null,null,null,null,null,""]
[null,null,null,null,null,""]
[null,null,null,null,null,""]
[null,null,null,null,null,""]
[null,null,null,null,null,""]
[null,null,null,null,null,""]
[null,null,null,null,null,""]
[null,null,null,null,null,""]
[null,null,null,null,null,""]
[null,null,null,null,null,""]
[null,null,null,null,null,""]
[null,null,null,null,null,""]
[null,null,null,null,null,""]
[null,null,null,null,null,""]
[null,null,null,null,null,""]
[null,null,null,null,null,""]
[null,null,null,null,null,""]
[null,null,null,null,null,""]
[null,null,null,null,null,""]
[null,null,null,null,null,""]
[null,null,null,null,null,""]
[null,null,null,null,null,""]
[null,null,null,null,null,""]
[null,null,null,null,null,""]
[null,null,null,null,null,""]
[null,null,null,null,null,""]
[null,null,null,null,null,""]
[null,null,null,null,null,""]
[null,null,null,null,null,""]
[null,null,null,null,null,""]
[null,null,null,null,null,{"$f":"IF(ISBLANK(E134), \"\", VLOOKUP(E134, projects, 2, 0))","v":""}]
[null,null,null,null,null,""]
[null,null,null,null,null,""]
[null,null,null,null,null,""]
[null,null,null,null,null,""]
[null,null,null,null,null,""]
[null,null,null,null,null,""]
[null,null,null,null,null,""]
[null,null,null,null,null,""]
[null,null,null,null,null,""]
[null,null,null,null,null,""]
[null,null,null,null,null,""]
[null,null,null,null,null,""]
[null,null,null,null,null,""]
[null,null,null,null,null,""]
[null,null,null,null,null,""]
[null,null,null,null,null,""]
[null,null,null,null,null,""]
[null,null,null,null,null,""]
[null,null,null,null,null,""]
[null,null,null,null,null,""]
[null,null,null,null,null,""]
[null,null,null,null,null,""]
[null,null,null,null,null,""]
[null,null,null,null,null,""]
[null,null,null,null,null,""]
[null,null,null,null,null,""]
[null,null,null,null,null,""]

{"sheet":"06.БПД","index":32,"n_rows":45,"n_cols":33,"rows_kept":45,"cut":false,"hidden":false,"merged":[[0,1,0,3],[12,2,15,2],[12,1,15,1],[12,3,15,3],[12,29,15,29],[12,4,12,13],[14,4,15,4],[14,15,15,15],[14,16,15,16],[14,17,15,17],[12,19,13,23],[13,25,13,28],[13,5,13,8],[13,10,13,13],[14,25,15,25],[14,14,15,14],[12,31,15,31],[14,5,15,5],[14,6,15,6],[14,7,15,7],[14,8,15,8],[14,9,15,9],[14,10,15,10],[14,11,15,11],[14,12,15,12],[14,19,14,20],[14,21,14,23],[14,24,15,24],[14,13,15,13],[12,16,12,17],[13,16,13,17],[12,30,15,30],[14,27,15,27],[14,28,15,28],[12,18,15,18],[12,24,12,28],[14,26,15,26],[43,3,43,4],[6,2,6,4],[8,2,8,4],[34,3,34,4],[37,3,37,4],[40,3,40,4]]}
[null,"Назад к оглавлению",null,null,null,null,null,null,null,"base_fact","base_fact","base_fact","base_fact","base_fact","fact_fields","fact_fields","fact_fields","fact_fields","fact_fields","corr_fields","corr_fields","corr_fields","corr_fields","corr_fields","corr_fields","corr_fields","corr_fields","corr_fields","corr_fields","corr_fields",null,"plan_fields"]
[]
[null,"Приложение № 2 к \"Положению об инвестиционном бюджете АК \"АЛРОСА\"\""]
[null,"Код формы: БПД"]
[]
[]
[null,null,{"$f":"org","v":"АО \"Вилюйская ГЭС-3\""}]
[null,null,"Организационно-правовая форма и название Общества/структурного подразделения"]
[null,null,{"$f":"period_txt","v":"12 месяцев 2017"}]
[null,null," Плановый / отчётный период "]
[null,null,"Бюджет прочих движений по 08 счёту* (кроме инвестиций)"]
[null,"Тыс. руб. без НДС 1"]
[null,"№","Общество / cтруктурное подразделение","Наименование затрат","Плановый / отчётный период",null,null,null,null,null,null,null,null,null,"ПЛАН за","ФАКТ за","Отклонение за период2",null,"Комментарии по отклонениям3","Изменения к утверждённому плану по году",null,null,null,null,"Скорректированный план",null,null,null,null,"Комментарии по изменениям плана","Критерий инновационности расходов (принадлежность к ПИРиТМ)","Примечание к бюджету","Сверка"]
[null,null,null,null,"ПЛАН    ","в т.ч. по кварталам:",null,null,null,"ФАКТ ","в т.ч. по кварталам:",null,null,null,{"$f":"period","v":"12 месяцев"},{"$f":"O14","v":"12 месяцев"},"12 месяцев",null,null,null,null,null,null,null,"ПЛАН    ","в т.ч. по кварталам:"]
[null,null,null,null,"Год   всего","1 кв.","2 кв.","3 кв.","4 кв.","Год        всего","1 кв.","2 кв.","3 кв.","4 кв.","Тыс.    руб.","Тыс.    руб.","Тыс.    руб.","% ",null,"Изменение всего",null,"В т.ч.",null,null,"Год   всего","1 кв.","2 кв.","3 кв.","4 кв."]
[null,null,null,null,null,null,null,null,null,null,null,null,null,null,null,null,null,null,null,"Тыс.    руб.","%","Вновь добавлено\n(указывается со знаком \"+\")","Исключено (указывается со знаком \"-\")","Изменение стоимости\n(удорожание \"+\", удешвление \"-\")"]
[null,1,{"$f":"B17+1","v":2},3,4,5,6,7,8,9,10,11,12,13,14,15,16,17,18,19,20,21,22,23,24,25,26,27,28,29,{"$f":"AD17+1","v":30},{"$f":"AE17+1","v":31}]
[null,"     Прочие движения по 08 счёту, всего:",null,null,{"$f":"SUMIF($C19:$C$10004,\"*\",E19:E$10004)","v":0},{"$f":"SUMIF($C19:$C$10004,\"*\",F19:F$10004)","v":0},{"$f":"SUMIF($C19:$C$10004,\"*\",G19:G$10004)","v":0},{"$f":"SUMIF($C19:$C$10004,\"*\",H19:H$10004)","v":0},{"$f":"SUMIF($C19:$C$10004,\"*\",I19:I$10004)","v":0},{"$f":"SUMIF($C19:$C$10004,\"*\",J19:J$10004)","v":0},{"$f":"SUMIF($C19:$C$10004,\"*\",K19:K$10004)","v":0},{"$f":"SUMIF($C19:$C$10004,\"*\",L19:L$10004)","v":0},{"$f":"SUMIF($C19:$C$10004,\"*\",M19:M$10004)","v":0},{"$f":"SUMIF($C19:$C$10004,\"*\",N19:N$10004)","v":0},{"$f":"IF(period=period_1Q, F18, IF(period=period_1H, SUM(F18:G18), IF(period=period_9M, SUM(F18:H18), IF(period=period_1Y,SUM(F18:I18),0))))","v":0},{"$f":"IF(period=period_1Q, K18, IF(period=period_1H, SUM(K18:L18), IF(period=period_9M, SUM(K18:M18), IF(period=period_1Y,SUM(K18:N18),0))))","v":0},{"$f":"P18-O18","v":0},{"$f":"IFERROR(Q18/O18, 0)","v":0},null,{"$f":"SUM(V18:X18)","v":0},{"$f":"IFERROR(T18/E18, 0)","v":0},{"$f":"SUMIF($C19:$C$10004,\"*\",V19:V$10004)","v":0},{"$f":"SUMIF($C19:$C$10004,\"*\",W19:W$10004)","v":0},{"$f":"SUMIF($C19:$C$10004,\"*\",X19:X$10004)","v":0},{"$f":"E18+T18","v":0},{"$f":"SUMIF($C19:$C$10004,\"*\",Z19:Z$10004)","v":0},{"$f":"SUMIF($C19:$C$10004,\"*\",AA19:AA$10004)","v":0},{"$f":"SUMIF($C19:$C$10004,\"*\",AB19:AB$10004)","v":0},{"$f":"SUMIF($C19:$C$10004,\"*\",AC19:AC$10004)","v":0},null,null,null,{"$f":"SUM(ABS(E18-SUM(F18:I18)), ABS(J18-SUM(K18:N18)), ABS(Y18-SUM(Z18:AC18))*1, ABS(T18-SUM(V18:X18)))","v":0}]
[null,1,{"$f":"org","v":"АО \"Вилюйская ГЭС-3\""},null,{"$f":"SUM(F19:I19)","v":0},null,null,null,null,{"$f":"SUM(K19:N19)","v":0},null,null,null,null,0,0,0,0,null,0,0,{"$f":"IF(AND(E19=0, Y19>0), Y19, 0)","v":0},{"$f":"IF(AND(E19>0, Y19=0), -E19, 0)","v":0},{"$f":"IF(AND(E19>0, Y19>0), Y19-E19, 0)","v":0},{"$f":"SUM(Z19:AC19)","v":0},{"$f":"F19","v":0},{"$f":"G19","v":0},{"$f":"H19","v":0},{"$f":"I19","v":0},null,null,null,0]
[null,{"$f":"B19+1","v":2},"АО \"Вилюйская ГЭС-3\"",null,0,null,null,null,null,0,null,null,null,null,0,0,{"$f":"P20-O20","v":0},0,null,{"$f":"SUM(V20:X20)","v":0},{"$f":"IFERROR(T20/E20, 0)","v":0},0,0,0,0,0,0,0,0,null,null,null,0]
[null,3,"АО \"Вилюйская ГЭС-3\"",null,0,null,null,null,null,0,null,null,null,null,0,0,0,0,null,0,0,0,0,0,0,0,0,0,0,null,null,null,0]
[null,4,"АО \"Вилюйская ГЭС-3\"",null,0,null,null,null,null,0,null,null,null,null,0,0,0,0,null,0,0,0,0,0,0,0,0,0,0,null,null,null,0]
[null,5,"АО \"Вилюйская ГЭС-3\"",null,0,null,null,null,null,0,null,null,null,null,0,0,0,0,null,0,0,0,0,0,0,0,0,0,0,null,null,null,0]
[null,6,"АО \"Вилюйская ГЭС-3\"",null,0,null,null,null,null,0,null,null,null,null,0,0,0,0,null,0,0,0,0,0,0,0,0,0,0,null,null,null,0]
[null,7,"АО \"Вилюйская ГЭС-3\"",null,0,null,null,null,null,0,null,null,null,null,0,0,0,0,null,0,0,0,0,0,0,0,0,0,0,null,null,null,0]
[null,8,"АО \"Вилюйская ГЭС-3\"",null,0,null,null,null,null,0,null,null,null,null,0,0,0,0,null,0,0,0,0,0,0,0,0,0,0,null,null,null,0]
[null,9,"АО \"Вилюйская ГЭС-3\"",null,0,null,null,null,null,0,null,null,null,null,0,0,0,0,null,0,0,0,0,0,0,0,0,0,0,null,null,null,0]
[]
[]
[null,"1  Форма заполняется по освоениию (начислению). Подробнее -порядок заполнения формы определён в \"Положении об инвестиционном бюджете АК \"АЛРОСА\" ."]
[null,"2  В графе \"Отклонение\" производится сравнение факта с плановым периодом нарастающим итогом."]
[null,"3  При отклонении более 10% (не зависимо +/-) в графе \"Комментарии по отклонениям\" в форме указывается причина отклонения. Подробно причины отклонений указываются в Пояснительной записке к инвестиционному бюджету/отчёту."]
[]
[]
[]
[null,null,null,"Исполнитель (ФИО):"]
[]
[]
[null,null,null,"Должность: "]
[]
[]
[null,null,null,"Контактный телефон:"]
[]
[]
[null,null,null,"Электронный адрес:"]

{"sheet":"###","index":33,"n_rows":47,"n_cols":5,"rows_kept":47,"cut":false,"hidden":true,"merged":[[17,2,22,3],[23,2,23,3]]}
[]
[]
[]
[null,null,null,null,"         Приложение № 5 "]
[null,null,"                                  к \"Положению об инвестиционном  бюджете АК \"АЛРОСА\" (ПАО)\""]
[]
[]
[]
[]
[]
[]
[]
[]
[]
[]
[]
[]
[null,null,"Справочники \nинвестиционных бюджетов    (бюджетные классификаторы)"]
[]
[]
[]
[]
[]
[]
[]
[]
[]
[]
[]
[]
[]
[]
[]
[]
[]
[]
[]
[]
[]
[]
[]
[]
[]
[]
[]
[null,null,"                                           г. Москва "]
[null,null,"                                              2015 г."]

{"sheet":"1.Виды КС","index":34,"n_rows":16,"n_cols":4,"rows_kept":16,"cut":false,"hidden":true,"merged":[[0,1,0,6]]}
[null,"Назад к оглавлению"]
[null,"Приложение № 5 к \"Положению об инвестиционном бюджете АК \"АЛРОСА\"\""]
[]
[null,null,"Группы основных инвестиций в КС"]
[]
[null,"№","Наименование / код для выборки","Описание"]
[null,"1.","Строительство объектов основного производства"]
[null,"1.1.","Рудники"]
[null,"1.1.1.","Подземный рудник \"Мир\""]
[null,"1.1.2.","Подземный рудник \"Айхал\""]
[null,"1.1.3.","Подземный рудник \"Удачный\""]
[null,"1.1.4.","Подземный рудник \"Интернациональный\""]
[null,"1.2.","Прочая алмазодобыча"]
[null,"1.3.","Прочая основная деятельность"]
[null,"2.","Объекты вспомогательного производства  (прочее пром. строительство) "]
[null,"3.","Объекты непромышленного строительства (социального назначения) "]

{"sheet":"2.Оборудование КС","index":35,"n_rows":7,"n_cols":5,"rows_kept":7,"cut":false,"hidden":true,"merged":[[0,1,0,7]]}
[null,"Назад к оглавлению"]
[null,"Приложение № 5 к \"Положению об инвестиционном бюджете АК \"АЛРОСА\"\""]
[]
[null,null,"Группы оборудования для КС "]
[]
[null,"№","Наименование ","Код для выборки","Описание"]
[null,1,"Оборудование в смете на строительство","Оборудование в смете на КС, монтируемое"]

{"sheet":"3.Виды оборудов.","index":36,"n_rows":16,"n_cols":4,"rows_kept":16,"cut":false,"hidden":true,"merged":[[0,1,0,6]]}
[null,"Назад к оглавлению"]
[null,"Приложение № 5 к \"Положению об инвестиционном бюджете АК \"АЛРОСА\"\""]
[]
[null,null,"Виды оборудования"]
[]
[null,"№","Наименование группы оборудования/ код для выборки","Описание"]
[null,"1.","Обогатительное и дробильно-размольное оборудование","Грохоты, дробилки, транспортеры (конвейеры), пескомойки, прочее обогатительное и дробильно-размольное оборудование"]
[null,"2.","Горно-шахтное  оборудование","Буровое оборудование, машины погрузочные, лебедки шахтные, оборудование шахтного подъема, вентиляционное, горноспасательное оборудование, подземный транспорт,  пр. горно-шахтное оборудование"]
[null,"3.","Оборудование для вскрышных и добычных работ","Экскаваторы, бульдозеры, колёсные погрузчики, тракторная техника, прочее оборудование для вскрышных работ."]
[null,"4.","Технологический транспорт","Карьерные самосвалы,  автопоезда,  грузовой магистральный  транспорт,  прочий технолоогический транспорт"]
[null,"5.","Автотранспорт и дорожно-строительная техника ","Автотранспорт общего назначения, автоспецтехника,дорожно-строительные машины , прочий автотранспорт и дорожно-строительная техника"]
[null,"6.","Электротехническое и энергетическое оборудование","Шахтная автоматика, трансформаторные подстанции, осветительное оборудовние, прочее электротехническое и энергетическое оборудование"]
[null,"7.","Вентиляционное, отопительное и насосное оборудование","Вентиляторы, калориферы и отопительные агрегаты, оборудование для водоснабжения, насосы, прочее вентиляционноное, отопительное и насосное оборудование."]
[null,"8.","Гаражное, компрессорное оборудование, станки","Автомобильные домкраты, подъёмники, краны гаражные , стенды для двигателя, диагностическое оборудование, компресоры, станки, прочее гаражное, компрессорное оборудование и станки"]
[null,"9.","Оборудование автоматизации, ИТ и связи ","АСУ (автоматизированые системы управления), КИПиА (контрольно-измерительные приборы и автоматизация), прочее оборудование автоматизации, ИТ и связи"]
[null,"10.","Прочее оборудование","Оборудование не вошедшее в группы 1-9"]

{"sheet":"4.Проекты по переделам ","index":37,"n_rows":18,"n_cols":4,"rows_kept":18,"cut":false,"hidden":true,"merged":[]}
[null,"Назад к оглавлению"]
[null,"Приложение № 5 к \"Положению об инвестиционном бюджете АК \"АЛРОСА\"\""]
[]
[null,null,"Виды проектов по переделам"]
[]
[null,"№","Наименование  группы / код для выборки","Описание"]
[null,"I.","ПРОЕКТНАЯ ДЕЯТЕЛЬНОСТЬ"]
[null,"1.","Проекты алмазодобычи"]
[null,"2.","Проекты обогатителных мощностей"]
[null,"3.","Транспорт и логистика","Проекты группы АК \"АЛРОСЫ\" реализуемые в области транспорта и логистики вкл. проекты по осн. деятельности ДЗО компании"]
[null,"4.","Сортировка, огранка, сбыт"]
[null,"5.","Геологоразведка"]
[null,"6.","Проекты вспомогателного характера"]
[null,"7.","Проекты непромышленного характера (социального назначения)"]
[null,"8.","Прочие проекты","Проекты, не попавшие в пред. группы в т.ч. не профильные"]
[null,"II.","НЕПРОЕКТНАЯ ДЕЯТЕЛЬНОСТЬ"]
[]
[null,null,"Вид проекта для целей бюджетной классификации уточняется на этапе_УИД/УВИП"]

{"sheet":"5.Происхождение","index":38,"n_rows":8,"n_cols":5,"rows_kept":8,"cut":false,"hidden":true,"merged":[[5,3,5,4],[0,1,0,6]]}
[null,"Назад к оглавлению"]
[null,"Приложение № 5 к \"Положению об инвестиционном бюджете АК \"АЛРОСА\"\""]
[]
[null,null,"Происхождение оборудования"]
[]
[null,"№","Код для выборки","Описание"]
[null,"1.","РФ","Отечественное ","Оборудование, произведённое на территории РФ"]
[null,"2.","Импорт","Импортное","Оборудование, произведённое за пределами  территории РФ"]

{"sheet":"6.Приоритеты","index":39,"n_rows":9,"n_cols":4,"rows_kept":9,"cut":false,"hidden":true,"merged":[[0,1,0,6]]}
[null,"Назад к оглавлению"]
[null,"Приложение № 5 к \"Положению об инвестиционном бюджете АК \"АЛРОСА\"\""]
[]
[null,null,"Приоритетность инвестиционных расходов "]
[]
[null,"№","Уровень  приоритетности/ \nкод для выборки","Описание"]
[null,1,"Высокий","Критически необходимые для выполнения производственных  задач Группы. Инвестиционные расходы, перенос которых на следующий бюджетный период не возможен, т.к. повлечёт невыполнение производственной программы для Компании.\nВ  данную группу предпочтительно относятся инвестиционные (коммерческие) проекты /расходы с высокой экономической эффективностью. Высокий приоритет может также присваиваться организационным проектам, включая проекты по предписанию. Также, в группу включаются срочные проекты независимо от их экономической эффективности."]
[null,2,"Средний","В  данную группу могут относиться инвестиционные (коммерческие) проекты /расходы с невысокой экономической эффективностью или организационные проекты /расходы. \nИнвестиционные расходы, которые не критично влияют на выполнение производственной программы или необходимые для поддержания деятельности Группы, которые частично могут быть отложены."]
[null,3,"Низкий","Инвестиционные расходы, по которым возможен перенос на следующий бюджетный год без ущерба для выполнения производственной программы Группы.\nВ  данную группу могут относиться инвестиционные (коммерческие) проекты /расходы с низкой экономической эффективностью или организационные проекты /расходы."]

{"sheet":"7.Лизинг","index":40,"n_rows":8,"n_cols":4,"rows_kept":8,"cut":false,"hidden":true,"merged":[[0,1,0,6]]}
[null,"Назад к оглавлению"]
[null,"Приложение № 5 к \"Положению об инвестиционном бюджете АК \"АЛРОСА\"\""]
[]
[null,null,"Формы приобретения оборудования"]
[]
[null,"№","Код для выборки","Описание"]
[null,1," -","Стандартный закуп (приобретение по договору купли-продажи)"]
[null,2,"Л","Приобретение по договору лизинга"]

{"sheet":"8.Виды ПЗС","index":41,"n_rows":12,"n_cols":4,"rows_kept":12,"cut":false,"hidden":true,"merged":[[0,1,0,6]]}
[null,"Назад к оглавлению"]
[null,"Приложение № 5 к \"Положению об инвестиционном бюджете АК \"АЛРОСА\"\""]
[]
[null,null,"Виды прочих инвестиций КС"]
[]
[null,"№","Наименование / код для выборки","Описание"]
[null,"1.","Работы и расходы по земельным участкам","• Отвод земельных участков\n (расходы по оформлению отвода земельных участков и объектов природопользования, переселению, разбивочные работы при подготовке территории строительства, в том числе оплате работ и услуг, выполненных структурными подразделениями Компании и сторонними организациями).\n• Земельный налог.\n• Получение разрешительной документации \n(расходы, связанные с получением заказчиком и проектной организацией исходных данных, технических условий на проектирование и проведение необходимых согласований по проектным решениям, а также выполнением по требованию органов местного самоуправления исполнительной контрольной съемки построенных инженерных сетей, получение кадастровой схемы участка земельного участка, согласование соответствующей документации с гос. органами).\n•  Другие расходы по земельным участкам."]
[null,"2.","Освоение территории строительства","Расходы, связанные с компенсацией за сносимые строения и садово-огородные насаждения, посев, вспашку и другие сельскохозяйственные работы, ущерба, наносимого природной среде, произведенные на отчуждаемой территории, возмещением убытков и потерь, по переносу зданий и сооружений (или строительству новых зданий и сооружений взамен сносимых), по возмещению убытков, причиняемых проведением водохозяйственных мероприятий, прекращением или изменением условий водопользования, по возмещению потерь сельскохозяйственного производства при отводе земель."]
[null,"3.","Пусковые работы","• Пусконаладочные работы.\n• Подготовка кадров\n(подготовка кадров для строящихся подразделений: расходы, предусмотренные в смете на строительство, расходы по договорам с образовательными учреждениями на подготовку и переподготовку кадров для строящихся подразделений)."]
[null,"4.","Авторский и мерзлотный надзор","Расходы на проведение мероприятий, связанных с мерзлотным надзором за строящимися зданиями, осуществление авторского надзора, расходы, связанные с испытанием свай, проводимых подрядчиком в период разработки проектной документации по техническому заданию Внутреннего заказчика строительства"]
[null,"5.","Экспертиза проекта","Расходы на экспертизу предпроектной и проектной документации"]
[null,"6.","Другие расходы","• Расходы на разработку тендерной документации.\n• Расходы на содержание действующих постоянных автомобильных дорог и восстановление их после окончания строительства.\n• Прочие не учтённые по другим статьям расходы на КС"]

{"sheet":"9.Виды ДФВ","index":42,"n_rows":9,"n_cols":4,"rows_kept":9,"cut":false,"hidden":true,"merged":[[0,1,0,6]]}
[null,"Назад к оглавлению"]
[null,"Приложение № 5 к \"Положению об инвестиционном бюджете АК \"АЛРОСА\"\""]
[]
[null,null,"Виды ДФВ"]
[]
[null,"№","Наименование / код для выборки","Описание"]
[null,"1.","Увеличение УК (вклады в УК)"]
[null,"2.","Приобретение долей/акций"]
[null,"3.","Другие формы участия"]

{"sheet":"10.Виды ПНА","index":43,"n_rows":10,"n_cols":4,"rows_kept":10,"cut":false,"hidden":true,"merged":[[0,1,0,3]]}
[null,"Назад к оглавлению"]
[null,"Приложение № 5 к \"Положению об инвестиционном бюджете АК \"АЛРОСА\"\""]
[]
[null,null,"Виды прочих капитальных затрат"]
[]
[null,"№","Наименование / код для выборки","Код для выборки"]
[null,"1.","Приобретение основных средств (кроме оборудования)","Приобретение ОС (кроме оборудования)"]
[null,"2.","Приобретение объектов незавершённого строительства","Приобретение объектов НЗС"]
[null,3,"Затраты по договору мены жилья","Затраты по договору мены жилья"]
[null,4,"Другие капитальные затраты","Другие капитальные затраты"]

{"sheet":"11.Площадки КС","index":44,"n_rows":13,"n_cols":4,"rows_kept":13,"cut":false,"hidden":true,"merged":[]}
[null,"Назад к оглавлению"]
[null,"Приложение № 5 к \"Положению об инвестиционном бюджете АК \"АЛРОСА\"\""]
[]
[null,null,"Строительные площадки"]
[]
[null,"№","Наименование / код для выборки","Описание"]
[null,1,"Айхало-Удачнинская"]
[null,2,"Ленская "]
[null,3,"Мирнинская"]
[null,4,"Накынская"]
[null,5,"Архангельская"]
[null,6,"Анабарский улус"]
[null,7,"Прочее"]

{"sheet":"12.Виды НМА","index":45,"n_rows":10,"n_cols":5,"rows_kept":10,"cut":false,"hidden":true,"merged":[]}
[null,"Назад к оглавлению"]
[null,"Приложение № 5 к \"Положению об инвестиционном бюджете АК \"АЛРОСА\"\""]
[]
[null,null,"Виды нематериальных активов"]
[]
[null,"№","Наименование ","Код для выборки","Описание"]
[null,"1.","Лицензии","Лицензии"]
[null,2,"Программное обеспечение","ПО"]
[null,3,"Права на изобретение","Права на изобретение"]
[null,4,"Другие нематериальные активы","Другие НМА"]

{"sheet":"13. Авансы","index":46,"n_rows":8,"n_cols":4,"rows_kept":8,"cut":false,"hidden":true,"merged":[[0,1,0,6]]}
[null,"Назад к оглавлению"]
[null,"Приложение № 5 к \"Положению об инвестиционном бюджете АК \"АЛРОСА\"\""]
[]
[null,null,"Авансы"]
[]
[null,"№","Код для выборки","Описание"]
[null,1," -","Отсутствие авансов в основном плановом/ отчётном периоде за товары, работы услуги к освоению в основном плановом/ отчётном периоде."]
[null,2,"А","Наличие авансов, заключения договорных отношений в основном плановом/ отчётном периоде при освоении в следующх за основным плановым/ отчётном периоде. В примечании указывается сумма аванса."]

{"sheet":"14. Виды ТП","index":47,"n_rows":10,"n_cols":4,"rows_kept":10,"cut":false,"hidden":true,"merged":[]}
[null,"Назад к оглавлению"]
[null,"Приложение № 5 к \"Положению об инвестиционном бюджете АК \"АЛРОСА\"\""]
[]
[null,null,"Виды ТП и ОВИЗ"]
[]
[null,"№","Наименование / код для выборки","Описание"]
[null,1,"Оборудование взамен изношенного","Замена изношенного оборудования на оборудование с аналогичными характеристиками"]
[null,2,"Оборудование с прямым экономическим эффектом","ТП  оборудования, приобретение которого приводит  к улучшению ТЭП (имеется прямой экономический эффект). Может приобретаться как вместо существующего или непосредственно новое, улучшающее существующие бизнес-процессы."]
[null,3,"Оборудование вне проектов","Приобретение нового оборудования не предусмотренного проектом и не предполагающее прямого экономического эффекта."]
[null,4,"Оборудование по проекту","Приобретение оборудования в рамках реализации проекта (кроме капитального строительства). Обосновоание приобретения осуществляется в рамках ТЭО, ТЭР, др. обосновывающих реализацию проекта документах."]

{"sheet":"15.Статус оборуд.","index":48,"n_rows":9,"n_cols":4,"rows_kept":9,"cut":false,"hidden":true,"merged":[]}
[null,"Назад к оглавлению"]
[null,"Приложение № 5 к \"Положению об инвестиционном бюджете АК \"АЛРОСА\"\""]
[]
[null,null,"Текущий статус заменяемого оборудования"]
[]
[null,"№","Наименование / код для выборки","Описание"]
[null,1,"В эксплуатации"]
[null,2,"На консервации"]
[null,3,"Другое"]

{"sheet":"16. Причины замены","index":49,"n_rows":10,"n_cols":4,"rows_kept":10,"cut":false,"hidden":true,"merged":[]}
[null,"Назад к оглавлению"]
[null,"Приложение № 5 к \"Положению об инвестиционном бюджете АК \"АЛРОСА\"\""]
[]
[null,null,"Причины замены оборудования"]
[]
[null,"№","Наименование / код для выборки","Описание, примечание"]
[null,1,"Полный физический износ","Для ТП_СЭФ и ОВИЗ"]
[null,2,"Утрата, гибель ОС","Для ТП_СЭФ и ОВИЗ"]
[null,4,"Невозможность эксплуатации (описать в примечании)","Для ТП_СЭФ и ОВИЗ"]
[null,5,"Прочее  (описать в примечании)","Для ТП_СЭФ и ОВИЗ"]

{"sheet":"17. Периоды","index":50,"n_rows":10,"n_cols":6,"rows_kept":10,"cut":false,"hidden":true,"merged":[[5,4,5,5]]}
[null,"Назад к оглавлению"]
[null,"Приложение № 5 к \"Положению об инвестиционном бюджете АК \"АЛРОСА\"\""]
[]
[null,null,"Периоды"]
[]
[null,"№","Вид периода",null,"Режим ввода"]
[null,1,"1 квартал",null,1,"БЮДЖЕТ"]
[null,2,"1 полугодие",null,2,"ОТЧЁТ"]
[null,3,"9 месяцев",null,3,"КОРРЕКТИРОВКА"]
[null,4,"12 месяцев",null,4,"РАСШИРЕННЫЙ"]

{"sheet":"Обоснование (да_нет)","index":51,"n_rows":8,"n_cols":4,"rows_kept":8,"cut":false,"hidden":true,"merged":[]}
[null,"Назад к оглавлению"]
[null,"Приложение № 5 к \"Положению об инвестиционном бюджете АК \"АЛРОСА\"\""]
[]
[null,"Обоснование.",null,"Вспомогательный справочник."]
[]
[null,"№","Наименование / код для выборки","Описание, примечание"]
[null,1,"Да"]
[null,2,"Нет"]

{"sheet":"Лист2","index":52,"n_rows":0,"n_cols":0,"rows_kept":0,"cut":false,"hidden":true,"merged":[]}

{"sheet":"18.Признак иннов.","index":53,"n_rows":8,"n_cols":4,"rows_kept":8,"cut":false,"hidden":true,"merged":[[0,1,0,6]]}
[null,"Назад к оглавлению"]
[null,"Приложение № 5 к \"Положению об инвестиционном бюджете АК \"АЛРОСА\"\""]
[]
[null,null,"Признак инновационности (принадлежность к ПИРиТМ)"]
[]
[null,"№","Код для выборки","Описание"]
[null,1," -","Расходы не включены в \"Программу инновационного развития и модернизации АК \"АЛРОСА\". Не требуется дополнительное согласованние расходов с Вице-президентом по инновациям."]
[null,2,"И","Расходы включены в \"Программу инновационного развития и модернизации АК \"АЛРОСА\". Требуется дополнительное согласованние расходов с Вице-президентом по инновациям."]

{"sheet":"Лист1","index":54,"n_rows":0,"n_cols":0,"rows_kept":0,"cut":false,"hidden":true,"merged":[]}

{"sheet":"Комментарии","index":55,"n_rows":8,"n_cols":5,"rows_kept":8,"cut":false,"hidden":false,"merged":[]}
["№п/п","20.07.2017 (УИД)","21.07.2017 (ВГЭС-3)","21.07.2017 (УИД)","24.07.2017 (ВГЭС-3)"]
[1,"Лист 08.ОСС - не указаны наименование и марка оборудования. Оборудование по возможности должно быть расшифровано построчно.","Исправлено","Для информации: При построчной расшифровке код объекта - одинаковый (не обязательно разбивать объект на подобъекты), меняется только наименование оборудования.","Исправлено"]
[2,"Лист 08.ОСС. С чем связано увеличение объема инвестиций по статье \"Здание ГЭС.Противотаранное устройство на границе охранной зоны   акватории\" по отношению к утв.бюджету 2017?","См. файл \"Пояснения к корректировке 2017\"\nВ июне 2017 года разработана документация на установку противотаранных устройств на границе охранной зоны (смета прилагается). В соответствии с проектно-сметной документацией общая стоимость проекта составила 31 958,731 тыс. руб., в том числе стоимость оборудования 14 722,0 тыс. руб. "]
[3,"Лист 08.ОСС. На какой счет будет оприходовано данное оборудование в РСБУ? Когда будут проводиться СМР по данным объектам, в 2018 г.? ","См. файл \"Пояснения к корректировке 2017\"","В соответствии с пояснениями:\n\"При корректировке бюджета 2017 г. нами предложено в 2017 году приобрести оборудование противотаранных устройств на сумму 14 722 тыс. руб., а в 2018 г. выполнить строительно-монтажные работы. Оборудование Здания ГЭС, приобретенное в 2017 г. до монтажа в 2018 году будет оприходовано в РСБУ на счету 08.04. «Оборудование требующее монтажа»\"\nВ связи с этим прошу еще раз согласовать с бухгалтерией вопрос отражения оборудования на счетах РСБУ в 2017 г. Дело в том, что на счет 08.04 приходуется оборудование, не требующее монтажа. Оборудование, требующее монтажа, приходуется на счет 07 и не является инвестициями, пока не будет смонтировано. Поэтому, возможно, данную сумму следует отразить в ИБ 2018???\nПрошу уточнить.","Положение об учетной политике АО \"Вилюйская ГЭС-3\" .Раздел 5. Учет незавершенного строительства п. 5.1. Объект учета незавершенного строительства: к незавершенным капитальным вложениям относятся не оформленные актами приемки-передачи основных средств и иными документами затраты на строительно-монтажные работы, приобретения зданий, оборудования, транспортных средств, инструмента, инвентаря, иных материальных объектов длительного пользования, прочие капитальные работы и затраты (ПИР, геологоразведочные и буровые работы, затраты по отводу земельных участков в связи со строительством, на подготовку кадров для вновь строящихся организаций и другие). До окончания работ по строительству объектов затраты по их возведению учитываются на счете 08 \"Вложения во внеоборотные активы\". Аналитический учет по счету 08 ведется по каждому строящемуся объекту."]
[4,"Проверить соответствие фактических данных за 1-2 кв. 2017 г. данным РСБУ (ОСВ по счету 08) - не соответствует","Счет 08 за 1 полугодие прилагается","Согласно ОСВ по счету 08 за 1 пг. 2017 г. Дебетовый оборот: 10 887,77 тыс.руб.\nВ соответствии с Альбомом форм ВГЭС-3 (отчет и корректировка) факт за 1 пг. 2017 г.: 24 531,84 тыс.руб.\nПрошу привести данные в Альбомах форм в соответствие РСБУ.","За первое полугодие 2017 г. по счету 08 дебетовый оборот составил 10 887,77 тыс.руб., по счету 10.08 (материалы) дебетовый оборот составил 13 644,04 тыс. руб. (представлен в пакете документов по корректировке бюджета от 17.07.2017 г.) Сумма по счетам отображена в Альбомах форм ВГЭС-3 (отчет и корректировка) факт за первое полугодие."]
[5,"Лист 12.ТП_БЭФ, п.21 - уточнить сумму в скорректированном бюджете в соответствии с фактом (не отражена)","Исправлено"]
[6,"Листы 12.ТП_БЭФ и 14.ОВИЗ. Согласовано ли приобретение транспортных средств с Управлением совершенствования производственной деятельности (Жердев И.А.) в связи с разработкой им модели развития автомобильного транспорта общего назначения, специализированного, вспомогательных машин и механизмов на Мирнинской и Ленской производственных площадках АК «АЛРОСА» (ПАО) в целях оптимизации затрат на транспорт за счет централизации и увеличения загрузки техники?","Ведется работа по согласованию имеющихся в корректировке программы ТПиОВИЗ транспортных средств с Управлением совершенствования производственной деятельности. Направлены материалы для рассмотрения Жердевым И.А. и последующего согласования.","Согласование с Управлением совершенствования производственной деятельности (Жердев И.А.) ожидается 24.07.2017"]
[7,"Не представлены справки по лизингу и аренде ОС","См. файл \"ПЗ к корректировке\"","Прошу добавить также комментарии по лизингу и аренде ОС в рамках программы ТПиОВИЗ","Добавлено в пояснительную записку"]